{"text_format":"1","workbook":"xlsx","n_sheets":4,"sheets":["base","CP","Sol. Cred PF ","Sol. Cred PM "],"not_rendered":{"charts":0,"images":2,"macros":0,"external_links":1,"defined_names":51,"comments":0,"pivot_tables":0},"unopened":[],"bounds":{"document_bytes":16777216,"sheet_cells":100000,"rows_first":2000,"rows_last":500,"rows_between":2000,"halvings":0,"cell_chars":16384,"cell_head_chars":4096},"cells_cut":0,"cells_raw":0,"read":"whole","date_system":"1900"}

{"sheet":"base","index":0,"n_rows":6236,"n_cols":36,"rows_kept":2250,"cut":true,"hidden":true,"merged":[],"bounds":{"rows_first":1000,"rows_last":250,"rows_between":1000,"halvings":1}}
[null,"DIA","MES","AÑO",null,"Bid","Nombre","ESTADO CIVIL","ESTUDIOS","TITULO","ESTADOS_NAC","IDENTIFICACION","REGIMEN","SECTOR","PUESTO","TIPO_CONTRATO","TIPO_SEGURIDAD","COMPROBANTE_ING","BINARIO","FRECUENCIA","MONTOS",null,"CP DOMICILIO",{"$f":"MAX(CP!$B:$B)","v":{"$error":"#REF!"}},null,null,null,null,"CP TRABAJO",{"$f":"MAX(CP!$A:$A)","v":{"$error":"#REF!"}}]
[null,1,1,{"$f":"YEAR(TODAY())","v":2023},null,8,"AUTOS DE CELAYA, S.A. DE C.V.                ","SOLTERO","PRIMARIA","SEÑOR","AGUASCALIENTES","CEDULA PROFESIONAL","BIENES SEPARADOS","PUBLICO","DUEÑO","EVENTUAL","IMSS","RECIBO DE NOMINA","SI","MENSUAL","< $ 10,000",null,{"$f":"+#REF!","v":{"$error":"#REF!"}},{"$f":"+COUNTIF(CP!$B:$B,\">0\")","v":0},null,null,null,null,{"$f":"+#REF!","v":{"$error":"#REF!"}},{"$f":"+COUNTIF(CP!$A:$A,\">0\")","v":0}]
[null,2,2,{"$f":"+D2-1","v":2022},null,11,"AUTOKAM AUTOMOTRIZ, SA DE CV                 ","CASADO","SECUNDARIA","LICENCIADO","BAJA CALIFORNIA","CREDENCIAL DE ELECTOR","SOCIEDAD CONYUGAL","PRIVADO","PRESIDENTE","PLANTA","ISSSTE","EDO.CTA. BANCARIO","NO","BIMESTRAL","Entre $20,000  y $50,000",null,null,"COLONIA","MUNICIPIO","ESTADO",null,null,null,"COLONIA","MUNICIPIO","ESTADO",null,null,"Clave"]
[null,3,3,{"$f":"+D3-1","v":2021},null,12,"AUTOMOTRIZ DE QUERETARO, S.A. DE C.V.        ","DIVORCIADO","PREPARATORIA","INGENIERO","BAJA CALIFORNIA SUR","PASAPORTE","OTRO",null,"VICEPRESIDENTE","POR PROYECTO","ISSEMYM","DECLARACIÓN IMPUESTOS",null,"TRIMESTRAL","Entre $50,000  y $75,000",null,{"$f":"+X1-X2+1","v":{"$error":"#REF!"}},{"$f":"IF(W4=\"\",\"\",UPPER(VLOOKUP($W4,CP!$B:$Q,3,0)))","v":{"$error":"#REF!"}},{"$f":"IF(X4=\"\",\"\",UPPER(VLOOKUP($W4,CP!$B:$Q,5,0)))","v":{"$error":"#REF!"}},{"$f":"IF(Y4=\"\",\"\",UPPER(VLOOKUP($W4,CP!$B:$Q,6,0)))","v":{"$error":"#REF!"}},null,null,{"$f":"+AD1-AD2+1","v":{"$error":"#REF!"}},{"$f":"IF(AC4=\"\",\"\",UPPER(VLOOKUP($AC4,CP!$A:$Q,4,0)))","v":{"$error":"#REF!"}},{"$f":"IF(AD4=\"\",\"\",UPPER(VLOOKUP($AC4,CP!$A:$Q,6,0)))","v":{"$error":"#REF!"}},{"$f":"IF(AE4=\"\",\"\",UPPER(VLOOKUP($AC4,CP!$A:$Q,7,0)))","v":{"$error":"#REF!"}},null,null,"Auto","Descripcion"]
[null,4,4,{"$f":"+D4-1","v":2020},null,14,"JACOBO RODRIGUEZ MOTORS S.A DE C.V.          ","VIUDO","TECNICA","MAESTRO","CAMPECHE","CARTILLA DE SERV. MILITAR",null,null,"DIRECTOR",null,"PEMEX","OTRO",null,"CUATRIMESTRAL","Entre $75,000  y $100,000",null,{"$f":"IFERROR(IF(W4+1>$X$1,\"\",W4+1),\"\")","v":""},{"$f":"IF(W5=\"\",\"\",UPPER(VLOOKUP($W5,CP!$B:$Q,3,0)))","v":""},{"$f":"IF(X5=\"\",\"\",UPPER(VLOOKUP($W5,CP!$B:$Q,5,0)))","v":""},{"$f":"IF(Y5=\"\",\"\",UPPER(VLOOKUP($W5,CP!$B:$Q,6,0)))","v":""},null,null,{"$f":"IFERROR(IF(AC4+1>$AD$1,\"\",AC4+1),\"\")","v":""},{"$f":"IF(AC5=\"\",\"\",UPPER(VLOOKUP($W5,CP!$B:$Q,3,0)))","v":""},{"$f":"IF(AD5=\"\",\"\",UPPER(VLOOKUP($W5,CP!$B:$Q,5,0)))","v":""},{"$f":"IF(AE5=\"\",\"\",UPPER(VLOOKUP($W5,CP!$B:$Q,6,0)))","v":""},null,null,"28A","F250 XLT V8 TA"]
[null,5,5,2019,null,15,"FAME LAS AGUILAS, SA DE CV                   ","UNION LIBRE","LICENCIATURA","DOCTOR","CHIAPAS","FM2",null,null,"SUBDIRECTOR",null,"CFE",null,null,"SEMESTRAL","> $100,000",null,{"$f":"IFERROR(IF(W5+1>$X$1,\"\",W5+1),\"\")","v":""},{"$f":"IF(W6=\"\",\"\",UPPER(VLOOKUP($W6,CP!$B:$Q,3,0)))","v":""},{"$f":"IF(X6=\"\",\"\",UPPER(VLOOKUP($W6,CP!$B:$Q,5,0)))","v":""},{"$f":"IF(Y6=\"\",\"\",UPPER(VLOOKUP($W6,CP!$B:$Q,6,0)))","v":""},null,null,{"$f":"IFERROR(IF(AC5+1>$AD$1,\"\",AC5+1),\"\")","v":""},{"$f":"IF(AC6=\"\",\"\",UPPER(VLOOKUP($W6,CP!$B:$Q,3,0)))","v":""},{"$f":"IF(AD6=\"\",\"\",UPPER(VLOOKUP($W6,CP!$B:$Q,5,0)))","v":""},{"$f":"IF(AE6=\"\",\"\",UPPER(VLOOKUP($W6,CP!$B:$Q,6,0)))","v":""},null,null,"28ACA1","F250 XLT V8 TA"]
[null,6,6,2018,null,18,"AP AUTOMOTRIZ, S.A. DE C.V.                  ",null,"MAESTRIA","PROFESOR","CHIHUAHUA","FM3",null,null,"GERENTE",null,"SEG. POPULAR",null,null,"ANUAL",null,null,"",{"$f":"IF(W7=\"\",\"\",UPPER(VLOOKUP($W7,CP!$B:$Q,3,0)))","v":""},{"$f":"IF(X7=\"\",\"\",UPPER(VLOOKUP($W7,CP!$B:$Q,5,0)))","v":""},{"$f":"IF(Y7=\"\",\"\",UPPER(VLOOKUP($W7,CP!$B:$Q,6,0)))","v":""},null,null,"",{"$f":"IF(AC7=\"\",\"\",UPPER(VLOOKUP($W7,CP!$B:$Q,3,0)))","v":""},{"$f":"IF(AD7=\"\",\"\",UPPER(VLOOKUP($W7,CP!$B:$Q,5,0)))","v":""},{"$f":"IF(AE7=\"\",\"\",UPPER(VLOOKUP($W7,CP!$B:$Q,6,0)))","v":""},null,null,"28ASS7","F250 XLT V8 TA"]
[null,7,7,2017,null,20,"AUTOMOTRIZ TAMPICO, S.A. DE C.V.             ",null,"OTRO",null,"COAHUILA",null,null,null,"SUBGERENTE",null,"PRIVADO",null,null,"VARIABLE",null,null,"",{"$f":"IF(W8=\"\",\"\",UPPER(VLOOKUP($W8,CP!$B:$Q,3,0)))","v":""},{"$f":"IF(X8=\"\",\"\",UPPER(VLOOKUP($W8,CP!$B:$Q,5,0)))","v":""},{"$f":"IF(Y8=\"\",\"\",UPPER(VLOOKUP($W8,CP!$B:$Q,6,0)))","v":""},null,null,"",{"$f":"IF(AC8=\"\",\"\",UPPER(VLOOKUP($W8,CP!$B:$Q,3,0)))","v":""},{"$f":"IF(AD8=\"\",\"\",UPPER(VLOOKUP($W8,CP!$B:$Q,5,0)))","v":""},{"$f":"IF(AE8=\"\",\"\",UPPER(VLOOKUP($W8,CP!$B:$Q,6,0)))","v":""},null,null,"A4A0","SABLE LS VIP PIEL"]
[null,8,8,2016,null,22,"AUTOMOTRIZ DE TUXPAM, S.A. DE C.V.           ",null,null,null,"COLIMA",null,null,null,"JEFE DEPTO.",null,"ESTATAL",null,null,null,null,null,"",{"$f":"IF(W9=\"\",\"\",UPPER(VLOOKUP($W9,CP!$B:$Q,3,0)))","v":""},{"$f":"IF(X9=\"\",\"\",UPPER(VLOOKUP($W9,CP!$B:$Q,5,0)))","v":""},{"$f":"IF(Y9=\"\",\"\",UPPER(VLOOKUP($W9,CP!$B:$Q,6,0)))","v":""},null,null,"",{"$f":"IF(AC9=\"\",\"\",UPPER(VLOOKUP($W9,CP!$B:$Q,3,0)))","v":""},{"$f":"IF(AD9=\"\",\"\",UPPER(VLOOKUP($W9,CP!$B:$Q,5,0)))","v":""},{"$f":"IF(AE9=\"\",\"\",UPPER(VLOOKUP($W9,CP!$B:$Q,6,0)))","v":""},null,null,"A4A1","Sable LS Piel"]
[null,9,9,2015,null,27,"MOTORES DE MORELOS, S.A. DE C.V.             ",null,null,null,"CIUDAD DE MEXICO",null,null,null,"SUPERVISOR",null,"OTRO",null,null,null,null,null,"",{"$f":"IF(W10=\"\",\"\",UPPER(VLOOKUP($W10,CP!$B:$Q,3,0)))","v":""},{"$f":"IF(X10=\"\",\"\",UPPER(VLOOKUP($W10,CP!$B:$Q,5,0)))","v":""},{"$f":"IF(Y10=\"\",\"\",UPPER(VLOOKUP($W10,CP!$B:$Q,6,0)))","v":""},null,null,"",{"$f":"IF(AC10=\"\",\"\",UPPER(VLOOKUP($W10,CP!$B:$Q,3,0)))","v":""},{"$f":"IF(AD10=\"\",\"\",UPPER(VLOOKUP($W10,CP!$B:$Q,5,0)))","v":""},{"$f":"IF(AE10=\"\",\"\",UPPER(VLOOKUP($W10,CP!$B:$Q,6,0)))","v":""},null,null,"A4A1S","SABLE LS PIEL"]
[null,10,10,2014,null,28,"AUTOMOTRIZ HUASTECA, S.A. DE C.V.            ",null,null,null,"DURANGO",null,null,null,"ADMINISTRATIVO",null,null,null,null,null,null,null,"",{"$f":"IF(W11=\"\",\"\",UPPER(VLOOKUP($W11,CP!$B:$Q,3,0)))","v":""},{"$f":"IF(X11=\"\",\"\",UPPER(VLOOKUP($W11,CP!$B:$Q,5,0)))","v":""},{"$f":"IF(Y11=\"\",\"\",UPPER(VLOOKUP($W11,CP!$B:$Q,6,0)))","v":""},null,null,"",{"$f":"IF(AC11=\"\",\"\",UPPER(VLOOKUP($W11,CP!$B:$Q,3,0)))","v":""},{"$f":"IF(AD11=\"\",\"\",UPPER(VLOOKUP($W11,CP!$B:$Q,5,0)))","v":""},{"$f":"IF(AE11=\"\",\"\",UPPER(VLOOKUP($W11,CP!$B:$Q,6,0)))","v":""},null,null,"A4AZ","SABLE LS VIP PIEL"]
[null,11,11,2013,null,30,"AUTOMOTRIZ LAREDO, S.A. DE C.V.              ",null,null,null,"ESTADO DE MÉXICO",null,null,null,"OPERATIVO",null,null,null,null,null,null,null,"",{"$f":"IF(W12=\"\",\"\",UPPER(VLOOKUP($W12,CP!$B:$Q,3,0)))","v":""},{"$f":"IF(X12=\"\",\"\",UPPER(VLOOKUP($W12,CP!$B:$Q,5,0)))","v":""},{"$f":"IF(Y12=\"\",\"\",UPPER(VLOOKUP($W12,CP!$B:$Q,6,0)))","v":""},null,null,"",{"$f":"IF(AC12=\"\",\"\",UPPER(VLOOKUP($W12,CP!$B:$Q,3,0)))","v":""},{"$f":"IF(AD12=\"\",\"\",UPPER(VLOOKUP($W12,CP!$B:$Q,5,0)))","v":""},{"$f":"IF(AE12=\"\",\"\",UPPER(VLOOKUP($W12,CP!$B:$Q,6,0)))","v":""},null,null,"A4D0","SABLE LS BASE"]
[null,12,12,2012,null,33,"AUTOMOTRIZ MENDOZA, S.A. DE C.V.             ",null,null,null,"GUANAJUATO",null,null,null,"ANALISTA",null,null,null,null,null,null,null,"",{"$f":"IF(W13=\"\",\"\",UPPER(VLOOKUP($W13,CP!$B:$Q,3,0)))","v":""},{"$f":"IF(X13=\"\",\"\",UPPER(VLOOKUP($W13,CP!$B:$Q,5,0)))","v":""},{"$f":"IF(Y13=\"\",\"\",UPPER(VLOOKUP($W13,CP!$B:$Q,6,0)))","v":""},null,null,"",{"$f":"IF(AC13=\"\",\"\",UPPER(VLOOKUP($W13,CP!$B:$Q,3,0)))","v":""},{"$f":"IF(AD13=\"\",\"\",UPPER(VLOOKUP($W13,CP!$B:$Q,5,0)))","v":""},{"$f":"IF(AE13=\"\",\"\",UPPER(VLOOKUP($W13,CP!$B:$Q,6,0)))","v":""},null,null,"A4D1","Sable LS Base"]
[null,13,null,2011,null,34,"AUTOMOTRIZ MONCLOVA, S.A. DE C.V.            ",null,null,null,"GUERRERO",null,null,null,"EJECUTIVO DE CUENTA",null,null,null,null,null,null,null,"",{"$f":"IF(W14=\"\",\"\",UPPER(VLOOKUP($W14,CP!$B:$Q,3,0)))","v":""},{"$f":"IF(X14=\"\",\"\",UPPER(VLOOKUP($W14,CP!$B:$Q,5,0)))","v":""},{"$f":"IF(Y14=\"\",\"\",UPPER(VLOOKUP($W14,CP!$B:$Q,6,0)))","v":""},null,null,"",{"$f":"IF(AC14=\"\",\"\",UPPER(VLOOKUP($W14,CP!$B:$Q,3,0)))","v":""},{"$f":"IF(AD14=\"\",\"\",UPPER(VLOOKUP($W14,CP!$B:$Q,5,0)))","v":""},{"$f":"IF(AE14=\"\",\"\",UPPER(VLOOKUP($W14,CP!$B:$Q,6,0)))","v":""},null,null,"A4D12","SABLE LS BASE"]
[null,14,null,2010,null,35,"AUTOMOTRIZ MONTERREY, S.A. DE C.V.           ",null,null,null,"HIDALGO",null,null,null,"ASISTENTE",null,null,null,null,null,null,null,"",{"$f":"IF(W15=\"\",\"\",UPPER(VLOOKUP($W15,CP!$B:$Q,3,0)))","v":""},{"$f":"IF(X15=\"\",\"\",UPPER(VLOOKUP($W15,CP!$B:$Q,5,0)))","v":""},{"$f":"IF(Y15=\"\",\"\",UPPER(VLOOKUP($W15,CP!$B:$Q,6,0)))","v":""},null,null,"",{"$f":"IF(AC15=\"\",\"\",UPPER(VLOOKUP($W15,CP!$B:$Q,3,0)))","v":""},{"$f":"IF(AD15=\"\",\"\",UPPER(VLOOKUP($W15,CP!$B:$Q,5,0)))","v":""},{"$f":"IF(AE15=\"\",\"\",UPPER(VLOOKUP($W15,CP!$B:$Q,6,0)))","v":""},null,null,"A4D14","SABLE LS BASE"]
[null,15,null,2009,null,37,"AUTOMOTRIZ REYNOSA, S.A. DE C.V.             ",null,null,null,"JALISCO",null,null,null,"STAFF",null,null,null,null,null,null,null,"",{"$f":"IF(W16=\"\",\"\",UPPER(VLOOKUP($W16,CP!$B:$Q,3,0)))","v":""},{"$f":"IF(X16=\"\",\"\",UPPER(VLOOKUP($W16,CP!$B:$Q,5,0)))","v":""},{"$f":"IF(Y16=\"\",\"\",UPPER(VLOOKUP($W16,CP!$B:$Q,6,0)))","v":""},null,null,"",{"$f":"IF(AC16=\"\",\"\",UPPER(VLOOKUP($W16,CP!$B:$Q,3,0)))","v":""},{"$f":"IF(AD16=\"\",\"\",UPPER(VLOOKUP($W16,CP!$B:$Q,5,0)))","v":""},{"$f":"IF(AE16=\"\",\"\",UPPER(VLOOKUP($W16,CP!$B:$Q,6,0)))","v":""},null,null,"A4D2","SABLE LSBASE"]
[null,16,null,2008,null,38,"AUTOMOTORES COAHUILENSES, S.A. DE C.V. (SUC. ",null,null,null,"MICHOACÁN",null,null,null,"AUXILIAR",null,null,null,null,null,null,null,"",{"$f":"IF(W17=\"\",\"\",UPPER(VLOOKUP($W17,CP!$B:$Q,3,0)))","v":""},{"$f":"IF(X17=\"\",\"\",UPPER(VLOOKUP($W17,CP!$B:$Q,5,0)))","v":""},{"$f":"IF(Y17=\"\",\"\",UPPER(VLOOKUP($W17,CP!$B:$Q,6,0)))","v":""},null,null,"",{"$f":"IF(AC17=\"\",\"\",UPPER(VLOOKUP($W17,CP!$B:$Q,3,0)))","v":""},{"$f":"IF(AD17=\"\",\"\",UPPER(VLOOKUP($W17,CP!$B:$Q,5,0)))","v":""},{"$f":"IF(AE17=\"\",\"\",UPPER(VLOOKUP($W17,CP!$B:$Q,6,0)))","v":""},null,null,"A4D3","SABLE LS BASE"]
[null,17,null,2007,null,39,"AUTOMOTRIZ VICTORIA, S.A. DE C.V.            ",null,null,null,"MORELOS",null,null,null,"AYUDANTE",null,null,null,null,null,null,null,"",{"$f":"IF(W18=\"\",\"\",UPPER(VLOOKUP($W18,CP!$B:$Q,3,0)))","v":""},{"$f":"IF(X18=\"\",\"\",UPPER(VLOOKUP($W18,CP!$B:$Q,5,0)))","v":""},{"$f":"IF(Y18=\"\",\"\",UPPER(VLOOKUP($W18,CP!$B:$Q,6,0)))","v":""},null,null,"",{"$f":"IF(AC18=\"\",\"\",UPPER(VLOOKUP($W18,CP!$B:$Q,3,0)))","v":""},{"$f":"IF(AD18=\"\",\"\",UPPER(VLOOKUP($W18,CP!$B:$Q,5,0)))","v":""},{"$f":"IF(AE18=\"\",\"\",UPPER(VLOOKUP($W18,CP!$B:$Q,6,0)))","v":""},null,null,"A4D4","SABLE LS BASE"]
[null,18,null,2006,null,44,"AUTOMOVILES, SA DE CV                        ",null,null,null,"NAYARIT",null,null,null,null,null,null,null,null,null,null,null,"",{"$f":"IF(W19=\"\",\"\",UPPER(VLOOKUP($W19,CP!$B:$Q,3,0)))","v":""},{"$f":"IF(X19=\"\",\"\",UPPER(VLOOKUP($W19,CP!$B:$Q,5,0)))","v":""},{"$f":"IF(Y19=\"\",\"\",UPPER(VLOOKUP($W19,CP!$B:$Q,6,0)))","v":""},null,null,"",{"$f":"IF(AC19=\"\",\"\",UPPER(VLOOKUP($W19,CP!$B:$Q,3,0)))","v":""},{"$f":"IF(AD19=\"\",\"\",UPPER(VLOOKUP($W19,CP!$B:$Q,5,0)))","v":""},{"$f":"IF(AE19=\"\",\"\",UPPER(VLOOKUP($W19,CP!$B:$Q,6,0)))","v":""},null,null,"A4DT","SABLE LS BASE"]
[null,19,null,2005,null,50,"AUTOS Y ACCESORIOS, S.A. DE  C.V.            ",null,null,null,"NUEVO LEÓN",null,null,null,null,null,null,null,null,null,null,null,"",{"$f":"IF(W20=\"\",\"\",UPPER(VLOOKUP($W20,CP!$B:$Q,3,0)))","v":""},{"$f":"IF(X20=\"\",\"\",UPPER(VLOOKUP($W20,CP!$B:$Q,5,0)))","v":""},{"$f":"IF(Y20=\"\",\"\",UPPER(VLOOKUP($W20,CP!$B:$Q,6,0)))","v":""},null,null,"",{"$f":"IF(AC20=\"\",\"\",UPPER(VLOOKUP($W20,CP!$B:$Q,3,0)))","v":""},{"$f":"IF(AD20=\"\",\"\",UPPER(VLOOKUP($W20,CP!$B:$Q,5,0)))","v":""},{"$f":"IF(AE20=\"\",\"\",UPPER(VLOOKUP($W20,CP!$B:$Q,6,0)))","v":""},null,null,"A4E","SABLE GS SEDAN"]
[null,20,null,2004,null,51,"ALFONSO R. BOURS, S.A. DE C.V.               ",null,null,null,"OAXACA",null,null,null,null,null,null,null,null,null,null,null,"",{"$f":"IF(W21=\"\",\"\",UPPER(VLOOKUP($W21,CP!$B:$Q,3,0)))","v":""},{"$f":"IF(X21=\"\",\"\",UPPER(VLOOKUP($W21,CP!$B:$Q,5,0)))","v":""},{"$f":"IF(Y21=\"\",\"\",UPPER(VLOOKUP($W21,CP!$B:$Q,6,0)))","v":""},null,null,"",{"$f":"IF(AC21=\"\",\"\",UPPER(VLOOKUP($W21,CP!$B:$Q,3,0)))","v":""},{"$f":"IF(AD21=\"\",\"\",UPPER(VLOOKUP($W21,CP!$B:$Q,5,0)))","v":""},{"$f":"IF(AE21=\"\",\"\",UPPER(VLOOKUP($W21,CP!$B:$Q,6,0)))","v":""},null,null,"A4EC","SABLE GS TELE RINES ALUMINIO CUOTA FIJA"]
[null,21,null,2003,null,53,"ALDEN CONCESIONARIA TACUBAYA,S.A DE C.V      ",null,null,null,"PUEBLA",null,null,null,null,null,null,null,null,null,null,null,"",{"$f":"IF(W22=\"\",\"\",UPPER(VLOOKUP($W22,CP!$B:$Q,3,0)))","v":""},{"$f":"IF(X22=\"\",\"\",UPPER(VLOOKUP($W22,CP!$B:$Q,5,0)))","v":""},{"$f":"IF(Y22=\"\",\"\",UPPER(VLOOKUP($W22,CP!$B:$Q,6,0)))","v":""},null,null,"",{"$f":"IF(AC22=\"\",\"\",UPPER(VLOOKUP($W22,CP!$B:$Q,3,0)))","v":""},{"$f":"IF(AD22=\"\",\"\",UPPER(VLOOKUP($W22,CP!$B:$Q,5,0)))","v":""},{"$f":"IF(AE22=\"\",\"\",UPPER(VLOOKUP($W22,CP!$B:$Q,6,0)))","v":""},null,null,"A4ER","SABLE GS TELA RINES DE ALUMINIO"]
[null,22,null,2002,null,65,"CASA RAMOS, S.A.                             ",null,null,null,"QUERÉTARO",null,null,null,null,null,null,null,null,null,null,null,"",{"$f":"IF(W23=\"\",\"\",UPPER(VLOOKUP($W23,CP!$B:$Q,3,0)))","v":""},{"$f":"IF(X23=\"\",\"\",UPPER(VLOOKUP($W23,CP!$B:$Q,5,0)))","v":""},{"$f":"IF(Y23=\"\",\"\",UPPER(VLOOKUP($W23,CP!$B:$Q,6,0)))","v":""},null,null,"",{"$f":"IF(AC23=\"\",\"\",UPPER(VLOOKUP($W23,CP!$B:$Q,3,0)))","v":""},{"$f":"IF(AD23=\"\",\"\",UPPER(VLOOKUP($W23,CP!$B:$Q,5,0)))","v":""},{"$f":"IF(AE23=\"\",\"\",UPPER(VLOOKUP($W23,CP!$B:$Q,6,0)))","v":""},null,null,"A4G","SABLE LS BASE"]
[null,23,null,2001,null,66,"AUTOMOVILES DE COLIMA, S.A. DE C.V.          ",null,null,null,"QUINTANA ROO",null,null,null,null,null,null,null,null,null,null,null,"",{"$f":"IF(W24=\"\",\"\",UPPER(VLOOKUP($W24,CP!$B:$Q,3,0)))","v":""},{"$f":"IF(X24=\"\",\"\",UPPER(VLOOKUP($W24,CP!$B:$Q,5,0)))","v":""},{"$f":"IF(Y24=\"\",\"\",UPPER(VLOOKUP($W24,CP!$B:$Q,6,0)))","v":""},null,null,"",{"$f":"IF(AC24=\"\",\"\",UPPER(VLOOKUP($W24,CP!$B:$Q,3,0)))","v":""},{"$f":"IF(AD24=\"\",\"\",UPPER(VLOOKUP($W24,CP!$B:$Q,5,0)))","v":""},{"$f":"IF(AE24=\"\",\"\",UPPER(VLOOKUP($W24,CP!$B:$Q,6,0)))","v":""},null,null,"A5AA","MERCURY SABLE STATION WAGON vig."]
[null,24,null,2000,null,69,"AUTOMOVILES DE ZAPOTLAN, S.A. DE C.V.        ",null,null,null,"SAN LUIS POTOSÍ",null,null,null,null,null,null,null,null,null,null,null,"",{"$f":"IF(W25=\"\",\"\",UPPER(VLOOKUP($W25,CP!$B:$Q,3,0)))","v":""},{"$f":"IF(X25=\"\",\"\",UPPER(VLOOKUP($W25,CP!$B:$Q,5,0)))","v":""},{"$f":"IF(Y25=\"\",\"\",UPPER(VLOOKUP($W25,CP!$B:$Q,6,0)))","v":""},null,null,"",{"$f":"IF(AC25=\"\",\"\",UPPER(VLOOKUP($W25,CP!$B:$Q,3,0)))","v":""},{"$f":"IF(AD25=\"\",\"\",UPPER(VLOOKUP($W25,CP!$B:$Q,5,0)))","v":""},{"$f":"IF(AE25=\"\",\"\",UPPER(VLOOKUP($W25,CP!$B:$Q,6,0)))","v":""},null,null,"A5AC","SABLE ST WAGON GS TELA CUOTA FIJA"]
[null,25,null,1999,null,72,"CDA PENINSULA, S.A. DE C.V.                  ",null,null,null,"SINALOA",null,null,null,null,null,null,null,null,null,null,null,"",{"$f":"IF(W26=\"\",\"\",UPPER(VLOOKUP($W26,CP!$B:$Q,3,0)))","v":""},{"$f":"IF(X26=\"\",\"\",UPPER(VLOOKUP($W26,CP!$B:$Q,5,0)))","v":""},{"$f":"IF(Y26=\"\",\"\",UPPER(VLOOKUP($W26,CP!$B:$Q,6,0)))","v":""},null,null,"",{"$f":"IF(AC26=\"\",\"\",UPPER(VLOOKUP($W26,CP!$B:$Q,3,0)))","v":""},{"$f":"IF(AD26=\"\",\"\",UPPER(VLOOKUP($W26,CP!$B:$Q,5,0)))","v":""},{"$f":"IF(AE26=\"\",\"\",UPPER(VLOOKUP($W26,CP!$B:$Q,6,0)))","v":""},null,null,"A6AQ","Five Hundred SEL Premium"]
[null,26,null,1998,null,74,"CHIHUAHUA MOTORS, S.A. DE C.V.               ",null,null,null,"SONORA",null,null,null,null,null,null,null,null,null,null,null,"",{"$f":"IF(W27=\"\",\"\",UPPER(VLOOKUP($W27,CP!$B:$Q,3,0)))","v":""},{"$f":"IF(X27=\"\",\"\",UPPER(VLOOKUP($W27,CP!$B:$Q,5,0)))","v":""},{"$f":"IF(Y27=\"\",\"\",UPPER(VLOOKUP($W27,CP!$B:$Q,6,0)))","v":""},null,null,"",{"$f":"IF(AC27=\"\",\"\",UPPER(VLOOKUP($W27,CP!$B:$Q,3,0)))","v":""},{"$f":"IF(AD27=\"\",\"\",UPPER(VLOOKUP($W27,CP!$B:$Q,5,0)))","v":""},{"$f":"IF(AE27=\"\",\"\",UPPER(VLOOKUP($W27,CP!$B:$Q,6,0)))","v":""},null,null,"A6B","Five Hundred SEL"]
[null,27,null,{"$f":"+D27-1","v":1997},null,77,"DISTRIBUIDORA DE AUTOMOVILES, S.A. DE C.V.   ",null,null,null,"TABASCO",null,null,null,null,null,null,null,null,null,null,null,"",{"$f":"IF(W28=\"\",\"\",UPPER(VLOOKUP($W28,CP!$B:$Q,3,0)))","v":""},{"$f":"IF(X28=\"\",\"\",UPPER(VLOOKUP($W28,CP!$B:$Q,5,0)))","v":""},{"$f":"IF(Y28=\"\",\"\",UPPER(VLOOKUP($W28,CP!$B:$Q,6,0)))","v":""},null,null,"",{"$f":"IF(AC28=\"\",\"\",UPPER(VLOOKUP($W28,CP!$B:$Q,3,0)))","v":""},{"$f":"IF(AD28=\"\",\"\",UPPER(VLOOKUP($W28,CP!$B:$Q,5,0)))","v":""},{"$f":"IF(AE28=\"\",\"\",UPPER(VLOOKUP($W28,CP!$B:$Q,6,0)))","v":""},null,null,"A6B31","Five Hundred SEL"]
[null,28,null,1996,null,80,"DISTRIBUIDORA REGIONAL, S.A. DE C.V.         ",null,null,null,"TAMAULIPAS",null,null,null,null,null,null,null,null,null,null,null,"",{"$f":"IF(W29=\"\",\"\",UPPER(VLOOKUP($W29,CP!$B:$Q,3,0)))","v":""},{"$f":"IF(X29=\"\",\"\",UPPER(VLOOKUP($W29,CP!$B:$Q,5,0)))","v":""},{"$f":"IF(Y29=\"\",\"\",UPPER(VLOOKUP($W29,CP!$B:$Q,6,0)))","v":""},null,null,"",{"$f":"IF(AC29=\"\",\"\",UPPER(VLOOKUP($W29,CP!$B:$Q,3,0)))","v":""},{"$f":"IF(AD29=\"\",\"\",UPPER(VLOOKUP($W29,CP!$B:$Q,5,0)))","v":""},{"$f":"IF(AE29=\"\",\"\",UPPER(VLOOKUP($W29,CP!$B:$Q,6,0)))","v":""},null,null,"A6B32","Five Hundred SE"]
[null,29,null,1995,null,88,"AUTOCAMIONES OAXACA, S.A. DE C.V.            ",null,null,null,"TLAXCALA",null,null,null,null,null,null,null,null,null,null,null,"",{"$f":"IF(W30=\"\",\"\",UPPER(VLOOKUP($W30,CP!$B:$Q,3,0)))","v":""},{"$f":"IF(X30=\"\",\"\",UPPER(VLOOKUP($W30,CP!$B:$Q,5,0)))","v":""},{"$f":"IF(Y30=\"\",\"\",UPPER(VLOOKUP($W30,CP!$B:$Q,6,0)))","v":""},null,null,"",{"$f":"IF(AC30=\"\",\"\",UPPER(VLOOKUP($W30,CP!$B:$Q,3,0)))","v":""},{"$f":"IF(AD30=\"\",\"\",UPPER(VLOOKUP($W30,CP!$B:$Q,5,0)))","v":""},{"$f":"IF(AE30=\"\",\"\",UPPER(VLOOKUP($W30,CP!$B:$Q,6,0)))","v":""},null,null,"A6C","Five Hundred SE"]
[null,30,null,1994,null,89,"HERMANOS SANCHEZ, S.A. DE C.V.               ",null,null,null,"VERACRUZ",null,null,null,null,null,null,null,null,null,null,null,"",{"$f":"IF(W31=\"\",\"\",UPPER(VLOOKUP($W31,CP!$B:$Q,3,0)))","v":""},{"$f":"IF(X31=\"\",\"\",UPPER(VLOOKUP($W31,CP!$B:$Q,5,0)))","v":""},{"$f":"IF(Y31=\"\",\"\",UPPER(VLOOKUP($W31,CP!$B:$Q,6,0)))","v":""},null,null,"",{"$f":"IF(AC31=\"\",\"\",UPPER(VLOOKUP($W31,CP!$B:$Q,3,0)))","v":""},{"$f":"IF(AD31=\"\",\"\",UPPER(VLOOKUP($W31,CP!$B:$Q,5,0)))","v":""},{"$f":"IF(AE31=\"\",\"\",UPPER(VLOOKUP($W31,CP!$B:$Q,6,0)))","v":""},null,null,"A6C23","Five Hundred SE"]
[null,31,null,1993,null,91,"JIMENEZ, S.A. DE C.V.                        ",null,null,null,"YUCATÁN",null,null,null,null,null,null,null,null,null,null,null,"",{"$f":"IF(W32=\"\",\"\",UPPER(VLOOKUP($W32,CP!$B:$Q,3,0)))","v":""},{"$f":"IF(X32=\"\",\"\",UPPER(VLOOKUP($W32,CP!$B:$Q,5,0)))","v":""},{"$f":"IF(Y32=\"\",\"\",UPPER(VLOOKUP($W32,CP!$B:$Q,6,0)))","v":""},null,null,"",{"$f":"IF(AC32=\"\",\"\",UPPER(VLOOKUP($W32,CP!$B:$Q,3,0)))","v":""},{"$f":"IF(AD32=\"\",\"\",UPPER(VLOOKUP($W32,CP!$B:$Q,5,0)))","v":""},{"$f":"IF(AE32=\"\",\"\",UPPER(VLOOKUP($W32,CP!$B:$Q,6,0)))","v":""},null,null,"A6C24","Five Hundred SE"]
[null,null,null,1992,null,101,"CEVER DURANGO, SA DE CV                      ",null,null,null,"ZACATECAS",null,null,null,null,null,null,null,null,null,null,null,"",{"$f":"IF(W33=\"\",\"\",UPPER(VLOOKUP($W33,CP!$B:$Q,3,0)))","v":""},{"$f":"IF(X33=\"\",\"\",UPPER(VLOOKUP($W33,CP!$B:$Q,5,0)))","v":""},{"$f":"IF(Y33=\"\",\"\",UPPER(VLOOKUP($W33,CP!$B:$Q,6,0)))","v":""},null,null,"",{"$f":"IF(AC33=\"\",\"\",UPPER(VLOOKUP($W33,CP!$B:$Q,3,0)))","v":""},{"$f":"IF(AD33=\"\",\"\",UPPER(VLOOKUP($W33,CP!$B:$Q,5,0)))","v":""},{"$f":"IF(AE33=\"\",\"\",UPPER(VLOOKUP($W33,CP!$B:$Q,6,0)))","v":""},null,null,"A6C25","Five Hundred SE"]
[null,null,null,1991,null,102,"MEXICANA AUTOMOTRIZ, S.A. DE C.V.            ",null,null,null,"EXTRANJERO",null,null,null,null,null,null,null,null,null,null,null,"",{"$f":"IF(W34=\"\",\"\",UPPER(VLOOKUP($W34,CP!$B:$Q,3,0)))","v":""},{"$f":"IF(X34=\"\",\"\",UPPER(VLOOKUP($W34,CP!$B:$Q,5,0)))","v":""},{"$f":"IF(Y34=\"\",\"\",UPPER(VLOOKUP($W34,CP!$B:$Q,6,0)))","v":""},null,null,"",{"$f":"IF(AC34=\"\",\"\",UPPER(VLOOKUP($W34,CP!$B:$Q,3,0)))","v":""},{"$f":"IF(AD34=\"\",\"\",UPPER(VLOOKUP($W34,CP!$B:$Q,5,0)))","v":""},{"$f":"IF(AE34=\"\",\"\",UPPER(VLOOKUP($W34,CP!$B:$Q,6,0)))","v":""},null,null,"A6C26","Five Hundred SE"]
[null,null,null,1990,null,104,"MORELIA AUTOMOTRIZ, S.A. DE C.V.             ",null,null,null,null,null,null,null,null,null,null,null,null,null,null,null,"",{"$f":"IF(W35=\"\",\"\",UPPER(VLOOKUP($W35,CP!$B:$Q,3,0)))","v":""},{"$f":"IF(X35=\"\",\"\",UPPER(VLOOKUP($W35,CP!$B:$Q,5,0)))","v":""},{"$f":"IF(Y35=\"\",\"\",UPPER(VLOOKUP($W35,CP!$B:$Q,6,0)))","v":""},null,null,"",{"$f":"IF(AC35=\"\",\"\",UPPER(VLOOKUP($W35,CP!$B:$Q,3,0)))","v":""},{"$f":"IF(AD35=\"\",\"\",UPPER(VLOOKUP($W35,CP!$B:$Q,5,0)))","v":""},{"$f":"IF(AE35=\"\",\"\",UPPER(VLOOKUP($W35,CP!$B:$Q,6,0)))","v":""},null,null,"A6C27","Five Hundred SE"]
[null,null,null,1989,null,107,"AUTOMOVILISTICA VERACRUZANA, S.A.            ",null,null,null,null,null,null,null,null,null,null,null,null,null,null,null,"",{"$f":"IF(W36=\"\",\"\",UPPER(VLOOKUP($W36,CP!$B:$Q,3,0)))","v":""},{"$f":"IF(X36=\"\",\"\",UPPER(VLOOKUP($W36,CP!$B:$Q,5,0)))","v":""},{"$f":"IF(Y36=\"\",\"\",UPPER(VLOOKUP($W36,CP!$B:$Q,6,0)))","v":""},null,null,"",{"$f":"IF(AC36=\"\",\"\",UPPER(VLOOKUP($W36,CP!$B:$Q,3,0)))","v":""},{"$f":"IF(AD36=\"\",\"\",UPPER(VLOOKUP($W36,CP!$B:$Q,5,0)))","v":""},{"$f":"IF(AE36=\"\",\"\",UPPER(VLOOKUP($W36,CP!$B:$Q,6,0)))","v":""},null,null,"A6C28","Five Hundred SE"]
[null,null,null,1988,null,114,"RANGEL DE ALBA, S.A. DE C.V.                 ",null,null,null,null,null,null,null,null,null,null,null,null,null,null,null,"",{"$f":"IF(W37=\"\",\"\",UPPER(VLOOKUP($W37,CP!$B:$Q,3,0)))","v":""},{"$f":"IF(X37=\"\",\"\",UPPER(VLOOKUP($W37,CP!$B:$Q,5,0)))","v":""},{"$f":"IF(Y37=\"\",\"\",UPPER(VLOOKUP($W37,CP!$B:$Q,6,0)))","v":""},null,null,"",{"$f":"IF(AC37=\"\",\"\",UPPER(VLOOKUP($W37,CP!$B:$Q,3,0)))","v":""},{"$f":"IF(AD37=\"\",\"\",UPPER(VLOOKUP($W37,CP!$B:$Q,5,0)))","v":""},{"$f":"IF(AE37=\"\",\"\",UPPER(VLOOKUP($W37,CP!$B:$Q,6,0)))","v":""},null,null,"A6C29","Five Hundred SE"]
[null,null,null,1987,null,116,"SUPER AUTOS JALAPA, S.A. DE C.V.             ",null,null,null,null,null,null,null,null,null,null,null,null,null,null,null,"",{"$f":"IF(W38=\"\",\"\",UPPER(VLOOKUP($W38,CP!$B:$Q,3,0)))","v":""},{"$f":"IF(X38=\"\",\"\",UPPER(VLOOKUP($W38,CP!$B:$Q,5,0)))","v":""},{"$f":"IF(Y38=\"\",\"\",UPPER(VLOOKUP($W38,CP!$B:$Q,6,0)))","v":""},null,null,"",{"$f":"IF(AC38=\"\",\"\",UPPER(VLOOKUP($W38,CP!$B:$Q,3,0)))","v":""},{"$f":"IF(AD38=\"\",\"\",UPPER(VLOOKUP($W38,CP!$B:$Q,5,0)))","v":""},{"$f":"IF(AE38=\"\",\"\",UPPER(VLOOKUP($W38,CP!$B:$Q,6,0)))","v":""},null,null,"A6C30","Five Hundred SE"]
[null,null,null,1986,null,121,"SUPERSERVICIO, S.A. DE C.V.                  ",null,null,null,null,null,null,null,null,null,null,null,null,null,null,null,"",{"$f":"IF(W39=\"\",\"\",UPPER(VLOOKUP($W39,CP!$B:$Q,3,0)))","v":""},{"$f":"IF(X39=\"\",\"\",UPPER(VLOOKUP($W39,CP!$B:$Q,5,0)))","v":""},{"$f":"IF(Y39=\"\",\"\",UPPER(VLOOKUP($W39,CP!$B:$Q,6,0)))","v":""},null,null,"",{"$f":"IF(AC39=\"\",\"\",UPPER(VLOOKUP($W39,CP!$B:$Q,3,0)))","v":""},{"$f":"IF(AD39=\"\",\"\",UPPER(VLOOKUP($W39,CP!$B:$Q,5,0)))","v":""},{"$f":"IF(AE39=\"\",\"\",UPPER(VLOOKUP($W39,CP!$B:$Q,6,0)))","v":""},null,null,"A6E","FIVE HUNDRED SEL PIEL"]
[null,null,null,1985,null,122,"CORDOBA AUTOMOTRIZ, S.A. DE C.V.             ",null,null,null,null,null,null,null,null,null,null,null,null,null,null,null,"",{"$f":"IF(W40=\"\",\"\",UPPER(VLOOKUP($W40,CP!$B:$Q,3,0)))","v":""},{"$f":"IF(X40=\"\",\"\",UPPER(VLOOKUP($W40,CP!$B:$Q,5,0)))","v":""},{"$f":"IF(Y40=\"\",\"\",UPPER(VLOOKUP($W40,CP!$B:$Q,6,0)))","v":""},null,null,"",{"$f":"IF(AC40=\"\",\"\",UPPER(VLOOKUP($W40,CP!$B:$Q,3,0)))","v":""},{"$f":"IF(AD40=\"\",\"\",UPPER(VLOOKUP($W40,CP!$B:$Q,5,0)))","v":""},{"$f":"IF(AE40=\"\",\"\",UPPER(VLOOKUP($W40,CP!$B:$Q,6,0)))","v":""},null,null,"A6L","FIVE HUNDRED LIMITED PIEL"]
[null,null,null,1984,null,123,"SUPER SERVICIO SUCURSAL ALTAMIRA             ",null,null,null,null,null,null,null,null,null,null,null,null,null,null,null,"",{"$f":"IF(W41=\"\",\"\",UPPER(VLOOKUP($W41,CP!$B:$Q,3,0)))","v":""},{"$f":"IF(X41=\"\",\"\",UPPER(VLOOKUP($W41,CP!$B:$Q,5,0)))","v":""},{"$f":"IF(Y41=\"\",\"\",UPPER(VLOOKUP($W41,CP!$B:$Q,6,0)))","v":""},null,null,"",{"$f":"IF(AC41=\"\",\"\",UPPER(VLOOKUP($W41,CP!$B:$Q,3,0)))","v":""},{"$f":"IF(AD41=\"\",\"\",UPPER(VLOOKUP($W41,CP!$B:$Q,5,0)))","v":""},{"$f":"IF(AE41=\"\",\"\",UPPER(VLOOKUP($W41,CP!$B:$Q,6,0)))","v":""},null,null,"ALT1","S (B) T/A"]
[null,null,null,1983,null,137,"MYBSA, S.A. DE C.V.                          ",null,null,null,null,null,null,null,null,null,null,null,null,null,null,null,"",{"$f":"IF(W42=\"\",\"\",UPPER(VLOOKUP($W42,CP!$B:$Q,3,0)))","v":""},{"$f":"IF(X42=\"\",\"\",UPPER(VLOOKUP($W42,CP!$B:$Q,5,0)))","v":""},{"$f":"IF(Y42=\"\",\"\",UPPER(VLOOKUP($W42,CP!$B:$Q,6,0)))","v":""},null,null,"",{"$f":"IF(AC42=\"\",\"\",UPPER(VLOOKUP($W42,CP!$B:$Q,3,0)))","v":""},{"$f":"IF(AD42=\"\",\"\",UPPER(VLOOKUP($W42,CP!$B:$Q,5,0)))","v":""},{"$f":"IF(AE42=\"\",\"\",UPPER(VLOOKUP($W42,CP!$B:$Q,6,0)))","v":""},null,null,"ALT2","S T/A"]
[null,null,null,1982,null,140,"AUTO CAMIONES UNIVERSIDAD, S.A. DE C.V.      ",null,null,null,null,null,null,null,null,null,null,null,null,null,null,null,"",{"$f":"IF(W43=\"\",\"\",UPPER(VLOOKUP($W43,CP!$B:$Q,3,0)))","v":""},{"$f":"IF(X43=\"\",\"\",UPPER(VLOOKUP($W43,CP!$B:$Q,5,0)))","v":""},{"$f":"IF(Y43=\"\",\"\",UPPER(VLOOKUP($W43,CP!$B:$Q,6,0)))","v":""},null,null,"",{"$f":"IF(AC43=\"\",\"\",UPPER(VLOOKUP($W43,CP!$B:$Q,3,0)))","v":""},{"$f":"IF(AD43=\"\",\"\",UPPER(VLOOKUP($W43,CP!$B:$Q,5,0)))","v":""},{"$f":"IF(AE43=\"\",\"\",UPPER(VLOOKUP($W43,CP!$B:$Q,6,0)))","v":""},null,null,"ALT3","SL T/A"]
[null,null,null,1981,null,161,"AUTOMOTORES DE CUAUHTEMOC, S.A. DE C.V.      ",null,null,null,null,null,null,null,null,null,null,null,null,null,null,null,"",{"$f":"IF(W44=\"\",\"\",UPPER(VLOOKUP($W44,CP!$B:$Q,3,0)))","v":""},{"$f":"IF(X44=\"\",\"\",UPPER(VLOOKUP($W44,CP!$B:$Q,5,0)))","v":""},{"$f":"IF(Y44=\"\",\"\",UPPER(VLOOKUP($W44,CP!$B:$Q,6,0)))","v":""},null,null,"",{"$f":"IF(AC44=\"\",\"\",UPPER(VLOOKUP($W44,CP!$B:$Q,3,0)))","v":""},{"$f":"IF(AD44=\"\",\"\",UPPER(VLOOKUP($W44,CP!$B:$Q,5,0)))","v":""},{"$f":"IF(AE44=\"\",\"\",UPPER(VLOOKUP($W44,CP!$B:$Q,6,0)))","v":""},null,null,"ALT4","SE T/A"]
[null,null,null,1980,null,163,"CIA. AUTOMOTRIZ DE TOLUCA, S.A. DE C.V.      ",null,null,null,null,null,null,null,null,null,null,null,null,null,null,null,"",{"$f":"IF(W45=\"\",\"\",UPPER(VLOOKUP($W45,CP!$B:$Q,3,0)))","v":""},{"$f":"IF(X45=\"\",\"\",UPPER(VLOOKUP($W45,CP!$B:$Q,5,0)))","v":""},{"$f":"IF(Y45=\"\",\"\",UPPER(VLOOKUP($W45,CP!$B:$Q,6,0)))","v":""},null,null,"",{"$f":"IF(AC45=\"\",\"\",UPPER(VLOOKUP($W45,CP!$B:$Q,3,0)))","v":""},{"$f":"IF(AD45=\"\",\"\",UPPER(VLOOKUP($W45,CP!$B:$Q,5,0)))","v":""},{"$f":"IF(AE45=\"\",\"\",UPPER(VLOOKUP($W45,CP!$B:$Q,6,0)))","v":""},null,null,"AP","ASTRA COMF. C"]
[null,null,null,1979,null,164,"PLASENCIA GUADALAJARA, S.A. DE C.V.          ",null,null,null,null,null,null,null,null,null,null,null,null,null,null,null,"",{"$f":"IF(W46=\"\",\"\",UPPER(VLOOKUP($W46,CP!$B:$Q,3,0)))","v":""},{"$f":"IF(X46=\"\",\"\",UPPER(VLOOKUP($W46,CP!$B:$Q,5,0)))","v":""},{"$f":"IF(Y46=\"\",\"\",UPPER(VLOOKUP($W46,CP!$B:$Q,6,0)))","v":""},null,null,"",{"$f":"IF(AC46=\"\",\"\",UPPER(VLOOKUP($W46,CP!$B:$Q,3,0)))","v":""},{"$f":"IF(AD46=\"\",\"\",UPPER(VLOOKUP($W46,CP!$B:$Q,5,0)))","v":""},{"$f":"IF(AE46=\"\",\"\",UPPER(VLOOKUP($W46,CP!$B:$Q,6,0)))","v":""},null,null,"APZ","ESPECIAL 1"]
[null,null,null,1978,null,181,"AUTOMOVILES DE VALLES, S.A. DE C.V.          ",null,null,null,null,null,null,null,null,null,null,null,null,null,null,null,"",{"$f":"IF(W47=\"\",\"\",UPPER(VLOOKUP($W47,CP!$B:$Q,3,0)))","v":""},{"$f":"IF(X47=\"\",\"\",UPPER(VLOOKUP($W47,CP!$B:$Q,5,0)))","v":""},{"$f":"IF(Y47=\"\",\"\",UPPER(VLOOKUP($W47,CP!$B:$Q,6,0)))","v":""},null,null,"",{"$f":"IF(AC47=\"\",\"\",UPPER(VLOOKUP($W47,CP!$B:$Q,3,0)))","v":""},{"$f":"IF(AD47=\"\",\"\",UPPER(VLOOKUP($W47,CP!$B:$Q,5,0)))","v":""},{"$f":"IF(AE47=\"\",\"\",UPPER(VLOOKUP($W47,CP!$B:$Q,6,0)))","v":""},null,null,"AQ","ASTRA COMF. D"]
[null,null,null,1977,null,188,"ACAPULCO, S.A. DE C.V.                       ",null,null,null,null,null,null,null,null,null,null,null,null,null,null,null,"",{"$f":"IF(W48=\"\",\"\",UPPER(VLOOKUP($W48,CP!$B:$Q,3,0)))","v":""},{"$f":"IF(X48=\"\",\"\",UPPER(VLOOKUP($W48,CP!$B:$Q,5,0)))","v":""},{"$f":"IF(Y48=\"\",\"\",UPPER(VLOOKUP($W48,CP!$B:$Q,6,0)))","v":""},null,null,"",{"$f":"IF(AC48=\"\",\"\",UPPER(VLOOKUP($W48,CP!$B:$Q,3,0)))","v":""},{"$f":"IF(AD48=\"\",\"\",UPPER(VLOOKUP($W48,CP!$B:$Q,5,0)))","v":""},{"$f":"IF(AE48=\"\",\"\",UPPER(VLOOKUP($W48,CP!$B:$Q,6,0)))","v":""},null,null,"AR","ASTRA ELEG. E"]
[null,null,null,1976,null,204,"AUTOMOVILES, SA DE CV (SUC. MATAMOROS)       ",null,null,null,null,null,null,null,null,null,null,null,null,null,null,null,"",{"$f":"IF(W49=\"\",\"\",UPPER(VLOOKUP($W49,CP!$B:$Q,3,0)))","v":""},{"$f":"IF(X49=\"\",\"\",UPPER(VLOOKUP($W49,CP!$B:$Q,5,0)))","v":""},{"$f":"IF(Y49=\"\",\"\",UPPER(VLOOKUP($W49,CP!$B:$Q,6,0)))","v":""},null,null,"",{"$f":"IF(AC49=\"\",\"\",UPPER(VLOOKUP($W49,CP!$B:$Q,3,0)))","v":""},{"$f":"IF(AD49=\"\",\"\",UPPER(VLOOKUP($W49,CP!$B:$Q,5,0)))","v":""},{"$f":"IF(AE49=\"\",\"\",UPPER(VLOOKUP($W49,CP!$B:$Q,6,0)))","v":""},null,null,"AS","ASTRA B"]
[null,null,null,{"$f":"+D49-1","v":1975},null,214,"AUTO PRODUCTOS, S.A. DE C.V.                 ",null,null,null,null,null,null,null,null,null,null,null,null,null,null,null,"",{"$f":"IF(W50=\"\",\"\",UPPER(VLOOKUP($W50,CP!$B:$Q,3,0)))","v":""},{"$f":"IF(X50=\"\",\"\",UPPER(VLOOKUP($W50,CP!$B:$Q,5,0)))","v":""},{"$f":"IF(Y50=\"\",\"\",UPPER(VLOOKUP($W50,CP!$B:$Q,6,0)))","v":""},null,null,"",{"$f":"IF(AC50=\"\",\"\",UPPER(VLOOKUP($W50,CP!$B:$Q,3,0)))","v":""},{"$f":"IF(AD50=\"\",\"\",UPPER(VLOOKUP($W50,CP!$B:$Q,5,0)))","v":""},{"$f":"IF(AE50=\"\",\"\",UPPER(VLOOKUP($W50,CP!$B:$Q,6,0)))","v":""},null,null,"AT","ASTRA A"]
[null,null,null,1974,null,221,"ZAPATA, S.A. DE C.V.                         ",null,null,null,null,null,null,null,null,null,null,null,null,null,null,null,"",{"$f":"IF(W51=\"\",\"\",UPPER(VLOOKUP($W51,CP!$B:$Q,3,0)))","v":""},{"$f":"IF(X51=\"\",\"\",UPPER(VLOOKUP($W51,CP!$B:$Q,5,0)))","v":""},{"$f":"IF(Y51=\"\",\"\",UPPER(VLOOKUP($W51,CP!$B:$Q,6,0)))","v":""},null,null,"",{"$f":"IF(AC51=\"\",\"\",UPPER(VLOOKUP($W51,CP!$B:$Q,3,0)))","v":""},{"$f":"IF(AD51=\"\",\"\",UPPER(VLOOKUP($W51,CP!$B:$Q,5,0)))","v":""},{"$f":"IF(AE51=\"\",\"\",UPPER(VLOOKUP($W51,CP!$B:$Q,6,0)))","v":""},null,null,"AU","ASTRA M"]
[null,null,null,1973,null,222,"VEHICULOS INSURGENTES, S.A. DE C.V.          ",null,null,null,null,null,null,null,null,null,null,null,null,null,null,null,"",{"$f":"IF(W52=\"\",\"\",UPPER(VLOOKUP($W52,CP!$B:$Q,3,0)))","v":""},{"$f":"IF(X52=\"\",\"\",UPPER(VLOOKUP($W52,CP!$B:$Q,5,0)))","v":""},{"$f":"IF(Y52=\"\",\"\",UPPER(VLOOKUP($W52,CP!$B:$Q,6,0)))","v":""},null,null,"",{"$f":"IF(AC52=\"\",\"\",UPPER(VLOOKUP($W52,CP!$B:$Q,3,0)))","v":""},{"$f":"IF(AD52=\"\",\"\",UPPER(VLOOKUP($W52,CP!$B:$Q,5,0)))","v":""},{"$f":"IF(AE52=\"\",\"\",UPPER(VLOOKUP($W52,CP!$B:$Q,6,0)))","v":""},null,null,"AV","ASTRA ELEG. F"]
[null,null,null,1972,null,234,"AUTO CAMIONES DE GUERRERO, S.A. DE C.V.      ",null,null,null,null,null,null,null,null,null,null,null,null,null,null,null,"",{"$f":"IF(W53=\"\",\"\",UPPER(VLOOKUP($W53,CP!$B:$Q,3,0)))","v":""},{"$f":"IF(X53=\"\",\"\",UPPER(VLOOKUP($W53,CP!$B:$Q,5,0)))","v":""},{"$f":"IF(Y53=\"\",\"\",UPPER(VLOOKUP($W53,CP!$B:$Q,6,0)))","v":""},null,null,"",{"$f":"IF(AC53=\"\",\"\",UPPER(VLOOKUP($W53,CP!$B:$Q,3,0)))","v":""},{"$f":"IF(AD53=\"\",\"\",UPPER(VLOOKUP($W53,CP!$B:$Q,5,0)))","v":""},{"$f":"IF(AE53=\"\",\"\",UPPER(VLOOKUP($W53,CP!$B:$Q,6,0)))","v":""},null,null,"AW","ASTRA STATION W. CONFORT"]
[null,null,null,1971,null,243,"VEHICULOS DE TEZIUTLAN, S.A. DE C.V.         ",null,null,null,null,null,null,null,null,null,null,null,null,null,null,null,"",{"$f":"IF(W54=\"\",\"\",UPPER(VLOOKUP($W54,CP!$B:$Q,3,0)))","v":""},{"$f":"IF(X54=\"\",\"\",UPPER(VLOOKUP($W54,CP!$B:$Q,5,0)))","v":""},{"$f":"IF(Y54=\"\",\"\",UPPER(VLOOKUP($W54,CP!$B:$Q,6,0)))","v":""},null,null,"",{"$f":"IF(AC54=\"\",\"\",UPPER(VLOOKUP($W54,CP!$B:$Q,3,0)))","v":""},{"$f":"IF(AD54=\"\",\"\",UPPER(VLOOKUP($W54,CP!$B:$Q,5,0)))","v":""},{"$f":"IF(AE54=\"\",\"\",UPPER(VLOOKUP($W54,CP!$B:$Q,6,0)))","v":""},null,null,"AY","ASTRA GSI"]
[null,null,null,1970,null,251,"CON, SA DE CV",null,null,null,null,null,null,null,null,null,null,null,null,null,null,null,"",{"$f":"IF(W55=\"\",\"\",UPPER(VLOOKUP($W55,CP!$B:$Q,3,0)))","v":""},{"$f":"IF(X55=\"\",\"\",UPPER(VLOOKUP($W55,CP!$B:$Q,5,0)))","v":""},{"$f":"IF(Y55=\"\",\"\",UPPER(VLOOKUP($W55,CP!$B:$Q,6,0)))","v":""},null,null,"",{"$f":"IF(AC55=\"\",\"\",UPPER(VLOOKUP($W55,CP!$B:$Q,3,0)))","v":""},{"$f":"IF(AD55=\"\",\"\",UPPER(VLOOKUP($W55,CP!$B:$Q,5,0)))","v":""},{"$f":"IF(AE55=\"\",\"\",UPPER(VLOOKUP($W55,CP!$B:$Q,6,0)))","v":""},null,null,"B4MR","GUIA"]
[null,null,null,1969,null,260,"AUTOMOVILISTICA DE HIDALGO, S.A. DE C.V.     ",null,null,null,null,null,null,null,null,null,null,null,null,null,null,null,"",{"$f":"IF(W56=\"\",\"\",UPPER(VLOOKUP($W56,CP!$B:$Q,3,0)))","v":""},{"$f":"IF(X56=\"\",\"\",UPPER(VLOOKUP($W56,CP!$B:$Q,5,0)))","v":""},{"$f":"IF(Y56=\"\",\"\",UPPER(VLOOKUP($W56,CP!$B:$Q,6,0)))","v":""},null,null,"",{"$f":"IF(AC56=\"\",\"\",UPPER(VLOOKUP($W56,CP!$B:$Q,3,0)))","v":""},{"$f":"IF(AD56=\"\",\"\",UPPER(VLOOKUP($W56,CP!$B:$Q,5,0)))","v":""},{"$f":"IF(AE56=\"\",\"\",UPPER(VLOOKUP($W56,CP!$B:$Q,6,0)))","v":""},null,null,"BJ","CAVALIER A"]
[null,null,null,1968,null,268,"PLASENCIA DE NAYARIT, SA DE CV               ",null,null,null,null,null,null,null,null,null,null,null,null,null,null,null,"",{"$f":"IF(W57=\"\",\"\",UPPER(VLOOKUP($W57,CP!$B:$Q,3,0)))","v":""},{"$f":"IF(X57=\"\",\"\",UPPER(VLOOKUP($W57,CP!$B:$Q,5,0)))","v":""},{"$f":"IF(Y57=\"\",\"\",UPPER(VLOOKUP($W57,CP!$B:$Q,6,0)))","v":""},null,null,"",{"$f":"IF(AC57=\"\",\"\",UPPER(VLOOKUP($W57,CP!$B:$Q,3,0)))","v":""},{"$f":"IF(AD57=\"\",\"\",UPPER(VLOOKUP($W57,CP!$B:$Q,5,0)))","v":""},{"$f":"IF(AE57=\"\",\"\",UPPER(VLOOKUP($W57,CP!$B:$Q,6,0)))","v":""},null,null,"BK","CAVALIER B"]
[null,null,null,1967,null,270,"AUTOMOTRIZ DEL VALLE DE BAJA CALIFORNIA, S.A.",null,null,null,null,null,null,null,null,null,null,null,null,null,null,null,"",{"$f":"IF(W58=\"\",\"\",UPPER(VLOOKUP($W58,CP!$B:$Q,3,0)))","v":""},{"$f":"IF(X58=\"\",\"\",UPPER(VLOOKUP($W58,CP!$B:$Q,5,0)))","v":""},{"$f":"IF(Y58=\"\",\"\",UPPER(VLOOKUP($W58,CP!$B:$Q,6,0)))","v":""},null,null,"",{"$f":"IF(AC58=\"\",\"\",UPPER(VLOOKUP($W58,CP!$B:$Q,3,0)))","v":""},{"$f":"IF(AD58=\"\",\"\",UPPER(VLOOKUP($W58,CP!$B:$Q,5,0)))","v":""},{"$f":"IF(AE58=\"\",\"\",UPPER(VLOOKUP($W58,CP!$B:$Q,6,0)))","v":""},null,null,"BO","CAVALIER E"]
[null,null,null,1966,null,271,"AUTOS Y ACCESORIOS, SA DE CV (SUC. LOS MOCHIS",null,null,null,null,null,null,null,null,null,null,null,null,null,null,null,"",{"$f":"IF(W59=\"\",\"\",UPPER(VLOOKUP($W59,CP!$B:$Q,3,0)))","v":""},{"$f":"IF(X59=\"\",\"\",UPPER(VLOOKUP($W59,CP!$B:$Q,5,0)))","v":""},{"$f":"IF(Y59=\"\",\"\",UPPER(VLOOKUP($W59,CP!$B:$Q,6,0)))","v":""},null,null,"",{"$f":"IF(AC59=\"\",\"\",UPPER(VLOOKUP($W59,CP!$B:$Q,3,0)))","v":""},{"$f":"IF(AD59=\"\",\"\",UPPER(VLOOKUP($W59,CP!$B:$Q,5,0)))","v":""},{"$f":"IF(AE59=\"\",\"\",UPPER(VLOOKUP($W59,CP!$B:$Q,6,0)))","v":""},null,null,"BPZ","ESPECIAL 2"]
[null,null,null,1965,null,281,"NACIONAL AUTOMOTRIZ, S.A. DE C.V.            ",null,null,null,null,null,null,null,null,null,null,null,null,null,null,null,"",{"$f":"IF(W60=\"\",\"\",UPPER(VLOOKUP($W60,CP!$B:$Q,3,0)))","v":""},{"$f":"IF(X60=\"\",\"\",UPPER(VLOOKUP($W60,CP!$B:$Q,5,0)))","v":""},{"$f":"IF(Y60=\"\",\"\",UPPER(VLOOKUP($W60,CP!$B:$Q,6,0)))","v":""},null,null,"",{"$f":"IF(AC60=\"\",\"\",UPPER(VLOOKUP($W60,CP!$B:$Q,3,0)))","v":""},{"$f":"IF(AD60=\"\",\"\",UPPER(VLOOKUP($W60,CP!$B:$Q,5,0)))","v":""},{"$f":"IF(AE60=\"\",\"\",UPPER(VLOOKUP($W60,CP!$B:$Q,6,0)))","v":""},null,null,"C1A","Fusion SES Premium V6"]
[null,null,null,1964,null,285,"AUTOMOVILES COMPACTOS Y CAMIONES,S.A. DE C.V.",null,null,null,null,null,null,null,null,null,null,null,null,null,null,null,"",{"$f":"IF(W61=\"\",\"\",UPPER(VLOOKUP($W61,CP!$B:$Q,3,0)))","v":""},{"$f":"IF(X61=\"\",\"\",UPPER(VLOOKUP($W61,CP!$B:$Q,5,0)))","v":""},{"$f":"IF(Y61=\"\",\"\",UPPER(VLOOKUP($W61,CP!$B:$Q,6,0)))","v":""},null,null,"",{"$f":"IF(AC61=\"\",\"\",UPPER(VLOOKUP($W61,CP!$B:$Q,3,0)))","v":""},{"$f":"IF(AD61=\"\",\"\",UPPER(VLOOKUP($W61,CP!$B:$Q,5,0)))","v":""},{"$f":"IF(AE61=\"\",\"\",UPPER(VLOOKUP($W61,CP!$B:$Q,6,0)))","v":""},null,null,"C1AAS","FUSION SEL PLUS V6 AMBIENTE LIGTHING"]
[null,null,null,1963,null,288,"ALDEN JUAREZ, S.A. DE C.V.                   ",null,null,null,null,null,null,null,null,null,null,null,null,null,null,null,"",{"$f":"IF(W62=\"\",\"\",UPPER(VLOOKUP($W62,CP!$B:$Q,3,0)))","v":""},{"$f":"IF(X62=\"\",\"\",UPPER(VLOOKUP($W62,CP!$B:$Q,5,0)))","v":""},{"$f":"IF(Y62=\"\",\"\",UPPER(VLOOKUP($W62,CP!$B:$Q,6,0)))","v":""},null,null,"",{"$f":"IF(AC62=\"\",\"\",UPPER(VLOOKUP($W62,CP!$B:$Q,3,0)))","v":""},{"$f":"IF(AD62=\"\",\"\",UPPER(VLOOKUP($W62,CP!$B:$Q,5,0)))","v":""},{"$f":"IF(AE62=\"\",\"\",UPPER(VLOOKUP($W62,CP!$B:$Q,6,0)))","v":""},null,null,"C1ACA1","FUSION SEL PLUS V6"]
[null,null,null,1962,null,297,"LEON AUTOMOTRIZ, S.A. DE  C.V.               ",null,null,null,null,null,null,null,null,null,null,null,null,null,null,null,"",{"$f":"IF(W63=\"\",\"\",UPPER(VLOOKUP($W63,CP!$B:$Q,3,0)))","v":""},{"$f":"IF(X63=\"\",\"\",UPPER(VLOOKUP($W63,CP!$B:$Q,5,0)))","v":""},{"$f":"IF(Y63=\"\",\"\",UPPER(VLOOKUP($W63,CP!$B:$Q,6,0)))","v":""},null,null,"",{"$f":"IF(AC63=\"\",\"\",UPPER(VLOOKUP($W63,CP!$B:$Q,3,0)))","v":""},{"$f":"IF(AD63=\"\",\"\",UPPER(VLOOKUP($W63,CP!$B:$Q,5,0)))","v":""},{"$f":"IF(AE63=\"\",\"\",UPPER(VLOOKUP($W63,CP!$B:$Q,6,0)))","v":""},null,null,"C1ACA2","FUSION SEL PLUS V6"]
[null,null,null,1961,null,299,"DISTRIBUIDORES DE AUTOCAMIONES DE CHIAPAS,S.A",null,null,null,null,null,null,null,null,null,null,null,null,null,null,null,"",{"$f":"IF(W64=\"\",\"\",UPPER(VLOOKUP($W64,CP!$B:$Q,3,0)))","v":""},{"$f":"IF(X64=\"\",\"\",UPPER(VLOOKUP($W64,CP!$B:$Q,5,0)))","v":""},{"$f":"IF(Y64=\"\",\"\",UPPER(VLOOKUP($W64,CP!$B:$Q,6,0)))","v":""},null,null,"",{"$f":"IF(AC64=\"\",\"\",UPPER(VLOOKUP($W64,CP!$B:$Q,3,0)))","v":""},{"$f":"IF(AD64=\"\",\"\",UPPER(VLOOKUP($W64,CP!$B:$Q,5,0)))","v":""},{"$f":"IF(AE64=\"\",\"\",UPPER(VLOOKUP($W64,CP!$B:$Q,6,0)))","v":""},null,null,"C1ACE1","FUSION SEL PLUS V6*"]
[null,null,null,1960,null,300,"AUTOMOVILES DE GUAYMAS, S.A. DE C.V.         ",null,null,null,null,null,null,null,null,null,null,null,null,null,null,null,"",{"$f":"IF(W65=\"\",\"\",UPPER(VLOOKUP($W65,CP!$B:$Q,3,0)))","v":""},{"$f":"IF(X65=\"\",\"\",UPPER(VLOOKUP($W65,CP!$B:$Q,5,0)))","v":""},{"$f":"IF(Y65=\"\",\"\",UPPER(VLOOKUP($W65,CP!$B:$Q,6,0)))","v":""},null,null,"",{"$f":"IF(AC65=\"\",\"\",UPPER(VLOOKUP($W65,CP!$B:$Q,3,0)))","v":""},{"$f":"IF(AD65=\"\",\"\",UPPER(VLOOKUP($W65,CP!$B:$Q,5,0)))","v":""},{"$f":"IF(AE65=\"\",\"\",UPPER(VLOOKUP($W65,CP!$B:$Q,6,0)))","v":""},null,null,"C1AEM","FUSION SES PREMIUM V6"]
[null,null,null,1959,null,301,"CAMSA, S.A DE C.V.                           ",null,null,null,null,null,null,null,null,null,null,null,null,null,null,null,"",{"$f":"IF(W66=\"\",\"\",UPPER(VLOOKUP($W66,CP!$B:$Q,3,0)))","v":""},{"$f":"IF(X66=\"\",\"\",UPPER(VLOOKUP($W66,CP!$B:$Q,5,0)))","v":""},{"$f":"IF(Y66=\"\",\"\",UPPER(VLOOKUP($W66,CP!$B:$Q,6,0)))","v":""},null,null,"",{"$f":"IF(AC66=\"\",\"\",UPPER(VLOOKUP($W66,CP!$B:$Q,3,0)))","v":""},{"$f":"IF(AD66=\"\",\"\",UPPER(VLOOKUP($W66,CP!$B:$Q,5,0)))","v":""},{"$f":"IF(AE66=\"\",\"\",UPPER(VLOOKUP($W66,CP!$B:$Q,6,0)))","v":""},null,null,"C1ALS","FUSION SEL PLUS V6 AMBIENT LIGTHING SYNC"]
[null,null,null,1958,null,311,"AGENCIA CENTRAL POTOSINA, S.A. DE C.V.       ",null,null,null,null,null,null,null,null,null,null,null,null,null,null,null,"",{"$f":"IF(W67=\"\",\"\",UPPER(VLOOKUP($W67,CP!$B:$Q,3,0)))","v":""},{"$f":"IF(X67=\"\",\"\",UPPER(VLOOKUP($W67,CP!$B:$Q,5,0)))","v":""},{"$f":"IF(Y67=\"\",\"\",UPPER(VLOOKUP($W67,CP!$B:$Q,6,0)))","v":""},null,null,"",{"$f":"IF(AC67=\"\",\"\",UPPER(VLOOKUP($W67,CP!$B:$Q,3,0)))","v":""},{"$f":"IF(AD67=\"\",\"\",UPPER(VLOOKUP($W67,CP!$B:$Q,5,0)))","v":""},{"$f":"IF(AE67=\"\",\"\",UPPER(VLOOKUP($W67,CP!$B:$Q,6,0)))","v":""},null,null,"C1AMT","FUSION SEL PLUS V6"]
[null,null,null,null,null,319,"JALISCO MOTORS, S.A. DE C.V.                 ",null,null,null,null,null,null,null,null,null,null,null,null,null,null,null,"",{"$f":"IF(W68=\"\",\"\",UPPER(VLOOKUP($W68,CP!$B:$Q,3,0)))","v":""},{"$f":"IF(X68=\"\",\"\",UPPER(VLOOKUP($W68,CP!$B:$Q,5,0)))","v":""},{"$f":"IF(Y68=\"\",\"\",UPPER(VLOOKUP($W68,CP!$B:$Q,6,0)))","v":""},null,null,"",{"$f":"IF(AC68=\"\",\"\",UPPER(VLOOKUP($W68,CP!$B:$Q,3,0)))","v":""},{"$f":"IF(AD68=\"\",\"\",UPPER(VLOOKUP($W68,CP!$B:$Q,5,0)))","v":""},{"$f":"IF(AE68=\"\",\"\",UPPER(VLOOKUP($W68,CP!$B:$Q,6,0)))","v":""},null,null,"C1ASS6","FUSION SEL PLUS V6"]
[null,null,null,null,null,320,"RIVERA, S.A. DE C.V.                         ",null,null,null,null,null,null,null,null,null,null,null,null,null,null,null,"",{"$f":"IF(W69=\"\",\"\",UPPER(VLOOKUP($W69,CP!$B:$Q,3,0)))","v":""},{"$f":"IF(X69=\"\",\"\",UPPER(VLOOKUP($W69,CP!$B:$Q,5,0)))","v":""},{"$f":"IF(Y69=\"\",\"\",UPPER(VLOOKUP($W69,CP!$B:$Q,6,0)))","v":""},null,null,"",{"$f":"IF(AC69=\"\",\"\",UPPER(VLOOKUP($W69,CP!$B:$Q,3,0)))","v":""},{"$f":"IF(AD69=\"\",\"\",UPPER(VLOOKUP($W69,CP!$B:$Q,5,0)))","v":""},{"$f":"IF(AE69=\"\",\"\",UPPER(VLOOKUP($W69,CP!$B:$Q,6,0)))","v":""},null,null,"C1ASS7","FUSION SEL PLUS V6"]
[null,null,null,null,null,325,"AUTOMOTRIZ TAME, S.A. DE C.V.                ",null,null,null,null,null,null,null,null,null,null,null,null,null,null,null,{"$f":"IFERROR(IF(W69+1>$X$1,\"\",W69+1),\"\")","v":""},{"$f":"IF(W70=\"\",\"\",UPPER(VLOOKUP($W70,CP!$B:$Q,3,0)))","v":""},{"$f":"IF(X70=\"\",\"\",UPPER(VLOOKUP($W70,CP!$B:$Q,5,0)))","v":""},{"$f":"IF(Y70=\"\",\"\",UPPER(VLOOKUP($W70,CP!$B:$Q,6,0)))","v":""},null,null,{"$f":"IFERROR(IF(AC69+1>$AD$1,\"\",AC69+1),\"\")","v":""},{"$f":"IF(AC70=\"\",\"\",UPPER(VLOOKUP($W70,CP!$B:$Q,3,0)))","v":""},{"$f":"IF(AD70=\"\",\"\",UPPER(VLOOKUP($W70,CP!$B:$Q,5,0)))","v":""},{"$f":"IF(AE70=\"\",\"\",UPPER(VLOOKUP($W70,CP!$B:$Q,6,0)))","v":""},null,null,"C1ASS8","FUSION SEL PLUS V6"]
[null,null,null,null,null,331,"TABASCO AUTOMOVILISTICA, S.A. DE  C.V.       ",null,null,null,null,null,null,null,null,null,null,null,null,null,null,null,"",{"$f":"IF(W71=\"\",\"\",UPPER(VLOOKUP($W71,CP!$B:$Q,3,0)))","v":""},{"$f":"IF(X71=\"\",\"\",UPPER(VLOOKUP($W71,CP!$B:$Q,5,0)))","v":""},{"$f":"IF(Y71=\"\",\"\",UPPER(VLOOKUP($W71,CP!$B:$Q,6,0)))","v":""},null,null,"",{"$f":"IF(AC71=\"\",\"\",UPPER(VLOOKUP($W71,CP!$B:$Q,3,0)))","v":""},{"$f":"IF(AD71=\"\",\"\",UPPER(VLOOKUP($W71,CP!$B:$Q,5,0)))","v":""},{"$f":"IF(AE71=\"\",\"\",UPPER(VLOOKUP($W71,CP!$B:$Q,6,0)))","v":""},null,null,"C1AVM","FUSION SEL PLUS V6"]
[null,null,null,null,null,332,"CENTRO AUTOMOTRIZ DE LA LAGUNA, S.A. DE C.V. ",null,null,null,null,null,null,null,null,null,null,null,null,null,null,null,"",{"$f":"IF(W72=\"\",\"\",UPPER(VLOOKUP($W72,CP!$B:$Q,3,0)))","v":""},{"$f":"IF(X72=\"\",\"\",UPPER(VLOOKUP($W72,CP!$B:$Q,5,0)))","v":""},{"$f":"IF(Y72=\"\",\"\",UPPER(VLOOKUP($W72,CP!$B:$Q,6,0)))","v":""},null,null,"",{"$f":"IF(AC72=\"\",\"\",UPPER(VLOOKUP($W72,CP!$B:$Q,3,0)))","v":""},{"$f":"IF(AD72=\"\",\"\",UPPER(VLOOKUP($W72,CP!$B:$Q,5,0)))","v":""},{"$f":"IF(AE72=\"\",\"\",UPPER(VLOOKUP($W72,CP!$B:$Q,6,0)))","v":""},null,null,"C1B","Fusion SES V6"]
[null,null,null,null,null,334,"PLASENCIA MAZATLAN S.A.DE C.V.               ",null,null,null,null,null,null,null,null,null,null,null,null,null,null,null,"",{"$f":"IF(W73=\"\",\"\",UPPER(VLOOKUP($W73,CP!$B:$Q,3,0)))","v":""},{"$f":"IF(X73=\"\",\"\",UPPER(VLOOKUP($W73,CP!$B:$Q,5,0)))","v":""},{"$f":"IF(Y73=\"\",\"\",UPPER(VLOOKUP($W73,CP!$B:$Q,6,0)))","v":""},null,null,"",{"$f":"IF(AC73=\"\",\"\",UPPER(VLOOKUP($W73,CP!$B:$Q,3,0)))","v":""},{"$f":"IF(AD73=\"\",\"\",UPPER(VLOOKUP($W73,CP!$B:$Q,5,0)))","v":""},{"$f":"IF(AE73=\"\",\"\",UPPER(VLOOKUP($W73,CP!$B:$Q,6,0)))","v":""},null,null,"C1B28","Fusion Sel V6"]
[null,null,null,null,null,335,"AUTOMOVILES NACIONALES, S.A.                 ",null,null,null,null,null,null,null,null,null,null,null,null,null,null,null,"",{"$f":"IF(W74=\"\",\"\",UPPER(VLOOKUP($W74,CP!$B:$Q,3,0)))","v":""},{"$f":"IF(X74=\"\",\"\",UPPER(VLOOKUP($W74,CP!$B:$Q,5,0)))","v":""},{"$f":"IF(Y74=\"\",\"\",UPPER(VLOOKUP($W74,CP!$B:$Q,6,0)))","v":""},null,null,"",{"$f":"IF(AC74=\"\",\"\",UPPER(VLOOKUP($W74,CP!$B:$Q,3,0)))","v":""},{"$f":"IF(AD74=\"\",\"\",UPPER(VLOOKUP($W74,CP!$B:$Q,5,0)))","v":""},{"$f":"IF(AE74=\"\",\"\",UPPER(VLOOKUP($W74,CP!$B:$Q,6,0)))","v":""},null,null,"C1B29","Fusion Sel V6"]
[null,null,null,null,null,338,"AUTOMOVILISTICA ANDRADE, S.A. DE C.V.        ",null,null,null,null,null,null,null,null,null,null,null,null,null,null,null,"",{"$f":"IF(W75=\"\",\"\",UPPER(VLOOKUP($W75,CP!$B:$Q,3,0)))","v":""},{"$f":"IF(X75=\"\",\"\",UPPER(VLOOKUP($W75,CP!$B:$Q,5,0)))","v":""},{"$f":"IF(Y75=\"\",\"\",UPPER(VLOOKUP($W75,CP!$B:$Q,6,0)))","v":""},null,null,"",{"$f":"IF(AC75=\"\",\"\",UPPER(VLOOKUP($W75,CP!$B:$Q,3,0)))","v":""},{"$f":"IF(AD75=\"\",\"\",UPPER(VLOOKUP($W75,CP!$B:$Q,5,0)))","v":""},{"$f":"IF(AE75=\"\",\"\",UPPER(VLOOKUP($W75,CP!$B:$Q,6,0)))","v":""},null,null,"C1B30","Fusion Sel V6"]
[null,null,null,null,null,339,"AUTOS Y TRACTORES DE CULIACAN, S.A. DE C.V.  ",null,null,null,null,null,null,null,null,null,null,null,null,null,null,null,"",{"$f":"IF(W76=\"\",\"\",UPPER(VLOOKUP($W76,CP!$B:$Q,3,0)))","v":""},{"$f":"IF(X76=\"\",\"\",UPPER(VLOOKUP($W76,CP!$B:$Q,5,0)))","v":""},{"$f":"IF(Y76=\"\",\"\",UPPER(VLOOKUP($W76,CP!$B:$Q,6,0)))","v":""},null,null,"",{"$f":"IF(AC76=\"\",\"\",UPPER(VLOOKUP($W76,CP!$B:$Q,3,0)))","v":""},{"$f":"IF(AD76=\"\",\"\",UPPER(VLOOKUP($W76,CP!$B:$Q,5,0)))","v":""},{"$f":"IF(AE76=\"\",\"\",UPPER(VLOOKUP($W76,CP!$B:$Q,6,0)))","v":""},null,null,"C1B31","Fusion Sel V6"]
[null,null,null,null,null,345,"AUTOCAMIONES DE TIJUANA, S.A. DE C.V.        ",null,null,null,null,null,null,null,null,null,null,null,null,null,null,null,"",{"$f":"IF(W77=\"\",\"\",UPPER(VLOOKUP($W77,CP!$B:$Q,3,0)))","v":""},{"$f":"IF(X77=\"\",\"\",UPPER(VLOOKUP($W77,CP!$B:$Q,5,0)))","v":""},{"$f":"IF(Y77=\"\",\"\",UPPER(VLOOKUP($W77,CP!$B:$Q,6,0)))","v":""},null,null,"",{"$f":"IF(AC77=\"\",\"\",UPPER(VLOOKUP($W77,CP!$B:$Q,3,0)))","v":""},{"$f":"IF(AD77=\"\",\"\",UPPER(VLOOKUP($W77,CP!$B:$Q,5,0)))","v":""},{"$f":"IF(AE77=\"\",\"\",UPPER(VLOOKUP($W77,CP!$B:$Q,6,0)))","v":""},null,null,"C1B32","Fusion Sel V6"]
[null,null,null,null,null,353,"CDA PENINSULA, S.A. DE C.V. (SUC. CAMPECHE)  ",null,null,null,null,null,null,null,null,null,null,null,null,null,null,null,"",{"$f":"IF(W78=\"\",\"\",UPPER(VLOOKUP($W78,CP!$B:$Q,3,0)))","v":""},{"$f":"IF(X78=\"\",\"\",UPPER(VLOOKUP($W78,CP!$B:$Q,5,0)))","v":""},{"$f":"IF(Y78=\"\",\"\",UPPER(VLOOKUP($W78,CP!$B:$Q,6,0)))","v":""},null,null,"",{"$f":"IF(AC78=\"\",\"\",UPPER(VLOOKUP($W78,CP!$B:$Q,3,0)))","v":""},{"$f":"IF(AD78=\"\",\"\",UPPER(VLOOKUP($W78,CP!$B:$Q,5,0)))","v":""},{"$f":"IF(AE78=\"\",\"\",UPPER(VLOOKUP($W78,CP!$B:$Q,6,0)))","v":""},null,null,"C1BSS","FUSION SEL V6"]
[null,null,null,null,null,357,"PRODUCTOS AUTOMOTRICES (SUC. DELICIAS)       ",null,null,null,null,null,null,null,null,null,null,null,null,null,null,null,"",{"$f":"IF(W79=\"\",\"\",UPPER(VLOOKUP($W79,CP!$B:$Q,3,0)))","v":""},{"$f":"IF(X79=\"\",\"\",UPPER(VLOOKUP($W79,CP!$B:$Q,5,0)))","v":""},{"$f":"IF(Y79=\"\",\"\",UPPER(VLOOKUP($W79,CP!$B:$Q,6,0)))","v":""},null,null,"",{"$f":"IF(AC79=\"\",\"\",UPPER(VLOOKUP($W79,CP!$B:$Q,3,0)))","v":""},{"$f":"IF(AD79=\"\",\"\",UPPER(VLOOKUP($W79,CP!$B:$Q,5,0)))","v":""},{"$f":"IF(AE79=\"\",\"\",UPPER(VLOOKUP($W79,CP!$B:$Q,6,0)))","v":""},null,null,"C1C","Fusion SE V6"]
[null,null,null,null,null,362,"AUTOMOVILES Y MAQ. AGRICOLA DE GUAMUCHIL,S.A.",null,null,null,null,null,null,null,null,null,null,null,null,null,null,null,"",{"$f":"IF(W80=\"\",\"\",UPPER(VLOOKUP($W80,CP!$B:$Q,3,0)))","v":""},{"$f":"IF(X80=\"\",\"\",UPPER(VLOOKUP($W80,CP!$B:$Q,5,0)))","v":""},{"$f":"IF(Y80=\"\",\"\",UPPER(VLOOKUP($W80,CP!$B:$Q,6,0)))","v":""},null,null,"",{"$f":"IF(AC80=\"\",\"\",UPPER(VLOOKUP($W80,CP!$B:$Q,3,0)))","v":""},{"$f":"IF(AD80=\"\",\"\",UPPER(VLOOKUP($W80,CP!$B:$Q,5,0)))","v":""},{"$f":"IF(AE80=\"\",\"\",UPPER(VLOOKUP($W80,CP!$B:$Q,6,0)))","v":""},null,null,"C1C33","fusion SE V6"]
[null,null,null,null,null,364,"JIMENEZ AUTOMOTRIZ, S.A. DE C.V.             ",null,null,null,null,null,null,null,null,null,null,null,null,null,null,null,"",{"$f":"IF(W81=\"\",\"\",UPPER(VLOOKUP($W81,CP!$B:$Q,3,0)))","v":""},{"$f":"IF(X81=\"\",\"\",UPPER(VLOOKUP($W81,CP!$B:$Q,5,0)))","v":""},{"$f":"IF(Y81=\"\",\"\",UPPER(VLOOKUP($W81,CP!$B:$Q,6,0)))","v":""},null,null,"",{"$f":"IF(AC81=\"\",\"\",UPPER(VLOOKUP($W81,CP!$B:$Q,3,0)))","v":""},{"$f":"IF(AD81=\"\",\"\",UPPER(VLOOKUP($W81,CP!$B:$Q,5,0)))","v":""},{"$f":"IF(AE81=\"\",\"\",UPPER(VLOOKUP($W81,CP!$B:$Q,6,0)))","v":""},null,null,"C1C34","Fusion SE V6"]
[null,null,null,null,null,375,"AUTOS DE TLAXCALA, S.A. DE C.V.              ",null,null,null,null,null,null,null,null,null,null,null,null,null,null,null,"",{"$f":"IF(W82=\"\",\"\",UPPER(VLOOKUP($W82,CP!$B:$Q,3,0)))","v":""},{"$f":"IF(X82=\"\",\"\",UPPER(VLOOKUP($W82,CP!$B:$Q,5,0)))","v":""},{"$f":"IF(Y82=\"\",\"\",UPPER(VLOOKUP($W82,CP!$B:$Q,6,0)))","v":""},null,null,"",{"$f":"IF(AC82=\"\",\"\",UPPER(VLOOKUP($W82,CP!$B:$Q,3,0)))","v":""},{"$f":"IF(AD82=\"\",\"\",UPPER(VLOOKUP($W82,CP!$B:$Q,5,0)))","v":""},{"$f":"IF(AE82=\"\",\"\",UPPER(VLOOKUP($W82,CP!$B:$Q,6,0)))","v":""},null,null,"C1C35","Fusion SE V6"]
[null,null,null,null,null,376,"AUTOMOVILES Y CAMIONES ORIZABA, S.A. DE C.V. ",null,null,null,null,null,null,null,null,null,null,null,null,null,null,null,"",{"$f":"IF(W83=\"\",\"\",UPPER(VLOOKUP($W83,CP!$B:$Q,3,0)))","v":""},{"$f":"IF(X83=\"\",\"\",UPPER(VLOOKUP($W83,CP!$B:$Q,5,0)))","v":""},{"$f":"IF(Y83=\"\",\"\",UPPER(VLOOKUP($W83,CP!$B:$Q,6,0)))","v":""},null,null,"",{"$f":"IF(AC83=\"\",\"\",UPPER(VLOOKUP($W83,CP!$B:$Q,3,0)))","v":""},{"$f":"IF(AD83=\"\",\"\",UPPER(VLOOKUP($W83,CP!$B:$Q,5,0)))","v":""},{"$f":"IF(AE83=\"\",\"\",UPPER(VLOOKUP($W83,CP!$B:$Q,6,0)))","v":""},null,null,"C1C36","Fusion SE V6"]
[null,null,null,null,null,378,"COMERCIAL AUTOMOTRIZ VAL., S.A. DE C.V.      ",null,null,null,null,null,null,null,null,null,null,null,null,null,null,null,"",{"$f":"IF(W84=\"\",\"\",UPPER(VLOOKUP($W84,CP!$B:$Q,3,0)))","v":""},{"$f":"IF(X84=\"\",\"\",UPPER(VLOOKUP($W84,CP!$B:$Q,5,0)))","v":""},{"$f":"IF(Y84=\"\",\"\",UPPER(VLOOKUP($W84,CP!$B:$Q,6,0)))","v":""},null,null,"",{"$f":"IF(AC84=\"\",\"\",UPPER(VLOOKUP($W84,CP!$B:$Q,3,0)))","v":""},{"$f":"IF(AD84=\"\",\"\",UPPER(VLOOKUP($W84,CP!$B:$Q,5,0)))","v":""},{"$f":"IF(AE84=\"\",\"\",UPPER(VLOOKUP($W84,CP!$B:$Q,6,0)))","v":""},null,null,"C1C37","Fusion SE V6"]
[null,null,null,null,null,393,"JUAN OSORIO LOPEZ AUTOS, S.A. DE C.V.        ",null,null,null,null,null,null,null,null,null,null,null,null,null,null,null,"",{"$f":"IF(W85=\"\",\"\",UPPER(VLOOKUP($W85,CP!$B:$Q,3,0)))","v":""},{"$f":"IF(X85=\"\",\"\",UPPER(VLOOKUP($W85,CP!$B:$Q,5,0)))","v":""},{"$f":"IF(Y85=\"\",\"\",UPPER(VLOOKUP($W85,CP!$B:$Q,6,0)))","v":""},null,null,"",{"$f":"IF(AC85=\"\",\"\",UPPER(VLOOKUP($W85,CP!$B:$Q,3,0)))","v":""},{"$f":"IF(AD85=\"\",\"\",UPPER(VLOOKUP($W85,CP!$B:$Q,5,0)))","v":""},{"$f":"IF(AE85=\"\",\"\",UPPER(VLOOKUP($W85,CP!$B:$Q,6,0)))","v":""},null,null,"C1C38","Fusion SE V6"]
[null,null,null,null,null,396,"JUAN OSORIO LOPEZ AUTOS MINATITLAN, S.A. C.V.",null,null,null,null,null,null,null,null,null,null,null,null,null,null,null,"",{"$f":"IF(W86=\"\",\"\",UPPER(VLOOKUP($W86,CP!$B:$Q,3,0)))","v":""},{"$f":"IF(X86=\"\",\"\",UPPER(VLOOKUP($W86,CP!$B:$Q,5,0)))","v":""},{"$f":"IF(Y86=\"\",\"\",UPPER(VLOOKUP($W86,CP!$B:$Q,6,0)))","v":""},null,null,"",{"$f":"IF(AC86=\"\",\"\",UPPER(VLOOKUP($W86,CP!$B:$Q,3,0)))","v":""},{"$f":"IF(AD86=\"\",\"\",UPPER(VLOOKUP($W86,CP!$B:$Q,5,0)))","v":""},{"$f":"IF(AE86=\"\",\"\",UPPER(VLOOKUP($W86,CP!$B:$Q,6,0)))","v":""},null,null,"C1C39","Fusion SE V6"]
[null,null,null,null,null,397,"AUTOMOVILES DE CABORCA, S.A. DE C.V.         ",null,null,null,null,null,null,null,null,null,null,null,null,null,null,null,"",{"$f":"IF(W87=\"\",\"\",UPPER(VLOOKUP($W87,CP!$B:$Q,3,0)))","v":""},{"$f":"IF(X87=\"\",\"\",UPPER(VLOOKUP($W87,CP!$B:$Q,5,0)))","v":""},{"$f":"IF(Y87=\"\",\"\",UPPER(VLOOKUP($W87,CP!$B:$Q,6,0)))","v":""},null,null,"",{"$f":"IF(AC87=\"\",\"\",UPPER(VLOOKUP($W87,CP!$B:$Q,3,0)))","v":""},{"$f":"IF(AD87=\"\",\"\",UPPER(VLOOKUP($W87,CP!$B:$Q,5,0)))","v":""},{"$f":"IF(AE87=\"\",\"\",UPPER(VLOOKUP($W87,CP!$B:$Q,6,0)))","v":""},null,null,"C1C40","Fusion SE V6"]
[null,null,null,null,null,401,"AUTOS Y ACCESORIOS, SA DE CV (SUC. GUASAVE)  ",null,null,null,null,null,null,null,null,null,null,null,null,null,null,null,"",{"$f":"IF(W88=\"\",\"\",UPPER(VLOOKUP($W88,CP!$B:$Q,3,0)))","v":""},{"$f":"IF(X88=\"\",\"\",UPPER(VLOOKUP($W88,CP!$B:$Q,5,0)))","v":""},{"$f":"IF(Y88=\"\",\"\",UPPER(VLOOKUP($W88,CP!$B:$Q,6,0)))","v":""},null,null,"",{"$f":"IF(AC88=\"\",\"\",UPPER(VLOOKUP($W88,CP!$B:$Q,3,0)))","v":""},{"$f":"IF(AD88=\"\",\"\",UPPER(VLOOKUP($W88,CP!$B:$Q,5,0)))","v":""},{"$f":"IF(AE88=\"\",\"\",UPPER(VLOOKUP($W88,CP!$B:$Q,6,0)))","v":""},null,null,"C1C41","Fusion SE V6"]
[null,null,null,null,null,413,"ECHEGARAY AUTOMOTORES, SA DE CV              ",null,null,null,null,null,null,null,null,null,null,null,null,null,null,null,"",{"$f":"IF(W89=\"\",\"\",UPPER(VLOOKUP($W89,CP!$B:$Q,3,0)))","v":""},{"$f":"IF(X89=\"\",\"\",UPPER(VLOOKUP($W89,CP!$B:$Q,5,0)))","v":""},{"$f":"IF(Y89=\"\",\"\",UPPER(VLOOKUP($W89,CP!$B:$Q,6,0)))","v":""},null,null,"",{"$f":"IF(AC89=\"\",\"\",UPPER(VLOOKUP($W89,CP!$B:$Q,3,0)))","v":""},{"$f":"IF(AD89=\"\",\"\",UPPER(VLOOKUP($W89,CP!$B:$Q,5,0)))","v":""},{"$f":"IF(AE89=\"\",\"\",UPPER(VLOOKUP($W89,CP!$B:$Q,6,0)))","v":""},null,null,"C1C42","Fusion SE V6"]
[null,null,null,null,null,415,"AUTOCAMIONES DE TAPACHULA, S.A. DE C.V.      ",null,null,null,null,null,null,null,null,null,null,null,null,null,null,null,"",{"$f":"IF(W90=\"\",\"\",UPPER(VLOOKUP($W90,CP!$B:$Q,3,0)))","v":""},{"$f":"IF(X90=\"\",\"\",UPPER(VLOOKUP($W90,CP!$B:$Q,5,0)))","v":""},{"$f":"IF(Y90=\"\",\"\",UPPER(VLOOKUP($W90,CP!$B:$Q,6,0)))","v":""},null,null,"",{"$f":"IF(AC90=\"\",\"\",UPPER(VLOOKUP($W90,CP!$B:$Q,3,0)))","v":""},{"$f":"IF(AD90=\"\",\"\",UPPER(VLOOKUP($W90,CP!$B:$Q,5,0)))","v":""},{"$f":"IF(AE90=\"\",\"\",UPPER(VLOOKUP($W90,CP!$B:$Q,6,0)))","v":""},null,null,"C1C43","Fusion SE V6"]
[null,null,null,null,null,421,"AUTOCAMIONES DE ZACATECAS, S.A. DE C.V.      ",null,null,null,null,null,null,null,null,null,null,null,null,null,null,null,"",{"$f":"IF(W91=\"\",\"\",UPPER(VLOOKUP($W91,CP!$B:$Q,3,0)))","v":""},{"$f":"IF(X91=\"\",\"\",UPPER(VLOOKUP($W91,CP!$B:$Q,5,0)))","v":""},{"$f":"IF(Y91=\"\",\"\",UPPER(VLOOKUP($W91,CP!$B:$Q,6,0)))","v":""},null,null,"",{"$f":"IF(AC91=\"\",\"\",UPPER(VLOOKUP($W91,CP!$B:$Q,3,0)))","v":""},{"$f":"IF(AD91=\"\",\"\",UPPER(VLOOKUP($W91,CP!$B:$Q,5,0)))","v":""},{"$f":"IF(AE91=\"\",\"\",UPPER(VLOOKUP($W91,CP!$B:$Q,6,0)))","v":""},null,null,"C1C44","Fusion SE V6"]
[null,null,null,null,null,436,"PLASENCIA PUERTO VALLARTA, S.A. DE C.V.      ",null,null,null,null,null,null,null,null,null,null,null,null,null,null,null,"",{"$f":"IF(W92=\"\",\"\",UPPER(VLOOKUP($W92,CP!$B:$Q,3,0)))","v":""},{"$f":"IF(X92=\"\",\"\",UPPER(VLOOKUP($W92,CP!$B:$Q,5,0)))","v":""},{"$f":"IF(Y92=\"\",\"\",UPPER(VLOOKUP($W92,CP!$B:$Q,6,0)))","v":""},null,null,"",{"$f":"IF(AC92=\"\",\"\",UPPER(VLOOKUP($W92,CP!$B:$Q,3,0)))","v":""},{"$f":"IF(AD92=\"\",\"\",UPPER(VLOOKUP($W92,CP!$B:$Q,5,0)))","v":""},{"$f":"IF(AE92=\"\",\"\",UPPER(VLOOKUP($W92,CP!$B:$Q,6,0)))","v":""},null,null,"C1C45","Fusion SE V6"]
[null,null,null,null,null,440,"PRODUCTOS AUTOMOTRICES, S.A. DE C.V.         ",null,null,null,null,null,null,null,null,null,null,null,null,null,null,null,"",{"$f":"IF(W93=\"\",\"\",UPPER(VLOOKUP($W93,CP!$B:$Q,3,0)))","v":""},{"$f":"IF(X93=\"\",\"\",UPPER(VLOOKUP($W93,CP!$B:$Q,5,0)))","v":""},{"$f":"IF(Y93=\"\",\"\",UPPER(VLOOKUP($W93,CP!$B:$Q,6,0)))","v":""},null,null,"",{"$f":"IF(AC93=\"\",\"\",UPPER(VLOOKUP($W93,CP!$B:$Q,3,0)))","v":""},{"$f":"IF(AD93=\"\",\"\",UPPER(VLOOKUP($W93,CP!$B:$Q,5,0)))","v":""},{"$f":"IF(AE93=\"\",\"\",UPPER(VLOOKUP($W93,CP!$B:$Q,6,0)))","v":""},null,null,"C1C46","Fusion SE V6"]
[null,null,null,null,null,446,"AUTOMOTORES COAHUILENSES, S.A. DE C.V. (SUC. ",null,null,null,null,null,null,null,null,null,null,null,null,null,null,null,"",{"$f":"IF(W94=\"\",\"\",UPPER(VLOOKUP($W94,CP!$B:$Q,3,0)))","v":""},{"$f":"IF(X94=\"\",\"\",UPPER(VLOOKUP($W94,CP!$B:$Q,5,0)))","v":""},{"$f":"IF(Y94=\"\",\"\",UPPER(VLOOKUP($W94,CP!$B:$Q,6,0)))","v":""},null,null,"",{"$f":"IF(AC94=\"\",\"\",UPPER(VLOOKUP($W94,CP!$B:$Q,3,0)))","v":""},{"$f":"IF(AD94=\"\",\"\",UPPER(VLOOKUP($W94,CP!$B:$Q,5,0)))","v":""},{"$f":"IF(AE94=\"\",\"\",UPPER(VLOOKUP($W94,CP!$B:$Q,6,0)))","v":""},null,null,"C1C47","Fusion SE V6"]
[null,null,null,null,null,447,"AUTOMOTORES COAHUILENSES, S.A. DE C.V.       ",null,null,null,null,null,null,null,null,null,null,null,null,null,null,null,"",{"$f":"IF(W95=\"\",\"\",UPPER(VLOOKUP($W95,CP!$B:$Q,3,0)))","v":""},{"$f":"IF(X95=\"\",\"\",UPPER(VLOOKUP($W95,CP!$B:$Q,5,0)))","v":""},{"$f":"IF(Y95=\"\",\"\",UPPER(VLOOKUP($W95,CP!$B:$Q,6,0)))","v":""},null,null,"",{"$f":"IF(AC95=\"\",\"\",UPPER(VLOOKUP($W95,CP!$B:$Q,3,0)))","v":""},{"$f":"IF(AD95=\"\",\"\",UPPER(VLOOKUP($W95,CP!$B:$Q,5,0)))","v":""},{"$f":"IF(AE95=\"\",\"\",UPPER(VLOOKUP($W95,CP!$B:$Q,6,0)))","v":""},null,null,"C1C48","Fusion SE V6"]
[null,null,null,null,null,453,"VEHICULOS AUTOMOTRICES DE LA PIEDAD, S.A C.V.",null,null,null,null,null,null,null,null,null,null,null,null,null,null,null,"",{"$f":"IF(W96=\"\",\"\",UPPER(VLOOKUP($W96,CP!$B:$Q,3,0)))","v":""},{"$f":"IF(X96=\"\",\"\",UPPER(VLOOKUP($W96,CP!$B:$Q,5,0)))","v":""},{"$f":"IF(Y96=\"\",\"\",UPPER(VLOOKUP($W96,CP!$B:$Q,6,0)))","v":""},null,null,"",{"$f":"IF(AC96=\"\",\"\",UPPER(VLOOKUP($W96,CP!$B:$Q,3,0)))","v":""},{"$f":"IF(AD96=\"\",\"\",UPPER(VLOOKUP($W96,CP!$B:$Q,5,0)))","v":""},{"$f":"IF(AE96=\"\",\"\",UPPER(VLOOKUP($W96,CP!$B:$Q,6,0)))","v":""},null,null,"C1C49","Fusion SE V6"]
[null,null,null,null,null,455,"AUTOMOTRIZ DEL NTE DE ZACATECAS, S.A. DE C V.",null,null,null,null,null,null,null,null,null,null,null,null,null,null,null,"",{"$f":"IF(W97=\"\",\"\",UPPER(VLOOKUP($W97,CP!$B:$Q,3,0)))","v":""},{"$f":"IF(X97=\"\",\"\",UPPER(VLOOKUP($W97,CP!$B:$Q,5,0)))","v":""},{"$f":"IF(Y97=\"\",\"\",UPPER(VLOOKUP($W97,CP!$B:$Q,6,0)))","v":""},null,null,"",{"$f":"IF(AC97=\"\",\"\",UPPER(VLOOKUP($W97,CP!$B:$Q,3,0)))","v":""},{"$f":"IF(AD97=\"\",\"\",UPPER(VLOOKUP($W97,CP!$B:$Q,5,0)))","v":""},{"$f":"IF(AE97=\"\",\"\",UPPER(VLOOKUP($W97,CP!$B:$Q,6,0)))","v":""},null,null,"C1C50","Fusion SE V6"]
[null,null,null,null,null,457,"AUTOMOTRIZ BAJA CAL., S.A.                   ",null,null,null,null,null,null,null,null,null,null,null,null,null,null,null,"",{"$f":"IF(W98=\"\",\"\",UPPER(VLOOKUP($W98,CP!$B:$Q,3,0)))","v":""},{"$f":"IF(X98=\"\",\"\",UPPER(VLOOKUP($W98,CP!$B:$Q,5,0)))","v":""},{"$f":"IF(Y98=\"\",\"\",UPPER(VLOOKUP($W98,CP!$B:$Q,6,0)))","v":""},null,null,"",{"$f":"IF(AC98=\"\",\"\",UPPER(VLOOKUP($W98,CP!$B:$Q,3,0)))","v":""},{"$f":"IF(AD98=\"\",\"\",UPPER(VLOOKUP($W98,CP!$B:$Q,5,0)))","v":""},{"$f":"IF(AE98=\"\",\"\",UPPER(VLOOKUP($W98,CP!$B:$Q,6,0)))","v":""},null,null,"C1C51","Fusion SE V6"]
[null,null,null,null,null,468,"MYLSA, S.A. DE C.V.                          ",null,null,null,null,null,null,null,null,null,null,null,null,null,null,null,"",{"$f":"IF(W99=\"\",\"\",UPPER(VLOOKUP($W99,CP!$B:$Q,3,0)))","v":""},{"$f":"IF(X99=\"\",\"\",UPPER(VLOOKUP($W99,CP!$B:$Q,5,0)))","v":""},{"$f":"IF(Y99=\"\",\"\",UPPER(VLOOKUP($W99,CP!$B:$Q,6,0)))","v":""},null,null,"",{"$f":"IF(AC99=\"\",\"\",UPPER(VLOOKUP($W99,CP!$B:$Q,3,0)))","v":""},{"$f":"IF(AD99=\"\",\"\",UPPER(VLOOKUP($W99,CP!$B:$Q,5,0)))","v":""},{"$f":"IF(AE99=\"\",\"\",UPPER(VLOOKUP($W99,CP!$B:$Q,6,0)))","v":""},null,null,"C1C52","Fusion SE V6"]
[null,null,null,null,null,473,"CUAUTITLAN, S.A. DE C.V.                     ",null,null,null,null,null,null,null,null,null,null,null,null,null,null,null,"",{"$f":"IF(W100=\"\",\"\",UPPER(VLOOKUP($W100,CP!$B:$Q,3,0)))","v":""},{"$f":"IF(X100=\"\",\"\",UPPER(VLOOKUP($W100,CP!$B:$Q,5,0)))","v":""},{"$f":"IF(Y100=\"\",\"\",UPPER(VLOOKUP($W100,CP!$B:$Q,6,0)))","v":""},null,null,"",{"$f":"IF(AC100=\"\",\"\",UPPER(VLOOKUP($W100,CP!$B:$Q,3,0)))","v":""},{"$f":"IF(AD100=\"\",\"\",UPPER(VLOOKUP($W100,CP!$B:$Q,5,0)))","v":""},{"$f":"IF(AE100=\"\",\"\",UPPER(VLOOKUP($W100,CP!$B:$Q,6,0)))","v":""},null,null,"C1C53","Fusion SE V6"]
[null,null,null,null,null,474,"ALDEN TLALPAN, S.A. DE C.V.                  ",null,null,null,null,null,null,null,null,null,null,null,null,null,null,null,"",{"$f":"IF(W101=\"\",\"\",UPPER(VLOOKUP($W101,CP!$B:$Q,3,0)))","v":""},{"$f":"IF(X101=\"\",\"\",UPPER(VLOOKUP($W101,CP!$B:$Q,5,0)))","v":""},{"$f":"IF(Y101=\"\",\"\",UPPER(VLOOKUP($W101,CP!$B:$Q,6,0)))","v":""},null,null,"",{"$f":"IF(AC101=\"\",\"\",UPPER(VLOOKUP($W101,CP!$B:$Q,3,0)))","v":""},{"$f":"IF(AD101=\"\",\"\",UPPER(VLOOKUP($W101,CP!$B:$Q,5,0)))","v":""},{"$f":"IF(AE101=\"\",\"\",UPPER(VLOOKUP($W101,CP!$B:$Q,6,0)))","v":""},null,null,"C1C54","Fusion SE V6"]
[null,null,null,null,null,477,"RAMSA MOTORS, S.A. DE C.V.                   ",null,null,null,null,null,null,null,null,null,null,null,null,null,null,null,"",{"$f":"IF(W102=\"\",\"\",UPPER(VLOOKUP($W102,CP!$B:$Q,3,0)))","v":""},{"$f":"IF(X102=\"\",\"\",UPPER(VLOOKUP($W102,CP!$B:$Q,5,0)))","v":""},{"$f":"IF(Y102=\"\",\"\",UPPER(VLOOKUP($W102,CP!$B:$Q,6,0)))","v":""},null,null,"",{"$f":"IF(AC102=\"\",\"\",UPPER(VLOOKUP($W102,CP!$B:$Q,3,0)))","v":""},{"$f":"IF(AD102=\"\",\"\",UPPER(VLOOKUP($W102,CP!$B:$Q,5,0)))","v":""},{"$f":"IF(AE102=\"\",\"\",UPPER(VLOOKUP($W102,CP!$B:$Q,6,0)))","v":""},null,null,"C1C55","Fusion SE V6"]
[null,null,null,null,null,478,"TEPATITLAN MOTORS, S.A. DE C.V.              ",null,null,null,null,null,null,null,null,null,null,null,null,null,null,null,"",{"$f":"IF(W103=\"\",\"\",UPPER(VLOOKUP($W103,CP!$B:$Q,3,0)))","v":""},{"$f":"IF(X103=\"\",\"\",UPPER(VLOOKUP($W103,CP!$B:$Q,5,0)))","v":""},{"$f":"IF(Y103=\"\",\"\",UPPER(VLOOKUP($W103,CP!$B:$Q,6,0)))","v":""},null,null,"",{"$f":"IF(AC103=\"\",\"\",UPPER(VLOOKUP($W103,CP!$B:$Q,3,0)))","v":""},{"$f":"IF(AD103=\"\",\"\",UPPER(VLOOKUP($W103,CP!$B:$Q,5,0)))","v":""},{"$f":"IF(AE103=\"\",\"\",UPPER(VLOOKUP($W103,CP!$B:$Q,6,0)))","v":""},null,null,"C1C56","Fusion SE V6"]
[null,null,null,null,null,479,"PICACHO GRUPO AUTOMOTRIZ, S.A. DE C.V.       ",null,null,null,null,null,null,null,null,null,null,null,null,null,null,null,"",{"$f":"IF(W104=\"\",\"\",UPPER(VLOOKUP($W104,CP!$B:$Q,3,0)))","v":""},{"$f":"IF(X104=\"\",\"\",UPPER(VLOOKUP($W104,CP!$B:$Q,5,0)))","v":""},{"$f":"IF(Y104=\"\",\"\",UPPER(VLOOKUP($W104,CP!$B:$Q,6,0)))","v":""},null,null,"",{"$f":"IF(AC104=\"\",\"\",UPPER(VLOOKUP($W104,CP!$B:$Q,3,0)))","v":""},{"$f":"IF(AD104=\"\",\"\",UPPER(VLOOKUP($W104,CP!$B:$Q,5,0)))","v":""},{"$f":"IF(AE104=\"\",\"\",UPPER(VLOOKUP($W104,CP!$B:$Q,6,0)))","v":""},null,null,"C1C57","Fusion SE V6"]
[null,null,null,null,null,480,"AUTOS CASAS GRANDES, S.A. DE C.V.            ",null,null,null,null,null,null,null,null,null,null,null,null,null,null,null,null,null,null,null,null,null,null,null,null,null,null,null,"C1C58","Fusion SE V6"]
[null,null,null,null,null,485,"AUTOMOTRIZ ELFER, S.A. DE  C.V.              ",null,null,null,null,null,null,null,null,null,null,null,null,null,null,null,null,null,null,null,null,null,null,null,null,null,null,null,"C1C59","Fusion SE V6"]
[null,null,null,null,null,486,"CENTRO ECATEPEC, S.A. DE C.V.                ",null,null,null,null,null,null,null,null,null,null,null,null,null,null,null,null,null,null,null,null,null,null,null,null,null,null,null,"C1C60","Fusion SE V6"]
[null,null,null,null,null,493,"LOMAS AUTOMOTRIZ, S.A. DE C.V.               ",null,null,null,null,null,null,null,null,null,null,null,null,null,null,null,null,null,null,null,null,null,null,null,null,null,null,null,"C1CCA1","FUSION SE V6"]
[null,null,null,null,null,494,"CHONTALPA AUTOMOVILISTICA, S.A. DE C.V.      ",null,null,null,null,null,null,null,null,null,null,null,null,null,null,null,null,null,null,null,null,null,null,null,null,null,null,null,"C1CCA2","FUSION SE V6"]
[null,null,null,null,null,497,"COUNTRY MOTORS, S.A. DE  C.V.                ",null,null,null,null,null,null,null,null,null,null,null,null,null,null,null,null,null,null,null,null,null,null,null,null,null,null,null,"C1CCE1","FUSION SE V6*"]
[null,null,null,null,null,500,"MYLSA PUEBLA, S.A. DE C.V.                   ",null,null,null,null,null,null,null,null,null,null,null,null,null,null,null,null,null,null,null,null,null,null,null,null,null,null,null,"C1CEM","FUSION SE V6"]
[null,null,null,null,null,505,"DINASTIA AUTOMOTRIZ MEXICO,S.A. DE C.V.      ",null,null,null,null,null,null,null,null,null,null,null,null,null,null,null,null,null,null,null,null,null,null,null,null,null,null,null,"C1CMT","FUSION SE V6"]
[null,null,null,null,null,506,"AUTOS SS DE IRAPUATO, S.A. DE C.V. (SUC. SALA",null,null,null,null,null,null,null,null,null,null,null,null,null,null,null,null,null,null,null,null,null,null,null,null,null,null,null,"C1CSS","FUSION SE V6"]
[null,null,null,null,null,509,"AUTOMOTRIZ JALBRA, S.A. DE C.V.              ",null,null,null,null,null,null,null,null,null,null,null,null,null,null,null,null,null,null,null,null,null,null,null,null,null,null,null,"C1CSS1","FUSION SE V6*"]
[null,null,null,null,null,510,"AUTOMOTRIZ LOMAS (SAN LUIS)                  ",null,null,null,null,null,null,null,null,null,null,null,null,null,null,null,null,null,null,null,null,null,null,null,null,null,null,null,"C1CSS2","FUSION SE V6"]
[null,null,null,null,null,511,"CEVER AZCAPOTZALCO, S.A. DE C.V.             ",null,null,null,null,null,null,null,null,null,null,null,null,null,null,null,null,null,null,null,null,null,null,null,null,null,null,null,"C1CSS3","FUSION SE V6"]
[null,null,null,null,null,514,"AGUASCALIENTES AUTOMOTRIZ, S.A. DE C.V.      ",null,null,null,null,null,null,null,null,null,null,null,null,null,null,null,null,null,null,null,null,null,null,null,null,null,null,null,"C1CSS4","FUSION SE V6"]
[null,null,null,null,null,519,"GIMSA AUTOMOTRIZ, SA DE CV (LOS REYES)       ",null,null,null,null,null,null,null,null,null,null,null,null,null,null,null,null,null,null,null,null,null,null,null,null,null,null,null,"C1CSS5","FUSION SE V6"]
[null,null,null,null,null,524,"SURMAN MEXICO, SA DE CV                      ",null,null,null,null,null,null,null,null,null,null,null,null,null,null,null,null,null,null,null,null,null,null,null,null,null,null,null,"C1CSS6","FUSION SE V6"]
[null,null,null,null,null,590,"AUTOCONCESIONARIA CENTRAL S.A. DE C.V.       ",null,null,null,null,null,null,null,null,null,null,null,null,null,null,null,null,null,null,null,null,null,null,null,null,null,null,null,"C1CSS7","FUSION SE V7"]
[null,null,null,null,null,599,"ECATEPEC, S.A. DE C.V.                       ",null,null,null,null,null,null,null,null,null,null,null,null,null,null,null,null,null,null,null,null,null,null,null,null,null,null,null,"C1CSS8","FUSION SE V6"]
[null,null,null,null,null,603,"VEHICULOS DE MARTINEZ, S.A. DE C.V.          ",null,null,null,null,null,null,null,null,null,null,null,null,null,null,null,null,null,null,null,null,null,null,null,null,null,null,null,"C1CSSS","FUSION SE V6"]
[null,null,null,null,null,606,"VEHICULOS Y SERVICIOS SATELITE, S.A. DE C.V. ",null,null,null,null,null,null,null,null,null,null,null,null,null,null,null,null,null,null,null,null,null,null,null,null,null,null,null,"C1CVM","FUSION SE V6"]
[null,null,null,null,null,608,"MEXICO CIA. PRODUCTOS AUTOMOTRICES, S.A. C.V.",null,null,null,null,null,null,null,null,null,null,null,null,null,null,null,null,null,null,null,null,null,null,null,null,null,null,null,"C1D","FUSION SEL LESS PLUS V6"]
[null,null,null,null,null,615,"ZAPATA S.A. DE C.V. (SUC. TEXCOCO)           ",null,null,null,null,null,null,null,null,null,null,null,null,null,null,null,null,null,null,null,null,null,null,null,null,null,null,null,"C1DAL","FUSION SEL LESS PLUS V6 AMBIENT LIGTHING"]
[null,null,null,null,null,625,"AUTOMOTRIZ DEL VALLE DE ZAMORA, S.A. DE C.V. ",null,null,null,null,null,null,null,null,null,null,null,null,null,null,null,null,null,null,null,null,null,null,null,null,null,null,null,"C1DAS","FUSION SEL LESS PLUS V6 AMBIENT LIGTHING"]
[null,null,null,null,null,626,"SANCHEZ AUTOMOTRIZ, S.A. DE C.V.             ",null,null,null,null,null,null,null,null,null,null,null,null,null,null,null,null,null,null,null,null,null,null,null,null,null,null,null,"C1E","FUSION SEL V6 PIEL"]
[null,null,null,null,null,631,"AUTOMOTORES DE NOGALES SA DE CV (CANANEA)    ",null,null,null,null,null,null,null,null,null,null,null,null,null,null,null,null,null,null,null,null,null,null,null,null,null,null,null,"C1E53","Fusi¾n SEL V6 PIEL"]
[null,null,null,null,null,633,"AUTOS DE HERMOSILLO, S.A. DE C.V.            ",null,null,null,null,null,null,null,null,null,null,null,null,null,null,null,null,null,null,null,null,null,null,null,null,null,null,null,"C1E54","Fusi¾n SEL V6 PIEL"]
[null,null,null,null,null,634,"AUTOS DE HERMOSILLO, S.A. DE C.V. (SUC. KINO)",null,null,null,null,null,null,null,null,null,null,null,null,null,null,null,null,null,null,null,null,null,null,null,null,null,null,null,"C1E55","Fusi¾n SEL V6 PIEL"]
[null,null,null,null,null,635,"R.O. AUTOMOTRIZ, S.A. DE  C.V.               ",null,null,null,null,null,null,null,null,null,null,null,null,null,null,null,null,null,null,null,null,null,null,null,null,null,null,null,"C1E56","Fusi¾n SEL V6 PIEL"]
[null,null,null,null,null,638,"JOL. AUTOMOTRIZ DEL ISTMO, S.A. DE C.V.      ",null,null,null,null,null,null,null,null,null,null,null,null,null,null,null,null,null,null,null,null,null,null,null,null,null,null,null,"C1E57","Fusi¾n SEL V6 PIEL"]
[null,null,null,null,null,641,"CDA PENINSULA, S.A. DE C.V. (SUC. CANCUN)    ",null,null,null,null,null,null,null,null,null,null,null,null,null,null,null,null,null,null,null,null,null,null,null,null,null,null,null,"C1E58","Fusi¾n SEL V6 PIEL"]
[null,null,null,null,null,643,"LAGOS AUTOCAMIONES, S.A. DE C.V.             ",null,null,null,null,null,null,null,null,null,null,null,null,null,null,null,null,null,null,null,null,null,null,null,null,null,null,null,"C1E59","Fusi¾n SEL V6 PIEL"]
[null,null,null,null,null,645,"CENTRO AUTOMOTRIZ VALLARTA, S.A. DE C.V.     ",null,null,null,null,null,null,null,null,null,null,null,null,null,null,null,null,null,null,null,null,null,null,null,null,null,null,null,"C1E60","Fusi¾n SEL V6 PIEL"]
[null,null,null,null,null,648,"AUTOS SS DE IRAPUATO, S.A. DE C.V.           ",null,null,null,null,null,null,null,null,null,null,null,null,null,null,null,null,null,null,null,null,null,null,null,null,null,null,null,"C1ECA1","FUSION SEL V6 PIEL"]
[null,null,null,null,null,654,"CAR ONE VALLE, S.A. DE C.V.                  ",null,null,null,null,null,null,null,null,null,null,null,null,null,null,null,null,null,null,null,null,null,null,null,null,null,null,null,"C1ECA2","FUSION SEL V6 PIEL"]
[null,null,null,null,null,666,"MYLSA TEHUACAN, S.A. DE C.V.                 ",null,null,null,null,null,null,null,null,null,null,null,null,null,null,null,null,null,null,null,null,null,null,null,null,null,null,null,"C1ESS","FUSION SEL V6 PIEL"]
[null,null,null,null,null,677,"RAMSA LEON, S.A. DE C.V.                     ",null,null,null,null,null,null,null,null,null,null,null,null,null,null,null,null,null,null,null,null,null,null,null,null,null,null,null,"C1ESS1","FUSION SEL V6 PIEL*"]
[null,null,null,null,null,686,"FEMA AUTOMOTRIZ S.A. DE C.V,                 ",null,null,null,null,null,null,null,null,null,null,null,null,null,null,null,null,null,null,null,null,null,null,null,null,null,null,null,"C1ESS2","FUSION SEL V6 PIEL"]
[null,null,null,null,null,687,"GIMSA AUTOMOTRIZ, S.A. DE C.V.               ",null,null,null,null,null,null,null,null,null,null,null,null,null,null,null,null,null,null,null,null,null,null,null,null,null,null,null,"C1ESS3","FUSION SEL V6 PIEL"]
[null,null,null,null,null,688,"RAVISA MOTORS, S.A. DE C.V.                  ",null,null,null,null,null,null,null,null,null,null,null,null,null,null,null,null,null,null,null,null,null,null,null,null,null,null,null,"C1ESS4","FUSION SEL V6 PIEL"]
[null,null,null,null,null,693,"ZAPATA S.A. DE C.V.(SUC. PACHUCA)            ",null,null,null,null,null,null,null,null,null,null,null,null,null,null,null,null,null,null,null,null,null,null,null,null,null,null,null,"C1ESS5","FUSION SEL V6 PIEL"]
[null,null,null,null,null,694,"COLIMA AUTOCAMIONES S.A. DE C.V.             ",null,null,null,null,null,null,null,null,null,null,null,null,null,null,null,null,null,null,null,null,null,null,null,null,null,null,null,"C1ESS6","FUSION SEL V6 PIEL"]
[null,null,null,null,null,695,"AUTOS DE CALIDAD DE ZACATECAS, SA. DE CV.    ",null,null,null,null,null,null,null,null,null,null,null,null,null,null,null,null,null,null,null,null,null,null,null,null,null,null,null,"C1ESSS","FUSION SEL V6 PIEL"]
[null,null,null,null,null,697,"AUTOMOTORES DE CALIDAD, S.A. DE C.V.         ",null,null,null,null,null,null,null,null,null,null,null,null,null,null,null,null,null,null,null,null,null,null,null,null,null,null,null,"C1F","FUSION SE I4 TA PIEL"]
[null,null,null,null,null,698,"DINASTIA AUTOMOTRIZ OAXACA,S.A. DE C.V.      ",null,null,null,null,null,null,null,null,null,null,null,null,null,null,null,null,null,null,null,null,null,null,null,null,null,null,null,"C1FCA1","FUSION SE I4 TA PIEL"]
[null,null,null,null,null,777,"MOTORES DE GUERRERO, S.A. DE C.V.            ",null,null,null,null,null,null,null,null,null,null,null,null,null,null,null,null,null,null,null,null,null,null,null,null,null,null,null,"C1FCE1","FUSION SE I4 TA PIEL*"]
[null,null,null,null,null,787,"RISPE AUTOMOTRIZ, S.A. DE C.V.               ",null,null,null,null,null,null,null,null,null,null,null,null,null,null,null,null,null,null,null,null,null,null,null,null,null,null,null,"C1FEM","FUSION SE I4 TA PIEL"]
[null,null,null,null,null,788,"AUTOMOTORES CUMBRES S.A. DE C.V.             ",null,null,null,null,null,null,null,null,null,null,null,null,null,null,null,null,null,null,null,null,null,null,null,null,null,null,null,"C1FMT","FUSION SE I4 TA PIEL"]
[null,null,null,null,null,901,"GERENCIA REGIONAL GUADALAJARA                ",null,null,null,null,null,null,null,null,null,null,null,null,null,null,null,null,null,null,null,null,null,null,null,null,null,null,null,"C1FSS7","FUSION SE I4 TA PIEL"]
[null,null,null,null,null,902,"CONAUTO, S.A. DE C.V.                        ",null,null,null,null,null,null,null,null,null,null,null,null,null,null,null,null,null,null,null,null,null,null,null,null,null,null,null,"C1FSS8","FUSION SE I4 TA PIEL"]
[null,null,null,null,null,906,"VESA AUTOMOTRIZ, S.A. DE C.V.                ",null,null,null,null,null,null,null,null,null,null,null,null,null,null,null,null,null,null,null,null,null,null,null,null,null,null,null,"C1FVM","FUSION SE I4 TA PIEL"]
[null,null,null,null,null,null,null,null,null,null,null,null,null,null,null,null,null,null,null,null,null,null,null,null,null,null,null,null,null,null,null,null,null,null,"C1G","FUSION SE I4 TA PIEL MID"]
[null,null,null,null,null,null,null,null,null,null,null,null,null,null,null,null,null,null,null,null,null,null,null,null,null,null,null,null,null,null,null,null,null,null,"C1GCA1","FUSION SE I4 TA PIEL MID"]
[null,null,null,null,null,null,null,null,null,null,null,null,null,null,null,null,null,null,null,null,null,null,null,null,null,null,null,null,null,null,null,null,null,null,"C1GMT","FUSION SEL I4 TA MID"]
[null,null,null,null,null,null,null,null,null,null,null,null,null,null,null,null,null,null,null,null,null,null,null,null,null,null,null,null,null,null,null,null,null,null,"C1GSS7","FUSION SE I4 TA PIEL MID"]
[null,null,null,null,null,null,null,null,null,null,null,null,null,null,null,null,null,null,null,null,null,null,null,null,null,null,null,null,null,null,null,null,null,null,"C1GSS8","FUSION SE I4 TA PIEL MID"]
[null,null,null,null,null,null,null,null,null,null,null,null,null,null,null,null,null,null,null,null,null,null,null,null,null,null,null,null,null,null,null,null,null,null,"C2A","COUGAR EQUIPADO V8         vig"]
[null,null,null,null,null,null,null,null,null,null,null,null,null,null,null,null,null,null,null,null,null,null,null,null,null,null,null,null,null,null,null,null,null,null,"C2A1","FUSION SE I4 TA PIEL"]
[null,null,null,null,null,null,null,null,null,null,null,null,null,null,null,null,null,null,null,null,null,null,null,null,null,null,null,null,null,null,null,null,null,null,"C2A1CA1","FUSION SE I4 TA PIEL"]
[null,null,null,null,null,null,null,null,null,null,null,null,null,null,null,null,null,null,null,null,null,null,null,null,null,null,null,null,null,null,null,null,null,null,"C2A1CA2","FUSION SE I4 TA PIEL"]
[null,null,null,null,null,null,null,null,null,null,null,null,null,null,null,null,null,null,null,null,null,null,null,null,null,null,null,null,null,null,null,null,null,null,"C2A1SS6","FUSION SE I4 TA PIEL"]
[null,null,null,null,null,null,null,null,null,null,null,null,null,null,null,null,null,null,null,null,null,null,null,null,null,null,null,null,null,null,null,null,null,null,"C2ACA1","FUSION SE I4 TA PIEL"]
[null,null,null,null,null,null,null,null,null,null,null,null,null,null,null,null,null,null,null,null,null,null,null,null,null,null,null,null,null,null,null,null,null,null,"C2B","FUSION SE I4 TA"]
[null,null,null,null,null,null,null,null,null,null,null,null,null,null,null,null,null,null,null,null,null,null,null,null,null,null,null,null,null,null,null,null,null,null,"C2B36","Fusion SE I4 TA"]
[null,null,null,null,null,null,null,null,null,null,null,null,null,null,null,null,null,null,null,null,null,null,null,null,null,null,null,null,null,null,null,null,null,null,"C2B37","Fusion SE I4 TA"]
[null,null,null,null,null,null,null,null,null,null,null,null,null,null,null,null,null,null,null,null,null,null,null,null,null,null,null,null,null,null,null,null,null,null,"C2B38","Fusion SE 14 TA"]
[null,null,null,null,null,null,null,null,null,null,null,null,null,null,null,null,null,null,null,null,null,null,null,null,null,null,null,null,null,null,null,null,null,null,"C2B39","Fusion SE 14 TA"]
[null,null,null,null,null,null,null,null,null,null,null,null,null,null,null,null,null,null,null,null,null,null,null,null,null,null,null,null,null,null,null,null,null,null,"C2B40","Fusion SE 14 TA"]
[null,null,null,null,null,null,null,null,null,null,null,null,null,null,null,null,null,null,null,null,null,null,null,null,null,null,null,null,null,null,null,null,null,null,"C2B41","Fusion SE 14 TA"]
[null,null,null,null,null,null,null,null,null,null,null,null,null,null,null,null,null,null,null,null,null,null,null,null,null,null,null,null,null,null,null,null,null,null,"C2B42","Fusion SE 14 TA"]
[null,null,null,null,null,null,null,null,null,null,null,null,null,null,null,null,null,null,null,null,null,null,null,null,null,null,null,null,null,null,null,null,null,null,"C2B43","Fusion SE 14 TA"]
[null,null,null,null,null,null,null,null,null,null,null,null,null,null,null,null,null,null,null,null,null,null,null,null,null,null,null,null,null,null,null,null,null,null,"C2B44","Fusion SE 14 TA"]
[null,null,null,null,null,null,null,null,null,null,null,null,null,null,null,null,null,null,null,null,null,null,null,null,null,null,null,null,null,null,null,null,null,null,"C2B45","Fusion SE 14 TA"]
[null,null,null,null,null,null,null,null,null,null,null,null,null,null,null,null,null,null,null,null,null,null,null,null,null,null,null,null,null,null,null,null,null,null,"C2B46","Fusion SE 14 TA"]
[null,null,null,null,null,null,null,null,null,null,null,null,null,null,null,null,null,null,null,null,null,null,null,null,null,null,null,null,null,null,null,null,null,null,"C2B47","Fusion SE 14 TA"]
[null,null,null,null,null,null,null,null,null,null,null,null,null,null,null,null,null,null,null,null,null,null,null,null,null,null,null,null,null,null,null,null,null,null,"C2B48","Fusion SE 14 TA"]
[null,null,null,null,null,null,null,null,null,null,null,null,null,null,null,null,null,null,null,null,null,null,null,null,null,null,null,null,null,null,null,null,null,null,"C2B49","Fusion SE 14 TA"]
[null,null,null,null,null,null,null,null,null,null,null,null,null,null,null,null,null,null,null,null,null,null,null,null,null,null,null,null,null,null,null,null,null,null,"C2B50","Fusion SE 14 TA"]
[null,null,null,null,null,null,null,null,null,null,null,null,null,null,null,null,null,null,null,null,null,null,null,null,null,null,null,null,null,null,null,null,null,null,"C2B51","Fusion SE 14 TA"]
[null,null,null,null,null,null,null,null,null,null,null,null,null,null,null,null,null,null,null,null,null,null,null,null,null,null,null,null,null,null,null,null,null,null,"C2B52","Fusion SE 14 TA"]
[null,null,null,null,null,null,null,null,null,null,null,null,null,null,null,null,null,null,null,null,null,null,null,null,null,null,null,null,null,null,null,null,null,null,"C2B53","Fusion SE 14 TA"]
[null,null,null,null,null,null,null,null,null,null,null,null,null,null,null,null,null,null,null,null,null,null,null,null,null,null,null,null,null,null,null,null,null,null,"C2B54","Fusion SE 14 TA"]
[null,null,null,null,null,null,null,null,null,null,null,null,null,null,null,null,null,null,null,null,null,null,null,null,null,null,null,null,null,null,null,null,null,null,"C2B55","Fusion SE 14 TA"]
[null,null,null,null,null,null,null,null,null,null,null,null,null,null,null,null,null,null,null,null,null,null,null,null,null,null,null,null,null,null,null,null,null,null,"C2B56","Fusion SE 14 TA"]
[null,null,null,null,null,null,null,null,null,null,null,null,null,null,null,null,null,null,null,null,null,null,null,null,null,null,null,null,null,null,null,null,null,null,"C2B57","Fusion SE 14 TA"]
[null,null,null,null,null,null,null,null,null,null,null,null,null,null,null,null,null,null,null,null,null,null,null,null,null,null,null,null,null,null,null,null,null,null,"C2B58","Fusion SE 14 TA"]
[null,null,null,null,null,null,null,null,null,null,null,null,null,null,null,null,null,null,null,null,null,null,null,null,null,null,null,null,null,null,null,null,null,null,"C2B59","Fusion SE 14 TA"]
[null,null,null,null,null,null,null,null,null,null,null,null,null,null,null,null,null,null,null,null,null,null,null,null,null,null,null,null,null,null,null,null,null,null,"C2B60","Fusion SE 14 TA"]
[null,null,null,null,null,null,null,null,null,null,null,null,null,null,null,null,null,null,null,null,null,null,null,null,null,null,null,null,null,null,null,null,null,null,"C2BCA1","FUSION SE I4 TA"]
[null,null,null,null,null,null,null,null,null,null,null,null,null,null,null,null,null,null,null,null,null,null,null,null,null,null,null,null,null,null,null,null,null,null,"C2BCA2","FUSION SE I4 TA"]
[null,null,null,null,null,null,null,null,null,null,null,null,null,null,null,null,null,null,null,null,null,null,null,null,null,null,null,null,null,null,null,null,null,null,"C2BCE1","FUSION SE I4 TA*"]
[null,null,null,null,null,null,null,null,null,null,null,null,null,null,null,null,null,null,null,null,null,null,null,null,null,null,null,null,null,null,null,null,null,null,"C2BEM","FUSION SE I4 TA"]
[null,null,null,null,null,null,null,null,null,null,null,null,null,null,null,null,null,null,null,null,null,null,null,null,null,null,null,null,null,null,null,null,null,null,"C2BMT","FUSION SE I4 TA"]
[null,null,null,null,null,null,null,null,null,null,null,null,null,null,null,null,null,null,null,null,null,null,null,null,null,null,null,null,null,null,null,null,null,null,"C2BSS","FUSION SE I4 TA"]
[null,null,null,null,null,null,null,null,null,null,null,null,null,null,null,null,null,null,null,null,null,null,null,null,null,null,null,null,null,null,null,null,null,null,"C2BSS1","FUSION SE I4 TA*"]
[null,null,null,null,null,null,null,null,null,null,null,null,null,null,null,null,null,null,null,null,null,null,null,null,null,null,null,null,null,null,null,null,null,null,"C2BSS2","FUSION SE I4 TA"]
[null,null,null,null,null,null,null,null,null,null,null,null,null,null,null,null,null,null,null,null,null,null,null,null,null,null,null,null,null,null,null,null,null,null,"C2BSS3","FUSION SE I4 TA"]
[null,null,null,null,null,null,null,null,null,null,null,null,null,null,null,null,null,null,null,null,null,null,null,null,null,null,null,null,null,null,null,null,null,null,"C2BSS4","FUSION SE I4 TA"]
[null,null,null,null,null,null,null,null,null,null,null,null,null,null,null,null,null,null,null,null,null,null,null,null,null,null,null,null,null,null,null,null,null,null,"C2BSS5","FUSION SE I4 TA"]
[null,null,null,null,null,null,null,null,null,null,null,null,null,null,null,null,null,null,null,null,null,null,null,null,null,null,null,null,null,null,null,null,null,null,"C2BSS6","FUSION SE I4 TA"]
[null,null,null,null,null,null,null,null,null,null,null,null,null,null,null,null,null,null,null,null,null,null,null,null,null,null,null,null,null,null,null,null,null,null,"C2BSS7","FUSION SE I4 TA"]
[null,null,null,null,null,null,null,null,null,null,null,null,null,null,null,null,null,null,null,null,null,null,null,null,null,null,null,null,null,null,null,null,null,null,"C2BSS8","FUSION SE I4 TA"]
[null,null,null,null,null,null,null,null,null,null,null,null,null,null,null,null,null,null,null,null,null,null,null,null,null,null,null,null,null,null,null,null,null,null,"C2BSSS","FUSION SE I4 TA"]
[null,null,null,null,null,null,null,null,null,null,null,null,null,null,null,null,null,null,null,null,null,null,null,null,null,null,null,null,null,null,null,null,null,null,"C2BVM","FUSION SE I4 TA"]
[null,null,null,null,null,null,null,null,null,null,null,null,null,null,null,null,null,null,null,null,null,null,null,null,null,null,null,null,null,null,null,null,null,null,"C2C","FUSION SE I4 TM"]
[null,null,null,null,null,null,null,null,null,null,null,null,null,null,null,null,null,null,null,null,null,null,null,null,null,null,null,null,null,null,null,null,null,null,"C2C36","Fusion SE I4 TM"]
[null,null,null,null,null,null,null,null,null,null,null,null,null,null,null,null,null,null,null,null,null,null,null,null,null,null,null,null,null,null,null,null,null,null,"C2C37","Fusion SE I4 TM"]
[null,null,null,null,null,null,null,null,null,null,null,null,null,null,null,null,null,null,null,null,null,null,null,null,null,null,null,null,null,null,null,null,null,null,"C2C38","Fusion SE 14 TM"]
[null,null,null,null,null,null,null,null,null,null,null,null,null,null,null,null,null,null,null,null,null,null,null,null,null,null,null,null,null,null,null,null,null,null,"C2C39","Fusion SE 14 TM"]
[null,null,null,null,null,null,null,null,null,null,null,null,null,null,null,null,null,null,null,null,null,null,null,null,null,null,null,null,null,null,null,null,null,null,"C2C40","Fusion SE 14 TM"]
[null,null,null,null,null,null,null,null,null,null,null,null,null,null,null,null,null,null,null,null,null,null,null,null,null,null,null,null,null,null,null,null,null,null,"C2C41","Fusion SE 14 TM"]
[null,null,null,null,null,null,null,null,null,null,null,null,null,null,null,null,null,null,null,null,null,null,null,null,null,null,null,null,null,null,null,null,null,null,"C2C42","Fusion SE 14 TM"]
[null,null,null,null,null,null,null,null,null,null,null,null,null,null,null,null,null,null,null,null,null,null,null,null,null,null,null,null,null,null,null,null,null,null,"C2C43","Fusion SE 14 TM"]
[null,null,null,null,null,null,null,null,null,null,null,null,null,null,null,null,null,null,null,null,null,null,null,null,null,null,null,null,null,null,null,null,null,null,"C2C44","Fusion SE 14 TM"]
[null,null,null,null,null,null,null,null,null,null,null,null,null,null,null,null,null,null,null,null,null,null,null,null,null,null,null,null,null,null,null,null,null,null,"C2C45","Fusion SE 14 TM"]
[null,null,null,null,null,null,null,null,null,null,null,null,null,null,null,null,null,null,null,null,null,null,null,null,null,null,null,null,null,null,null,null,null,null,"C2C46","Fusion SE 14 TM"]
[null,null,null,null,null,null,null,null,null,null,null,null,null,null,null,null,null,null,null,null,null,null,null,null,null,null,null,null,null,null,null,null,null,null,"C2C47","Fusion SE 14 TM"]
[null,null,null,null,null,null,null,null,null,null,null,null,null,null,null,null,null,null,null,null,null,null,null,null,null,null,null,null,null,null,null,null,null,null,"C2C48","Fusion SE 14 TM"]
[null,null,null,null,null,null,null,null,null,null,null,null,null,null,null,null,null,null,null,null,null,null,null,null,null,null,null,null,null,null,null,null,null,null,"C2C49","Fusion SE 14 TM"]
[null,null,null,null,null,null,null,null,null,null,null,null,null,null,null,null,null,null,null,null,null,null,null,null,null,null,null,null,null,null,null,null,null,null,"C2C50","Fusion SE 14 TM"]
[null,null,null,null,null,null,null,null,null,null,null,null,null,null,null,null,null,null,null,null,null,null,null,null,null,null,null,null,null,null,null,null,null,null,"C2C51","Fusion SE 14 TM"]
[null,null,null,null,null,null,null,null,null,null,null,null,null,null,null,null,null,null,null,null,null,null,null,null,null,null,null,null,null,null,null,null,null,null,"C2C52","Fusion SE 14 TM"]
[null,null,null,null,null,null,null,null,null,null,null,null,null,null,null,null,null,null,null,null,null,null,null,null,null,null,null,null,null,null,null,null,null,null,"C2C7SS8","FUSION SE NAV MR 2.5L I4"]
[null,null,null,null,null,null,null,null,null,null,null,null,null,null,null,null,null,null,null,null,null,null,null,null,null,null,null,null,null,null,null,null,null,null,"C2C8S","FUSION SE NAV MR 2.5L I4"]
[null,null,null,null,null,null,null,null,null,null,null,null,null,null,null,null,null,null,null,null,null,null,null,null,null,null,null,null,null,null,null,null,null,null,"C2CCA1","FUSION SE NAV MR 2.5L I4"]
[null,null,null,null,null,null,null,null,null,null,null,null,null,null,null,null,null,null,null,null,null,null,null,null,null,null,null,null,null,null,null,null,null,null,"C2CCE1","FUSION SE NAV MR 2.5L I4"]
[null,null,null,null,null,null,null,null,null,null,null,null,null,null,null,null,null,null,null,null,null,null,null,null,null,null,null,null,null,null,null,null,null,null,"C2CE8","FUSION SE NAV MR 2.5L I4"]
[null,null,null,null,null,null,null,null,null,null,null,null,null,null,null,null,null,null,null,null,null,null,null,null,null,null,null,null,null,null,null,null,null,null,"C2CEF","FUSION SE NAV MR 2.5L I4"]
[null,null,null,null,null,null,null,null,null,null,null,null,null,null,null,null,null,null,null,null,null,null,null,null,null,null,null,null,null,null,null,null,null,null,"C2CMV13","FUSION SE NAV MR 2.5L I4"]
[null,null,null,null,null,null,null,null,null,null,null,null,null,null,null,null,null,null,null,null,null,null,null,null,null,null,null,null,null,null,null,null,null,null,"C2CP8","FUSION SE NAV MR 2.5L I4"]
[null,null,null,null,null,null,null,null,null,null,null,null,null,null,null,null,null,null,null,null,null,null,null,null,null,null,null,null,null,null,null,null,null,null,"C2CSS","FUSION SE I4 TM"]
[null,null,null,null,null,null,null,null,null,null,null,null,null,null,null,null,null,null,null,null,null,null,null,null,null,null,null,null,null,null,null,null,null,null,"C2CSS8","FUSION SE NAV MR 2.5L I4"]
[null,null,null,null,null,null,null,null,null,null,null,null,null,null,null,null,null,null,null,null,null,null,null,null,null,null,null,null,null,null,null,null,null,null,"C2E","FUSION SE ST I4 TA"]
[null,null,null,null,null,null,null,null,null,null,null,null,null,null,null,null,null,null,null,null,null,null,null,null,null,null,null,null,null,null,null,null,null,null,"C2E3CA1","FUSION SE LUX PLUS NAV 2L GTDI"]
[null,null,null,null,null,null,null,null,null,null,null,null,null,null,null,null,null,null,null,null,null,null,null,null,null,null,null,null,null,null,null,null,null,null,"C2E3CE1","FUSION SE LUX PLUS NAV 2L GTDI"]
[null,null,null,null,null,null,null,null,null,null,null,null,null,null,null,null,null,null,null,null,null,null,null,null,null,null,null,null,null,null,null,null,null,null,"C2E3SS8","FUSION SE LUX PLUS NAV 2L GTDI"]
[null,null,null,null,null,null,null,null,null,null,null,null,null,null,null,null,null,null,null,null,null,null,null,null,null,null,null,null,null,null,null,null,null,null,"C2E7SS8","FUSION SE LUX PLUS NAV 2L GTDI"]
[null,null,null,null,null,null,null,null,null,null,null,null,null,null,null,null,null,null,null,null,null,null,null,null,null,null,null,null,null,null,null,null,null,null,"C2E8S","FUSION SE LUX PLUS NAV 2L GTDI"]
[null,null,null,null,null,null,null,null,null,null,null,null,null,null,null,null,null,null,null,null,null,null,null,null,null,null,null,null,null,null,null,null,null,null,"C2ECA1","FUSION SE ST I4 TA"]
[null,null,null,null,null,null,null,null,null,null,null,null,null,null,null,null,null,null,null,null,null,null,null,null,null,null,null,null,null,null,null,null,null,null,"C2ECE1","FUSION SE ST I4 TA*"]
[null,null,null,null,null,null,null,null,null,null,null,null,null,null,null,null,null,null,null,null,null,null,null,null,null,null,null,null,null,null,null,null,null,null,"C2EE8","FUSION SE LUX PLUS NAV 2L GTDI"]
[null,null,null,null,null,null,null,null,null,null,null,null,null,null,null,null,null,null,null,null,null,null,null,null,null,null,null,null,null,null,null,null,null,null,"C2EEF","FUSION SE LUX PLUS NAV 2L GTDI"]
[null,null,null,null,null,null,null,null,null,null,null,null,null,null,null,null,null,null,null,null,null,null,null,null,null,null,null,null,null,null,null,null,null,null,"C2EEM","FUSION SE ST I4"]
[null,null,null,null,null,null,null,null,null,null,null,null,null,null,null,null,null,null,null,null,null,null,null,null,null,null,null,null,null,null,null,null,null,null,"C2EP8","FUSION SE LUX PLUS NAV 2L GTDI"]
[null,null,null,null,null,null,null,null,null,null,null,null,null,null,null,null,null,null,null,null,null,null,null,null,null,null,null,null,null,null,null,null,null,null,"C2ESS8","FUSION SE ST I4 TA"]
[null,null,null,null,null,null,null,null,null,null,null,null,null,null,null,null,null,null,null,null,null,null,null,null,null,null,null,null,null,null,null,null,null,null,"C2EVM","FUSION SE ST I4 TA"]
[null,null,null,null,null,null,null,null,null,null,null,null,null,null,null,null,null,null,null,null,null,null,null,null,null,null,null,null,null,null,null,null,null,null,"C2F8S","FUSION SE LUX 2L GTDI"]
[null,null,null,null,null,null,null,null,null,null,null,null,null,null,null,null,null,null,null,null,null,null,null,null,null,null,null,null,null,null,null,null,null,null,"C2FCA1","FUSION SE LUX 2L GTDI"]
[null,null,null,null,null,null,null,null,null,null,null,null,null,null,null,null,null,null,null,null,null,null,null,null,null,null,null,null,null,null,null,null,null,null,"C2FCE1","FUSION SE LUX 2L GTDI"]
[null,null,null,null,null,null,null,null,null,null,null,null,null,null,null,null,null,null,null,null,null,null,null,null,null,null,null,null,null,null,null,null,null,null,"C2FE8","FUSION SE LUX 2L GTDI"]
[null,null,null,null,null,null,null,null,null,null,null,null,null,null,null,null,null,null,null,null,null,null,null,null,null,null,null,null,null,null,null,null,null,null,"C2FEF","FUSION SE LUX 2L GTDI"]
[null,null,null,null,null,null,null,null,null,null,null,null,null,null,null,null,null,null,null,null,null,null,null,null,null,null,null,null,null,null,null,null,null,null,"C2FMV13","FUSION SE LUX 2L GTDI"]
[null,null,null,null,null,null,null,null,null,null,null,null,null,null,null,null,null,null,null,null,null,null,null,null,null,null,null,null,null,null,null,null,null,null,"C2FP8","FUSION SE LUX 2L GTDI"]
[null,null,null,null,null,null,null,null,null,null,null,null,null,null,null,null,null,null,null,null,null,null,null,null,null,null,null,null,null,null,null,null,null,null,"C2FSS8","FUSION SE LUX 2L GTDI"]
[null,null,null,null,null,null,null,null,null,null,null,null,null,null,null,null,null,null,null,null,null,null,null,null,null,null,null,null,null,null,null,null,null,null,"C2G7SS8","FUSION SE ADVANCE NAV 2.5L I4"]
[null,null,null,null,null,null,null,null,null,null,null,null,null,null,null,null,null,null,null,null,null,null,null,null,null,null,null,null,null,null,null,null,null,null,"C2G8S","FUSION SE ADVANCE NAV 2.5L I4"]
[null,null,null,null,null,null,null,null,null,null,null,null,null,null,null,null,null,null,null,null,null,null,null,null,null,null,null,null,null,null,null,null,null,null,"C2GCA1","FUSION SE ADVANCE NAV 2.5L I4"]
[null,null,null,null,null,null,null,null,null,null,null,null,null,null,null,null,null,null,null,null,null,null,null,null,null,null,null,null,null,null,null,null,null,null,"C2GE8","FUSION SE ADVANCE NAV 2.5L I4"]
[null,null,null,null,null,null,null,null,null,null,null,null,null,null,null,null,null,null,null,null,null,null,null,null,null,null,null,null,null,null,null,null,null,null,"C2GEF","FUSION SE ADVANCE NAV 2.5L I4"]
[null,null,null,null,null,null,null,null,null,null,null,null,null,null,null,null,null,null,null,null,null,null,null,null,null,null,null,null,null,null,null,null,null,null,"C2GESCA1","FUSION SE ADVANCE NAV 2.5L I4"]
[null,null,null,null,null,null,null,null,null,null,null,null,null,null,null,null,null,null,null,null,null,null,null,null,null,null,null,null,null,null,null,null,null,null,"C2GP8","FUSION SE ADVANCE NAV 2.5L I4"]
[null,null,null,null,null,null,null,null,null,null,null,null,null,null,null,null,null,null,null,null,null,null,null,null,null,null,null,null,null,null,null,null,null,null,"C2GSS8","FUSION SE ADVANCE NAV 2.5L I4"]
[null,null,null,null,null,null,null,null,null,null,null,null,null,null,null,null,null,null,null,null,null,null,null,null,null,null,null,null,null,null,null,null,null,null,"C2S","FUSION S I4 TM"]
[null,null,null,null,null,null,null,null,null,null,null,null,null,null,null,null,null,null,null,null,null,null,null,null,null,null,null,null,null,null,null,null,null,null,"C2S34","Fusion S14 TM"]
[null,null,null,null,null,null,null,null,null,null,null,null,null,null,null,null,null,null,null,null,null,null,null,null,null,null,null,null,null,null,null,null,null,null,"C2S35","Fusion S14 TM"]
[null,null,null,null,null,null,null,null,null,null,null,null,null,null,null,null,null,null,null,null,null,null,null,null,null,null,null,null,null,null,null,null,null,null,"C2S36","Fusion S I4 TM"]
[null,null,null,null,null,null,null,null,null,null,null,null,null,null,null,null,null,null,null,null,null,null,null,null,null,null,null,null,null,null,null,null,null,null,"C2S37","Fusion S I4 TM"]
[null,null,null,null,null,null,null,null,null,null,null,null,null,null,null,null,null,null,null,null,null,null,null,null,null,null,null,null,null,null,null,null,null,null,"C2S38","Fusion S 14 TM"]
[null,null,null,null,null,null,null,null,null,null,null,null,null,null,null,null,null,null,null,null,null,null,null,null,null,null,null,null,null,null,null,null,null,null,"C2S39","Fusion S 14 TM"]
[null,null,null,null,null,null,null,null,null,null,null,null,null,null,null,null,null,null,null,null,null,null,null,null,null,null,null,null,null,null,null,null,null,null,"C2S40","Fusion S 14 TM"]
[null,null,null,null,null,null,null,null,null,null,null,null,null,null,null,null,null,null,null,null,null,null,null,null,null,null,null,null,null,null,null,null,null,null,"C2S41","Fusion S 14 TM"]
[null,null,null,null,null,null,null,null,null,null,null,null,null,null,null,null,null,null,null,null,null,null,null,null,null,null,null,null,null,null,null,null,null,null,"C2S42","Fusion S 14 TM"]
[null,null,null,null,null,null,null,null,null,null,null,null,null,null,null,null,null,null,null,null,null,null,null,null,null,null,null,null,null,null,null,null,null,null,"C2S43","Fusion S 14 TM"]
[null,null,null,null,null,null,null,null,null,null,null,null,null,null,null,null,null,null,null,null,null,null,null,null,null,null,null,null,null,null,null,null,null,null,"C2S44","Fusion S 14 TM"]
[null,null,null,null,null,null,null,null,null,null,null,null,null,null,null,null,null,null,null,null,null,null,null,null,null,null,null,null,null,null,null,null,null,null,"C2S45","Fusion S 14 TM"]
[null,null,null,null,null,null,null,null,null,null,null,null,null,null,null,null,null,null,null,null,null,null,null,null,null,null,null,null,null,null,null,null,null,null,"C2S46","Fusion S 14 TM"]
[null,null,null,null,null,null,null,null,null,null,null,null,null,null,null,null,null,null,null,null,null,null,null,null,null,null,null,null,null,null,null,null,null,null,"C2S47","Fusion S 14 TM"]
[null,null,null,null,null,null,null,null,null,null,null,null,null,null,null,null,null,null,null,null,null,null,null,null,null,null,null,null,null,null,null,null,null,null,"C2S48","Fusion S 14 TM"]
[null,null,null,null,null,null,null,null,null,null,null,null,null,null,null,null,null,null,null,null,null,null,null,null,null,null,null,null,null,null,null,null,null,null,"C2S49","Fusion S 14 TM"]
[null,null,null,null,null,null,null,null,null,null,null,null,null,null,null,null,null,null,null,null,null,null,null,null,null,null,null,null,null,null,null,null,null,null,"C2S50","Fusion S 14 TM"]
[null,null,null,null,null,null,null,null,null,null,null,null,null,null,null,null,null,null,null,null,null,null,null,null,null,null,null,null,null,null,null,null,null,null,"C2S51","Fusion S 14 TM"]
[null,null,null,null,null,null,null,null,null,null,null,null,null,null,null,null,null,null,null,null,null,null,null,null,null,null,null,null,null,null,null,null,null,null,"C2S52","Fusion S 14 TM"]
[null,null,null,null,null,null,null,null,null,null,null,null,null,null,null,null,null,null,null,null,null,null,null,null,null,null,null,null,null,null,null,null,null,null,"C2SSS","FUSION S I4 TM"]
[null,null,null,null,null,null,null,null,null,null,null,null,null,null,null,null,null,null,null,null,null,null,null,null,null,null,null,null,null,null,null,null,null,null,"C2T","FUSION S I4 TA"]
[null,null,null,null,null,null,null,null,null,null,null,null,null,null,null,null,null,null,null,null,null,null,null,null,null,null,null,null,null,null,null,null,null,null,"C2T34","Fusion S14 TA"]
[null,null,null,null,null,null,null,null,null,null,null,null,null,null,null,null,null,null,null,null,null,null,null,null,null,null,null,null,null,null,null,null,null,null,"C2T36","Fusion S I4 TA"]
[null,null,null,null,null,null,null,null,null,null,null,null,null,null,null,null,null,null,null,null,null,null,null,null,null,null,null,null,null,null,null,null,null,null,"C2T37","Fusion S I4 TA"]
[null,null,null,null,null,null,null,null,null,null,null,null,null,null,null,null,null,null,null,null,null,null,null,null,null,null,null,null,null,null,null,null,null,null,"C2T38","Fusion S 14 TA"]
[null,null,null,null,null,null,null,null,null,null,null,null,null,null,null,null,null,null,null,null,null,null,null,null,null,null,null,null,null,null,null,null,null,null,"C2T39","Fusion S 14 TA"]
[null,null,null,null,null,null,null,null,null,null,null,null,null,null,null,null,null,null,null,null,null,null,null,null,null,null,null,null,null,null,null,null,null,null,"C2T40","Fusion S 14 TA"]
[null,null,null,null,null,null,null,null,null,null,null,null,null,null,null,null,null,null,null,null,null,null,null,null,null,null,null,null,null,null,null,null,null,null,"C2T41","Fusion S 14 TA"]
[null,null,null,null,null,null,null,null,null,null,null,null,null,null,null,null,null,null,null,null,null,null,null,null,null,null,null,null,null,null,null,null,null,null,"C2T42","Fusion S 14 TA"]
[null,null,null,null,null,null,null,null,null,null,null,null,null,null,null,null,null,null,null,null,null,null,null,null,null,null,null,null,null,null,null,null,null,null,"C2T43","Fusion S 14 TA"]
[null,null,null,null,null,null,null,null,null,null,null,null,null,null,null,null,null,null,null,null,null,null,null,null,null,null,null,null,null,null,null,null,null,null,"C2T44","Fusion S 14 TA"]
[null,null,null,null,null,null,null,null,null,null,null,null,null,null,null,null,null,null,null,null,null,null,null,null,null,null,null,null,null,null,null,null,null,null,"C2T45","Fusion S 14 TA"]
[null,null,null,null,null,null,null,null,null,null,null,null,null,null,null,null,null,null,null,null,null,null,null,null,null,null,null,null,null,null,null,null,null,null,"C2T46","Fusion S 14 TA"]
[null,null,null,null,null,null,null,null,null,null,null,null,null,null,null,null,null,null,null,null,null,null,null,null,null,null,null,null,null,null,null,null,null,null,"C2T47","Fusion S 14 TA"]
[null,null,null,null,null,null,null,null,null,null,null,null,null,null,null,null,null,null,null,null,null,null,null,null,null,null,null,null,null,null,null,null,null,null,"C2T48","Fusion S 14 TA"]
[null,null,null,null,null,null,null,null,null,null,null,null,null,null,null,null,null,null,null,null,null,null,null,null,null,null,null,null,null,null,null,null,null,null,"C2T49","Fusion S 14 TA"]
[null,null,null,null,null,null,null,null,null,null,null,null,null,null,null,null,null,null,null,null,null,null,null,null,null,null,null,null,null,null,null,null,null,null,"C2T50","Fusion S 14 TA"]
[null,null,null,null,null,null,null,null,null,null,null,null,null,null,null,null,null,null,null,null,null,null,null,null,null,null,null,null,null,null,null,null,null,null,"C2T51","Fusion S 14 TA"]
[null,null,null,null,null,null,null,null,null,null,null,null,null,null,null,null,null,null,null,null,null,null,null,null,null,null,null,null,null,null,null,null,null,null,"C2T52","Fusion S 14 TA"]
[null,null,null,null,null,null,null,null,null,null,null,null,null,null,null,null,null,null,null,null,null,null,null,null,null,null,null,null,null,null,null,null,null,null,"C2T53","Fusion S 14 TA"]
[null,null,null,null,null,null,null,null,null,null,null,null,null,null,null,null,null,null,null,null,null,null,null,null,null,null,null,null,null,null,null,null,null,null,"C2T54","Fusion S 14 TA"]
[null,null,null,null,null,null,null,null,null,null,null,null,null,null,null,null,null,null,null,null,null,null,null,null,null,null,null,null,null,null,null,null,null,null,"C2T55","Fusion S 14 TA"]
[null,null,null,null,null,null,null,null,null,null,null,null,null,null,null,null,null,null,null,null,null,null,null,null,null,null,null,null,null,null,null,null,null,null,"C2T56","Fusion S 14 TA"]
[null,null,null,null,null,null,null,null,null,null,null,null,null,null,null,null,null,null,null,null,null,null,null,null,null,null,null,null,null,null,null,null,null,null,"C2T57","Fusion S 14 TA"]
[null,null,null,null,null,null,null,null,null,null,null,null,null,null,null,null,null,null,null,null,null,null,null,null,null,null,null,null,null,null,null,null,null,null,"C2T58","Fusion S 14 TA"]
[null,null,null,null,null,null,null,null,null,null,null,null,null,null,null,null,null,null,null,null,null,null,null,null,null,null,null,null,null,null,null,null,null,null,"C2T59","Fusion S 14 TA"]
[null,null,null,null,null,null,null,null,null,null,null,null,null,null,null,null,null,null,null,null,null,null,null,null,null,null,null,null,null,null,null,null,null,null,"C2T60","Fusion S 14 TA"]
[null,null,null,null,null,null,null,null,null,null,null,null,null,null,null,null,null,null,null,null,null,null,null,null,null,null,null,null,null,null,null,null,null,null,"C2TCA1","FUSION S I4 TA"]
[null,null,null,null,null,null,null,null,null,null,null,null,null,null,null,null,null,null,null,null,null,null,null,null,null,null,null,null,null,null,null,null,null,null,"C2TCA2","FUSION S I4 TA"]
[null,null,null,null,null,null,null,null,null,null,null,null,null,null,null,null,null,null,null,null,null,null,null,null,null,null,null,null,null,null,null,null,null,null,"C2TCE1","FUSION S I4 TA*"]
[null,null,null,null,null,null,null,null,null,null,null,null,null,null,null,null,null,null,null,null,null,null,null,null,null,null,null,null,null,null,null,null,null,null,"C2TEM","FUSION S I4 TA"]
[null,null,null,null,null,null,null,null,null,null,null,null,null,null,null,null,null,null,null,null,null,null,null,null,null,null,null,null,null,null,null,null,null,null,"C2TMT","FUSION S I4 TA"]
[null,null,null,null,null,null,null,null,null,null,null,null,null,null,null,null,null,null,null,null,null,null,null,null,null,null,null,null,null,null,null,null,null,null,"C2TPR2","FUSION S I4 TA"]
[null,null,null,null,null,null,null,null,null,null,null,null,null,null,null,null,null,null,null,null,null,null,null,null,null,null,null,null,null,null,null,null,null,null,"C2TSS","FUSION S I4 TA"]
[null,null,null,null,null,null,null,null,null,null,null,null,null,null,null,null,null,null,null,null,null,null,null,null,null,null,null,null,null,null,null,null,null,null,"C2TSS1","FUSION S I4 TA*"]
[null,null,null,null,null,null,null,null,null,null,null,null,null,null,null,null,null,null,null,null,null,null,null,null,null,null,null,null,null,null,null,null,null,null,"C2TSS2","FUSION S I4 TA"]
[null,null,null,null,null,null,null,null,null,null,null,null,null,null,null,null,null,null,null,null,null,null,null,null,null,null,null,null,null,null,null,null,null,null,"C2TSS3","FUSION S I4 TA"]
[null,null,null,null,null,null,null,null,null,null,null,null,null,null,null,null,null,null,null,null,null,null,null,null,null,null,null,null,null,null,null,null,null,null,"C2TSS4","FUSION S I4 TA"]
[null,null,null,null,null,null,null,null,null,null,null,null,null,null,null,null,null,null,null,null,null,null,null,null,null,null,null,null,null,null,null,null,null,null,"C2TSS5","FUSION S I4 TA"]
[null,null,null,null,null,null,null,null,null,null,null,null,null,null,null,null,null,null,null,null,null,null,null,null,null,null,null,null,null,null,null,null,null,null,"C2TSS6","FUSION S I4 TA"]
[null,null,null,null,null,null,null,null,null,null,null,null,null,null,null,null,null,null,null,null,null,null,null,null,null,null,null,null,null,null,null,null,null,null,"C2TSS7","FUSION S I4 TA"]
[null,null,null,null,null,null,null,null,null,null,null,null,null,null,null,null,null,null,null,null,null,null,null,null,null,null,null,null,null,null,null,null,null,null,"C2TSS8","FUSION S I4 TA"]
[null,null,null,null,null,null,null,null,null,null,null,null,null,null,null,null,null,null,null,null,null,null,null,null,null,null,null,null,null,null,null,null,null,null,"C2TSSS","FUSION S I4 TA"]
[null,null,null,null,null,null,null,null,null,null,null,null,null,null,null,null,null,null,null,null,null,null,null,null,null,null,null,null,null,null,null,null,null,null,"C2TVM","FUSION S I4 TA"]
[null,null,null,null,null,null,null,null,null,null,null,null,null,null,null,null,null,null,null,null,null,null,null,null,null,null,null,null,null,null,null,null,null,null,"C3A","FUSION SPORT"]
[null,null,null,null,null,null,null,null,null,null,null,null,null,null,null,null,null,null,null,null,null,null,null,null,null,null,null,null,null,null,null,null,null,null,"C3ACA1","FUSION  ESPORT"]
[null,null,null,null,null,null,null,null,null,null,null,null,null,null,null,null,null,null,null,null,null,null,null,null,null,null,null,null,null,null,null,null,null,null,"C3ACE1","FUSION  ESPORT*"]
[null,null,null,null,null,null,null,null,null,null,null,null,null,null,null,null,null,null,null,null,null,null,null,null,null,null,null,null,null,null,null,null,null,null,"C3AEM","FUSION SPORT"]
[null,null,null,null,null,null,null,null,null,null,null,null,null,null,null,null,null,null,null,null,null,null,null,null,null,null,null,null,null,null,null,null,null,null,"C3AMT","FUSION SPORT V6"]
[null,null,null,null,null,null,null,null,null,null,null,null,null,null,null,null,null,null,null,null,null,null,null,null,null,null,null,null,null,null,null,null,null,null,"C3ASS7","FUSION  ESPORT"]
[null,null,null,null,null,null,null,null,null,null,null,null,null,null,null,null,null,null,null,null,null,null,null,null,null,null,null,null,null,null,null,null,null,null,"C3ASS8","FUSION ESPORT"]
[null,null,null,null,null,null,null,null,null,null,null,null,null,null,null,null,null,null,null,null,null,null,null,null,null,null,null,null,null,null,null,null,null,null,"C3AVM","FUSION ESPORT"]
[null,null,null,null,null,null,null,null,null,null,null,null,null,null,null,null,null,null,null,null,null,null,null,null,null,null,null,null,null,null,null,null,null,null,"C3B7SS8","FUSION S 2.5L I4"]
[null,null,null,null,null,null,null,null,null,null,null,null,null,null,null,null,null,null,null,null,null,null,null,null,null,null,null,null,null,null,null,null,null,null,"C3B8S","FUSION S 2.5L I4"]
[null,null,null,null,null,null,null,null,null,null,null,null,null,null,null,null,null,null,null,null,null,null,null,null,null,null,null,null,null,null,null,null,null,null,"C3BCA1","FUSION S 2.5L I4"]
[null,null,null,null,null,null,null,null,null,null,null,null,null,null,null,null,null,null,null,null,null,null,null,null,null,null,null,null,null,null,null,null,null,null,"C3BCE1","FUSION S 2.5L I4"]
[null,null,null,null,null,null,null,null,null,null,null,null,null,null,null,null,null,null,null,null,null,null,null,null,null,null,null,null,null,null,null,null,null,null,"C3BE8","FUSION S 2.5L I4"]
[null,null,null,null,null,null,null,null,null,null,null,null,null,null,null,null,null,null,null,null,null,null,null,null,null,null,null,null,null,null,null,null,null,null,"C3BEF","FUSION S 2.5L I4"]
[null,null,null,null,null,null,null,null,null,null,null,null,null,null,null,null,null,null,null,null,null,null,null,null,null,null,null,null,null,null,null,null,null,null,"C3BMV13","FUSION S 2.5L I4"]
[null,null,null,null,null,null,null,null,null,null,null,null,null,null,null,null,null,null,null,null,null,null,null,null,null,null,null,null,null,null,null,null,null,null,"C3BP8","FUSION S 2.5L I4"]
[null,null,null,null,null,null,null,null,null,null,null,null,null,null,null,null,null,null,null,null,null,null,null,null,null,null,null,null,null,null,null,null,null,null,"C3BSS8","FUSION S 2.5L I4"]
[null,null,null,null,null,null,null,null,null,null,null,null,null,null,null,null,null,null,null,null,null,null,null,null,null,null,null,null,null,null,null,null,null,null,"C4ACA1","FUSION TITANIUM PLUS 2L GTDI"]
[null,null,null,null,null,null,null,null,null,null,null,null,null,null,null,null,null,null,null,null,null,null,null,null,null,null,null,null,null,null,null,null,null,null,"C4ACE1","FUSION TITANIUM PLUS 2L GTDI"]
[null,null,null,null,null,null,null,null,null,null,null,null,null,null,null,null,null,null,null,null,null,null,null,null,null,null,null,null,null,null,null,null,null,null,"C4AEF","FUSION TITANIUM PLUS 2.0 GTDi"]
[null,null,null,null,null,null,null,null,null,null,null,null,null,null,null,null,null,null,null,null,null,null,null,null,null,null,null,null,null,null,null,null,null,null,"C4ASS8","FUSION TITANIUM PLUS 2L GTDI"]
[null,null,null,null,null,null,null,null,null,null,null,null,null,null,null,null,null,null,null,null,null,null,null,null,null,null,null,null,null,null,null,null,null,null,"CB2","Cirrus Sedan LX1 Tela BA"]
[null,null,null,null,null,null,null,null,null,null,null,null,null,null,null,null,null,null,null,null,null,null,null,null,null,null,null,null,null,null,null,null,null,null,"CC3","PT crussier Touring covertible ATX"]
[null,null,null,null,null,null,null,null,null,null,null,null,null,null,null,null,null,null,null,null,null,null,null,null,null,null,null,null,null,null,null,null,null,null,"CC4","Voyager LX"]
[null,null,null,null,null,null,null,null,null,null,null,null,null,null,null,null,null,null,null,null,null,null,null,null,null,null,null,null,null,null,null,null,null,null,"CD5","300 M especial"]
[null,null,null,null,null,null,null,null,null,null,null,null,null,null,null,null,null,null,null,null,null,null,null,null,null,null,null,null,null,null,null,null,null,null,"CE6","Cirrus Covertible LTD"]
[null,null,null,null,null,null,null,null,null,null,null,null,null,null,null,null,null,null,null,null,null,null,null,null,null,null,null,null,null,null,null,null,null,null,"CF7","Durango Limited 4x4"]
[null,null,null,null,null,null,null,null,null,null,null,null,null,null,null,null,null,null,null,null,null,null,null,null,null,null,null,null,null,null,null,null,null,null,"CM","CORSA M"]
[null,null,null,null,null,null,null,null,null,null,null,null,null,null,null,null,null,null,null,null,null,null,null,null,null,null,null,null,null,null,null,null,null,null,"CO","CORSA C"]
[null,null,null,null,null,null,null,null,null,null,null,null,null,null,null,null,null,null,null,null,null,null,null,null,null,null,null,null,null,null,null,null,null,null,"CP","CORSA B"]
[null,null,null,null,null,null,null,null,null,null,null,null,null,null,null,null,null,null,null,null,null,null,null,null,null,null,null,null,null,null,null,null,null,null,"CPZ","ESPECIAL 3"]
[null,null,null,null,null,null,null,null,null,null,null,null,null,null,null,null,null,null,null,null,null,null,null,null,null,null,null,null,null,null,null,null,null,null,"D21","CHASIS LARGO STD"]
[null,null,null,null,null,null,null,null,null,null,null,null,null,null,null,null,null,null,null,null,null,null,null,null,null,null,null,null,null,null,null,null,null,null,"D22","CHASIS LARGO STD D/H"]
[null,null,null,null,null,null,null,null,null,null,null,null,null,null,null,null,null,null,null,null,null,null,null,null,null,null,null,null,null,null,null,null,null,null,"D23","PICK-UP LARGO STD"]
[null,null,null,null,null,null,null,null,null,null,null,null,null,null,null,null,null,null,null,null,null,null,null,null,null,null,null,null,null,null,null,null,null,null,"D24","PICK-UP LARGO AUT"]
[null,null,null,null,null,null,null,null,null,null,null,null,null,null,null,null,null,null,null,null,null,null,null,null,null,null,null,null,null,null,null,null,null,null,"D25","PICK-UP LARGO STD D/H"]
[null,null,null,null,null,null,null,null,null,null,null,null,null,null,null,null,null,null,null,null,null,null,null,null,null,null,null,null,null,null,null,null,null,null,"D2BCA1","EDGE BASE SE V6"]
[null,null,null,null,null,null,null,null,null,null,null,null,null,null,null,null,null,null,null,null,null,null,null,null,null,null,null,null,null,null,null,null,null,null,"D2BSS8","EDGE BASE SE V6"]
[null,null,null,null,null,null,null,null,null,null,null,null,null,null,null,null,null,null,null,null,null,null,null,null,null,null,null,null,null,null,null,null,null,null,"D3BEF","EDGE SEL"]
[null,null,null,null,null,null,null,null,null,null,null,null,null,null,null,null,null,null,null,null,null,null,null,null,null,null,null,null,null,null,null,null,null,null,"D3BSS8","EDGE SEL"]
[null,null,null,null,null,null,null,null,null,null,null,null,null,null,null,null,null,null,null,null,null,null,null,null,null,null,null,null,null,null,null,null,null,null,"D3C","THUNDERBIRD REMOVABLE HARD TOP"]
[null,null,null,null,null,null,null,null,null,null,null,null,null,null,null,null,null,null,null,null,null,null,null,null,null,null,null,null,null,null,null,null,null,null,"DC1","TIPICO STD"]
[null,null,null,null,null,null,null,null,null,null,null,null,null,null,null,null,null,null,null,null,null,null,null,null,null,null,null,null,null,null,null,null,null,null,"DC2","TIPICO STD D/H"]
[null,null,null,null,null,null,null,null,null,null,null,null,null,null,null,null,null,null,null,null,null,null,null,null,null,null,null,null,null,null,null,null,null,null,"DC3","TIPICO AUT"]
[null,null,null,null,null,null,null,null,null,null,null,null,null,null,null,null,null,null,null,null,null,null,null,null,null,null,null,null,null,null,null,null,null,null,"DC4","TIPICO AUT D/H"]
[null,null,null,null,null,null,null,null,null,null,null,null,null,null,null,null,null,null,null,null,null,null,null,null,null,null,null,null,null,null,null,null,null,null,"DC5","LUJO T/M"]
[null,null,null,null,null,null,null,null,null,null,null,null,null,null,null,null,null,null,null,null,null,null,null,null,null,null,null,null,null,null,null,null,null,null,"DC6","LUJO T/A"]
[null,null,null,null,null,null,null,null,null,null,null,null,null,null,null,null,null,null,null,null,null,null,null,null,null,null,null,null,null,null,null,null,null,null,"DPZ","ESPECIAL 4"]
[null,null,null,null,null,null,null,null,null,null,null,null,null,null,null,null,null,null,null,null,null,null,null,null,null,null,null,null,null,null,null,null,null,null,"E2A","EXPLORER SPORT V6 4 X 2 2 PTAS."]
[null,null,null,null,null,null,null,null,null,null,null,null,null,null,null,null,null,null,null,null,null,null,null,null,null,null,null,null,null,null,null,null,null,null,"E2A0","EXPLORER SPORT V6 4 X 2"]
[null,null,null,null,null,null,null,null,null,null,null,null,null,null,null,null,null,null,null,null,null,null,null,null,null,null,null,null,null,null,null,null,null,null,"E2A2","EXPLORER SPORT V6 4 X 2"]
[null,null,null,null,null,null,null,null,null,null,null,null,null,null,null,null,null,null,null,null,null,null,null,null,null,null,null,null,null,null,null,null,null,null,"E2AG","EXPLORER V6 4 X 2 SPORT"]
[null,null,null,null,null,null,null,null,null,null,null,null,null,null,null,null,null,null,null,null,null,null,null,null,null,null,null,null,null,null,null,null,null,null,"E2AM","EXPLORER SPORT V6 4 X 2 2 PTAS."]
[null,null,null,null,null,null,null,null,null,null,null,null,null,null,null,null,null,null,null,null,null,null,null,null,null,null,null,null,null,null,null,null,null,null,"E2AR","EXPLORER SPORT 4 X 2 V6"]
[null,null,null,null,null,null,null,null,null,null,null,null,null,null,null,null,null,null,null,null,null,null,null,null,null,null,null,null,null,null,null,null,null,null,"E2AS","EXPLORER SPORT V6 4X2"]
[null,null,null,null,null,null,null,null,null,null,null,null,null,null,null,null,null,null,null,null,null,null,null,null,null,null,null,null,null,null,null,null,null,null,"E2AT","EXPLORER SPORT V6 4 X 2"]
[null,null,null,null,null,null,null,null,null,null,null,null,null,null,null,null,null,null,null,null,null,null,null,null,null,null,null,null,null,null,null,null,null,null,"E2T","EXPLORER SPORT TRAC V8 4X2 TELA"]
[null,null,null,null,null,null,null,null,null,null,null,null,null,null,null,null,null,null,null,null,null,null,null,null,null,null,null,null,null,null,null,null,null,null,"E2TEM","EXPLORER SPORT TRAC V8 4X2 TELA"]
[null,null,null,null,null,null,null,null,null,null,null,null,null,null,null,null,null,null,null,null,null,null,null,null,null,null,null,null,null,null,null,null,null,null,"E2TMV","EXPLORER SPORT TRAC V8 4X2 TELA"]
[null,null,null,null,null,null,null,null,null,null,null,null,null,null,null,null,null,null,null,null,null,null,null,null,null,null,null,null,null,null,null,null,null,null,"E3BSS8","EXPLORER XLT BASE"]
[null,null,null,null,null,null,null,null,null,null,null,null,null,null,null,null,null,null,null,null,null,null,null,null,null,null,null,null,null,null,null,null,null,null,"E5AMV13","EXPLORER XLT V6"]
[null,null,null,null,null,null,null,null,null,null,null,null,null,null,null,null,null,null,null,null,null,null,null,null,null,null,null,null,null,null,null,null,null,null,"E5ASC12","EXPLORER XLT V6"]
[null,null,null,null,null,null,null,null,null,null,null,null,null,null,null,null,null,null,null,null,null,null,null,null,null,null,null,null,null,null,null,null,null,null,"E5ASCA1","EXPLORER XLT V6"]
[null,null,null,null,null,null,null,null,null,null,null,null,null,null,null,null,null,null,null,null,null,null,null,null,null,null,null,null,null,null,null,null,null,null,"E5ASCE1","EXPLORER XLT V6"]
[null,null,null,null,null,null,null,null,null,null,null,null,null,null,null,null,null,null,null,null,null,null,null,null,null,null,null,null,null,null,null,null,null,null,"E5ASS8","EXPLORER XLT V6"]
[null,null,null,null,null,null,null,null,null,null,null,null,null,null,null,null,null,null,null,null,null,null,null,null,null,null,null,null,null,null,null,null,null,null,"E5D","EXPLORER XLT BASE"]
[null,null,null,null,null,null,null,null,null,null,null,null,null,null,null,null,null,null,null,null,null,null,null,null,null,null,null,null,null,null,null,null,null,null,"E5DMV13","EXPLORER XLT BASE"]
[null,null,null,null,null,null,null,null,null,null,null,null,null,null,null,null,null,null,null,null,null,null,null,null,null,null,null,null,null,null,null,null,null,null,"E5DSC12","EXPLORER XLT BASE"]
[null,null,null,null,null,null,null,null,null,null,null,null,null,null,null,null,null,null,null,null,null,null,null,null,null,null,null,null,null,null,null,null,null,null,"E5DSCA1","EXPLORER XLT BASE"]
[null,null,null,null,null,null,null,null,null,null,null,null,null,null,null,null,null,null,null,null,null,null,null,null,null,null,null,null,null,null,null,null,null,null,"E5DSCE1","EXPLORER XLT BASE"]
[null,null,null,null,null,null,null,null,null,null,null,null,null,null,null,null,null,null,null,null,null,null,null,null,null,null,null,null,null,null,null,null,null,null,"E5DSS8","EXPLORER XLT BASE"]
[null,null,null,null,null,null,null,null,null,null,null,null,null,null,null,null,null,null,null,null,null,null,null,null,null,null,null,null,null,null,null,null,null,null,"E5EMV13","EXPLORER XLT V6 LEATHER"]
[null,null,null,null,null,null,null,null,null,null,null,null,null,null,null,null,null,null,null,null,null,null,null,null,null,null,null,null,null,null,null,null,null,null,"E5ESC12","ESPLORER XLT V6 LEATHER"]
[null,null,null,null,null,null,null,null,null,null,null,null,null,null,null,null,null,null,null,null,null,null,null,null,null,null,null,null,null,null,null,null,null,null,"E5ESCA1","EXPLORER XLT V6 LEATHER"]
[null,null,null,null,null,null,null,null,null,null,null,null,null,null,null,null,null,null,null,null,null,null,null,null,null,null,null,null,null,null,null,null,null,null,"E5ESCE1","EXPLORER XLT V6 LEATHER"]
[null,null,null,null,null,null,null,null,null,null,null,null,null,null,null,null,null,null,null,null,null,null,null,null,null,null,null,null,null,null,null,null,null,null,"E6AMV13","EXPLORER LIMITED V6"]
[null,null,null,null,null,null,null,null,null,null,null,null,null,null,null,null,null,null,null,null,null,null,null,null,null,null,null,null,null,null,null,null,null,null,"E7AC","EXPLORER XLT V8 4*2 VIP CUOTA FIJA"]
[null,null,null,null,null,null,null,null,null,null,null,null,null,null,null,null,null,null,null,null,null,null,null,null,null,null,null,null,null,null,null,null,null,null,"E7B","Explorer XLT V8 Tela 3er. Asiento 4x2"]
[null,null,null,null,null,null,null,null,null,null,null,null,null,null,null,null,null,null,null,null,null,null,null,null,null,null,null,null,null,null,null,null,null,null,"E7C","EXPLORER XLT V8 AUT. 4X2 TELA"]
[null,null,null,null,null,null,null,null,null,null,null,null,null,null,null,null,null,null,null,null,null,null,null,null,null,null,null,null,null,null,null,null,null,null,"E7CC","EXPLORER XLT V8 4*2 SEMI TELA CUOTA FIJA"]
[null,null,null,null,null,null,null,null,null,null,null,null,null,null,null,null,null,null,null,null,null,null,null,null,null,null,null,null,null,null,null,null,null,null,"E7CCA1","EXPLORER XLT BASE V6 TELA  4 X 2"]
[null,null,null,null,null,null,null,null,null,null,null,null,null,null,null,null,null,null,null,null,null,null,null,null,null,null,null,null,null,null,null,null,null,null,"E7CCA2","EXPLORER XLT BASE V6 TELA  4 X 2"]
[null,null,null,null,null,null,null,null,null,null,null,null,null,null,null,null,null,null,null,null,null,null,null,null,null,null,null,null,null,null,null,null,null,null,"E7CEM","EXPLORER XLT V8 AUT. 4X2 TELA"]
[null,null,null,null,null,null,null,null,null,null,null,null,null,null,null,null,null,null,null,null,null,null,null,null,null,null,null,null,null,null,null,null,null,null,"E7CMT","EXPLORER XLT BASE V6 TELA 4X2"]
[null,null,null,null,null,null,null,null,null,null,null,null,null,null,null,null,null,null,null,null,null,null,null,null,null,null,null,null,null,null,null,null,null,null,"E7CMV","EXPLORER XLT BASE V6 TELA 4X2"]
[null,null,null,null,null,null,null,null,null,null,null,null,null,null,null,null,null,null,null,null,null,null,null,null,null,null,null,null,null,null,null,null,null,null,"E7CSS6","EXPLORER XLT BASE V6 TELA  4 X 2"]
[null,null,null,null,null,null,null,null,null,null,null,null,null,null,null,null,null,null,null,null,null,null,null,null,null,null,null,null,null,null,null,null,null,null,"E7CSS8","EXPLORER XLT BASE V6 TELA 4X2"]
[null,null,null,null,null,null,null,null,null,null,null,null,null,null,null,null,null,null,null,null,null,null,null,null,null,null,null,null,null,null,null,null,null,null,"E7CSSS","EXPLORER XLT BASE V6 TELA 4X2"]
[null,null,null,null,null,null,null,null,null,null,null,null,null,null,null,null,null,null,null,null,null,null,null,null,null,null,null,null,null,null,null,null,null,null,"E7D","Explorer XLT V8 Tela 4x2"]
[null,null,null,null,null,null,null,null,null,null,null,null,null,null,null,null,null,null,null,null,null,null,null,null,null,null,null,null,null,null,null,null,null,null,"E7D/S","EXPLORER XLT V8 TELA 4X2 3ER. ASIENTO SY"]
[null,null,null,null,null,null,null,null,null,null,null,null,null,null,null,null,null,null,null,null,null,null,null,null,null,null,null,null,null,null,null,null,null,null,"E7D1","Explorer XLT V8 Tela  4x2 3er asiento"]
[null,null,null,null,null,null,null,null,null,null,null,null,null,null,null,null,null,null,null,null,null,null,null,null,null,null,null,null,null,null,null,null,null,null,"E7DMV","EXPLORER XLT V8 TELA 4X2 SYNC"]
[null,null,null,null,null,null,null,null,null,null,null,null,null,null,null,null,null,null,null,null,null,null,null,null,null,null,null,null,null,null,null,null,null,null,"E7E","EXPLORER XLT V6 TELA 4X2"]
[null,null,null,null,null,null,null,null,null,null,null,null,null,null,null,null,null,null,null,null,null,null,null,null,null,null,null,null,null,null,null,null,null,null,"E7E/S","EXPLORER XLT V6 TELA 4X/2 SYNC"]
[null,null,null,null,null,null,null,null,null,null,null,null,null,null,null,null,null,null,null,null,null,null,null,null,null,null,null,null,null,null,null,null,null,null,"E7EEM","EXPLORER XLT V6 TELA 4X2"]
[null,null,null,null,null,null,null,null,null,null,null,null,null,null,null,null,null,null,null,null,null,null,null,null,null,null,null,null,null,null,null,null,null,null,"E7EMV","EXPLORER XLT V6 TELA 4X2 SYNC"]
[null,null,null,null,null,null,null,null,null,null,null,null,null,null,null,null,null,null,null,null,null,null,null,null,null,null,null,null,null,null,null,null,null,null,"E7ESS1","EXPLORER XLT V6 TELA 4X2"]
[null,null,null,null,null,null,null,null,null,null,null,null,null,null,null,null,null,null,null,null,null,null,null,null,null,null,null,null,null,null,null,null,null,null,"E7ESS2","EXPLORER XLT V6 TELA 4X2"]
[null,null,null,null,null,null,null,null,null,null,null,null,null,null,null,null,null,null,null,null,null,null,null,null,null,null,null,null,null,null,null,null,null,null,"E7ESS3","EXPLORER XLT V6 TELA 4X2"]
[null,null,null,null,null,null,null,null,null,null,null,null,null,null,null,null,null,null,null,null,null,null,null,null,null,null,null,null,null,null,null,null,null,null,"E7ESSS","EXPLORER XLT V6 TELA 4X2"]
[null,null,null,null,null,null,null,null,null,null,null,null,null,null,null,null,null,null,null,null,null,null,null,null,null,null,null,null,null,null,null,null,null,null,"E7F","Explorer XLS Sport V6 Tela 4x2"]
[null,null,null,null,null,null,null,null,null,null,null,null,null,null,null,null,null,null,null,null,null,null,null,null,null,null,null,null,null,null,null,null,null,null,"E7F24","Explorer XLS 4X2 5.4L Tela V8"]
[null,null,null,null,null,null,null,null,null,null,null,null,null,null,null,null,null,null,null,null,null,null,null,null,null,null,null,null,null,null,null,null,null,null,"E7F25","Explorer XLS 4X2 5.4L Tela V8"]
[null,null,null,null,null,null,null,null,null,null,null,null,null,null,null,null,null,null,null,null,null,null,null,null,null,null,null,null,null,null,null,null,null,null,"E7F26","Explorer XLS 4X2 5.4L Tela V8"]
[null,null,null,null,null,null,null,null,null,null,null,null,null,null,null,null,null,null,null,null,null,null,null,null,null,null,null,null,null,null,null,null,null,null,"E7F27","Explorer XLS 4X2 5.4L Tela V8"]
[null,null,null,null,null,null,null,null,null,null,null,null,null,null,null,null,null,null,null,null,null,null,null,null,null,null,null,null,null,null,null,null,null,null,"E7F28","Explorer XLS 4X2 5.4L Tela V8"]
[null,null,null,null,null,null,null,null,null,null,null,null,null,null,null,null,null,null,null,null,null,null,null,null,null,null,null,null,null,null,null,null,null,null,"E7F29","Explorer XLS 4X2 5.4L Tela V8"]
[null,null,null,null,null,null,null,null,null,null,null,null,null,null,null,null,null,null,null,null,null,null,null,null,null,null,null,null,null,null,null,null,null,null,"E7F30","Explorer XLS 4X2 5.4L Tela V8"]
[null,null,null,null,null,null,null,null,null,null,null,null,null,null,null,null,null,null,null,null,null,null,null,null,null,null,null,null,null,null,null,null,null,null,"E7F31","Explorer XLS Sport V6 Tela 4X2"]
[null,null,null,null,null,null,null,null,null,null,null,null,null,null,null,null,null,null,null,null,null,null,null,null,null,null,null,null,null,null,null,null,null,null,"E7F32","Explorer XLS 4X2 5.4L Tela V8"]
[null,null,null,null,null,null,null,null,null,null,null,null,null,null,null,null,null,null,null,null,null,null,null,null,null,null,null,null,null,null,null,null,null,null,"E7G","Explorer XLT V8 Tela 4x4"]
[null,null,null,null,null,null,null,null,null,null,null,null,null,null,null,null,null,null,null,null,null,null,null,null,null,null,null,null,null,null,null,null,null,null,"E7S","Explorer XLS V6 4x2 tela"]
[null,null,null,null,null,null,null,null,null,null,null,null,null,null,null,null,null,null,null,null,null,null,null,null,null,null,null,null,null,null,null,null,null,null,"E7S0","EXPLORER XLS V6 4 X 2 TELA"]
[null,null,null,null,null,null,null,null,null,null,null,null,null,null,null,null,null,null,null,null,null,null,null,null,null,null,null,null,null,null,null,null,null,null,"E7S23","Explorer XLS V6 4X2 Tela"]
[null,null,null,null,null,null,null,null,null,null,null,null,null,null,null,null,null,null,null,null,null,null,null,null,null,null,null,null,null,null,null,null,null,null,"E7SR","EXPLORER XLS V6 4 X 2 TELA"]
[null,null,null,null,null,null,null,null,null,null,null,null,null,null,null,null,null,null,null,null,null,null,null,null,null,null,null,null,null,null,null,null,null,null,"E7SS","EXPLORER XLS V6 4X2 TELA"]
[null,null,null,null,null,null,null,null,null,null,null,null,null,null,null,null,null,null,null,null,null,null,null,null,null,null,null,null,null,null,null,null,null,null,"E8T","EXPLORER LIMITED V8 4X2"]
[null,null,null,null,null,null,null,null,null,null,null,null,null,null,null,null,null,null,null,null,null,null,null,null,null,null,null,null,null,null,null,null,null,null,"E8T/S","EXPLORER LIMITED V8 4X2 SYNC"]
[null,null,null,null,null,null,null,null,null,null,null,null,null,null,null,null,null,null,null,null,null,null,null,null,null,null,null,null,null,null,null,null,null,null,"E8TMV","EXPLORER LIMITED V8 4X2 SYNC"]
[null,null,null,null,null,null,null,null,null,null,null,null,null,null,null,null,null,null,null,null,null,null,null,null,null,null,null,null,null,null,null,null,null,null,"E8UMV","EXPLORER LIMITED V6 4X2 4L SYNC"]
[null,null,null,null,null,null,null,null,null,null,null,null,null,null,null,null,null,null,null,null,null,null,null,null,null,null,null,null,null,null,null,null,null,null,"E9A","Explorer Eddi Bauer V8 4x2"]
[null,null,null,null,null,null,null,null,null,null,null,null,null,null,null,null,null,null,null,null,null,null,null,null,null,null,null,null,null,null,null,null,null,null,"E9A/Q","Explorer Eddie Bauer V8 4x2 Q/C"]
[null,null,null,null,null,null,null,null,null,null,null,null,null,null,null,null,null,null,null,null,null,null,null,null,null,null,null,null,null,null,null,null,null,null,"E9AQ","Explorer Eddie Bauer V8 4x2 Q/C"]
[null,null,null,null,null,null,null,null,null,null,null,null,null,null,null,null,null,null,null,null,null,null,null,null,null,null,null,null,null,null,null,null,null,null,"E9AQ4","EXPLORER EDDIE BAUER V8 4X2 Q/C FRES SYN"]
[null,null,null,null,null,null,null,null,null,null,null,null,null,null,null,null,null,null,null,null,null,null,null,null,null,null,null,null,null,null,null,null,null,null,"E9AQF","EXPLORER EDDIE BAUER V8 4X2 Q/C FRES"]
[null,null,null,null,null,null,null,null,null,null,null,null,null,null,null,null,null,null,null,null,null,null,null,null,null,null,null,null,null,null,null,null,null,null,"E9AQS","EXPLORER EDDIE BAUER V8 4X2 Q/C SYNC"]
[null,null,null,null,null,null,null,null,null,null,null,null,null,null,null,null,null,null,null,null,null,null,null,null,null,null,null,null,null,null,null,null,null,null,"EEA","EDGE SEL PLUS 3.5L V6 PIEL SUNROOF"]
[null,null,null,null,null,null,null,null,null,null,null,null,null,null,null,null,null,null,null,null,null,null,null,null,null,null,null,null,null,null,null,null,null,null,"EEAMV13","EDGE LIMITED 3.5L V6 PIEL SUNROOF"]
[null,null,null,null,null,null,null,null,null,null,null,null,null,null,null,null,null,null,null,null,null,null,null,null,null,null,null,null,null,null,null,null,null,null,"EEAMV2","EDGE LIMITED 3.5L V6 PIEL SUNROOF"]
[null,null,null,null,null,null,null,null,null,null,null,null,null,null,null,null,null,null,null,null,null,null,null,null,null,null,null,null,null,null,null,null,null,null,"EEAMV3","EDGE LIMITED 3.5L V6 PIEL SUNROOF"]
[null,null,null,null,null,null,null,null,null,null,null,null,null,null,null,null,null,null,null,null,null,null,null,null,null,null,null,null,null,null,null,null,null,null,"EEASC12","EDGE LIMITED 3.5L V6 PIEL SUNROOF"]
[null,null,null,null,null,null,null,null,null,null,null,null,null,null,null,null,null,null,null,null,null,null,null,null,null,null,null,null,null,null,null,null,null,null,"EEASCA1","EDGE LIMITED 3.5L V6 PIEL SUNROOF"]
[null,null,null,null,null,null,null,null,null,null,null,null,null,null,null,null,null,null,null,null,null,null,null,null,null,null,null,null,null,null,null,null,null,null,"EEASCE1","EDGE LIMITED 3.5L V6 PIEL SUNROOF"]
[null,null,null,null,null,null,null,null,null,null,null,null,null,null,null,null,null,null,null,null,null,null,null,null,null,null,null,null,null,null,null,null,null,null,"EEASS8","EDGE LIMITED 3.5L V6 PIEL SUNROOF"]
[null,null,null,null,null,null,null,null,null,null,null,null,null,null,null,null,null,null,null,null,null,null,null,null,null,null,null,null,null,null,null,null,null,null,"EEB","EDGE LIMITED 3.5L V6 PIEL DVD"]
[null,null,null,null,null,null,null,null,null,null,null,null,null,null,null,null,null,null,null,null,null,null,null,null,null,null,null,null,null,null,null,null,null,null,"EED","EDGE SEL"]
[null,null,null,null,null,null,null,null,null,null,null,null,null,null,null,null,null,null,null,null,null,null,null,null,null,null,null,null,null,null,null,null,null,null,"EEDCA1","EDGE SEL"]
[null,null,null,null,null,null,null,null,null,null,null,null,null,null,null,null,null,null,null,null,null,null,null,null,null,null,null,null,null,null,null,null,null,null,"EEDCA2","EDGE SEL"]
[null,null,null,null,null,null,null,null,null,null,null,null,null,null,null,null,null,null,null,null,null,null,null,null,null,null,null,null,null,null,null,null,null,null,"EEDCE1","EDGE SEL"]
[null,null,null,null,null,null,null,null,null,null,null,null,null,null,null,null,null,null,null,null,null,null,null,null,null,null,null,null,null,null,null,null,null,null,"EEDEM","EDGE SEL"]
[null,null,null,null,null,null,null,null,null,null,null,null,null,null,null,null,null,null,null,null,null,null,null,null,null,null,null,null,null,null,null,null,null,null,"EEDMV13","EDGE SEL"]
[null,null,null,null,null,null,null,null,null,null,null,null,null,null,null,null,null,null,null,null,null,null,null,null,null,null,null,null,null,null,null,null,null,null,"EEDMV2","EDGE SEL"]
[null,null,null,null,null,null,null,null,null,null,null,null,null,null,null,null,null,null,null,null,null,null,null,null,null,null,null,null,null,null,null,null,null,null,"EEDMV3","EDGE SEL"]
[null,null,null,null,null,null,null,null,null,null,null,null,null,null,null,null,null,null,null,null,null,null,null,null,null,null,null,null,null,null,null,null,null,null,"EEDSC12","EDGE SEL"]
[null,null,null,null,null,null,null,null,null,null,null,null,null,null,null,null,null,null,null,null,null,null,null,null,null,null,null,null,null,null,null,null,null,null,"EEDSCA1","EDGE SEL"]
[null,null,null,null,null,null,null,null,null,null,null,null,null,null,null,null,null,null,null,null,null,null,null,null,null,null,null,null,null,null,null,null,null,null,"EEDSCE1","EDGE SEL"]
[null,null,null,null,null,null,null,null,null,null,null,null,null,null,null,null,null,null,null,null,null,null,null,null,null,null,null,null,null,null,null,null,null,null,"EEDSS6","EDGE SEL"]
[null,null,null,null,null,null,null,null,null,null,null,null,null,null,null,null,null,null,null,null,null,null,null,null,null,null,null,null,null,null,null,null,null,null,"EEDSS8","EDGE SEL"]
[null,null,null,null,null,null,null,null,null,null,null,null,null,null,null,null,null,null,null,null,null,null,null,null,null,null,null,null,null,null,null,null,null,null,"EEF","EDGE BASE SE V6"]
[null,null,null,null,null,null,null,null,null,null,null,null,null,null,null,null,null,null,null,null,null,null,null,null,null,null,null,null,null,null,null,null,null,null,"EEFCA1","EDGE BASE SE V6"]
[null,null,null,null,null,null,null,null,null,null,null,null,null,null,null,null,null,null,null,null,null,null,null,null,null,null,null,null,null,null,null,null,null,null,"EEFCE1","EDGE BASE SE V6"]
[null,null,null,null,null,null,null,null,null,null,null,null,null,null,null,null,null,null,null,null,null,null,null,null,null,null,null,null,null,null,null,null,null,null,"EEFEM","EDGE BASE SE V6"]
[null,null,null,null,null,null,null,null,null,null,null,null,null,null,null,null,null,null,null,null,null,null,null,null,null,null,null,null,null,null,null,null,null,null,"EEFMV13","EDGE BASE SE V6"]
[null,null,null,null,null,null,null,null,null,null,null,null,null,null,null,null,null,null,null,null,null,null,null,null,null,null,null,null,null,null,null,null,null,null,"EEFMV2","EDGE BASE SE V6"]
[null,null,null,null,null,null,null,null,null,null,null,null,null,null,null,null,null,null,null,null,null,null,null,null,null,null,null,null,null,null,null,null,null,null,"EEFMV3","EDGE BASE SE V6"]
[null,null,null,null,null,null,null,null,null,null,null,null,null,null,null,null,null,null,null,null,null,null,null,null,null,null,null,null,null,null,null,null,null,null,"EEFSC12","EDGE BASE SE V6"]
[null,null,null,null,null,null,null,null,null,null,null,null,null,null,null,null,null,null,null,null,null,null,null,null,null,null,null,null,null,null,null,null,null,null,"EEFSCA1","EDGE BASE SE V6"]
[null,null,null,null,null,null,null,null,null,null,null,null,null,null,null,null,null,null,null,null,null,null,null,null,null,null,null,null,null,null,null,null,null,null,"EEFSCE1","EDGE BASE SE V6"]
[null,null,null,null,null,null,null,null,null,null,null,null,null,null,null,null,null,null,null,null,null,null,null,null,null,null,null,null,null,null,null,null,null,null,"EEFSS8","EDGE BASE SE V6"]
[null,null,null,null,null,null,null,null,null,null,null,null,null,null,null,null,null,null,null,null,null,null,null,null,null,null,null,null,null,null,null,null,null,null,"EP2C","CATALOGO ESPECIAL CUOTA FIJA"]
[null,null,null,null,null,null,null,null,null,null,null,null,null,null,null,null,null,null,null,null,null,null,null,null,null,null,null,null,null,null,null,null,null,null,"EP3C","CATALAGO ESPECIAL"]
[null,null,null,null,null,null,null,null,null,null,null,null,null,null,null,null,null,null,null,null,null,null,null,null,null,null,null,null,null,null,null,null,null,null,"EP4C","CATALOGO ESPECIAL CUOTA FIJA"]
[null,null,null,null,null,null,null,null,null,null,null,null,null,null,null,null,null,null,null,null,null,null,null,null,null,null,null,null,null,null,null,null,null,null,"EP5C","CATALOGO ESPECIAL"]
[null,null,null,null,null,null,null,null,null,null,null,null,null,null,null,null,null,null,null,null,null,null,null,null,null,null,null,null,null,null,null,null,null,null,"EP6Z","CATALAGO ESPECIAL 1"]
[null,null,null,null,null,null,null,null,null,null,null,null,null,null,null,null,null,null,null,null,null,null,null,null,null,null,null,null,null,null,null,null,null,null,"EP7Z","CATALOGO ESPECIAL 2"]
[null,null,null,null,null,null,null,null,null,null,null,null,null,null,null,null,null,null,null,null,null,null,null,null,null,null,null,null,null,null,null,null,null,null,"EP8Z","CATALOGO ESPECIAL 3"]
[null,null,null,null,null,null,null,null,null,null,null,null,null,null,null,null,null,null,null,null,null,null,null,null,null,null,null,null,null,null,null,null,null,null,"EPZ","CATALOGO ESPECIAL C.II"]
[null,null,null,null,null,null,null,null,null,null,null,null,null,null,null,null,null,null,null,null,null,null,null,null,null,null,null,null,null,null,null,null,null,null,"ES","ESPECIAL"]
[null,null,null,null,null,null,null,null,null,null,null,null,null,null,null,null,null,null,null,null,null,null,null,null,null,null,null,null,null,null,null,null,null,null,"ESPC","CATALOGO ESPECIAL CUOTA FIJA"]
[null,null,null,null,null,null,null,null,null,null,null,null,null,null,null,null,null,null,null,null,null,null,null,null,null,null,null,null,null,null,null,null,null,null,"EST1","LARGA T/M"]
[null,null,null,null,null,null,null,null,null,null,null,null,null,null,null,null,null,null,null,null,null,null,null,null,null,null,null,null,null,null,null,null,null,null,"EST2","LARGA T/M D/H"]
[null,null,null,null,null,null,null,null,null,null,null,null,null,null,null,null,null,null,null,null,null,null,null,null,null,null,null,null,null,null,null,null,null,null,"EX","EXCURSION EDDIE BAUER"]
[null,null,null,null,null,null,null,null,null,null,null,null,null,null,null,null,null,null,null,null,null,null,null,null,null,null,null,null,null,null,null,null,null,null,"EXS","EXCURSION EDDIE BAUER"]
[null,null,null,null,null,null,null,null,null,null,null,null,null,null,null,null,null,null,null,null,null,null,null,null,null,null,null,null,null,null,null,null,null,null,"F2A1+3/4","FIESTA SE TA 5 PTAS"]
[null,null,null,null,null,null,null,null,null,null,null,null,null,null,null,null,null,null,null,null,null,null,null,null,null,null,null,null,null,null,null,null,null,null,"F2A-14SS8","FIESTA SE TA 5 PTAS"]
[null,null,null,null,null,null,null,null,null,null,null,null,null,null,null,null,null,null,null,null,null,null,null,null,null,null,null,null,null,null,null,null,null,null,"F2A6IC15","FIESTA SE TA 5 PTAS"]
[null,null,null,null,null,null,null,null,null,null,null,null,null,null,null,null,null,null,null,null,null,null,null,null,null,null,null,null,null,null,null,null,null,null,"F2A6IC17","FIESTA SE TA 5 PTAS"]
[null,null,null,null,null,null,null,null,null,null,null,null,null,null,null,null,null,null,null,null,null,null,null,null,null,null,null,null,null,null,null,null,null,null,"F2A6SG15","FIESTA SE TA 5 PTAS"]
[null,null,null,null,null,null,null,null,null,null,null,null,null,null,null,null,null,null,null,null,null,null,null,null,null,null,null,null,null,null,null,null,null,null,"F2A6SG17","FIESTA SE TA 5 PTAS"]
[null,null,null,null,null,null,null,null,null,null,null,null,null,null,null,null,null,null,null,null,null,null,null,null,null,null,null,null,null,null,null,null,null,null,"F2A6SS8","FIESTA SE TA 5 PTAS"]
[null,null,null,null,null,null,null,null,null,null,null,null,null,null,null,null,null,null,null,null,null,null,null,null,null,null,null,null,null,null,null,null,null,null,"F2A7SS8","FIESTA SE TA 5 PTAS"]
[null,null,null,null,null,null,null,null,null,null,null,null,null,null,null,null,null,null,null,null,null,null,null,null,null,null,null,null,null,null,null,null,null,null,"F2A8S","FIESTA SE TA 5 PTAS"]
[null,null,null,null,null,null,null,null,null,null,null,null,null,null,null,null,null,null,null,null,null,null,null,null,null,null,null,null,null,null,null,null,null,null,"F2ABF10","FIESTA SE TA 5 PTAS"]
[null,null,null,null,null,null,null,null,null,null,null,null,null,null,null,null,null,null,null,null,null,null,null,null,null,null,null,null,null,null,null,null,null,null,"F2ACA1","FIESTA SE TA 5 PTAS"]
[null,null,null,null,null,null,null,null,null,null,null,null,null,null,null,null,null,null,null,null,null,null,null,null,null,null,null,null,null,null,null,null,null,null,"F2AE8","FIESTA SE TA 5 PTAS"]
[null,null,null,null,null,null,null,null,null,null,null,null,null,null,null,null,null,null,null,null,null,null,null,null,null,null,null,null,null,null,null,null,null,null,"F2AEF","FIESTA SE TA 5 PTAS"]
[null,null,null,null,null,null,null,null,null,null,null,null,null,null,null,null,null,null,null,null,null,null,null,null,null,null,null,null,null,null,null,null,null,null,"F2AIC15","FIESTA SE TA 5 PTAS"]
[null,null,null,null,null,null,null,null,null,null,null,null,null,null,null,null,null,null,null,null,null,null,null,null,null,null,null,null,null,null,null,null,null,null,"F2AIC17","FIESTA SE TA 5 PTAS"]
[null,null,null,null,null,null,null,null,null,null,null,null,null,null,null,null,null,null,null,null,null,null,null,null,null,null,null,null,null,null,null,null,null,null,"F2AIC35","FIESTA SE TA 5 PTAS"]
[null,null,null,null,null,null,null,null,null,null,null,null,null,null,null,null,null,null,null,null,null,null,null,null,null,null,null,null,null,null,null,null,null,null,"F2AIFC","FIESTA SE TA 5 PTAS"]
[null,null,null,null,null,null,null,null,null,null,null,null,null,null,null,null,null,null,null,null,null,null,null,null,null,null,null,null,null,null,null,null,null,null,"F2AIFC15","FIESTA SE TA 5 PTAS"]
[null,null,null,null,null,null,null,null,null,null,null,null,null,null,null,null,null,null,null,null,null,null,null,null,null,null,null,null,null,null,null,null,null,null,"F2AIFC17","FIESTA SE TA 5 PTAS"]
[null,null,null,null,null,null,null,null,null,null,null,null,null,null,null,null,null,null,null,null,null,null,null,null,null,null,null,null,null,null,null,null,null,null,"F2AIFC35","FIESTA SE TA 5 PTAS"]
[null,null,null,null,null,null,null,null,null,null,null,null,null,null,null,null,null,null,null,null,null,null,null,null,null,null,null,null,null,null,null,null,null,null,"F2AIS","FIESTA SE TA 5 PTAS"]
[null,null,null,null,null,null,null,null,null,null,null,null,null,null,null,null,null,null,null,null,null,null,null,null,null,null,null,null,null,null,null,null,null,null,"F2AIS15","FIESTA SE TA 5 PTAS"]
[null,null,null,null,null,null,null,null,null,null,null,null,null,null,null,null,null,null,null,null,null,null,null,null,null,null,null,null,null,null,null,null,null,null,"F2AIS17","FIESTA SE TA 5 PTAS"]
[null,null,null,null,null,null,null,null,null,null,null,null,null,null,null,null,null,null,null,null,null,null,null,null,null,null,null,null,null,null,null,null,null,null,"F2AIS35","FIESTA SE TA 5 PTAS"]
[null,null,null,null,null,null,null,null,null,null,null,null,null,null,null,null,null,null,null,null,null,null,null,null,null,null,null,null,null,null,null,null,null,null,"F2AP8","FIESTA SE TA 5 PTAS"]
[null,null,null,null,null,null,null,null,null,null,null,null,null,null,null,null,null,null,null,null,null,null,null,null,null,null,null,null,null,null,null,null,null,null,"F2AR13","FIESTA SE TA 5 PTAS"]
[null,null,null,null,null,null,null,null,null,null,null,null,null,null,null,null,null,null,null,null,null,null,null,null,null,null,null,null,null,null,null,null,null,null,"F2ASG15","FIESTA SE TA 5 PTAS"]
[null,null,null,null,null,null,null,null,null,null,null,null,null,null,null,null,null,null,null,null,null,null,null,null,null,null,null,null,null,null,null,null,null,null,"F2ASG17","FIESTA SE TA 5 PTAS"]
[null,null,null,null,null,null,null,null,null,null,null,null,null,null,null,null,null,null,null,null,null,null,null,null,null,null,null,null,null,null,null,null,null,null,"F2ASG35","FIESTA SE TA 5 PTAS"]
[null,null,null,null,null,null,null,null,null,null,null,null,null,null,null,null,null,null,null,null,null,null,null,null,null,null,null,null,null,null,null,null,null,null,"F2ASS8","FIESTA SE TA 5 PTAS"]
[null,null,null,null,null,null,null,null,null,null,null,null,null,null,null,null,null,null,null,null,null,null,null,null,null,null,null,null,null,null,null,null,null,null,"F2B1+3/4","FIESTA SE TM 5 PTAS"]
[null,null,null,null,null,null,null,null,null,null,null,null,null,null,null,null,null,null,null,null,null,null,null,null,null,null,null,null,null,null,null,null,null,null,"F2B-14SS8","FIESTA SE TM 5 PTAS"]
[null,null,null,null,null,null,null,null,null,null,null,null,null,null,null,null,null,null,null,null,null,null,null,null,null,null,null,null,null,null,null,null,null,null,"F2B6IC15","FIESTA SE TM 5 PTAS"]
[null,null,null,null,null,null,null,null,null,null,null,null,null,null,null,null,null,null,null,null,null,null,null,null,null,null,null,null,null,null,null,null,null,null,"F2B6IC17","FIESTA SE TM 5 PTAS"]
[null,null,null,null,null,null,null,null,null,null,null,null,null,null,null,null,null,null,null,null,null,null,null,null,null,null,null,null,null,null,null,null,null,null,"F2B6SG15","FIESTA SE TM 5 PTAS"]
[null,null,null,null,null,null,null,null,null,null,null,null,null,null,null,null,null,null,null,null,null,null,null,null,null,null,null,null,null,null,null,null,null,null,"F2B6SG17","FIESTA SE TM 5 PTAS"]
[null,null,null,null,null,null,null,null,null,null,null,null,null,null,null,null,null,null,null,null,null,null,null,null,null,null,null,null,null,null,null,null,null,null,"F2B6SS8","FIESTA SE TM 5 PTAS"]
[null,null,null,null,null,null,null,null,null,null,null,null,null,null,null,null,null,null,null,null,null,null,null,null,null,null,null,null,null,null,null,null,null,null,"F2B7SS8","FIESTA SE TM 5 PTAS"]
[null,null,null,null,null,null,null,null,null,null,null,null,null,null,null,null,null,null,null,null,null,null,null,null,null,null,null,null,null,null,null,null,null,null,"F2B8S","FIESTA SE TM 5 PTAS"]
[null,null,null,null,null,null,null,null,null,null,null,null,null,null,null,null,null,null,null,null,null,null,null,null,null,null,null,null,null,null,null,null,null,null,"F2BBF10","FIESTA SE TM 5 PTAS"]
[null,null,null,null,null,null,null,null,null,null,null,null,null,null,null,null,null,null,null,null,null,null,null,null,null,null,null,null,null,null,null,null,null,null,"F2BCA1","FIESTA SE TM 5 PTAS"]
[null,null,null,null,null,null,null,null,null,null,null,null,null,null,null,null,null,null,null,null,null,null,null,null,null,null,null,null,null,null,null,null,null,null,"F2BE8","FIESTA SE TM 5 PTAS"]
[null,null,null,null,null,null,null,null,null,null,null,null,null,null,null,null,null,null,null,null,null,null,null,null,null,null,null,null,null,null,null,null,null,null,"F2BEF","FIESTA SE TM 5 PTAS"]
[null,null,null,null,null,null,null,null,null,null,null,null,null,null,null,null,null,null,null,null,null,null,null,null,null,null,null,null,null,null,null,null,null,null,"F2BIC15","FIESTA SE TM 5 PTAS"]
[null,null,null,null,null,null,null,null,null,null,null,null,null,null,null,null,null,null,null,null,null,null,null,null,null,null,null,null,null,null,null,null,null,null,"F2BIC17","FIESTA SE TM 5 PTAS"]
[null,null,null,null,null,null,null,null,null,null,null,null,null,null,null,null,null,null,null,null,null,null,null,null,null,null,null,null,null,null,null,null,null,null,"F2BIC35","FIESTA SE TM 5 PTAS"]
[null,null,null,null,null,null,null,null,null,null,null,null,null,null,null,null,null,null,null,null,null,null,null,null,null,null,null,null,null,null,null,null,null,null,"F2BIFC","FIESTA SE TM 5 PTAS"]
[null,null,null,null,null,null,null,null,null,null,null,null,null,null,null,null,null,null,null,null,null,null,null,null,null,null,null,null,null,null,null,null,null,null,"F2BIFC15","FIESTA SE TM 5 PTAS"]
[null,null,null,null,null,null,null,null,null,null,null,null,null,null,null,null,null,null,null,null,null,null,null,null,null,null,null,null,null,null,null,null,null,null,"F2BIFC17","FIESTA SE TM 5 PTAS"]
[null,null,null,null,null,null,null,null,null,null,null,null,null,null,null,null,null,null,null,null,null,null,null,null,null,null,null,null,null,null,null,null,null,null,"F2BIFC35","FIESTA SE TM 5 PTAS"]
[null,null,null,null,null,null,null,null,null,null,null,null,null,null,null,null,null,null,null,null,null,null,null,null,null,null,null,null,null,null,null,null,null,null,"F2BIS","FIESTA SE TM 5 PTAS"]
[null,null,null,null,null,null,null,null,null,null,null,null,null,null,null,null,null,null,null,null,null,null,null,null,null,null,null,null,null,null,null,null,null,null,"F2BIS15","FIESTA SE TM 5 PTAS"]
[null,null,null,null,null,null,null,null,null,null,null,null,null,null,null,null,null,null,null,null,null,null,null,null,null,null,null,null,null,null,null,null,null,null,"F2BIS17","FIESTA SE TM 5 PTAS"]
[null,null,null,null,null,null,null,null,null,null,null,null,null,null,null,null,null,null,null,null,null,null,null,null,null,null,null,null,null,null,null,null,null,null,"F2BIS35","FIESTA SE TM 5 PTAS"]
[null,null,null,null,null,null,null,null,null,null,null,null,null,null,null,null,null,null,null,null,null,null,null,null,null,null,null,null,null,null,null,null,null,null,"F2BP8","FIESTA SE TM 5 PTAS"]
[null,null,null,null,null,null,null,null,null,null,null,null,null,null,null,null,null,null,null,null,null,null,null,null,null,null,null,null,null,null,null,null,null,null,"F2BR13","FIESTA SE TM 5 PTAS"]
[null,null,null,null,null,null,null,null,null,null,null,null,null,null,null,null,null,null,null,null,null,null,null,null,null,null,null,null,null,null,null,null,null,null,"F2BSG15","FIESTA SE TM 5 PTAS"]
[null,null,null,null,null,null,null,null,null,null,null,null,null,null,null,null,null,null,null,null,null,null,null,null,null,null,null,null,null,null,null,null,null,null,"F2BSG17","FIESTA SE TM 5 PTAS"]
[null,null,null,null,null,null,null,null,null,null,null,null,null,null,null,null,null,null,null,null,null,null,null,null,null,null,null,null,null,null,null,null,null,null,"F2BSG35","FIESTA SE TM 5 PTAS"]
[null,null,null,null,null,null,null,null,null,null,null,null,null,null,null,null,null,null,null,null,null,null,null,null,null,null,null,null,null,null,null,null,null,null,"F2BSS8","FIESTA SE TM 5 PTAS"]
[null,null,null,null,null,null,null,null,null,null,null,null,null,null,null,null,null,null,null,null,null,null,null,null,null,null,null,null,null,null,null,null,null,null,"F2C/21+3/4","FIESTA SE TA 4 PTAS SIN QUEMACOCOS"]
[null,null,null,null,null,null,null,null,null,null,null,null,null,null,null,null,null,null,null,null,null,null,null,null,null,null,null,null,null,null,null,null,null,null,"F2C/28S","FIESTA SE TA 4 PTAS SIN QUEMACOCOS"]
[null,null,null,null,null,null,null,null,null,null,null,null,null,null,null,null,null,null,null,null,null,null,null,null,null,null,null,null,null,null,null,null,null,null,"F2C/2BF10","FIESTA SE TA 4 PTAS SIN QUEMACOCOS"]
[null,null,null,null,null,null,null,null,null,null,null,null,null,null,null,null,null,null,null,null,null,null,null,null,null,null,null,null,null,null,null,null,null,null,"F2C/2CA1","FIESTA SE TA 4 PTAS SIN QUEMACOCOS"]
[null,null,null,null,null,null,null,null,null,null,null,null,null,null,null,null,null,null,null,null,null,null,null,null,null,null,null,null,null,null,null,null,null,null,"F2C/2E8","FIESTA SE TA 4 PTAS SIN QUEMACOCOS"]
[null,null,null,null,null,null,null,null,null,null,null,null,null,null,null,null,null,null,null,null,null,null,null,null,null,null,null,null,null,null,null,null,null,null,"F2C/2P8","FIESTA SE TA 4 PTAS SIN QUEMACOCOS"]
[null,null,null,null,null,null,null,null,null,null,null,null,null,null,null,null,null,null,null,null,null,null,null,null,null,null,null,null,null,null,null,null,null,null,"F2C1+3/4","FIESTA SE TA 4 PTAS"]
[null,null,null,null,null,null,null,null,null,null,null,null,null,null,null,null,null,null,null,null,null,null,null,null,null,null,null,null,null,null,null,null,null,null,"F2C-14SS8","FIESTA SE TA"]
[null,null,null,null,null,null,null,null,null,null,null,null,null,null,null,null,null,null,null,null,null,null,null,null,null,null,null,null,null,null,null,null,null,null,"F2C26IC15","FIESTA SE TA 4 PTAS SIN QUEMACOCOS"]
[null,null,null,null,null,null,null,null,null,null,null,null,null,null,null,null,null,null,null,null,null,null,null,null,null,null,null,null,null,null,null,null,null,null,"F2C26IC17","FIESTA SE TA 4 PTAS SIN QUEMACOCOS"]
[null,null,null,null,null,null,null,null,null,null,null,null,null,null,null,null,null,null,null,null,null,null,null,null,null,null,null,null,null,null,null,null,null,null,"F2C26SG15","FIESTA SE TA 4 PTAS SIN QUEMACOCOS"]
[null,null,null,null,null,null,null,null,null,null,null,null,null,null,null,null,null,null,null,null,null,null,null,null,null,null,null,null,null,null,null,null,null,null,"F2C26SG17","FIESTA SE TA 4 PTAS SIN QUEMACOCOS"]
[null,null,null,null,null,null,null,null,null,null,null,null,null,null,null,null,null,null,null,null,null,null,null,null,null,null,null,null,null,null,null,null,null,null,"F2C26SS8","FIESTA SE TA 4 PTAS SIN QUEMACOCOS"]
[null,null,null,null,null,null,null,null,null,null,null,null,null,null,null,null,null,null,null,null,null,null,null,null,null,null,null,null,null,null,null,null,null,null,"F2C27SS8","FIESTA SE TA 4 PTAS SIN QUEMACOCOS"]
[null,null,null,null,null,null,null,null,null,null,null,null,null,null,null,null,null,null,null,null,null,null,null,null,null,null,null,null,null,null,null,null,null,null,"F2C6IC15","FIESTA SE TA 4 PTAS"]
[null,null,null,null,null,null,null,null,null,null,null,null,null,null,null,null,null,null,null,null,null,null,null,null,null,null,null,null,null,null,null,null,null,null,"F2C6IC17","FIESTA SE TA 4 PTAS"]
[null,null,null,null,null,null,null,null,null,null,null,null,null,null,null,null,null,null,null,null,null,null,null,null,null,null,null,null,null,null,null,null,null,null,"F2C6SG15","FIESTA SE TA 4 PTAS"]
[null,null,null,null,null,null,null,null,null,null,null,null,null,null,null,null,null,null,null,null,null,null,null,null,null,null,null,null,null,null,null,null,null,null,"F2C6SG17","FIESTA SE TA 4 PTAS"]
[null,null,null,null,null,null,null,null,null,null,null,null,null,null,null,null,null,null,null,null,null,null,null,null,null,null,null,null,null,null,null,null,null,null,"F2C6SS8","FIESTA SE TA 4 PTAS"]
[null,null,null,null,null,null,null,null,null,null,null,null,null,null,null,null,null,null,null,null,null,null,null,null,null,null,null,null,null,null,null,null,null,null,"F2C7SS8","FIESTA SE TA 4 PTAS"]
[null,null,null,null,null,null,null,null,null,null,null,null,null,null,null,null,null,null,null,null,null,null,null,null,null,null,null,null,null,null,null,null,null,null,"F2C8S","FIESTA SE TA 4 PTAS"]
[null,null,null,null,null,null,null,null,null,null,null,null,null,null,null,null,null,null,null,null,null,null,null,null,null,null,null,null,null,null,null,null,null,null,"F2CBF10","FIESTA SE TA 4 PTAS"]
[null,null,null,null,null,null,null,null,null,null,null,null,null,null,null,null,null,null,null,null,null,null,null,null,null,null,null,null,null,null,null,null,null,null,"F2CCA1","FIESTA SE TA"]
[null,null,null,null,null,null,null,null,null,null,null,null,null,null,null,null,null,null,null,null,null,null,null,null,null,null,null,null,null,null,null,null,null,null,"F2CE8","FIESTA SE TA 4 PTAS"]
[null,null,null,null,null,null,null,null,null,null,null,null,null,null,null,null,null,null,null,null,null,null,null,null,null,null,null,null,null,null,null,null,null,null,"F2CEF","FIESTA SE TA"]
[null,null,null,null,null,null,null,null,null,null,null,null,null,null,null,null,null,null,null,null,null,null,null,null,null,null,null,null,null,null,null,null,null,null,"F2CIC15","FIESTA SE TA"]
[null,null,null,null,null,null,null,null,null,null,null,null,null,null,null,null,null,null,null,null,null,null,null,null,null,null,null,null,null,null,null,null,null,null,"F2CIC17","FIESTA SE TA"]
[null,null,null,null,null,null,null,null,null,null,null,null,null,null,null,null,null,null,null,null,null,null,null,null,null,null,null,null,null,null,null,null,null,null,"F2CIC35","FIESTA SE TA"]
[null,null,null,null,null,null,null,null,null,null,null,null,null,null,null,null,null,null,null,null,null,null,null,null,null,null,null,null,null,null,null,null,null,null,"F2CIFC","FIESTA SE TA"]
[null,null,null,null,null,null,null,null,null,null,null,null,null,null,null,null,null,null,null,null,null,null,null,null,null,null,null,null,null,null,null,null,null,null,"F2CIFC15","FIESTA SE TA"]
[null,null,null,null,null,null,null,null,null,null,null,null,null,null,null,null,null,null,null,null,null,null,null,null,null,null,null,null,null,null,null,null,null,null,"F2CIFC17","FIESTA SE TA"]
[null,null,null,null,null,null,null,null,null,null,null,null,null,null,null,null,null,null,null,null,null,null,null,null,null,null,null,null,null,null,null,null,null,null,"F2CIFC35","FIESTA SE TA"]
[null,null,null,null,null,null,null,null,null,null,null,null,null,null,null,null,null,null,null,null,null,null,null,null,null,null,null,null,null,null,null,null,null,null,"F2CIS","FIESTA SE TA"]
[null,null,null,null,null,null,null,null,null,null,null,null,null,null,null,null,null,null,null,null,null,null,null,null,null,null,null,null,null,null,null,null,null,null,"F2CIS15","FIESTA SE TA"]
[null,null,null,null,null,null,null,null,null,null,null,null,null,null,null,null,null,null,null,null,null,null,null,null,null,null,null,null,null,null,null,null,null,null,"F2CIS17","FIESTA SE TA"]
[null,null,null,null,null,null,null,null,null,null,null,null,null,null,null,null,null,null,null,null,null,null,null,null,null,null,null,null,null,null,null,null,null,null,"F2CIS35","FIESTA SE TA"]
[null,null,null,null,null,null,null,null,null,null,null,null,null,null,null,null,null,null,null,null,null,null,null,null,null,null,null,null,null,null,null,null,null,null,"F2CP8","FIESTA SE TA 4 PTAS"]
[null,null,null,null,null,null,null,null,null,null,null,null,null,null,null,null,null,null,null,null,null,null,null,null,null,null,null,null,null,null,null,null,null,null,"F2CR13","FIESTA SE TA"]
[null,null,null,null,null,null,null,null,null,null,null,null,null,null,null,null,null,null,null,null,null,null,null,null,null,null,null,null,null,null,null,null,null,null,"F2CSG15","FIESTA SE TA"]
[null,null,null,null,null,null,null,null,null,null,null,null,null,null,null,null,null,null,null,null,null,null,null,null,null,null,null,null,null,null,null,null,null,null,"F2CSG17","FIESTA SE TA"]
[null,null,null,null,null,null,null,null,null,null,null,null,null,null,null,null,null,null,null,null,null,null,null,null,null,null,null,null,null,null,null,null,null,null,"F2CSG35","FIESTA SE TA"]
[null,null,null,null,null,null,null,null,null,null,null,null,null,null,null,null,null,null,null,null,null,null,null,null,null,null,null,null,null,null,null,null,null,null,"F2CSS8","FIESTA SE TA"]
[null,null,null,null,null,null,null,null,null,null,null,null,null,null,null,null,null,null,null,null,null,null,null,null,null,null,null,null,null,null,null,null,null,null,"F2D/21+3/4","FIESTA SE TM 4 PTAS SIN QUEMACOCOS"]
[null,null,null,null,null,null,null,null,null,null,null,null,null,null,null,null,null,null,null,null,null,null,null,null,null,null,null,null,null,null,null,null,null,null,"F2D/28S","FIESTA SE TM 4 PTAS SIN QUEMACOCOS"]
[null,null,null,null,null,null,null,null,null,null,null,null,null,null,null,null,null,null,null,null,null,null,null,null,null,null,null,null,null,null,null,null,null,null,"F2D/2BF10","FIESTA SE TM 4 PTAS SIN QUEMACOCOS"]
[null,null,null,null,null,null,null,null,null,null,null,null,null,null,null,null,null,null,null,null,null,null,null,null,null,null,null,null,null,null,null,null,null,null,"F2D/2CA1","FIESTA SE TM 4 PTAS SIN QUEMACOCOS"]
[null,null,null,null,null,null,null,null,null,null,null,null,null,null,null,null,null,null,null,null,null,null,null,null,null,null,null,null,null,null,null,null,null,null,"F2D/2E8","FIESTA SE TM 4 PTAS SIN QUEMACOCOS"]
[null,null,null,null,null,null,null,null,null,null,null,null,null,null,null,null,null,null,null,null,null,null,null,null,null,null,null,null,null,null,null,null,null,null,"F2D/2P8","FIESTA SE TM 4 PTAS SIN QUEMACOCOS"]
[null,null,null,null,null,null,null,null,null,null,null,null,null,null,null,null,null,null,null,null,null,null,null,null,null,null,null,null,null,null,null,null,null,null,"F2D1+3/4","FIESTA SE TM 4 PTAS"]
[null,null,null,null,null,null,null,null,null,null,null,null,null,null,null,null,null,null,null,null,null,null,null,null,null,null,null,null,null,null,null,null,null,null,"F2D-14SS8","FIESTA SE TM"]
[null,null,null,null,null,null,null,null,null,null,null,null,null,null,null,null,null,null,null,null,null,null,null,null,null,null,null,null,null,null,null,null,null,null,"F2D26IC15","FIESTA SE TM 4 PTAS SIN QUEMACOCOS"]
[null,null,null,null,null,null,null,null,null,null,null,null,null,null,null,null,null,null,null,null,null,null,null,null,null,null,null,null,null,null,null,null,null,null,"F2D26IC17","FIESTA SE TM 4 PTAS SIN QUEMACOCOS"]
[null,null,null,null,null,null,null,null,null,null,null,null,null,null,null,null,null,null,null,null,null,null,null,null,null,null,null,null,null,null,null,null,null,null,"F2D26SG15","FIESTA SE TM 4 PTAS SIN QUEMACOCOS"]
[null,null,null,null,null,null,null,null,null,null,null,null,null,null,null,null,null,null,null,null,null,null,null,null,null,null,null,null,null,null,null,null,null,null,"F2D26SG17","FIESTA SE TM 4 PTAS SIN QUEMACOCOS"]
[null,null,null,null,null,null,null,null,null,null,null,null,null,null,null,null,null,null,null,null,null,null,null,null,null,null,null,null,null,null,null,null,null,null,"F2D26SS8","FIESTA SE TM 4 PTAS SIN QUEMACOCOS"]
[null,null,null,null,null,null,null,null,null,null,null,null,null,null,null,null,null,null,null,null,null,null,null,null,null,null,null,null,null,null,null,null,null,null,"F2D27SS8","FIESTA SE TM 4 PTAS SIN QUEMACOCOS"]
[null,null,null,null,null,null,null,null,null,null,null,null,null,null,null,null,null,null,null,null,null,null,null,null,null,null,null,null,null,null,null,null,null,null,"F2D6IC15","FIESTA SE TM 4 PTAS"]
[null,null,null,null,null,null,null,null,null,null,null,null,null,null,null,null,null,null,null,null,null,null,null,null,null,null,null,null,null,null,null,null,null,null,"F2D6IC17","FIESTA SE TM 4 PTAS"]
[null,null,null,null,null,null,null,null,null,null,null,null,null,null,null,null,null,null,null,null,null,null,null,null,null,null,null,null,null,null,null,null,null,null,"F2D6SG15","FIESTA SE TM 4 PTAS"]
[null,null,null,null,null,null,null,null,null,null,null,null,null,null,null,null,null,null,null,null,null,null,null,null,null,null,null,null,null,null,null,null,null,null,"F2D6SG17","FIESTA SE TM 4 PTAS"]
[null,null,null,null,null,null,null,null,null,null,null,null,null,null,null,null,null,null,null,null,null,null,null,null,null,null,null,null,null,null,null,null,null,null,"F2D6SS8","FIESTA SE TM 4 PTAS"]
[null,null,null,null,null,null,null,null,null,null,null,null,null,null,null,null,null,null,null,null,null,null,null,null,null,null,null,null,null,null,null,null,null,null,"F2D7SS8","FIESTA SE TM 4 PTAS"]
[null,null,null,null,null,null,null,null,null,null,null,null,null,null,null,null,null,null,null,null,null,null,null,null,null,null,null,null,null,null,null,null,null,null,"F2D8S","FIESTA SE TM 4 PTAS"]
[null,null,null,null,null,null,null,null,null,null,null,null,null,null,null,null,null,null,null,null,null,null,null,null,null,null,null,null,null,null,null,null,null,null,"F2DBF10","FIESTA SE TM 4 PTAS"]
[null,null,null,null,null,null,null,null,null,null,null,null,null,null,null,null,null,null,null,null,null,null,null,null,null,null,null,null,null,null,null,null,null,null,"F2DCA1","FIESTA SE TM"]
[null,null,null,null,null,null,null,null,null,null,null,null,null,null,null,null,null,null,null,null,null,null,null,null,null,null,null,null,null,null,null,null,null,null,"F2DE8","FIESTA SE TM 4 PTAS"]
[null,null,null,null,null,null,null,null,null,null,null,null,null,null,null,null,null,null,null,null,null,null,null,null,null,null,null,null,null,null,null,null,null,null,"F2DEF","FIESTA SE TM"]
[null,null,null,null,null,null,null,null,null,null,null,null,null,null,null,null,null,null,null,null,null,null,null,null,null,null,null,null,null,null,null,null,null,null,"F2DIC15","FIESTA SE TM"]
[null,null,null,null,null,null,null,null,null,null,null,null,null,null,null,null,null,null,null,null,null,null,null,null,null,null,null,null,null,null,null,null,null,null,"F2DIC17","FIESTA SE TM"]
[null,null,null,null,null,null,null,null,null,null,null,null,null,null,null,null,null,null,null,null,null,null,null,null,null,null,null,null,null,null,null,null,null,null,"F2DIC35","FIESTA SE TM"]
[null,null,null,null,null,null,null,null,null,null,null,null,null,null,null,null,null,null,null,null,null,null,null,null,null,null,null,null,null,null,null,null,null,null,"F2DIFC","FIESTA SE TM"]
[null,null,null,null,null,null,null,null,null,null,null,null,null,null,null,null,null,null,null,null,null,null,null,null,null,null,null,null,null,null,null,null,null,null,"F2DIFC15","FIESTA SE TM"]
[null,null,null,null,null,null,null,null,null,null,null,null,null,null,null,null,null,null,null,null,null,null,null,null,null,null,null,null,null,null,null,null,null,null,"F2DIFC17","FIESTA SE TM"]
[null,null,null,null,null,null,null,null,null,null,null,null,null,null,null,null,null,null,null,null,null,null,null,null,null,null,null,null,null,null,null,null,null,null,"F2DIFC35","FIESTA SE TM"]
[null,null,null,null,null,null,null,null,null,null,null,null,null,null,null,null,null,null,null,null,null,null,null,null,null,null,null,null,null,null,null,null,null,null,"F2DIS","FIESTA SE TM"]
[null,null,null,null,null,null,null,null,null,null,null,null,null,null,null,null,null,null,null,null,null,null,null,null,null,null,null,null,null,null,null,null,null,null,"F2DIS15","FIESTA SE TM"]
[null,null,null,null,null,null,null,null,null,null,null,null,null,null,null,null,null,null,null,null,null,null,null,null,null,null,null,null,null,null,null,null,null,null,"F2DIS17","FIESTA SE TM"]
[null,null,null,null,null,null,null,null,null,null,null,null,null,null,null,null,null,null,null,null,null,null,null,null,null,null,null,null,null,null,null,null,null,null,"F2DIS35","FIESTA SE TM"]
[null,null,null,null,null,null,null,null,null,null,null,null,null,null,null,null,null,null,null,null,null,null,null,null,null,null,null,null,null,null,null,null,null,null,"F2DP8","FIESTA SE TM 4 PTAS"]
[null,null,null,null,null,null,null,null,null,null,null,null,null,null,null,null,null,null,null,null,null,null,null,null,null,null,null,null,null,null,null,null,null,null,"F2DR13","FIESTA SE TM"]
[null,null,null,null,null,null,null,null,null,null,null,null,null,null,null,null,null,null,null,null,null,null,null,null,null,null,null,null,null,null,null,null,null,null,"F2DSG15","FIESTA SE TM"]
[null,null,null,null,null,null,null,null,null,null,null,null,null,null,null,null,null,null,null,null,null,null,null,null,null,null,null,null,null,null,null,null,null,null,"F2DSG17","FIESTA SE TM"]
[null,null,null,null,null,null,null,null,null,null,null,null,null,null,null,null,null,null,null,null,null,null,null,null,null,null,null,null,null,null,null,null,null,null,"F2DSG35","FIESTA SE TM"]
[null,null,null,null,null,null,null,null,null,null,null,null,null,null,null,null,null,null,null,null,null,null,null,null,null,null,null,null,null,null,null,null,null,null,"F2DSS8","FIESTA SE TM"]
[null,null,null,null,null,null,null,null,null,null,null,null,null,null,null,null,null,null,null,null,null,null,null,null,null,null,null,null,null,null,null,null,null,null,"F3B1+3/4","FIESTA S TM 5 PTAS"]
[null,null,null,null,null,null,null,null,null,null,null,null,null,null,null,null,null,null,null,null,null,null,null,null,null,null,null,null,null,null,null,null,null,null,"F3B-14SS8","FIESTA S TM 5 PTAS"]
[null,null,null,null,null,null,null,null,null,null,null,null,null,null,null,null,null,null,null,null,null,null,null,null,null,null,null,null,null,null,null,null,null,null,"F3B6IC15","FIESTA S TM 5 PTAS"]
[null,null,null,null,null,null,null,null,null,null,null,null,null,null,null,null,null,null,null,null,null,null,null,null,null,null,null,null,null,null,null,null,null,null,"F3B6IC17","FIESTA S TM 5 PTAS"]
[null,null,null,null,null,null,null,null,null,null,null,null,null,null,null,null,null,null,null,null,null,null,null,null,null,null,null,null,null,null,null,null,null,null,"F3B6SG15","FIESTA S TM 5 PTAS"]
[null,null,null,null,null,null,null,null,null,null,null,null,null,null,null,null,null,null,null,null,null,null,null,null,null,null,null,null,null,null,null,null,null,null,"F3B6SG17","FIESTA S TM 5 PTAS"]
[null,null,null,null,null,null,null,null,null,null,null,null,null,null,null,null,null,null,null,null,null,null,null,null,null,null,null,null,null,null,null,null,null,null,"F3B6SS8","FIESTA S TM 5 PTAS"]
[null,null,null,null,null,null,null,null,null,null,null,null,null,null,null,null,null,null,null,null,null,null,null,null,null,null,null,null,null,null,null,null,null,null,"F3B8S","FIESTA S TM 5 PTAS"]
[null,null,null,null,null,null,null,null,null,null,null,null,null,null,null,null,null,null,null,null,null,null,null,null,null,null,null,null,null,null,null,null,null,null,"F3BBF10","FIESTA S TM 5 PTAS"]
[null,null,null,null,null,null,null,null,null,null,null,null,null,null,null,null,null,null,null,null,null,null,null,null,null,null,null,null,null,null,null,null,null,null,"F3BBF15","FIESTA S TM 5 PTAS"]
[null,null,null,null,null,null,null,null,null,null,null,null,null,null,null,null,null,null,null,null,null,null,null,null,null,null,null,null,null,null,null,null,null,null,"F3BBF17","FIESTA S TM 5 PTAS"]
[null,null,null,null,null,null,null,null,null,null,null,null,null,null,null,null,null,null,null,null,null,null,null,null,null,null,null,null,null,null,null,null,null,null,"F3BCA1","FIESTA S TM 5 PTAS"]
[null,null,null,null,null,null,null,null,null,null,null,null,null,null,null,null,null,null,null,null,null,null,null,null,null,null,null,null,null,null,null,null,null,null,"F3BE8","FIESTA S TM 5 PTAS"]
[null,null,null,null,null,null,null,null,null,null,null,null,null,null,null,null,null,null,null,null,null,null,null,null,null,null,null,null,null,null,null,null,null,null,"F3BEF","FIESTA S TM 5 PTAS"]
[null,null,null,null,null,null,null,null,null,null,null,null,null,null,null,null,null,null,null,null,null,null,null,null,null,null,null,null,null,null,null,null,null,null,"F3BIC15","FIESTA S TM 5 PTAS"]
[null,null,null,null,null,null,null,null,null,null,null,null,null,null,null,null,null,null,null,null,null,null,null,null,null,null,null,null,null,null,null,null,null,null,"F3BIC17","FIESTA S TM 5 PTAS"]
[null,null,null,null,null,null,null,null,null,null,null,null,null,null,null,null,null,null,null,null,null,null,null,null,null,null,null,null,null,null,null,null,null,null,"F3BIC35","FIESTA S TM 5 PTAS"]
[null,null,null,null,null,null,null,null,null,null,null,null,null,null,null,null,null,null,null,null,null,null,null,null,null,null,null,null,null,null,null,null,null,null,"F3BIFC","FIESTA S TM 5 PTAS"]
[null,null,null,null,null,null,null,null,null,null,null,null,null,null,null,null,null,null,null,null,null,null,null,null,null,null,null,null,null,null,null,null,null,null,"F3BIFC15","FIESTA S TM 5 PTAS"]
[null,null,null,null,null,null,null,null,null,null,null,null,null,null,null,null,null,null,null,null,null,null,null,null,null,null,null,null,null,null,null,null,null,null,"F3BIFC17","FIESTA S TM 5 PTAS"]
[null,null,null,null,null,null,null,null,null,null,null,null,null,null,null,null,null,null,null,null,null,null,null,null,null,null,null,null,null,null,null,null,null,null,"F3BIFC35","FIESTA S TM 5 PTAS"]
[null,null,null,null,null,null,null,null,null,null,null,null,null,null,null,null,null,null,null,null,null,null,null,null,null,null,null,null,null,null,null,null,null,null,"F3BIS","FIESTA S TM 5 PTAS"]
[null,null,null,null,null,null,null,null,null,null,null,null,null,null,null,null,null,null,null,null,null,null,null,null,null,null,null,null,null,null,null,null,null,null,"F3BIS15","FIESTA S TM 5 PTAS"]
[null,null,null,null,null,null,null,null,null,null,null,null,null,null,null,null,null,null,null,null,null,null,null,null,null,null,null,null,null,null,null,null,null,null,"F3BIS17","FIESTA S TM 5 PTAS"]
[null,null,null,null,null,null,null,null,null,null,null,null,null,null,null,null,null,null,null,null,null,null,null,null,null,null,null,null,null,null,null,null,null,null,"F3BIS35","FIESTA S TM 5 PTAS"]
[null,null,null,null,null,null,null,null,null,null,null,null,null,null,null,null,null,null,null,null,null,null,null,null,null,null,null,null,null,null,null,null,null,null,"F3BP8","FIESTA S TM 5 PTAS"]
[null,null,null,null,null,null,null,null,null,null,null,null,null,null,null,null,null,null,null,null,null,null,null,null,null,null,null,null,null,null,null,null,null,null,"F3BR13","FIESTA S TM 5 PTAS"]
[null,null,null,null,null,null,null,null,null,null,null,null,null,null,null,null,null,null,null,null,null,null,null,null,null,null,null,null,null,null,null,null,null,null,"F3BSG15","FIESTA S TM 5 PTAS"]
[null,null,null,null,null,null,null,null,null,null,null,null,null,null,null,null,null,null,null,null,null,null,null,null,null,null,null,null,null,null,null,null,null,null,"F3BSG17","FIESTA S TM 5 PTAS"]
[null,null,null,null,null,null,null,null,null,null,null,null,null,null,null,null,null,null,null,null,null,null,null,null,null,null,null,null,null,null,null,null,null,null,"F3BSG35","FIESTA S TM 5 PTAS"]
[null,null,null,null,null,null,null,null,null,null,null,null,null,null,null,null,null,null,null,null,null,null,null,null,null,null,null,null,null,null,null,null,null,null,"F3BSS8","FIESTA S TM 5 PTAS"]
[null,null,null,null,null,null,null,null,null,null,null,null,null,null,null,null,null,null,null,null,null,null,null,null,null,null,null,null,null,null,null,null,null,null,"F3C1+3/4","FIESTA S TA 4 PTAS"]
[null,null,null,null,null,null,null,null,null,null,null,null,null,null,null,null,null,null,null,null,null,null,null,null,null,null,null,null,null,null,null,null,null,null,"F3C-14SS8","FIESTA S TA"]
[null,null,null,null,null,null,null,null,null,null,null,null,null,null,null,null,null,null,null,null,null,null,null,null,null,null,null,null,null,null,null,null,null,null,"F3C6IC15","FIESTA S TA 4 PTAS"]
[null,null,null,null,null,null,null,null,null,null,null,null,null,null,null,null,null,null,null,null,null,null,null,null,null,null,null,null,null,null,null,null,null,null,"F3C6IC17","FIESTA S TA 4 PTAS"]
[null,null,null,null,null,null,null,null,null,null,null,null,null,null,null,null,null,null,null,null,null,null,null,null,null,null,null,null,null,null,null,null,null,null,"F3C6SG15","FIESTA S TA 4 PTAS"]
[null,null,null,null,null,null,null,null,null,null,null,null,null,null,null,null,null,null,null,null,null,null,null,null,null,null,null,null,null,null,null,null,null,null,"F3C6SG17","FIESTA S TA 4 PTAS"]
[null,null,null,null,null,null,null,null,null,null,null,null,null,null,null,null,null,null,null,null,null,null,null,null,null,null,null,null,null,null,null,null,null,null,"F3C6SS8","FIESTA S TA 4 PTAS"]
[null,null,null,null,null,null,null,null,null,null,null,null,null,null,null,null,null,null,null,null,null,null,null,null,null,null,null,null,null,null,null,null,null,null,"F3C7SS8","FIESTA S TA 4 PTAS"]
[null,null,null,null,null,null,null,null,null,null,null,null,null,null,null,null,null,null,null,null,null,null,null,null,null,null,null,null,null,null,null,null,null,null,"F3C8S","FIESTA S TA 4 PTAS"]
[null,null,null,null,null,null,null,null,null,null,null,null,null,null,null,null,null,null,null,null,null,null,null,null,null,null,null,null,null,null,null,null,null,null,"F3CBF10","FIESTA S TA 4 PTAS"]
[null,null,null,null,null,null,null,null,null,null,null,null,null,null,null,null,null,null,null,null,null,null,null,null,null,null,null,null,null,null,null,null,null,null,"F3CBF15","FIESTA S TA 4 PTAS"]
[null,null,null,null,null,null,null,null,null,null,null,null,null,null,null,null,null,null,null,null,null,null,null,null,null,null,null,null,null,null,null,null,null,null,"F3CBF17","FIESTA S TA 4 PTAS"]
[null,null,null,null,null,null,null,null,null,null,null,null,null,null,null,null,null,null,null,null,null,null,null,null,null,null,null,null,null,null,null,null,null,null,"F3CCA1","FIESTA S TA"]
[null,null,null,null,null,null,null,null,null,null,null,null,null,null,null,null,null,null,null,null,null,null,null,null,null,null,null,null,null,null,null,null,null,null,"F3CE8","FIESTA S TA 4 PTAS"]
[null,null,null,null,null,null,null,null,null,null,null,null,null,null,null,null,null,null,null,null,null,null,null,null,null,null,null,null,null,null,null,null,null,null,"F3CEF","FIESTA S TA"]
[null,null,null,null,null,null,null,null,null,null,null,null,null,null,null,null,null,null,null,null,null,null,null,null,null,null,null,null,null,null,null,null,null,null,"F3CIC15","FIESTA S TA"]
[null,null,null,null,null,null,null,null,null,null,null,null,null,null,null,null,null,null,null,null,null,null,null,null,null,null,null,null,null,null,null,null,null,null,"F3CIC17","FIESTA S TA"]
[null,null,null,null,null,null,null,null,null,null,null,null,null,null,null,null,null,null,null,null,null,null,null,null,null,null,null,null,null,null,null,null,null,null,"F3CIC35","FIESTA S TA"]
[null,null,null,null,null,null,null,null,null,null,null,null,null,null,null,null,null,null,null,null,null,null,null,null,null,null,null,null,null,null,null,null,null,null,"F3CIFC","FIESTA S TA"]
[null,null,null,null,null,null,null,null,null,null,null,null,null,null,null,null,null,null,null,null,null,null,null,null,null,null,null,null,null,null,null,null,null,null,"F3CIFC15","FIESTA S TA"]
[null,null,null,null,null,null,null,null,null,null,null,null,null,null,null,null,null,null,null,null,null,null,null,null,null,null,null,null,null,null,null,null,null,null,"F3CIFC17","FIESTA S TA"]
[null,null,null,null,null,null,null,null,null,null,null,null,null,null,null,null,null,null,null,null,null,null,null,null,null,null,null,null,null,null,null,null,null,null,"F3CIFC35","FIESTA S TA"]
[null,null,null,null,null,null,null,null,null,null,null,null,null,null,null,null,null,null,null,null,null,null,null,null,null,null,null,null,null,null,null,null,null,null,"F3CIS","FIESTA S TA"]
[null,null,null,null,null,null,null,null,null,null,null,null,null,null,null,null,null,null,null,null,null,null,null,null,null,null,null,null,null,null,null,null,null,null,"F3CIS15","FIESTA S TA"]
[null,null,null,null,null,null,null,null,null,null,null,null,null,null,null,null,null,null,null,null,null,null,null,null,null,null,null,null,null,null,null,null,null,null,"F3CIS17","FIESTA S TA"]
[null,null,null,null,null,null,null,null,null,null,null,null,null,null,null,null,null,null,null,null,null,null,null,null,null,null,null,null,null,null,null,null,null,null,"F3CIS35","FIESTA S TA"]
[null,null,null,null,null,null,null,null,null,null,null,null,null,null,null,null,null,null,null,null,null,null,null,null,null,null,null,null,null,null,null,null,null,null,"F3CP8","FIESTA S TA 4 PTAS"]
[null,null,null,null,null,null,null,null,null,null,null,null,null,null,null,null,null,null,null,null,null,null,null,null,null,null,null,null,null,null,null,null,null,null,"F3CR13","FIESTA S TA"]
[null,null,null,null,null,null,null,null,null,null,null,null,null,null,null,null,null,null,null,null,null,null,null,null,null,null,null,null,null,null,null,null,null,null,"F3CSG15","FIESTA S TA"]
[null,null,null,null,null,null,null,null,null,null,null,null,null,null,null,null,null,null,null,null,null,null,null,null,null,null,null,null,null,null,null,null,null,null,"F3CSG17","FIESTA S TA"]
[null,null,null,null,null,null,null,null,null,null,null,null,null,null,null,null,null,null,null,null,null,null,null,null,null,null,null,null,null,null,null,null,null,null,"F3CSG35","FIESTA S TA"]
[null,null,null,null,null,null,null,null,null,null,null,null,null,null,null,null,null,null,null,null,null,null,null,null,null,null,null,null,null,null,null,null,null,null,"F3CSS8","FIESTA S TA"]
[null,null,null,null,null,null,null,null,null,null,null,null,null,null,null,null,null,null,null,null,null,null,null,null,null,null,null,null,null,null,null,null,null,null,"F3D1+3/4","FIESTA S TM 4 PTAS"]
[null,null,null,null,null,null,null,null,null,null,null,null,null,null,null,null,null,null,null,null,null,null,null,null,null,null,null,null,null,null,null,null,null,null,"F3D-14SS8","FIESTA S TM"]
[null,null,null,null,null,null,null,null,null,null,null,null,null,null,null,null,null,null,null,null,null,null,null,null,null,null,null,null,null,null,null,null,null,null,"F3D33815","FIESTA S TM"]
[null,null,null,null,null,null,null,null,null,null,null,null,null,null,null,null,null,null,null,null,null,null,null,null,null,null,null,null,null,null,null,null,null,null,"F3D6IC15","FIESTA S TM 4 PTAS"]
[null,null,null,null,null,null,null,null,null,null,null,null,null,null,null,null,null,null,null,null,null,null,null,null,null,null,null,null,null,null,null,null,null,null,"F3D6IC17","FIESTA S TM 4 PTAS"]
[null,null,null,null,null,null,null,null,null,null,null,null,null,null,null,null,null,null,null,null,null,null,null,null,null,null,null,null,null,null,null,null,null,null,"F3D6SG15","FIESTA S TM 4 PTAS"]
[null,null,null,null,null,null,null,null,null,null,null,null,null,null,null,null,null,null,null,null,null,null,null,null,null,null,null,null,null,null,null,null,null,null,"F3D6SG17","FIESTA S TM 4 PTAS"]
[null,null,null,null,null,null,null,null,null,null,null,null,null,null,null,null,null,null,null,null,null,null,null,null,null,null,null,null,null,null,null,null,null,null,"F3D6SS8","FIESTA S TM 4 PTAS"]
[null,null,null,null,null,null,null,null,null,null,null,null,null,null,null,null,null,null,null,null,null,null,null,null,null,null,null,null,null,null,null,null,null,null,"F3D7SS8","FIESTA S TM 4 PTAS"]
[null,null,null,null,null,null,null,null,null,null,null,null,null,null,null,null,null,null,null,null,null,null,null,null,null,null,null,null,null,null,null,null,null,null,"F3D8S","FIESTA S TM 4 PTAS"]
[null,null,null,null,null,null,null,null,null,null,null,null,null,null,null,null,null,null,null,null,null,null,null,null,null,null,null,null,null,null,null,null,null,null,"F3DBF10","FIESTA S TM 4 PTAS"]
[null,null,null,null,null,null,null,null,null,null,null,null,null,null,null,null,null,null,null,null,null,null,null,null,null,null,null,null,null,null,null,null,null,null,"F3DBF15","FIESTA S TM 4 PTAS"]
[null,null,null,null,null,null,null,null,null,null,null,null,null,null,null,null,null,null,null,null,null,null,null,null,null,null,null,null,null,null,null,null,null,null,"F3DBF17","FIESTA S TM 4 PTAS"]
[null,null,null,null,null,null,null,null,null,null,null,null,null,null,null,null,null,null,null,null,null,null,null,null,null,null,null,null,null,null,null,null,null,null,"F3DCA1","FIESTA S TM"]
[null,null,null,null,null,null,null,null,null,null,null,null,null,null,null,null,null,null,null,null,null,null,null,null,null,null,null,null,null,null,null,null,null,null,"F3DE8","FIESTA S TM 4 PTAS"]
[null,null,null,null,null,null,null,null,null,null,null,null,null,null,null,null,null,null,null,null,null,null,null,null,null,null,null,null,null,null,null,null,null,null,"F3DEF","FIESTA S TM"]
[null,null,null,null,null,null,null,null,null,null,null,null,null,null,null,null,null,null,null,null,null,null,null,null,null,null,null,null,null,null,null,null,null,null,"F3DIC15","FIESTA S TM"]
[null,null,null,null,null,null,null,null,null,null,null,null,null,null,null,null,null,null,null,null,null,null,null,null,null,null,null,null,null,null,null,null,null,null,"F3DIC17","FIESTA S TM"]
[null,null,null,null,null,null,null,null,null,null,null,null,null,null,null,null,null,null,null,null,null,null,null,null,null,null,null,null,null,null,null,null,null,null,"F3DIC35","FIESTA S TM"]
[null,null,null,null,null,null,null,null,null,null,null,null,null,null,null,null,null,null,null,null,null,null,null,null,null,null,null,null,null,null,null,null,null,null,"F3DIFC","FIESTA S TM"]
[null,null,null,null,null,null,null,null,null,null,null,null,null,null,null,null,null,null,null,null,null,null,null,null,null,null,null,null,null,null,null,null,null,null,"F3DIFC15","FIESTA S TM"]
[null,null,null,null,null,null,null,null,null,null,null,null,null,null,null,null,null,null,null,null,null,null,null,null,null,null,null,null,null,null,null,null,null,null,"F3DIFC17","FIESTA S TM"]
[null,null,null,null,null,null,null,null,null,null,null,null,null,null,null,null,null,null,null,null,null,null,null,null,null,null,null,null,null,null,null,null,null,null,"F3DIFC35","FIESTA S TM"]
[null,null,null,null,null,null,null,null,null,null,null,null,null,null,null,null,null,null,null,null,null,null,null,null,null,null,null,null,null,null,null,null,null,null,"F3DIS","FIESTA S TM"]
[null,null,null,null,null,null,null,null,null,null,null,null,null,null,null,null,null,null,null,null,null,null,null,null,null,null,null,null,null,null,null,null,null,null,"F3DIS15","FIESTA S TM"]
[null,null,null,null,null,null,null,null,null,null,null,null,null,null,null,null,null,null,null,null,null,null,null,null,null,null,null,null,null,null,null,null,null,null,"F3DIS17","FIESTA S TM"]
[null,null,null,null,null,null,null,null,null,null,null,null,null,null,null,null,null,null,null,null,null,null,null,null,null,null,null,null,null,null,null,null,null,null,"F3DIS35","FIESTA S TM"]
[null,null,null,null,null,null,null,null,null,null,null,null,null,null,null,null,null,null,null,null,null,null,null,null,null,null,null,null,null,null,null,null,null,null,"F3DP8","FIESTA S TM 4 PTAS"]
[null,null,null,null,null,null,null,null,null,null,null,null,null,null,null,null,null,null,null,null,null,null,null,null,null,null,null,null,null,null,null,null,null,null,"F3DR13","FIESTA S TM"]
[null,null,null,null,null,null,null,null,null,null,null,null,null,null,null,null,null,null,null,null,null,null,null,null,null,null,null,null,null,null,null,null,null,null,"F3DSG15","FIESTA S TM"]
[null,null,null,null,null,null,null,null,null,null,null,null,null,null,null,null,null,null,null,null,null,null,null,null,null,null,null,null,null,null,null,null,null,null,"F3DSG17","FIESTA S TM"]
[null,null,null,null,null,null,null,null,null,null,null,null,null,null,null,null,null,null,null,null,null,null,null,null,null,null,null,null,null,null,null,null,null,null,"F3DSG35","FIESTA S TM"]
[null,null,null,null,null,null,null,null,null,null,null,null,null,null,null,null,null,null,null,null,null,null,null,null,null,null,null,null,null,null,null,null,null,null,"F3DSS8","FIESTA S TM"]
[null,null,null,null,null,null,null,null,null,null,null,null,null,null,null,null,null,null,null,null,null,null,null,null,null,null,null,null,null,null,null,null,null,null,"F4AZ","F-800 28000 LBS 189-195 HP FRENOS ABS"]
[null,null,null,null,null,null,null,null,null,null,null,null,null,null,null,null,null,null,null,null,null,null,null,null,null,null,null,null,null,null,null,null,null,null,"F4BZ","F-800 30000 LBS 189-195 HP FRENOS ABS"]
[null,null,null,null,null,null,null,null,null,null,null,null,null,null,null,null,null,null,null,null,null,null,null,null,null,null,null,null,null,null,null,null,null,null,"F4C1+3/4","FIESTA TITANIUM TA 4 PTAS"]
[null,null,null,null,null,null,null,null,null,null,null,null,null,null,null,null,null,null,null,null,null,null,null,null,null,null,null,null,null,null,null,null,null,null,"F4C-14SS8","FIESTA TITANIUM TA 4 PTAS"]
[null,null,null,null,null,null,null,null,null,null,null,null,null,null,null,null,null,null,null,null,null,null,null,null,null,null,null,null,null,null,null,null,null,null,"F4C6IC15","FIESTA TITANIUM TA 4 PTAS"]
[null,null,null,null,null,null,null,null,null,null,null,null,null,null,null,null,null,null,null,null,null,null,null,null,null,null,null,null,null,null,null,null,null,null,"F4C6IC17","FIESTA TITANIUM TA 4 PTAS"]
[null,null,null,null,null,null,null,null,null,null,null,null,null,null,null,null,null,null,null,null,null,null,null,null,null,null,null,null,null,null,null,null,null,null,"F4C6SG15","FIESTA TITANIUM TA 4 PTAS"]
[null,null,null,null,null,null,null,null,null,null,null,null,null,null,null,null,null,null,null,null,null,null,null,null,null,null,null,null,null,null,null,null,null,null,"F4C6SG17","FIESTA TITANIUM TA 4 PTAS"]
[null,null,null,null,null,null,null,null,null,null,null,null,null,null,null,null,null,null,null,null,null,null,null,null,null,null,null,null,null,null,null,null,null,null,"F4C6SS8","FIESTA TITANIUM TA 4 PTAS"]
[null,null,null,null,null,null,null,null,null,null,null,null,null,null,null,null,null,null,null,null,null,null,null,null,null,null,null,null,null,null,null,null,null,null,"F4C7SS8","FIESTA TITANIUM TA 4 PTAS"]
[null,null,null,null,null,null,null,null,null,null,null,null,null,null,null,null,null,null,null,null,null,null,null,null,null,null,null,null,null,null,null,null,null,null,"F4C8S","FIESTA TITANIUM TA 4 PTAS"]
[null,null,null,null,null,null,null,null,null,null,null,null,null,null,null,null,null,null,null,null,null,null,null,null,null,null,null,null,null,null,null,null,null,null,"F4CBF10","FIESTA TITANIUM TA 4 PTAS"]
[null,null,null,null,null,null,null,null,null,null,null,null,null,null,null,null,null,null,null,null,null,null,null,null,null,null,null,null,null,null,null,null,null,null,"F4CCA1","FIESTA TITANIUM TA 4 PTAS"]
[null,null,null,null,null,null,null,null,null,null,null,null,null,null,null,null,null,null,null,null,null,null,null,null,null,null,null,null,null,null,null,null,null,null,"F4CE8","FIESTA TITANIUM TA 4 PTAS"]
[null,null,null,null,null,null,null,null,null,null,null,null,null,null,null,null,null,null,null,null,null,null,null,null,null,null,null,null,null,null,null,null,null,null,"F4CEF","FIESTA TITANIUM TA 4 PTAS"]
[null,null,null,null,null,null,null,null,null,null,null,null,null,null,null,null,null,null,null,null,null,null,null,null,null,null,null,null,null,null,null,null,null,null,"F4CIC15","FIESTA TITANIUM TA 4 PTAS"]
[null,null,null,null,null,null,null,null,null,null,null,null,null,null,null,null,null,null,null,null,null,null,null,null,null,null,null,null,null,null,null,null,null,null,"F4CIC17","FIESTA TITANIUM TA 4 PTAS"]
[null,null,null,null,null,null,null,null,null,null,null,null,null,null,null,null,null,null,null,null,null,null,null,null,null,null,null,null,null,null,null,null,null,null,"F4CIC35","FIESTA TITANIUM TA 4 PTAS"]
[null,null,null,null,null,null,null,null,null,null,null,null,null,null,null,null,null,null,null,null,null,null,null,null,null,null,null,null,null,null,null,null,null,null,"F4CIFC","FIESTA TITANIUM TA 4 PTAS"]
[null,null,null,null,null,null,null,null,null,null,null,null,null,null,null,null,null,null,null,null,null,null,null,null,null,null,null,null,null,null,null,null,null,null,"F4CIFC15","FIESTA TITANIUM TA 4 PTAS"]
[null,null,null,null,null,null,null,null,null,null,null,null,null,null,null,null,null,null,null,null,null,null,null,null,null,null,null,null,null,null,null,null,null,null,"F4CIFC17","FIESTA TITANIUM TA 4 PTAS"]
[null,null,null,null,null,null,null,null,null,null,null,null,null,null,null,null,null,null,null,null,null,null,null,null,null,null,null,null,null,null,null,null,null,null,"F4CIFC35","FIESTA TITANIUM TA 4 PTAS"]
[null,null,null,null,null,null,null,null,null,null,null,null,null,null,null,null,null,null,null,null,null,null,null,null,null,null,null,null,null,null,null,null,null,null,"F4CIS","FIESTA TITANIUM TA 4 PTAS"]
[null,null,null,null,null,null,null,null,null,null,null,null,null,null,null,null,null,null,null,null,null,null,null,null,null,null,null,null,null,null,null,null,null,null,"F4CIS15","FIESTA TITANIUM TA 4 PTAS"]
[null,null,null,null,null,null,null,null,null,null,null,null,null,null,null,null,null,null,null,null,null,null,null,null,null,null,null,null,null,null,null,null,null,null,"F4CIS17","FIESTA TITANIUM TA 4 PTAS"]
[null,null,null,null,null,null,null,null,null,null,null,null,null,null,null,null,null,null,null,null,null,null,null,null,null,null,null,null,null,null,null,null,null,null,"F4CIS35","FIESTA TITANIUM TA 4 PTAS"]
[null,null,null,null,null,null,null,null,null,null,null,null,null,null,null,null,null,null,null,null,null,null,null,null,null,null,null,null,null,null,null,null,null,null,"F4CP8","FIESTA TITANIUM TA 4 PTAS"]
[null,null,null,null,null,null,null,null,null,null,null,null,null,null,null,null,null,null,null,null,null,null,null,null,null,null,null,null,null,null,null,null,null,null,"F4CR13","FIESTA TITANIUM TA 4 PTAS"]
[null,null,null,null,null,null,null,null,null,null,null,null,null,null,null,null,null,null,null,null,null,null,null,null,null,null,null,null,null,null,null,null,null,null,"F4CSG15","FIESTA TITANIUM TA 4 PTAS"]
[null,null,null,null,null,null,null,null,null,null,null,null,null,null,null,null,null,null,null,null,null,null,null,null,null,null,null,null,null,null,null,null,null,null,"F4CSG17","FIESTA TITANIUM TA 4 PTAS"]
[null,null,null,null,null,null,null,null,null,null,null,null,null,null,null,null,null,null,null,null,null,null,null,null,null,null,null,null,null,null,null,null,null,null,"F4CSG35","FIESTA TITANIUM TA 4 PTAS"]
[null,null,null,null,null,null,null,null,null,null,null,null,null,null,null,null,null,null,null,null,null,null,null,null,null,null,null,null,null,null,null,null,null,null,"F4CSS8","FIESTA TITANIUM TA 4 PTAS"]
[null,null,null,null,null,null,null,null,null,null,null,null,null,null,null,null,null,null,null,null,null,null,null,null,null,null,null,null,null,null,null,null,null,null,"F4DZ","F-800 30000 LBS 189-195 HP"]
[null,null,null,null,null,null,null,null,null,null,null,null,null,null,null,null,null,null,null,null,null,null,null,null,null,null,null,null,null,null,null,null,null,null,"F4FZ","F-800 28,000 LBS 189-195HP"]
[null,null,null,null,null,null,null,null,null,null,null,null,null,null,null,null,null,null,null,null,null,null,null,null,null,null,null,null,null,null,null,null,null,null,"F4H","F-800 28,800 LBS 189-195 HP"]
[null,null,null,null,null,null,null,null,null,null,null,null,null,null,null,null,null,null,null,null,null,null,null,null,null,null,null,null,null,null,null,null,null,null,"F5B1+3/4","FIESTA ST 5 PTAS TM 5 PTAS"]
[null,null,null,null,null,null,null,null,null,null,null,null,null,null,null,null,null,null,null,null,null,null,null,null,null,null,null,null,null,null,null,null,null,null,"F5B-14SS8","FIESTA ST 5 PTAS TM 5 PTAS"]
[null,null,null,null,null,null,null,null,null,null,null,null,null,null,null,null,null,null,null,null,null,null,null,null,null,null,null,null,null,null,null,null,null,null,"F5B6IC15","FIESTA ST 5 PTAS TM 5 PTAS"]
[null,null,null,null,null,null,null,null,null,null,null,null,null,null,null,null,null,null,null,null,null,null,null,null,null,null,null,null,null,null,null,null,null,null,"F5B6IC17","FIESTA ST 5 PTAS TM 5 PTAS"]
[null,null,null,null,null,null,null,null,null,null,null,null,null,null,null,null,null,null,null,null,null,null,null,null,null,null,null,null,null,null,null,null,null,null,"F5B6SG15","FIESTA ST 5 PTAS TM 5 PTAS"]
[null,null,null,null,null,null,null,null,null,null,null,null,null,null,null,null,null,null,null,null,null,null,null,null,null,null,null,null,null,null,null,null,null,null,"F5B6SG17","FIESTA ST 5 PTAS TM 5 PTAS"]
[null,null,null,null,null,null,null,null,null,null,null,null,null,null,null,null,null,null,null,null,null,null,null,null,null,null,null,null,null,null,null,null,null,null,"F5B6SS8","FIESTA ST 5 PTAS TM 5 PTAS"]
[null,null,null,null,null,null,null,null,null,null,null,null,null,null,null,null,null,null,null,null,null,null,null,null,null,null,null,null,null,null,null,null,null,null,"F5B7SS8","FIESTA ST 5 PTAS TM 5 PTAS"]
[null,null,null,null,null,null,null,null,null,null,null,null,null,null,null,null,null,null,null,null,null,null,null,null,null,null,null,null,null,null,null,null,null,null,"F5B8S","FIESTA ST 5 PTAS TM 5 PTAS"]
[null,null,null,null,null,null,null,null,null,null,null,null,null,null,null,null,null,null,null,null,null,null,null,null,null,null,null,null,null,null,null,null,null,null,"F5BBF10","FIESTA ST 5 PTAS TM 5 PTAS"]
[null,null,null,null,null,null,null,null,null,null,null,null,null,null,null,null,null,null,null,null,null,null,null,null,null,null,null,null,null,null,null,null,null,null,"F5BCA1","FIESTA ST 5 PTAS TM 5 PTAS"]
[null,null,null,null,null,null,null,null,null,null,null,null,null,null,null,null,null,null,null,null,null,null,null,null,null,null,null,null,null,null,null,null,null,null,"F5BE8","FIESTA ST 5 PTAS TM 5 PTAS"]
[null,null,null,null,null,null,null,null,null,null,null,null,null,null,null,null,null,null,null,null,null,null,null,null,null,null,null,null,null,null,null,null,null,null,"F5BEF","FIESTA ST 5 PTAS TM 5 PTAS"]
[null,null,null,null,null,null,null,null,null,null,null,null,null,null,null,null,null,null,null,null,null,null,null,null,null,null,null,null,null,null,null,null,null,null,"F5BIC35","FIESTA ST 5PTAS TM 5 PTAS"]
[null,null,null,null,null,null,null,null,null,null,null,null,null,null,null,null,null,null,null,null,null,null,null,null,null,null,null,null,null,null,null,null,null,null,"F5BIFC","FIESTA ST 5 PTAS TM 5 PTAS"]
[null,null,null,null,null,null,null,null,null,null,null,null,null,null,null,null,null,null,null,null,null,null,null,null,null,null,null,null,null,null,null,null,null,null,"F5BIFC35","FIESTA ST 5 PTAS TM 5 PTAS"]
[null,null,null,null,null,null,null,null,null,null,null,null,null,null,null,null,null,null,null,null,null,null,null,null,null,null,null,null,null,null,null,null,null,null,"F5BIS","FIESTA ST 5 PTAS TM 5 PTAS"]
[null,null,null,null,null,null,null,null,null,null,null,null,null,null,null,null,null,null,null,null,null,null,null,null,null,null,null,null,null,null,null,null,null,null,"F5BIS35","FIESTA ST 5 PTAS TM 5 PTAS"]
[null,null,null,null,null,null,null,null,null,null,null,null,null,null,null,null,null,null,null,null,null,null,null,null,null,null,null,null,null,null,null,null,null,null,"F5BP8","FIESTA ST 5 PTAS TM 5 PTAS"]
[null,null,null,null,null,null,null,null,null,null,null,null,null,null,null,null,null,null,null,null,null,null,null,null,null,null,null,null,null,null,null,null,null,null,"F5BR13","FIESTA ST 5 PTAS TM 5 PTAS"]
[null,null,null,null,null,null,null,null,null,null,null,null,null,null,null,null,null,null,null,null,null,null,null,null,null,null,null,null,null,null,null,null,null,null,"F5BSG35","FIESTA ST 5 PTAS TM 5 PTAS"]
[null,null,null,null,null,null,null,null,null,null,null,null,null,null,null,null,null,null,null,null,null,null,null,null,null,null,null,null,null,null,null,null,null,null,"F5BSS8","FIESTA ST 5 PTAS TM 5 PTAS"]
[null,null,null,null,null,null,null,null,null,null,null,null,null,null,null,null,null,null,null,null,null,null,null,null,null,null,null,null,null,null,null,null,null,null,"FGO1","Ambiente TM"]
[null,null,null,null,null,null,null,null,null,null,null,null,null,null,null,null,null,null,null,null,null,null,null,null,null,null,null,null,null,null,null,null,null,null,"FGO10","Ambiente Equipado TA 5 PTAS."]
[null,null,null,null,null,null,null,null,null,null,null,null,null,null,null,null,null,null,null,null,null,null,null,null,null,null,null,null,null,null,null,null,null,null,"FGO10EF","Ambiente Equipado TA"]
[null,null,null,null,null,null,null,null,null,null,null,null,null,null,null,null,null,null,null,null,null,null,null,null,null,null,null,null,null,null,null,null,null,null,"FGO1EF","Ambiente TM"]
[null,null,null,null,null,null,null,null,null,null,null,null,null,null,null,null,null,null,null,null,null,null,null,null,null,null,null,null,null,null,null,null,null,null,"FGO2","Ambiente TM A/A"]
[null,null,null,null,null,null,null,null,null,null,null,null,null,null,null,null,null,null,null,null,null,null,null,null,null,null,null,null,null,null,null,null,null,null,"FGO2EF","Ambiente TM A/A"]
[null,null,null,null,null,null,null,null,null,null,null,null,null,null,null,null,null,null,null,null,null,null,null,null,null,null,null,null,null,null,null,null,null,null,"FGO3","Ambiente TA  A/A"]
[null,null,null,null,null,null,null,null,null,null,null,null,null,null,null,null,null,null,null,null,null,null,null,null,null,null,null,null,null,null,null,null,null,null,"FGO3EF","Ambiente TA  A/A"]
[null,null,null,null,null,null,null,null,null,null,null,null,null,null,null,null,null,null,null,null,null,null,null,null,null,null,null,null,null,null,null,null,null,null,"FGO4","Ambiente Equipado TM"]
[null,null,null,null,null,null,null,null,null,null,null,null,null,null,null,null,null,null,null,null,null,null,null,null,null,null,null,null,null,null,null,null,null,null,"FGO4EF","Ambiente Equipado TM"]
[null,null,null,null,null,null,null,null,null,null,null,null,null,null,null,null,null,null,null,null,null,null,null,null,null,null,null,null,null,null,null,null,null,null,"FGO5","Ambiente Equipado TA"]
[null,null,null,null,null,null,null,null,null,null,null,null,null,null,null,null,null,null,null,null,null,null,null,null,null,null,null,null,null,null,null,null,null,null,"FGO5EF","Ambiente Equipado TA"]
[null,null,null,null,null,null,null,null,null,null,null,null,null,null,null,null,null,null,null,null,null,null,null,null,null,null,null,null,null,null,null,null,null,null,"FGO6","Titanium"]
[null,null,null,null,null,null,null,null,null,null,null,null,null,null,null,null,null,null,null,null,null,null,null,null,null,null,null,null,null,null,null,null,null,null,"FGO6EF","Titanium"]
[null,null,null,null,null,null,null,null,null,null,null,null,null,null,null,null,null,null,null,null,null,null,null,null,null,null,null,null,null,null,null,null,null,null,"FGO7","Ambiente TM A/A 5 PTAS."]
[null,null,null,null,null,null,null,null,null,null,null,null,null,null,null,null,null,null,null,null,null,null,null,null,null,null,null,null,null,null,null,null,null,null,"FGO7EF","Ambiente TM AA"]
[null,null,null,null,null,null,null,null,null,null,null,null,null,null,null,null,null,null,null,null,null,null,null,null,null,null,null,null,null,null,null,null,null,null,"FGO8","Ambiente TA A/A 5 PTAS."]
[null,null,null,null,null,null,null,null,null,null,null,null,null,null,null,null,null,null,null,null,null,null,null,null,null,null,null,null,null,null,null,null,null,null,"FGO8EF","Ambiente TA A/A"]
[null,null,null,null,null,null,null,null,null,null,null,null,null,null,null,null,null,null,null,null,null,null,null,null,null,null,null,null,null,null,null,null,null,null,"FGO9","Ambiente Equipado TM 5 PTAS."]
[null,null,null,null,null,null,null,null,null,null,null,null,null,null,null,null,null,null,null,null,null,null,null,null,null,null,null,null,null,null,null,null,null,null,"FGO9EF","Ambiente Equipado TM"]
[null,null,null,null,null,null,null,null,null,null,null,null,null,null,null,null,null,null,null,null,null,null,null,null,null,null,null,null,null,null,null,null,null,null,"G1A","Lobo Super Cab. 4X2"]
[null,null,null,null,null,null,null,null,null,null,null,null,null,null,null,null,null,null,null,null,null,null,null,null,null,null,null,null,null,null,null,null,null,null,"G1A0","LOBO SUPER CAB. 4 X 2"]
[null,null,null,null,null,null,null,null,null,null,null,null,null,null,null,null,null,null,null,null,null,null,null,null,null,null,null,null,null,null,null,null,null,null,"G1AC","LOBO SUPER CAB 4*2 ASTO.IND.CONS. C.FIJA"]
[null,null,null,null,null,null,null,null,null,null,null,null,null,null,null,null,null,null,null,null,null,null,null,null,null,null,null,null,null,null,null,null,null,null,"G1ACA1","LOBO SUB CAP 4X2 4.6L"]
[null,null,null,null,null,null,null,null,null,null,null,null,null,null,null,null,null,null,null,null,null,null,null,null,null,null,null,null,null,null,null,null,null,null,"G1ACA2","LOBO SUP CAB 4X2 4.6L"]
[null,null,null,null,null,null,null,null,null,null,null,null,null,null,null,null,null,null,null,null,null,null,null,null,null,null,null,null,null,null,null,null,null,null,"G1ACR","LOBO SUP CAB 4 x 2 TA CROMO"]
[null,null,null,null,null,null,null,null,null,null,null,null,null,null,null,null,null,null,null,null,null,null,null,null,null,null,null,null,null,null,null,null,null,null,"G1AEM","LOBO SUP CAB 4X2 4.6 L"]
[null,null,null,null,null,null,null,null,null,null,null,null,null,null,null,null,null,null,null,null,null,null,null,null,null,null,null,null,null,null,null,null,null,null,"G1AM","LOBO SUPER CAB 4 X 2"]
[null,null,null,null,null,null,null,null,null,null,null,null,null,null,null,null,null,null,null,null,null,null,null,null,null,null,null,null,null,null,null,null,null,null,"G1AMT","LOBO SUB CAP 4X2 4.6L"]
[null,null,null,null,null,null,null,null,null,null,null,null,null,null,null,null,null,null,null,null,null,null,null,null,null,null,null,null,null,null,null,null,null,null,"G1AMV","LOBO SUP CAB 4X2 46L"]
[null,null,null,null,null,null,null,null,null,null,null,null,null,null,null,null,null,null,null,null,null,null,null,null,null,null,null,null,null,null,null,null,null,null,"G1ASS4","LOBO SUP CAB 4X2 4.6 L"]
[null,null,null,null,null,null,null,null,null,null,null,null,null,null,null,null,null,null,null,null,null,null,null,null,null,null,null,null,null,null,null,null,null,null,"G1ASS5","LOBO SUP CAB 4X2 4.6 L"]
[null,null,null,null,null,null,null,null,null,null,null,null,null,null,null,null,null,null,null,null,null,null,null,null,null,null,null,null,null,null,null,null,null,null,"G1ASS6","LOBO SUP CAB 4X2 4.6L"]
[null,null,null,null,null,null,null,null,null,null,null,null,null,null,null,null,null,null,null,null,null,null,null,null,null,null,null,null,null,null,null,null,null,null,"G1ASS7","LOBO SUP CAB 4X2 4.7 L"]
[null,null,null,null,null,null,null,null,null,null,null,null,null,null,null,null,null,null,null,null,null,null,null,null,null,null,null,null,null,null,null,null,null,null,"G1ASS8","LOBO SUP CAB 4X2 4.6 L"]
[null,null,null,null,null,null,null,null,null,null,null,null,null,null,null,null,null,null,null,null,null,null,null,null,null,null,null,null,null,null,null,null,null,null,"G1AZ","LOBO SUPER CAB. 4X2"]
[null,null,null,null,null,null,null,null,null,null,null,null,null,null,null,null,null,null,null,null,null,null,null,null,null,null,null,null,null,null,null,null,null,null,"G1B","Lobo Cab Reg 4x2"]
[null,null,null,null,null,null,null,null,null,null,null,null,null,null,null,null,null,null,null,null,null,null,null,null,null,null,null,null,null,null,null,null,null,null,"G1B39","LOBO CAB REG 4x2 TA"]
[null,null,null,null,null,null,null,null,null,null,null,null,null,null,null,null,null,null,null,null,null,null,null,null,null,null,null,null,null,null,null,null,null,null,"G1B40","LOBO CAB REG 4x2 TA"]
[null,null,null,null,null,null,null,null,null,null,null,null,null,null,null,null,null,null,null,null,null,null,null,null,null,null,null,null,null,null,null,null,null,null,"G1B41","LOBO CAB REG 4x2 TA"]
[null,null,null,null,null,null,null,null,null,null,null,null,null,null,null,null,null,null,null,null,null,null,null,null,null,null,null,null,null,null,null,null,null,null,"G1B42","LOBO CAB REG 4x2 TA"]
[null,null,null,null,null,null,null,null,null,null,null,null,null,null,null,null,null,null,null,null,null,null,null,null,null,null,null,null,null,null,null,null,null,null,"G1B43","LOBO CAB REG 4x2 TA"]
[null,null,null,null,null,null,null,null,null,null,null,null,null,null,null,null,null,null,null,null,null,null,null,null,null,null,null,null,null,null,null,null,null,null,"G1B44","LOBO CAB REG 4x2 TA"]
[null,null,null,null,null,null,null,null,null,null,null,null,null,null,null,null,null,null,null,null,null,null,null,null,null,null,null,null,null,null,null,null,null,null,"G1B45","LOBO CAB REG 4x2 TA"]
[null,null,null,null,null,null,null,null,null,null,null,null,null,null,null,null,null,null,null,null,null,null,null,null,null,null,null,null,null,null,null,null,null,null,"G1B46","LOBO CAB REG 4x2 TA"]
[null,null,null,null,null,null,null,null,null,null,null,null,null,null,null,null,null,null,null,null,null,null,null,null,null,null,null,null,null,null,null,null,null,null,"G1B47","LOBO CAB REG 4x2 TA"]
[null,null,null,null,null,null,null,null,null,null,null,null,null,null,null,null,null,null,null,null,null,null,null,null,null,null,null,null,null,null,null,null,null,null,"G1B48","LOBO CAB REG 4x2 TA"]
[null,null,null,null,null,null,null,null,null,null,null,null,null,null,null,null,null,null,null,null,null,null,null,null,null,null,null,null,null,null,null,null,null,null,"G1B49","LOBO CAB REG 4x2 TA"]
[null,null,null,null,null,null,null,null,null,null,null,null,null,null,null,null,null,null,null,null,null,null,null,null,null,null,null,null,null,null,null,null,null,null,"G1B50","LOBO CAB REG 4x2 TA"]
[null,null,null,null,null,null,null,null,null,null,null,null,null,null,null,null,null,null,null,null,null,null,null,null,null,null,null,null,null,null,null,null,null,null,"G1B51","LOBO CAB REG 4x2 TA"]
[null,null,null,null,null,null,null,null,null,null,null,null,null,null,null,null,null,null,null,null,null,null,null,null,null,null,null,null,null,null,null,null,null,null,"G1B52","LOBO CAB REG 4x2 TA"]
[null,null,null,null,null,null,null,null,null,null,null,null,null,null,null,null,null,null,null,null,null,null,null,null,null,null,null,null,null,null,null,null,null,null,"G1B53","LOBO CAB REG 4x2 TA"]
[null,null,null,null,null,null,null,null,null,null,null,null,null,null,null,null,null,null,null,null,null,null,null,null,null,null,null,null,null,null,null,null,null,null,"G1B54","LOBO CAB REG 4x2 TA"]
[null,null,null,null,null,null,null,null,null,null,null,null,null,null,null,null,null,null,null,null,null,null,null,null,null,null,null,null,null,null,null,null,null,null,"G1B55","LOBO CAB REG 4x2 TA"]
[null,null,null,null,null,null,null,null,null,null,null,null,null,null,null,null,null,null,null,null,null,null,null,null,null,null,null,null,null,null,null,null,null,null,"G1B56","LOBO CAB REG 4x2 TA"]
[null,null,null,null,null,null,null,null,null,null,null,null,null,null,null,null,null,null,null,null,null,null,null,null,null,null,null,null,null,null,null,null,null,null,"G1B57","LOBO CAB REG 4x2 TA"]
[null,null,null,null,null,null,null,null,null,null,null,null,null,null,null,null,null,null,null,null,null,null,null,null,null,null,null,null,null,null,null,null,null,null,"G1B58","LOBO CAB REG 4x2 TA"]
[null,null,null,null,null,null,null,null,null,null,null,null,null,null,null,null,null,null,null,null,null,null,null,null,null,null,null,null,null,null,null,null,null,null,"G1B59","LOBO CAB REG 4x2 TA"]
[null,null,null,null,null,null,null,null,null,null,null,null,null,null,null,null,null,null,null,null,null,null,null,null,null,null,null,null,null,null,null,null,null,null,"G1B60","LOBO CAB REG 4x2 TA"]
[null,null,null,null,null,null,null,null,null,null,null,null,null,null,null,null,null,null,null,null,null,null,null,null,null,null,null,null,null,null,null,null,null,null,"G1BCA1","LOBO CAB REG 4 x 2 TA"]
[null,null,null,null,null,null,null,null,null,null,null,null,null,null,null,null,null,null,null,null,null,null,null,null,null,null,null,null,null,null,null,null,null,null,"G1BCA2","LOBO CAB REG 4 x 2 TA"]
[null,null,null,null,null,null,null,null,null,null,null,null,null,null,null,null,null,null,null,null,null,null,null,null,null,null,null,null,null,null,null,null,null,null,"G1BCE1","LOBO CAB REG 4 x 2 5.0L V8"]
[null,null,null,null,null,null,null,null,null,null,null,null,null,null,null,null,null,null,null,null,null,null,null,null,null,null,null,null,null,null,null,null,null,null,"G1BEM","LOBO CAB REG 4 x 2 TA"]
[null,null,null,null,null,null,null,null,null,null,null,null,null,null,null,null,null,null,null,null,null,null,null,null,null,null,null,null,null,null,null,null,null,null,"G1BFX","LOBO CAB REG 4X2 TA FX2"]
[null,null,null,null,null,null,null,null,null,null,null,null,null,null,null,null,null,null,null,null,null,null,null,null,null,null,null,null,null,null,null,null,null,null,"G1BMT","LOBO CAB REG 4X2 TA"]
[null,null,null,null,null,null,null,null,null,null,null,null,null,null,null,null,null,null,null,null,null,null,null,null,null,null,null,null,null,null,null,null,null,null,"G1BMV","LOBO CAB REG 4X2 46L"]
[null,null,null,null,null,null,null,null,null,null,null,null,null,null,null,null,null,null,null,null,null,null,null,null,null,null,null,null,null,null,null,null,null,null,"G1BSS","LOBO CAB REG 4 x 2 TA"]
[null,null,null,null,null,null,null,null,null,null,null,null,null,null,null,null,null,null,null,null,null,null,null,null,null,null,null,null,null,null,null,null,null,null,"G1BSS1","LOBO CAB REG 4 x 2 TA"]
[null,null,null,null,null,null,null,null,null,null,null,null,null,null,null,null,null,null,null,null,null,null,null,null,null,null,null,null,null,null,null,null,null,null,"G1BSS2","LOBO CAB REG 4 x 2 TA"]
[null,null,null,null,null,null,null,null,null,null,null,null,null,null,null,null,null,null,null,null,null,null,null,null,null,null,null,null,null,null,null,null,null,null,"G1BSS3","LOBO CAB REG 4 x 2 TA"]
[null,null,null,null,null,null,null,null,null,null,null,null,null,null,null,null,null,null,null,null,null,null,null,null,null,null,null,null,null,null,null,null,null,null,"G1BSS4","LOBO CAB REG 4 x 2 TA"]
[null,null,null,null,null,null,null,null,null,null,null,null,null,null,null,null,null,null,null,null,null,null,null,null,null,null,null,null,null,null,null,null,null,null,"G1BSS5","LOBO CAB REG 4 x 2 TA"]
[null,null,null,null,null,null,null,null,null,null,null,null,null,null,null,null,null,null,null,null,null,null,null,null,null,null,null,null,null,null,null,null,null,null,"G1BSS6","LOBO CAB REG 4 x 2 TA"]
[null,null,null,null,null,null,null,null,null,null,null,null,null,null,null,null,null,null,null,null,null,null,null,null,null,null,null,null,null,null,null,null,null,null,"G1BSS7","LOBO CAB REG 4 x 2 TA"]
[null,null,null,null,null,null,null,null,null,null,null,null,null,null,null,null,null,null,null,null,null,null,null,null,null,null,null,null,null,null,null,null,null,null,"G1BSS8","LOBO CAB REG 4 x 2 TA"]
[null,null,null,null,null,null,null,null,null,null,null,null,null,null,null,null,null,null,null,null,null,null,null,null,null,null,null,null,null,null,null,null,null,null,"G1BSSS","LOBO CAB REG 4 x 2 TA"]
[null,null,null,null,null,null,null,null,null,null,null,null,null,null,null,null,null,null,null,null,null,null,null,null,null,null,null,null,null,null,null,null,null,null,"G1EA","F-250 XL V8 T/A A/A"]
[null,null,null,null,null,null,null,null,null,null,null,null,null,null,null,null,null,null,null,null,null,null,null,null,null,null,null,null,null,null,null,null,null,null,"G1F","F-250 XL V8 T/M"]
[null,null,null,null,null,null,null,null,null,null,null,null,null,null,null,null,null,null,null,null,null,null,null,null,null,null,null,null,null,null,null,null,null,null,"G1FA","F-250 XL V8 T/M A/A"]
[null,null,null,null,null,null,null,null,null,null,null,null,null,null,null,null,null,null,null,null,null,null,null,null,null,null,null,null,null,null,null,null,null,null,"G1GA","F-250 XLT V8 T/A A/A"]
[null,null,null,null,null,null,null,null,null,null,null,null,null,null,null,null,null,null,null,null,null,null,null,null,null,null,null,null,null,null,null,null,null,null,"G1HA","F-250 XLT V8 T/M A/A"]
[null,null,null,null,null,null,null,null,null,null,null,null,null,null,null,null,null,null,null,null,null,null,null,null,null,null,null,null,null,null,null,null,null,null,"G1S","LOBO SUP. CAB 4X2 TA SPORT"]
[null,null,null,null,null,null,null,null,null,null,null,null,null,null,null,null,null,null,null,null,null,null,null,null,null,null,null,null,null,null,null,null,null,null,"G1X","LOBO SUP CAB 4X4 TA SPORT"]
[null,null,null,null,null,null,null,null,null,null,null,null,null,null,null,null,null,null,null,null,null,null,null,null,null,null,null,null,null,null,null,null,null,null,"G1XMV","LOBO SUP CAB 4X4 SPORT 54L"]
[null,null,null,null,null,null,null,null,null,null,null,null,null,null,null,null,null,null,null,null,null,null,null,null,null,null,null,null,null,null,null,null,null,null,"G1Z","LOBO SUPER CAB 4X2 ASTON IND. CONS."]
[null,null,null,null,null,null,null,null,null,null,null,null,null,null,null,null,null,null,null,null,null,null,null,null,null,null,null,null,null,null,null,null,null,null,"G2D","F-150 XL V6 T\\M"]
[null,null,null,null,null,null,null,null,null,null,null,null,null,null,null,null,null,null,null,null,null,null,null,null,null,null,null,null,null,null,null,null,null,null,"G2DA","F-150 XL V6 T/M A/A"]
[null,null,null,null,null,null,null,null,null,null,null,null,null,null,null,null,null,null,null,null,null,null,null,null,null,null,null,null,null,null,null,null,null,null,"G2ECA1","LOBO XLT REG CAB 4X4"]
[null,null,null,null,null,null,null,null,null,null,null,null,null,null,null,null,null,null,null,null,null,null,null,null,null,null,null,null,null,null,null,null,null,null,"G2EEF","LOBO XLT REG CABINA 4X4"]
[null,null,null,null,null,null,null,null,null,null,null,null,null,null,null,null,null,null,null,null,null,null,null,null,null,null,null,null,null,null,null,null,null,null,"G2FCA1","LOBO XLT REG CAB 4x2"]
[null,null,null,null,null,null,null,null,null,null,null,null,null,null,null,null,null,null,null,null,null,null,null,null,null,null,null,null,null,null,null,null,null,null,"G2FCE1","LOBO XLT REG CAB 4x2"]
[null,null,null,null,null,null,null,null,null,null,null,null,null,null,null,null,null,null,null,null,null,null,null,null,null,null,null,null,null,null,null,null,null,null,"G2FEF","LOBO XLT REG CABINA 4X2"]
[null,null,null,null,null,null,null,null,null,null,null,null,null,null,null,null,null,null,null,null,null,null,null,null,null,null,null,null,null,null,null,null,null,null,"G2S","F-150 AUSTERA V6 T/M"]
[null,null,null,null,null,null,null,null,null,null,null,null,null,null,null,null,null,null,null,null,null,null,null,null,null,null,null,null,null,null,null,null,null,null,"G3T","LOBO CAB REG 4 x 2 STX"]
[null,null,null,null,null,null,null,null,null,null,null,null,null,null,null,null,null,null,null,null,null,null,null,null,null,null,null,null,null,null,null,null,null,null,"G4B","LOBO CAB. REG. 4 X 4 TA"]
[null,null,null,null,null,null,null,null,null,null,null,null,null,null,null,null,null,null,null,null,null,null,null,null,null,null,null,null,null,null,null,null,null,null,"G4BMV","LOBO CAB REG 4X4 SPORT 54L"]
[null,null,null,null,null,null,null,null,null,null,null,null,null,null,null,null,null,null,null,null,null,null,null,null,null,null,null,null,null,null,null,null,null,null,"G4BS","LOBO CAB REG 4X4 SPORT"]
[null,null,null,null,null,null,null,null,null,null,null,null,null,null,null,null,null,null,null,null,null,null,null,null,null,null,null,null,null,null,null,null,null,null,"G4BSS1","LOBO CAB REG 4X4 SPORT"]
[null,null,null,null,null,null,null,null,null,null,null,null,null,null,null,null,null,null,null,null,null,null,null,null,null,null,null,null,null,null,null,null,null,null,"G4BSS2","LOBO CAB REG 4X4 SPORT"]
[null,null,null,null,null,null,null,null,null,null,null,null,null,null,null,null,null,null,null,null,null,null,null,null,null,null,null,null,null,null,null,null,null,null,"G4BSSS","LOBO CAB REG 4X4 SPORT"]
[null,null,null,null,null,null,null,null,null,null,null,null,null,null,null,null,null,null,null,null,null,null,null,null,null,null,null,null,null,null,null,null,null,null,"G7A","LOBO SUP CAB 4X4 XLT CROMO"]
[null,null,null,null,null,null,null,null,null,null,null,null,null,null,null,null,null,null,null,null,null,null,null,null,null,null,null,null,null,null,null,null,null,null,"G7MMV","LOBO SUP CAB 4X4 54L"]
[null,null,null,null,null,null,null,null,null,null,null,null,null,null,null,null,null,null,null,null,null,null,null,null,null,null,null,null,null,null,null,null,null,null,"G7N","LOBO CAB REG 4 x 4 XLT 5.4L"]
[null,null,null,null,null,null,null,null,null,null,null,null,null,null,null,null,null,null,null,null,null,null,null,null,null,null,null,null,null,null,null,null,null,null,"G7NCA1","LOBO CAB REG 4X4 XLT 5.4L"]
[null,null,null,null,null,null,null,null,null,null,null,null,null,null,null,null,null,null,null,null,null,null,null,null,null,null,null,null,null,null,null,null,null,null,"G7NCA2","LOBO CAB REG 4X4 XLT 5.4L"]
[null,null,null,null,null,null,null,null,null,null,null,null,null,null,null,null,null,null,null,null,null,null,null,null,null,null,null,null,null,null,null,null,null,null,"G7NCE1","LOBO CAB REG 4X4 XLT 5.0 L V8"]
[null,null,null,null,null,null,null,null,null,null,null,null,null,null,null,null,null,null,null,null,null,null,null,null,null,null,null,null,null,null,null,null,null,null,"G7NEM","LOBO CAB REG 4X4 XLT 5.4 L"]
[null,null,null,null,null,null,null,null,null,null,null,null,null,null,null,null,null,null,null,null,null,null,null,null,null,null,null,null,null,null,null,null,null,null,"G7NMT","LOBO CAB REG 4X4 XLT 5.4L"]
[null,null,null,null,null,null,null,null,null,null,null,null,null,null,null,null,null,null,null,null,null,null,null,null,null,null,null,null,null,null,null,null,null,null,"G7NMV","LOBO CAB REG 4X4 XLT 54L"]
[null,null,null,null,null,null,null,null,null,null,null,null,null,null,null,null,null,null,null,null,null,null,null,null,null,null,null,null,null,null,null,null,null,null,"G7NSS4","LOBO CAB REG 4X4 XLT 5.4 L"]
[null,null,null,null,null,null,null,null,null,null,null,null,null,null,null,null,null,null,null,null,null,null,null,null,null,null,null,null,null,null,null,null,null,null,"G7NSS5","LOBO CAB REG 4X4 XLT 5.4 L"]
[null,null,null,null,null,null,null,null,null,null,null,null,null,null,null,null,null,null,null,null,null,null,null,null,null,null,null,null,null,null,null,null,null,null,"G7NSS6","LOBO CAB REG 4X4 XLT 5.4L"]
[null,null,null,null,null,null,null,null,null,null,null,null,null,null,null,null,null,null,null,null,null,null,null,null,null,null,null,null,null,null,null,null,null,null,"G7NSS7","LOBO CAB REG 4X4 XLT 5.4 L"]
[null,null,null,null,null,null,null,null,null,null,null,null,null,null,null,null,null,null,null,null,null,null,null,null,null,null,null,null,null,null,null,null,null,null,"G7NSS8","LOBO CAB REG 4X4 XLT 5.4 L"]
[null,null,null,null,null,null,null,null,null,null,null,null,null,null,null,null,null,null,null,null,null,null,null,null,null,null,null,null,null,null,null,null,null,null,"G8A","Lobo Crew Cab. 4x4 Lariat"]
[null,null,null,null,null,null,null,null,null,null,null,null,null,null,null,null,null,null,null,null,null,null,null,null,null,null,null,null,null,null,null,null,null,null,"G8AMV","LOBO CREW CAB 4X4 LARIAT 54L"]
[null,null,null,null,null,null,null,null,null,null,null,null,null,null,null,null,null,null,null,null,null,null,null,null,null,null,null,null,null,null,null,null,null,null,"G8B","Lobo Crew Cab. 4x2 XLT"]
[null,null,null,null,null,null,null,null,null,null,null,null,null,null,null,null,null,null,null,null,null,null,null,null,null,null,null,null,null,null,null,null,null,null,"G8B/C","LOBO CREW CAB 4X2 XLT CROMO"]
[null,null,null,null,null,null,null,null,null,null,null,null,null,null,null,null,null,null,null,null,null,null,null,null,null,null,null,null,null,null,null,null,null,null,"G8B0","LOBO CREW CAB. 4 X 2 XLT"]
[null,null,null,null,null,null,null,null,null,null,null,null,null,null,null,null,null,null,null,null,null,null,null,null,null,null,null,null,null,null,null,null,null,null,"G8BFX","LOBO CREW CAB 4X2 XLT FX2"]
[null,null,null,null,null,null,null,null,null,null,null,null,null,null,null,null,null,null,null,null,null,null,null,null,null,null,null,null,null,null,null,null,null,null,"G8BMV","LOBO CREW CAB 4X2 XLT 46L"]
[null,null,null,null,null,null,null,null,null,null,null,null,null,null,null,null,null,null,null,null,null,null,null,null,null,null,null,null,null,null,null,null,null,null,"G8L","LOBO CREW CAB LIMITED"]
[null,null,null,null,null,null,null,null,null,null,null,null,null,null,null,null,null,null,null,null,null,null,null,null,null,null,null,null,null,null,null,null,null,null,"G9A/C","LOBO CREW CAB 4X2 LARIAT CROMO"]
[null,null,null,null,null,null,null,null,null,null,null,null,null,null,null,null,null,null,null,null,null,null,null,null,null,null,null,null,null,null,null,null,null,null,"G9AMV","LOBO CREW CAB 4X2 LARIAT 54L"]
[null,null,null,null,null,null,null,null,null,null,null,null,null,null,null,null,null,null,null,null,null,null,null,null,null,null,null,null,null,null,null,null,null,null,"G9B","LOBO CREW CAB 4X4 XLT"]
[null,null,null,null,null,null,null,null,null,null,null,null,null,null,null,null,null,null,null,null,null,null,null,null,null,null,null,null,null,null,null,null,null,null,"G9MMV","LOBO CREW CAB 4X4 XLT 54L"]
[null,null,null,null,null,null,null,null,null,null,null,null,null,null,null,null,null,null,null,null,null,null,null,null,null,null,null,null,null,null,null,null,null,null,"GA1","Corsa 5 ptas P.E."]
[null,null,null,null,null,null,null,null,null,null,null,null,null,null,null,null,null,null,null,null,null,null,null,null,null,null,null,null,null,null,null,null,null,null,"GB2","Astra 5 ptas PM"]
[null,null,null,null,null,null,null,null,null,null,null,null,null,null,null,null,null,null,null,null,null,null,null,null,null,null,null,null,null,null,null,null,null,null,"GC","CHEVY 3 PUERTAS PAQ. M"]
[null,null,null,null,null,null,null,null,null,null,null,null,null,null,null,null,null,null,null,null,null,null,null,null,null,null,null,null,null,null,null,null,null,null,"GC1","Chevy 5 ptas Paq M"]
[null,null,null,null,null,null,null,null,null,null,null,null,null,null,null,null,null,null,null,null,null,null,null,null,null,null,null,null,null,null,null,null,null,null,"GC2","Chevy Monza 4 Ptas P.M"]
[null,null,null,null,null,null,null,null,null,null,null,null,null,null,null,null,null,null,null,null,null,null,null,null,null,null,null,null,null,null,null,null,null,null,"GC3","Cavalier 4 ptas"]
[null,null,null,null,null,null,null,null,null,null,null,null,null,null,null,null,null,null,null,null,null,null,null,null,null,null,null,null,null,null,null,null,null,null,"GD4","Silverado 1500 cabina regular PA"]
[null,null,null,null,null,null,null,null,null,null,null,null,null,null,null,null,null,null,null,null,null,null,null,null,null,null,null,null,null,null,null,null,null,null,"GE","GRAND AM COUPE A"]
[null,null,null,null,null,null,null,null,null,null,null,null,null,null,null,null,null,null,null,null,null,null,null,null,null,null,null,null,null,null,null,null,null,null,"GE5","Tracker Suv PC"]
[null,null,null,null,null,null,null,null,null,null,null,null,null,null,null,null,null,null,null,null,null,null,null,null,null,null,null,null,null,null,null,null,null,null,"GF6","Zafira Monocab PD"]
[null,null,null,null,null,null,null,null,null,null,null,null,null,null,null,null,null,null,null,null,null,null,null,null,null,null,null,null,null,null,null,null,null,null,"GG7","Chevrolet express VAN pl"]
[null,null,null,null,null,null,null,null,null,null,null,null,null,null,null,null,null,null,null,null,null,null,null,null,null,null,null,null,null,null,null,null,null,null,"GH8","Silverado 2500 4x4 pd"]
[null,null,null,null,null,null,null,null,null,null,null,null,null,null,null,null,null,null,null,null,null,null,null,null,null,null,null,null,null,null,null,null,null,null,"GHW","LOBO HARLEY DAVIDSON"]
[null,null,null,null,null,null,null,null,null,null,null,null,null,null,null,null,null,null,null,null,null,null,null,null,null,null,null,null,null,null,null,null,null,null,"GHWS","LOBO HARLEY DAVIDSON SUPER CREW"]
[null,null,null,null,null,null,null,null,null,null,null,null,null,null,null,null,null,null,null,null,null,null,null,null,null,null,null,null,null,null,null,null,null,null,"GI9","Kodiak Chasis Clase 7 KM"]
[null,null,null,null,null,null,null,null,null,null,null,null,null,null,null,null,null,null,null,null,null,null,null,null,null,null,null,null,null,null,null,null,null,null,"GJ10","Trailblazer SUV 4x4 PD"]
[null,null,null,null,null,null,null,null,null,null,null,null,null,null,null,null,null,null,null,null,null,null,null,null,null,null,null,null,null,null,null,null,null,null,"GKW","LOBO KING RANCH SUPER CREW 4X4 V8"]
[null,null,null,null,null,null,null,null,null,null,null,null,null,null,null,null,null,null,null,null,null,null,null,null,null,null,null,null,null,null,null,null,null,null,"GKX","LOBO KING RANCH SUP CAB 4 X 4"]
[null,null,null,null,null,null,null,null,null,null,null,null,null,null,null,null,null,null,null,null,null,null,null,null,null,null,null,null,null,null,null,null,null,null,"GS","GRAND AM SEDAN A"]
[null,null,null,null,null,null,null,null,null,null,null,null,null,null,null,null,null,null,null,null,null,null,null,null,null,null,null,null,null,null,null,null,null,null,"H1BMV13","ESCAPE SEL"]
[null,null,null,null,null,null,null,null,null,null,null,null,null,null,null,null,null,null,null,null,null,null,null,null,null,null,null,null,null,null,null,null,null,null,"H1BSS8","ESCAPE SEL"]
[null,null,null,null,null,null,null,null,null,null,null,null,null,null,null,null,null,null,null,null,null,null,null,null,null,null,null,null,null,null,null,null,null,null,"H1H5SS8","ESCAPE TITANIUM"]
[null,null,null,null,null,null,null,null,null,null,null,null,null,null,null,null,null,null,null,null,null,null,null,null,null,null,null,null,null,null,null,null,null,null,"H1H6SS8","ESCAPE TITANIUM"]
[null,null,null,null,null,null,null,null,null,null,null,null,null,null,null,null,null,null,null,null,null,null,null,null,null,null,null,null,null,null,null,null,null,null,"H1H7SS8","ESCAPE TITANIUM"]
[null,null,null,null,null,null,null,null,null,null,null,null,null,null,null,null,null,null,null,null,null,null,null,null,null,null,null,null,null,null,null,null,null,null,"H1H8S","ESCAPE TITANIUM"]
[null,null,null,null,null,null,null,null,null,null,null,null,null,null,null,null,null,null,null,null,null,null,null,null,null,null,null,null,null,null,null,null,null,null,"H1HCA1","ESCAPE TITANIUM"]
[null,null,null,null,null,null,null,null,null,null,null,null,null,null,null,null,null,null,null,null,null,null,null,null,null,null,null,null,null,null,null,null,null,null,"H1HE8","ESCAPE TITANIUM"]
[null,null,null,null,null,null,null,null,null,null,null,null,null,null,null,null,null,null,null,null,null,null,null,null,null,null,null,null,null,null,null,null,null,null,"H1HEF","ESCAPE TITANIUM 2.5l"]
[null,null,null,null,null,null,null,null,null,null,null,null,null,null,null,null,null,null,null,null,null,null,null,null,null,null,null,null,null,null,null,null,null,null,"H1HP8","ESCAPE TITANIUM"]
[null,null,null,null,null,null,null,null,null,null,null,null,null,null,null,null,null,null,null,null,null,null,null,null,null,null,null,null,null,null,null,null,null,null,"H1J4SS8","ESCAPE TITANIUM 2.0 GTDi"]
[null,null,null,null,null,null,null,null,null,null,null,null,null,null,null,null,null,null,null,null,null,null,null,null,null,null,null,null,null,null,null,null,null,null,"H1J5SS8","ESCAPE TITANIUM ECOBOOST"]
[null,null,null,null,null,null,null,null,null,null,null,null,null,null,null,null,null,null,null,null,null,null,null,null,null,null,null,null,null,null,null,null,null,null,"H1J6SS8","ESCAPE TITANIUM ECOBOOST"]
[null,null,null,null,null,null,null,null,null,null,null,null,null,null,null,null,null,null,null,null,null,null,null,null,null,null,null,null,null,null,null,null,null,null,"H1J7SS8","ESCAPE TITANIUM ECOBOOST"]
[null,null,null,null,null,null,null,null,null,null,null,null,null,null,null,null,null,null,null,null,null,null,null,null,null,null,null,null,null,null,null,null,null,null,"H1J8S","ESCAPE TITANIUM ECOBOOST"]
[null,null,null,null,null,null,null,null,null,null,null,null,null,null,null,null,null,null,null,null,null,null,null,null,null,null,null,null,null,null,null,null,null,null,"H1JCA1","ESCAPE TITANIUM ECOBOOST"]
[null,null,null,null,null,null,null,null,null,null,null,null,null,null,null,null,null,null,null,null,null,null,null,null,null,null,null,null,null,null,null,null,null,null,"H1JE8","ESCAPE TITANIUM ECOBOOST"]
[null,null,null,null,null,null,null,null,null,null,null,null,null,null,null,null,null,null,null,null,null,null,null,null,null,null,null,null,null,null,null,null,null,null,"H1JEF","ESCAPE TITANIUM ECOBOOST"]
[null,null,null,null,null,null,null,null,null,null,null,null,null,null,null,null,null,null,null,null,null,null,null,null,null,null,null,null,null,null,null,null,null,null,"H1JP8","ESCAPE TITANIUM ECOBOOST"]
[null,null,null,null,null,null,null,null,null,null,null,null,null,null,null,null,null,null,null,null,null,null,null,null,null,null,null,null,null,null,null,null,null,null,"H1JSS8","ESCAPE TITANIUM 2.0 GTDi"]
[null,null,null,null,null,null,null,null,null,null,null,null,null,null,null,null,null,null,null,null,null,null,null,null,null,null,null,null,null,null,null,null,null,null,"H2A4SS8","ESCAPE SE PLUS"]
[null,null,null,null,null,null,null,null,null,null,null,null,null,null,null,null,null,null,null,null,null,null,null,null,null,null,null,null,null,null,null,null,null,null,"H2ACA1","ESCAPE SE PLUS 2.5L"]
[null,null,null,null,null,null,null,null,null,null,null,null,null,null,null,null,null,null,null,null,null,null,null,null,null,null,null,null,null,null,null,null,null,null,"H2ACE1","ESCAPE SE PLUS 2.5L"]
[null,null,null,null,null,null,null,null,null,null,null,null,null,null,null,null,null,null,null,null,null,null,null,null,null,null,null,null,null,null,null,null,null,null,"H2AEM","ESCAPE SE PLUS 2.5L"]
[null,null,null,null,null,null,null,null,null,null,null,null,null,null,null,null,null,null,null,null,null,null,null,null,null,null,null,null,null,null,null,null,null,null,"H2AMV13","ESCAPE SE PLUS 2.5L"]
[null,null,null,null,null,null,null,null,null,null,null,null,null,null,null,null,null,null,null,null,null,null,null,null,null,null,null,null,null,null,null,null,null,null,"H2APCA1","ESCAPE SE PLUS 2.5L PANORAMA ROOF"]
[null,null,null,null,null,null,null,null,null,null,null,null,null,null,null,null,null,null,null,null,null,null,null,null,null,null,null,null,null,null,null,null,null,null,"H2APCE1","ESCAPE SE PLUS 2.5L PANORAMA ROOF"]
[null,null,null,null,null,null,null,null,null,null,null,null,null,null,null,null,null,null,null,null,null,null,null,null,null,null,null,null,null,null,null,null,null,null,"H2APEM","ESCAPE SE PLUS 2.5L PANORAMA ROOF"]
[null,null,null,null,null,null,null,null,null,null,null,null,null,null,null,null,null,null,null,null,null,null,null,null,null,null,null,null,null,null,null,null,null,null,"H2APMV13","ESCAPE SE PLUS 2.5L PANORAMA ROOF"]
[null,null,null,null,null,null,null,null,null,null,null,null,null,null,null,null,null,null,null,null,null,null,null,null,null,null,null,null,null,null,null,null,null,null,"H2APSS8","ESCAPE SE PLUS 2.5L PANORAMA ROOF"]
[null,null,null,null,null,null,null,null,null,null,null,null,null,null,null,null,null,null,null,null,null,null,null,null,null,null,null,null,null,null,null,null,null,null,"H2ASS8","ESCAPE SE PLUS 2.5L"]
[null,null,null,null,null,null,null,null,null,null,null,null,null,null,null,null,null,null,null,null,null,null,null,null,null,null,null,null,null,null,null,null,null,null,"H2B","Escape XLT Tela"]
[null,null,null,null,null,null,null,null,null,null,null,null,null,null,null,null,null,null,null,null,null,null,null,null,null,null,null,null,null,null,null,null,null,null,"H2B11","ESCAPE XLT TELA"]
[null,null,null,null,null,null,null,null,null,null,null,null,null,null,null,null,null,null,null,null,null,null,null,null,null,null,null,null,null,null,null,null,null,null,"H2B12","ESCAPE XLT TELA"]
[null,null,null,null,null,null,null,null,null,null,null,null,null,null,null,null,null,null,null,null,null,null,null,null,null,null,null,null,null,null,null,null,null,null,"H2B13","ESCAPE XLT TELA"]
[null,null,null,null,null,null,null,null,null,null,null,null,null,null,null,null,null,null,null,null,null,null,null,null,null,null,null,null,null,null,null,null,null,null,"H2B15","ESCAPE XLT TELA"]
[null,null,null,null,null,null,null,null,null,null,null,null,null,null,null,null,null,null,null,null,null,null,null,null,null,null,null,null,null,null,null,null,null,null,"H2B17","ESCAPE XLT TELA"]
[null,null,null,null,null,null,null,null,null,null,null,null,null,null,null,null,null,null,null,null,null,null,null,null,null,null,null,null,null,null,null,null,null,null,"H2B18","ESCAPE XLT TELA"]
[null,null,null,null,null,null,null,null,null,null,null,null,null,null,null,null,null,null,null,null,null,null,null,null,null,null,null,null,null,null,null,null,null,null,"H2B19","Escape XLT Tela"]
[null,null,null,null,null,null,null,null,null,null,null,null,null,null,null,null,null,null,null,null,null,null,null,null,null,null,null,null,null,null,null,null,null,null,"H2B20","Escape XLT Tela"]
[null,null,null,null,null,null,null,null,null,null,null,null,null,null,null,null,null,null,null,null,null,null,null,null,null,null,null,null,null,null,null,null,null,null,"H2B21","Escape XLT Tela"]
[null,null,null,null,null,null,null,null,null,null,null,null,null,null,null,null,null,null,null,null,null,null,null,null,null,null,null,null,null,null,null,null,null,null,"H2B22","Escape XLT Tela"]
[null,null,null,null,null,null,null,null,null,null,null,null,null,null,null,null,null,null,null,null,null,null,null,null,null,null,null,null,null,null,null,null,null,null,"H2B4","ESCAPE XLS TELA"]
[null,null,null,null,null,null,null,null,null,null,null,null,null,null,null,null,null,null,null,null,null,null,null,null,null,null,null,null,null,null,null,null,null,null,"H2B4SS8","ESCAPE SE 2.5L"]
[null,null,null,null,null,null,null,null,null,null,null,null,null,null,null,null,null,null,null,null,null,null,null,null,null,null,null,null,null,null,null,null,null,null,"H2B6","ESCAPE XLT 14 TELA"]
[null,null,null,null,null,null,null,null,null,null,null,null,null,null,null,null,null,null,null,null,null,null,null,null,null,null,null,null,null,null,null,null,null,null,"H2BCA1","ESCAPE SE 2.5L"]
[null,null,null,null,null,null,null,null,null,null,null,null,null,null,null,null,null,null,null,null,null,null,null,null,null,null,null,null,null,null,null,null,null,null,"H2BCE1","ESCAPE SE 2.5L"]
[null,null,null,null,null,null,null,null,null,null,null,null,null,null,null,null,null,null,null,null,null,null,null,null,null,null,null,null,null,null,null,null,null,null,"H2BEM","ESCAPE SE 2.5L"]
[null,null,null,null,null,null,null,null,null,null,null,null,null,null,null,null,null,null,null,null,null,null,null,null,null,null,null,null,null,null,null,null,null,null,"H2BJ","ESCAPE XLT 14 TELA"]
[null,null,null,null,null,null,null,null,null,null,null,null,null,null,null,null,null,null,null,null,null,null,null,null,null,null,null,null,null,null,null,null,null,null,"H2BMV13","ESCAPE SE 2.5L"]
[null,null,null,null,null,null,null,null,null,null,null,null,null,null,null,null,null,null,null,null,null,null,null,null,null,null,null,null,null,null,null,null,null,null,"H2BP","ESCAPE XLT 14 TELA"]
[null,null,null,null,null,null,null,null,null,null,null,null,null,null,null,null,null,null,null,null,null,null,null,null,null,null,null,null,null,null,null,null,null,null,"H2BR","ESCAPE XLT 14 TELA"]
[null,null,null,null,null,null,null,null,null,null,null,null,null,null,null,null,null,null,null,null,null,null,null,null,null,null,null,null,null,null,null,null,null,null,"H2BS","ESCAPE XLT"]
[null,null,null,null,null,null,null,null,null,null,null,null,null,null,null,null,null,null,null,null,null,null,null,null,null,null,null,null,null,null,null,null,null,null,"H2BSS8","ESCAPE SE 2.5L"]
[null,null,null,null,null,null,null,null,null,null,null,null,null,null,null,null,null,null,null,null,null,null,null,null,null,null,null,null,null,null,null,null,null,null,"H2BU","ESCAPE XL 14 TELA"]
[null,null,null,null,null,null,null,null,null,null,null,null,null,null,null,null,null,null,null,null,null,null,null,null,null,null,null,null,null,null,null,null,null,null,"H2BV","ESCAPE XLT I4 TELA"]
[null,null,null,null,null,null,null,null,null,null,null,null,null,null,null,null,null,null,null,null,null,null,null,null,null,null,null,null,null,null,null,null,null,null,"H2C23","Escape XLT Tela"]
[null,null,null,null,null,null,null,null,null,null,null,null,null,null,null,null,null,null,null,null,null,null,null,null,null,null,null,null,null,null,null,null,null,null,"H2C27","Escape XLS Tela Vinil"]
[null,null,null,null,null,null,null,null,null,null,null,null,null,null,null,null,null,null,null,null,null,null,null,null,null,null,null,null,null,null,null,null,null,null,"H2C32","Escape XLS Tela Vinil"]
[null,null,null,null,null,null,null,null,null,null,null,null,null,null,null,null,null,null,null,null,null,null,null,null,null,null,null,null,null,null,null,null,null,null,"H2C43","Escape XLS"]
[null,null,null,null,null,null,null,null,null,null,null,null,null,null,null,null,null,null,null,null,null,null,null,null,null,null,null,null,null,null,null,null,null,null,"H2C48","Escape XLS"]
[null,null,null,null,null,null,null,null,null,null,null,null,null,null,null,null,null,null,null,null,null,null,null,null,null,null,null,null,null,null,null,null,null,null,"H2C53","Escape XLS"]
[null,null,null,null,null,null,null,null,null,null,null,null,null,null,null,null,null,null,null,null,null,null,null,null,null,null,null,null,null,null,null,null,null,null,"H2C59","Escape XLS"]
[null,null,null,null,null,null,null,null,null,null,null,null,null,null,null,null,null,null,null,null,null,null,null,null,null,null,null,null,null,null,null,null,null,null,"H2CG","ESCAPE XLS TELA V6"]
[null,null,null,null,null,null,null,null,null,null,null,null,null,null,null,null,null,null,null,null,null,null,null,null,null,null,null,null,null,null,null,null,null,null,"H2CSS1","ESCAPE XLS*"]
[null,null,null,null,null,null,null,null,null,null,null,null,null,null,null,null,null,null,null,null,null,null,null,null,null,null,null,null,null,null,null,null,null,null,"H2CSS6","ESCAPE XLS"]
[null,null,null,null,null,null,null,null,null,null,null,null,null,null,null,null,null,null,null,null,null,null,null,null,null,null,null,null,null,null,null,null,null,null,"H2D33","Escape XLS I4"]
[null,null,null,null,null,null,null,null,null,null,null,null,null,null,null,null,null,null,null,null,null,null,null,null,null,null,null,null,null,null,null,null,null,null,"H2D34","Escape XLS 14"]
[null,null,null,null,null,null,null,null,null,null,null,null,null,null,null,null,null,null,null,null,null,null,null,null,null,null,null,null,null,null,null,null,null,null,"H2D39","Escape XLS 14"]
[null,null,null,null,null,null,null,null,null,null,null,null,null,null,null,null,null,null,null,null,null,null,null,null,null,null,null,null,null,null,null,null,null,null,"H2D44","Escape XLS 14"]
[null,null,null,null,null,null,null,null,null,null,null,null,null,null,null,null,null,null,null,null,null,null,null,null,null,null,null,null,null,null,null,null,null,null,"H2D50","Escape XLS 14"]
[null,null,null,null,null,null,null,null,null,null,null,null,null,null,null,null,null,null,null,null,null,null,null,null,null,null,null,null,null,null,null,null,null,null,"H2D55","Escape XLS 14"]
[null,null,null,null,null,null,null,null,null,null,null,null,null,null,null,null,null,null,null,null,null,null,null,null,null,null,null,null,null,null,null,null,null,null,"H2DCA1","ESCAPE XLS I4"]
[null,null,null,null,null,null,null,null,null,null,null,null,null,null,null,null,null,null,null,null,null,null,null,null,null,null,null,null,null,null,null,null,null,null,"H2DMT","ESCAPE XLS I4"]
[null,null,null,null,null,null,null,null,null,null,null,null,null,null,null,null,null,null,null,null,null,null,null,null,null,null,null,null,null,null,null,null,null,null,"H2DSS3","ESCAPE XLS I4"]
[null,null,null,null,null,null,null,null,null,null,null,null,null,null,null,null,null,null,null,null,null,null,null,null,null,null,null,null,null,null,null,null,null,null,"H2DSSS","ESCAPE XLS I4"]
[null,null,null,null,null,null,null,null,null,null,null,null,null,null,null,null,null,null,null,null,null,null,null,null,null,null,null,null,null,null,null,null,null,null,"H2GCE1","ESCAPE XLT PIEL I4 TA*"]
[null,null,null,null,null,null,null,null,null,null,null,null,null,null,null,null,null,null,null,null,null,null,null,null,null,null,null,null,null,null,null,null,null,null,"H2H5SS8","ESCAPE TREND"]
[null,null,null,null,null,null,null,null,null,null,null,null,null,null,null,null,null,null,null,null,null,null,null,null,null,null,null,null,null,null,null,null,null,null,"H2HE8","ESCAPE TREND"]
[null,null,null,null,null,null,null,null,null,null,null,null,null,null,null,null,null,null,null,null,null,null,null,null,null,null,null,null,null,null,null,null,null,null,"H2L/Q","ESCAPE LIMITED QUEMACOCOS"]
[null,null,null,null,null,null,null,null,null,null,null,null,null,null,null,null,null,null,null,null,null,null,null,null,null,null,null,null,null,null,null,null,null,null,"H2L45","Escape LIMITED"]
[null,null,null,null,null,null,null,null,null,null,null,null,null,null,null,null,null,null,null,null,null,null,null,null,null,null,null,null,null,null,null,null,null,null,"H2L50","Escape LIMITED"]
[null,null,null,null,null,null,null,null,null,null,null,null,null,null,null,null,null,null,null,null,null,null,null,null,null,null,null,null,null,null,null,null,null,null,"H2L55","Escape LIMITED"]
[null,null,null,null,null,null,null,null,null,null,null,null,null,null,null,null,null,null,null,null,null,null,null,null,null,null,null,null,null,null,null,null,null,null,"H2LCA1","ESCAPE LIMITED"]
[null,null,null,null,null,null,null,null,null,null,null,null,null,null,null,null,null,null,null,null,null,null,null,null,null,null,null,null,null,null,null,null,null,null,"H2LMV","ESCAPE LIMITED V6 TA"]
[null,null,null,null,null,null,null,null,null,null,null,null,null,null,null,null,null,null,null,null,null,null,null,null,null,null,null,null,null,null,null,null,null,null,"H2LQSS8","ESCAPE LIMITED QUEMACOCOS V6 TA"]
[null,null,null,null,null,null,null,null,null,null,null,null,null,null,null,null,null,null,null,null,null,null,null,null,null,null,null,null,null,null,null,null,null,null,"H2M55","Escape XLS I4 TM*"]
[null,null,null,null,null,null,null,null,null,null,null,null,null,null,null,null,null,null,null,null,null,null,null,null,null,null,null,null,null,null,null,null,null,null,"H2M60","Escape XLS"]
[null,null,null,null,null,null,null,null,null,null,null,null,null,null,null,null,null,null,null,null,null,null,null,null,null,null,null,null,null,null,null,null,null,null,"H2MMT","ESCAPE XLS I4 TM"]
[null,null,null,null,null,null,null,null,null,null,null,null,null,null,null,null,null,null,null,null,null,null,null,null,null,null,null,null,null,null,null,null,null,null,"H2MSS7","ESCAPE XLS I4 TM"]
[null,null,null,null,null,null,null,null,null,null,null,null,null,null,null,null,null,null,null,null,null,null,null,null,null,null,null,null,null,null,null,null,null,null,"H2PCE1","ESCAPE LIMITED PLUS*"]
[null,null,null,null,null,null,null,null,null,null,null,null,null,null,null,null,null,null,null,null,null,null,null,null,null,null,null,null,null,null,null,null,null,null,"H2Y6SS8","ESCAPE TREND ECOBOOST"]
[null,null,null,null,null,null,null,null,null,null,null,null,null,null,null,null,null,null,null,null,null,null,null,null,null,null,null,null,null,null,null,null,null,null,"H2YEF","ESCAPE TREND ADVANCE ECOBOOST"]
[null,null,null,null,null,null,null,null,null,null,null,null,null,null,null,null,null,null,null,null,null,null,null,null,null,null,null,null,null,null,null,null,null,null,"H2YP8","ESCAPE TREND ECOBOOST"]
[null,null,null,null,null,null,null,null,null,null,null,null,null,null,null,null,null,null,null,null,null,null,null,null,null,null,null,null,null,null,null,null,null,null,"H3B4SS8","ESCAPE S PLUS 2.5L"]
[null,null,null,null,null,null,null,null,null,null,null,null,null,null,null,null,null,null,null,null,null,null,null,null,null,null,null,null,null,null,null,null,null,null,"H3BSS8","ESCAPE S PLUS 2.5L"]
[null,null,null,null,null,null,null,null,null,null,null,null,null,null,null,null,null,null,null,null,null,null,null,null,null,null,null,null,null,null,null,null,null,null,"H3DMV13","ESCAPE S 2.5L"]
[null,null,null,null,null,null,null,null,null,null,null,null,null,null,null,null,null,null,null,null,null,null,null,null,null,null,null,null,null,null,null,null,null,null,"H3E7SS8","ESCAPE S PLUS 2.5L"]
[null,null,null,null,null,null,null,null,null,null,null,null,null,null,null,null,null,null,null,null,null,null,null,null,null,null,null,null,null,null,null,null,null,null,"H3ESS8","ESCAPE S PLUS 2.5L"]
[null,null,null,null,null,null,null,null,null,null,null,null,null,null,null,null,null,null,null,null,null,null,null,null,null,null,null,null,null,null,null,null,null,null,"H3F8S","ESCAPE S 2.5L"]
[null,null,null,null,null,null,null,null,null,null,null,null,null,null,null,null,null,null,null,null,null,null,null,null,null,null,null,null,null,null,null,null,null,null,"H3FP8","ESCAPE S 2.5L"]
[null,null,null,null,null,null,null,null,null,null,null,null,null,null,null,null,null,null,null,null,null,null,null,null,null,null,null,null,null,null,null,null,null,null,"J1DCA1","RANGER XLT CREW CAB"]
[null,null,null,null,null,null,null,null,null,null,null,null,null,null,null,null,null,null,null,null,null,null,null,null,null,null,null,null,null,null,null,null,null,null,"J1E8S","RANGER XLT GAS CREW CAB"]
[null,null,null,null,null,null,null,null,null,null,null,null,null,null,null,null,null,null,null,null,null,null,null,null,null,null,null,null,null,null,null,null,null,null,"J1ESS8","RANGER XLT GAS CREW CAB"]
[null,null,null,null,null,null,null,null,null,null,null,null,null,null,null,null,null,null,null,null,null,null,null,null,null,null,null,null,null,null,null,null,null,null,"J1PSS8","RANGER XL DIESEL CREW CAB"]
[null,null,null,null,null,null,null,null,null,null,null,null,null,null,null,null,null,null,null,null,null,null,null,null,null,null,null,null,null,null,null,null,null,null,"J1R6SS8","RANGER XL GAS CREW CAB W/FRONT AIR BAGS"]
[null,null,null,null,null,null,null,null,null,null,null,null,null,null,null,null,null,null,null,null,null,null,null,null,null,null,null,null,null,null,null,null,null,null,"J1R7SS8","RANGER XL GAS CREW CAB"]
[null,null,null,null,null,null,null,null,null,null,null,null,null,null,null,null,null,null,null,null,null,null,null,null,null,null,null,null,null,null,null,null,null,null,"J1RP8","RANGER XL GAS CREW CAB W/FRONT AIR BAGS"]
[null,null,null,null,null,null,null,null,null,null,null,null,null,null,null,null,null,null,null,null,null,null,null,null,null,null,null,null,null,null,null,null,null,null,"J1W8S","RANGER XL DIESEL CREW CAB 4X4"]
[null,null,null,null,null,null,null,null,null,null,null,null,null,null,null,null,null,null,null,null,null,null,null,null,null,null,null,null,null,null,null,null,null,null,"J2A","F-250 STD/RANGER XLT"]
[null,null,null,null,null,null,null,null,null,null,null,null,null,null,null,null,null,null,null,null,null,null,null,null,null,null,null,null,null,null,null,null,null,null,"J2D","F-250 XLT STD              vig"]
[null,null,null,null,null,null,null,null,null,null,null,null,null,null,null,null,null,null,null,null,null,null,null,null,null,null,null,null,null,null,null,null,null,null,"J3FCA1","RANGER XL GAS REGULAR CAB"]
[null,null,null,null,null,null,null,null,null,null,null,null,null,null,null,null,null,null,null,null,null,null,null,null,null,null,null,null,null,null,null,null,null,null,"J4B","RANGER XLT LWB"]
[null,null,null,null,null,null,null,null,null,null,null,null,null,null,null,null,null,null,null,null,null,null,null,null,null,null,null,null,null,null,null,null,null,null,"J4CR","RANGER XL LWB 14 T/M RADIO AM/FM A/A"]
[null,null,null,null,null,null,null,null,null,null,null,null,null,null,null,null,null,null,null,null,null,null,null,null,null,null,null,null,null,null,null,null,null,null,"J5DCA1","RANGER LIMITED GAS CREW CAB"]
[null,null,null,null,null,null,null,null,null,null,null,null,null,null,null,null,null,null,null,null,null,null,null,null,null,null,null,null,null,null,null,null,null,null,"J5ECA1","RANGER LIMITED GAS CREW CAB"]
[null,null,null,null,null,null,null,null,null,null,null,null,null,null,null,null,null,null,null,null,null,null,null,null,null,null,null,null,null,null,null,null,null,null,"J6B6SS8","F-150 XL CREW CAB 4x2 3.5L V6"]
[null,null,null,null,null,null,null,null,null,null,null,null,null,null,null,null,null,null,null,null,null,null,null,null,null,null,null,null,null,null,null,null,null,null,"J6ECA1","F-150 XL REG CAB 4x4 3.5L V6"]
[null,null,null,null,null,null,null,null,null,null,null,null,null,null,null,null,null,null,null,null,null,null,null,null,null,null,null,null,null,null,null,null,null,null,"J6F7SS8","F-150 XL REG CAB 4x2 3.5L V6"]
[null,null,null,null,null,null,null,null,null,null,null,null,null,null,null,null,null,null,null,null,null,null,null,null,null,null,null,null,null,null,null,null,null,null,"J6F8S","F-150 XL REG CAB 4x2 3.5L V6"]
[null,null,null,null,null,null,null,null,null,null,null,null,null,null,null,null,null,null,null,null,null,null,null,null,null,null,null,null,null,null,null,null,null,null,"J7A","F-150 XL V6 AA TA"]
[null,null,null,null,null,null,null,null,null,null,null,null,null,null,null,null,null,null,null,null,null,null,null,null,null,null,null,null,null,null,null,null,null,null,"J7A38","F-150 XL MID V6 TA A/A"]
[null,null,null,null,null,null,null,null,null,null,null,null,null,null,null,null,null,null,null,null,null,null,null,null,null,null,null,null,null,null,null,null,null,null,"J7A44","F-150 XL MID V6 TA A/A"]
[null,null,null,null,null,null,null,null,null,null,null,null,null,null,null,null,null,null,null,null,null,null,null,null,null,null,null,null,null,null,null,null,null,null,"J7A49","F-150 XL MID V6 TA A/A"]
[null,null,null,null,null,null,null,null,null,null,null,null,null,null,null,null,null,null,null,null,null,null,null,null,null,null,null,null,null,null,null,null,null,null,"J7A54","F-150 XL MID V6 TA A/A"]
[null,null,null,null,null,null,null,null,null,null,null,null,null,null,null,null,null,null,null,null,null,null,null,null,null,null,null,null,null,null,null,null,null,null,"J7A60","F-150 XL MID V6 TA A/A"]
[null,null,null,null,null,null,null,null,null,null,null,null,null,null,null,null,null,null,null,null,null,null,null,null,null,null,null,null,null,null,null,null,null,null,"J7ASS2","F-150 XL MID V6 TA A/A"]
[null,null,null,null,null,null,null,null,null,null,null,null,null,null,null,null,null,null,null,null,null,null,null,null,null,null,null,null,null,null,null,null,null,null,"J7ASS5","F-150 XL MID V6 TA A/A"]
[null,null,null,null,null,null,null,null,null,null,null,null,null,null,null,null,null,null,null,null,null,null,null,null,null,null,null,null,null,null,null,null,null,null,"J7BVCA1","F-150 XL CREW CAB 4x2 3.7L V6 VP"]
[null,null,null,null,null,null,null,null,null,null,null,null,null,null,null,null,null,null,null,null,null,null,null,null,null,null,null,null,null,null,null,null,null,null,"J7D11","F-150 XL V6 TM"]
[null,null,null,null,null,null,null,null,null,null,null,null,null,null,null,null,null,null,null,null,null,null,null,null,null,null,null,null,null,null,null,null,null,null,"J7D19","F-150 XL V6 TM"]
[null,null,null,null,null,null,null,null,null,null,null,null,null,null,null,null,null,null,null,null,null,null,null,null,null,null,null,null,null,null,null,null,null,null,"J7D23","F-150 XL V6 TM"]
[null,null,null,null,null,null,null,null,null,null,null,null,null,null,null,null,null,null,null,null,null,null,null,null,null,null,null,null,null,null,null,null,null,null,"J7D24","F150 XL V6 TM"]
[null,null,null,null,null,null,null,null,null,null,null,null,null,null,null,null,null,null,null,null,null,null,null,null,null,null,null,null,null,null,null,null,null,null,"J7D29","F-150 XL V6 TM"]
[null,null,null,null,null,null,null,null,null,null,null,null,null,null,null,null,null,null,null,null,null,null,null,null,null,null,null,null,null,null,null,null,null,null,"J7D33","F-150 XL MID V6 TM"]
[null,null,null,null,null,null,null,null,null,null,null,null,null,null,null,null,null,null,null,null,null,null,null,null,null,null,null,null,null,null,null,null,null,null,"J7D4","F-150 XL V6 TM"]
[null,null,null,null,null,null,null,null,null,null,null,null,null,null,null,null,null,null,null,null,null,null,null,null,null,null,null,null,null,null,null,null,null,null,"J7D44","F-150 XL MID V6 TM"]
[null,null,null,null,null,null,null,null,null,null,null,null,null,null,null,null,null,null,null,null,null,null,null,null,null,null,null,null,null,null,null,null,null,null,"J7D49","F-150 XL MID V6 TM"]
[null,null,null,null,null,null,null,null,null,null,null,null,null,null,null,null,null,null,null,null,null,null,null,null,null,null,null,null,null,null,null,null,null,null,"J7D55","F-150 XL MID V6 TM"]
[null,null,null,null,null,null,null,null,null,null,null,null,null,null,null,null,null,null,null,null,null,null,null,null,null,null,null,null,null,null,null,null,null,null,"J7D6","F-150 XL V6 TM"]
[null,null,null,null,null,null,null,null,null,null,null,null,null,null,null,null,null,null,null,null,null,null,null,null,null,null,null,null,null,null,null,null,null,null,"J7DACA2","F-150 XL MID V6 TM A/A"]
[null,null,null,null,null,null,null,null,null,null,null,null,null,null,null,null,null,null,null,null,null,null,null,null,null,null,null,null,null,null,null,null,null,null,"J7DASS1","F-150 XL MID V6 TM A/A*"]
[null,null,null,null,null,null,null,null,null,null,null,null,null,null,null,null,null,null,null,null,null,null,null,null,null,null,null,null,null,null,null,null,null,null,"J7DASS6","F-150 XL MID V6 TM A/A"]
[null,null,null,null,null,null,null,null,null,null,null,null,null,null,null,null,null,null,null,null,null,null,null,null,null,null,null,null,null,null,null,null,null,null,"J7DCA2","F-150 XL MID V6 TM"]
[null,null,null,null,null,null,null,null,null,null,null,null,null,null,null,null,null,null,null,null,null,null,null,null,null,null,null,null,null,null,null,null,null,null,"J7DP","F-150 XL V6 TM"]
[null,null,null,null,null,null,null,null,null,null,null,null,null,null,null,null,null,null,null,null,null,null,null,null,null,null,null,null,null,null,null,null,null,null,"J7DSS1","F-150 XL MID V6 TM*"]
[null,null,null,null,null,null,null,null,null,null,null,null,null,null,null,null,null,null,null,null,null,null,null,null,null,null,null,null,null,null,null,null,null,null,"J7DSS2","F-150 XL MID V6 TM"]
[null,null,null,null,null,null,null,null,null,null,null,null,null,null,null,null,null,null,null,null,null,null,null,null,null,null,null,null,null,null,null,null,null,null,"J7DSS7","F-150 XL MID V7 TM"]
[null,null,null,null,null,null,null,null,null,null,null,null,null,null,null,null,null,null,null,null,null,null,null,null,null,null,null,null,null,null,null,null,null,null,"J7DX","F-150 XL V6 T/M"]
[null,null,null,null,null,null,null,null,null,null,null,null,null,null,null,null,null,null,null,null,null,null,null,null,null,null,null,null,null,null,null,null,null,null,"J7ESC12","F-150 XL REG CAB 4x4 3.7L V6"]
[null,null,null,null,null,null,null,null,null,null,null,null,null,null,null,null,null,null,null,null,null,null,null,null,null,null,null,null,null,null,null,null,null,null,"J7FSCA1","F-150 XL REG CAB 4x2 3.7L V6"]
[null,null,null,null,null,null,null,null,null,null,null,null,null,null,null,null,null,null,null,null,null,null,null,null,null,null,null,null,null,null,null,null,null,null,"J7LSS6","F-150 XLT V6 TA AA"]
[null,null,null,null,null,null,null,null,null,null,null,null,null,null,null,null,null,null,null,null,null,null,null,null,null,null,null,null,null,null,null,null,null,null,"J8A34","F-250 XL MID V8 TA"]
[null,null,null,null,null,null,null,null,null,null,null,null,null,null,null,null,null,null,null,null,null,null,null,null,null,null,null,null,null,null,null,null,null,null,"J8A41","F-250 XL MID V8 TA"]
[null,null,null,null,null,null,null,null,null,null,null,null,null,null,null,null,null,null,null,null,null,null,null,null,null,null,null,null,null,null,null,null,null,null,"J8A46","F250 XL MID V8 TA"]
[null,null,null,null,null,null,null,null,null,null,null,null,null,null,null,null,null,null,null,null,null,null,null,null,null,null,null,null,null,null,null,null,null,null,"J8A51","F-250 XL MID V8 TA"]
[null,null,null,null,null,null,null,null,null,null,null,null,null,null,null,null,null,null,null,null,null,null,null,null,null,null,null,null,null,null,null,null,null,null,"J8A57","F-250 XL MID V8 TA"]
[null,null,null,null,null,null,null,null,null,null,null,null,null,null,null,null,null,null,null,null,null,null,null,null,null,null,null,null,null,null,null,null,null,null,"J8ACA2","F-250 XLT MID V8 TA"]
[null,null,null,null,null,null,null,null,null,null,null,null,null,null,null,null,null,null,null,null,null,null,null,null,null,null,null,null,null,null,null,null,null,null,"J8ASS3","F-250 XLT MID V8 TA"]
[null,null,null,null,null,null,null,null,null,null,null,null,null,null,null,null,null,null,null,null,null,null,null,null,null,null,null,null,null,null,null,null,null,null,"J8ASS4","F-250 XLT MID V8 TA"]
[null,null,null,null,null,null,null,null,null,null,null,null,null,null,null,null,null,null,null,null,null,null,null,null,null,null,null,null,null,null,null,null,null,null,"J8ASSS","F-250 XLT MID V8 TA"]
[null,null,null,null,null,null,null,null,null,null,null,null,null,null,null,null,null,null,null,null,null,null,null,null,null,null,null,null,null,null,null,null,null,null,"J8C","F-250 XLT V8 T/A"]
[null,null,null,null,null,null,null,null,null,null,null,null,null,null,null,null,null,null,null,null,null,null,null,null,null,null,null,null,null,null,null,null,null,null,"J8DA","F-250 XLT V8 T/M A/A"]
[null,null,null,null,null,null,null,null,null,null,null,null,null,null,null,null,null,null,null,null,null,null,null,null,null,null,null,null,null,null,null,null,null,null,"J8DSS8","F-150 XL SUP CAB 4x2 5.0L V8"]
[null,null,null,null,null,null,null,null,null,null,null,null,null,null,null,null,null,null,null,null,null,null,null,null,null,null,null,null,null,null,null,null,null,null,"J8ECA1","F-250 XL MID V8 TA A/A"]
[null,null,null,null,null,null,null,null,null,null,null,null,null,null,null,null,null,null,null,null,null,null,null,null,null,null,null,null,null,null,null,null,null,null,"J8EP8","F-150 XL REG CAB 4x4 5.0L V8"]
[null,null,null,null,null,null,null,null,null,null,null,null,null,null,null,null,null,null,null,null,null,null,null,null,null,null,null,null,null,null,null,null,null,null,"J8ESS3","F-250 XL MID V8 TA A/A"]
[null,null,null,null,null,null,null,null,null,null,null,null,null,null,null,null,null,null,null,null,null,null,null,null,null,null,null,null,null,null,null,null,null,null,"J8ESS8","F-250 XL MID V8 TA A/A"]
[null,null,null,null,null,null,null,null,null,null,null,null,null,null,null,null,null,null,null,null,null,null,null,null,null,null,null,null,null,null,null,null,null,null,"J8FCA1","F-150 XL REG CAB 4x2 5.0L V8"]
[null,null,null,null,null,null,null,null,null,null,null,null,null,null,null,null,null,null,null,null,null,null,null,null,null,null,null,null,null,null,null,null,null,null,"J8FSS8","F-150 XL REG CAB 4X2 5.0L V8"]
[null,null,null,null,null,null,null,null,null,null,null,null,null,null,null,null,null,null,null,null,null,null,null,null,null,null,null,null,null,null,null,null,null,null,"J8JEM","F-150 XL REG CAB 4x4 3.7L V6"]
[null,null,null,null,null,null,null,null,null,null,null,null,null,null,null,null,null,null,null,null,null,null,null,null,null,null,null,null,null,null,null,null,null,null,"J8KCD","F150 XL REG CAB"]
[null,null,null,null,null,null,null,null,null,null,null,null,null,null,null,null,null,null,null,null,null,null,null,null,null,null,null,null,null,null,null,null,null,null,"J8KCE1","F-150 XL REG CAB 4X2  3.7L V6"]
[null,null,null,null,null,null,null,null,null,null,null,null,null,null,null,null,null,null,null,null,null,null,null,null,null,null,null,null,null,null,null,null,null,null,"J8NCA1","F-150 XL CREW CAB 4X2 4.6L 2V"]
[null,null,null,null,null,null,null,null,null,null,null,null,null,null,null,null,null,null,null,null,null,null,null,null,null,null,null,null,null,null,null,null,null,null,"J8S/ASS","F-250 XL MID V8 TM A/A"]
[null,null,null,null,null,null,null,null,null,null,null,null,null,null,null,null,null,null,null,null,null,null,null,null,null,null,null,null,null,null,null,null,null,null,"J8S27","F-250 XL V8 TM"]
[null,null,null,null,null,null,null,null,null,null,null,null,null,null,null,null,null,null,null,null,null,null,null,null,null,null,null,null,null,null,null,null,null,null,"J8S32","F-250 XL V8 TM"]
[null,null,null,null,null,null,null,null,null,null,null,null,null,null,null,null,null,null,null,null,null,null,null,null,null,null,null,null,null,null,null,null,null,null,"J8S39","F-250 XL MID V8 TM"]
[null,null,null,null,null,null,null,null,null,null,null,null,null,null,null,null,null,null,null,null,null,null,null,null,null,null,null,null,null,null,null,null,null,null,"J8S43","F-250 XL MID V8 TM"]
[null,null,null,null,null,null,null,null,null,null,null,null,null,null,null,null,null,null,null,null,null,null,null,null,null,null,null,null,null,null,null,null,null,null,"J8S48","F-250 XL MID V8 TM"]
[null,null,null,null,null,null,null,null,null,null,null,null,null,null,null,null,null,null,null,null,null,null,null,null,null,null,null,null,null,null,null,null,null,null,"J8S54","F-250 XL MID V8 TM"]
[null,null,null,null,null,null,null,null,null,null,null,null,null,null,null,null,null,null,null,null,null,null,null,null,null,null,null,null,null,null,null,null,null,null,"J8S59","F-250 XL MID V8 TM"]
[null,null,null,null,null,null,null,null,null,null,null,null,null,null,null,null,null,null,null,null,null,null,null,null,null,null,null,null,null,null,null,null,null,null,"J8SACA2","F-250 XL MID V8 TM A/A"]
[null,null,null,null,null,null,null,null,null,null,null,null,null,null,null,null,null,null,null,null,null,null,null,null,null,null,null,null,null,null,null,null,null,null,"J8SR","F-250 XL V8 T/M"]
[null,null,null,null,null,null,null,null,null,null,null,null,null,null,null,null,null,null,null,null,null,null,null,null,null,null,null,null,null,null,null,null,null,null,"J8SSS4","F-250 XLT MID V8 TM"]
[null,null,null,null,null,null,null,null,null,null,null,null,null,null,null,null,null,null,null,null,null,null,null,null,null,null,null,null,null,null,null,null,null,null,"J8SSS5","F-250 XLT MID V8 TM"]
[null,null,null,null,null,null,null,null,null,null,null,null,null,null,null,null,null,null,null,null,null,null,null,null,null,null,null,null,null,null,null,null,null,null,"J8SZ","F-250 XL V8 T/M"]
[null,null,null,null,null,null,null,null,null,null,null,null,null,null,null,null,null,null,null,null,null,null,null,null,null,null,null,null,null,null,null,null,null,null,"J8Y","F-250 XL  4X4 V8 TM"]
[null,null,null,null,null,null,null,null,null,null,null,null,null,null,null,null,null,null,null,null,null,null,null,null,null,null,null,null,null,null,null,null,null,null,"J8YCA1","F-250 XL  4X4 V8 TM"]
[null,null,null,null,null,null,null,null,null,null,null,null,null,null,null,null,null,null,null,null,null,null,null,null,null,null,null,null,null,null,null,null,null,null,"JPD0","RANGER XL SUPER CAB CAJA CALIF. V6 T/M"]
[null,null,null,null,null,null,null,null,null,null,null,null,null,null,null,null,null,null,null,null,null,null,null,null,null,null,null,null,null,null,null,null,null,null,"JPS8","RANGER SPORT XLT 4 PTAS."]
[null,null,null,null,null,null,null,null,null,null,null,null,null,null,null,null,null,null,null,null,null,null,null,null,null,null,null,null,null,null,null,null,null,null,"JV7SS8","RANGER XLT CREW CAB"]
[null,null,null,null,null,null,null,null,null,null,null,null,null,null,null,null,null,null,null,null,null,null,null,null,null,null,null,null,null,null,null,null,null,null,"JW4EM","RANGER XL CREW CAB I4 TM"]
[null,null,null,null,null,null,null,null,null,null,null,null,null,null,null,null,null,null,null,null,null,null,null,null,null,null,null,null,null,null,null,null,null,null,"JW4SS3","RANGER XL CREW CAB I4 TM"]
[null,null,null,null,null,null,null,null,null,null,null,null,null,null,null,null,null,null,null,null,null,null,null,null,null,null,null,null,null,null,null,null,null,null,"JW4SS8","RANGER XL CREW CAB I4 TM"]
[null,null,null,null,null,null,null,null,null,null,null,null,null,null,null,null,null,null,null,null,null,null,null,null,null,null,null,null,null,null,null,null,null,null,"JW539","Ranger XL Crew Cab 14 TM A/A"]
[null,null,null,null,null,null,null,null,null,null,null,null,null,null,null,null,null,null,null,null,null,null,null,null,null,null,null,null,null,null,null,null,null,null,"JW544","Ranger XL Crew Cab 14 TM A/A"]
[null,null,null,null,null,null,null,null,null,null,null,null,null,null,null,null,null,null,null,null,null,null,null,null,null,null,null,null,null,null,null,null,null,null,"JW549","Ranger XL Crew Cab 14 TM A/A"]
[null,null,null,null,null,null,null,null,null,null,null,null,null,null,null,null,null,null,null,null,null,null,null,null,null,null,null,null,null,null,null,null,null,null,"JW553","Ranger XL Crew Cab 14 TM A/A"]
[null,null,null,null,null,null,null,null,null,null,null,null,null,null,null,null,null,null,null,null,null,null,null,null,null,null,null,null,null,null,null,null,null,null,"JW554","Ranger XL Crew Cab 14 TM A/A"]
[null,null,null,null,null,null,null,null,null,null,null,null,null,null,null,null,null,null,null,null,null,null,null,null,null,null,null,null,null,null,null,null,null,null,"JW560","Ranger XL Crew Cab 14 TM A/A"]
[null,null,null,null,null,null,null,null,null,null,null,null,null,null,null,null,null,null,null,null,null,null,null,null,null,null,null,null,null,null,null,null,null,null,"JW5PR","RANGER XL CREW CAB I4 TM A/A"]
[null,null,null,null,null,null,null,null,null,null,null,null,null,null,null,null,null,null,null,null,null,null,null,null,null,null,null,null,null,null,null,null,null,null,"JW5SS4","RANGER XL CREW CAB I4 TM A/A"]
[null,null,null,null,null,null,null,null,null,null,null,null,null,null,null,null,null,null,null,null,null,null,null,null,null,null,null,null,null,null,null,null,null,null,"JW5X","Ranger XL Crew Cab I4 TM A/A"]
[null,null,null,null,null,null,null,null,null,null,null,null,null,null,null,null,null,null,null,null,null,null,null,null,null,null,null,null,null,null,null,null,null,null,"JW7CE1","RANGER XLT CREW CAB I4 TM A/A*"]
[null,null,null,null,null,null,null,null,null,null,null,null,null,null,null,null,null,null,null,null,null,null,null,null,null,null,null,null,null,null,null,null,null,null,"JW7X","Ranger XLT Crew Cab I4 TM A/A"]
[null,null,null,null,null,null,null,null,null,null,null,null,null,null,null,null,null,null,null,null,null,null,null,null,null,null,null,null,null,null,null,null,null,null,"JW8X","RANGER XLT CREW CAB I4 TM A/A LIMITED"]
[null,null,null,null,null,null,null,null,null,null,null,null,null,null,null,null,null,null,null,null,null,null,null,null,null,null,null,null,null,null,null,null,null,null,"JWBP","RANGER XL SWB CAJA CORTA 14 TM"]
[null,null,null,null,null,null,null,null,null,null,null,null,null,null,null,null,null,null,null,null,null,null,null,null,null,null,null,null,null,null,null,null,null,null,"JWC25","Ranger XL Caja Larga 14 TM"]
[null,null,null,null,null,null,null,null,null,null,null,null,null,null,null,null,null,null,null,null,null,null,null,null,null,null,null,null,null,null,null,null,null,null,"JWC30","Ranger XL Caja Larga 14 TM"]
[null,null,null,null,null,null,null,null,null,null,null,null,null,null,null,null,null,null,null,null,null,null,null,null,null,null,null,null,null,null,null,null,null,null,"JWC36","Ranger XL Caja Larga 14 TM"]
[null,null,null,null,null,null,null,null,null,null,null,null,null,null,null,null,null,null,null,null,null,null,null,null,null,null,null,null,null,null,null,null,null,null,"JWC37","Ranger XL Caja Larga 14 TM"]
[null,null,null,null,null,null,null,null,null,null,null,null,null,null,null,null,null,null,null,null,null,null,null,null,null,null,null,null,null,null,null,null,null,null,"JWC41","Ranger XL Caja Larga 14 TM"]
[null,null,null,null,null,null,null,null,null,null,null,null,null,null,null,null,null,null,null,null,null,null,null,null,null,null,null,null,null,null,null,null,null,null,"JWC46","Ranger XL Caja Larga 14 TM"]
[null,null,null,null,null,null,null,null,null,null,null,null,null,null,null,null,null,null,null,null,null,null,null,null,null,null,null,null,null,null,null,null,null,null,"JWC51","Ranger XL Caja Larga 14 TM"]
[null,null,null,null,null,null,null,null,null,null,null,null,null,null,null,null,null,null,null,null,null,null,null,null,null,null,null,null,null,null,null,null,null,null,"JWC56","Ranger XL Caja Larga 14 TM"]
[null,null,null,null,null,null,null,null,null,null,null,null,null,null,null,null,null,null,null,null,null,null,null,null,null,null,null,null,null,null,null,null,null,null,"JWCCA2","RANGER XL CAJA LARGA I4 TM"]
[null,null,null,null,null,null,null,null,null,null,null,null,null,null,null,null,null,null,null,null,null,null,null,null,null,null,null,null,null,null,null,null,null,null,"JWCPR2","RANGER XL CAJA LARGA I4 TM"]
[null,null,null,null,null,null,null,null,null,null,null,null,null,null,null,null,null,null,null,null,null,null,null,null,null,null,null,null,null,null,null,null,null,null,"JWCSS2","RANGER XL CAJA LARGA I4 TM"]
[null,null,null,null,null,null,null,null,null,null,null,null,null,null,null,null,null,null,null,null,null,null,null,null,null,null,null,null,null,null,null,null,null,null,"JWCSS8","RANGER XL CAJA LARGA I4 TM"]
[null,null,null,null,null,null,null,null,null,null,null,null,null,null,null,null,null,null,null,null,null,null,null,null,null,null,null,null,null,null,null,null,null,null,"JWD15","RANGER CHASIS 1.4 TM"]
[null,null,null,null,null,null,null,null,null,null,null,null,null,null,null,null,null,null,null,null,null,null,null,null,null,null,null,null,null,null,null,null,null,null,"JWD22","Ranger Chasis TM"]
[null,null,null,null,null,null,null,null,null,null,null,null,null,null,null,null,null,null,null,null,null,null,null,null,null,null,null,null,null,null,null,null,null,null,"JWD27","Ranger Chasis 1.4 TM"]
[null,null,null,null,null,null,null,null,null,null,null,null,null,null,null,null,null,null,null,null,null,null,null,null,null,null,null,null,null,null,null,null,null,null,"JWD32","Ranger Chasis 1.4 TM"]
[null,null,null,null,null,null,null,null,null,null,null,null,null,null,null,null,null,null,null,null,null,null,null,null,null,null,null,null,null,null,null,null,null,null,"JWD33","Ranger Chasis 14 TM"]
[null,null,null,null,null,null,null,null,null,null,null,null,null,null,null,null,null,null,null,null,null,null,null,null,null,null,null,null,null,null,null,null,null,null,"JWD39","Ranger Chasis 14 TM"]
[null,null,null,null,null,null,null,null,null,null,null,null,null,null,null,null,null,null,null,null,null,null,null,null,null,null,null,null,null,null,null,null,null,null,"JWD44","Ranger Chasis 14 TM"]
[null,null,null,null,null,null,null,null,null,null,null,null,null,null,null,null,null,null,null,null,null,null,null,null,null,null,null,null,null,null,null,null,null,null,"JWD50","Ranger Chasis 14 TM"]
[null,null,null,null,null,null,null,null,null,null,null,null,null,null,null,null,null,null,null,null,null,null,null,null,null,null,null,null,null,null,null,null,null,null,"JWD55","Ranger Chasis 14 TM"]
[null,null,null,null,null,null,null,null,null,null,null,null,null,null,null,null,null,null,null,null,null,null,null,null,null,null,null,null,null,null,null,null,null,null,"JWD8","RANGER CHASIS I4 TM"]
[null,null,null,null,null,null,null,null,null,null,null,null,null,null,null,null,null,null,null,null,null,null,null,null,null,null,null,null,null,null,null,null,null,null,"JWDI","Ranger Chassis I4 TM"]
[null,null,null,null,null,null,null,null,null,null,null,null,null,null,null,null,null,null,null,null,null,null,null,null,null,null,null,null,null,null,null,null,null,null,"JWDR","RANGER CHASIS 14 TM"]
[null,null,null,null,null,null,null,null,null,null,null,null,null,null,null,null,null,null,null,null,null,null,null,null,null,null,null,null,null,null,null,null,null,null,"JWDSS6","RANGER CHASSIS I4 TM"]
[null,null,null,null,null,null,null,null,null,null,null,null,null,null,null,null,null,null,null,null,null,null,null,null,null,null,null,null,null,null,null,null,null,null,"JWDY","RANGER CHASIS 14 TM"]
[null,null,null,null,null,null,null,null,null,null,null,null,null,null,null,null,null,null,null,null,null,null,null,null,null,null,null,null,null,null,null,null,null,null,"JWECE1","RANGER XL CAJA LARGA I4 TM A/A*"]
[null,null,null,null,null,null,null,null,null,null,null,null,null,null,null,null,null,null,null,null,null,null,null,null,null,null,null,null,null,null,null,null,null,null,"JWESS2","RANGER XL CAJA LARGA I4 TM A/A"]
[null,null,null,null,null,null,null,null,null,null,null,null,null,null,null,null,null,null,null,null,null,null,null,null,null,null,null,null,null,null,null,null,null,null,"JWESS7","RANGER XL CAJA LARGA I4 TM A/A"]
[null,null,null,null,null,null,null,null,null,null,null,null,null,null,null,null,null,null,null,null,null,null,null,null,null,null,null,null,null,null,null,null,null,null,"JWESS8","RANGER XL CAJA LARGA I4 TM A/A"]
[null,null,null,null,null,null,null,null,null,null,null,null,null,null,null,null,null,null,null,null,null,null,null,null,null,null,null,null,null,null,null,null,null,null,"K3M","F-350 MOTOR/351            vig"]
[null,null,null,null,null,null,null,null,null,null,null,null,null,null,null,null,null,null,null,null,null,null,null,null,null,null,null,null,null,null,null,null,null,null,"K5A","F-450 Super Duty"]
[null,null,null,null,null,null,null,null,null,null,null,null,null,null,null,null,null,null,null,null,null,null,null,null,null,null,null,null,null,null,null,null,null,null,"K5L/A","F-450 SUPER DUTY / DIESEL A/A"]
[null,null,null,null,null,null,null,null,null,null,null,null,null,null,null,null,null,null,null,null,null,null,null,null,null,null,null,null,null,null,null,null,null,null,"K6A/ACA2","F-350 SUPER DUTY XLT V8 A/A"]
[null,null,null,null,null,null,null,null,null,null,null,null,null,null,null,null,null,null,null,null,null,null,null,null,null,null,null,null,null,null,null,null,null,null,"K6ACA2","F-350 SUPER DUTY XLT V8"]
[null,null,null,null,null,null,null,null,null,null,null,null,null,null,null,null,null,null,null,null,null,null,null,null,null,null,null,null,null,null,null,null,null,null,"K6B/ACA2","F-350 SUPER DUTY XL V8 A/A"]
[null,null,null,null,null,null,null,null,null,null,null,null,null,null,null,null,null,null,null,null,null,null,null,null,null,null,null,null,null,null,null,null,null,null,"K6BCA1","F-350 SUPER DUTY XL V8"]
[null,null,null,null,null,null,null,null,null,null,null,null,null,null,null,null,null,null,null,null,null,null,null,null,null,null,null,null,null,null,null,null,null,null,"K6CCA1","F-350 KTP XL PLUS 6.2L GAS AT A/A"]
[null,null,null,null,null,null,null,null,null,null,null,null,null,null,null,null,null,null,null,null,null,null,null,null,null,null,null,null,null,null,null,null,null,null,"K6D/A5SS8","F-350 KTP XLT 6.2L GAS MT A/A"]
[null,null,null,null,null,null,null,null,null,null,null,null,null,null,null,null,null,null,null,null,null,null,null,null,null,null,null,null,null,null,null,null,null,null,"K6D/AP8","F-350 KTP XLT 6.2L GAS MT A/A"]
[null,null,null,null,null,null,null,null,null,null,null,null,null,null,null,null,null,null,null,null,null,null,null,null,null,null,null,null,null,null,null,null,null,null,"K6DAEF","F-350 KTP XLT 6.2L GAS MT A/A"]
[null,null,null,null,null,null,null,null,null,null,null,null,null,null,null,null,null,null,null,null,null,null,null,null,null,null,null,null,null,null,null,null,null,null,"K6DEF","F-350 KTP XLT 6.2L GAS MT"]
[null,null,null,null,null,null,null,null,null,null,null,null,null,null,null,null,null,null,null,null,null,null,null,null,null,null,null,null,null,null,null,null,null,null,"K6DP8","F-350 KTP XLT 6.2L GAS MT"]
[null,null,null,null,null,null,null,null,null,null,null,null,null,null,null,null,null,null,null,null,null,null,null,null,null,null,null,null,null,null,null,null,null,null,"K6ECA1","F-350 KTP XL 6.2L GAS AT"]
[null,null,null,null,null,null,null,null,null,null,null,null,null,null,null,null,null,null,null,null,null,null,null,null,null,null,null,null,null,null,null,null,null,null,"K6ESS8","F-350 KTP XL 6.2L GAS AT"]
[null,null,null,null,null,null,null,null,null,null,null,null,null,null,null,null,null,null,null,null,null,null,null,null,null,null,null,null,null,null,null,null,null,null,"K6FE8","F-350 KTP XL 6.2L GAS MT"]
[null,null,null,null,null,null,null,null,null,null,null,null,null,null,null,null,null,null,null,null,null,null,null,null,null,null,null,null,null,null,null,null,null,null,"K6G","F350 KTP SUPER DUTY XL PLUS TA V8 AA"]
[null,null,null,null,null,null,null,null,null,null,null,null,null,null,null,null,null,null,null,null,null,null,null,null,null,null,null,null,null,null,null,null,null,null,"K6M/6","F350 KTP SUPER DUTY XL TM PLUS V8 6 VEL"]
[null,null,null,null,null,null,null,null,null,null,null,null,null,null,null,null,null,null,null,null,null,null,null,null,null,null,null,null,null,null,null,null,null,null,"K6MA6","F-350 KTP SUPER DUTY XL TM PLUS V8 A/A 6"]
[null,null,null,null,null,null,null,null,null,null,null,null,null,null,null,null,null,null,null,null,null,null,null,null,null,null,null,null,null,null,null,null,null,null,"K6P","F-350 KTP XLT 6.2L GAS MT"]
[null,null,null,null,null,null,null,null,null,null,null,null,null,null,null,null,null,null,null,null,null,null,null,null,null,null,null,null,null,null,null,null,null,null,"K6PASC12","F-350 KTP XLT 6.2L GAS MT A/A"]
[null,null,null,null,null,null,null,null,null,null,null,null,null,null,null,null,null,null,null,null,null,null,null,null,null,null,null,null,null,null,null,null,null,null,"K6PCE1","F-350 KTP XLT 6.2L Gas MT"]
[null,null,null,null,null,null,null,null,null,null,null,null,null,null,null,null,null,null,null,null,null,null,null,null,null,null,null,null,null,null,null,null,null,null,"K6PSCE1","F-350 KTP XLT 6.2L GAS MT"]
[null,null,null,null,null,null,null,null,null,null,null,null,null,null,null,null,null,null,null,null,null,null,null,null,null,null,null,null,null,null,null,null,null,null,"K6RMV2","F-350 KTP XL 6.2L GAS MT"]
[null,null,null,null,null,null,null,null,null,null,null,null,null,null,null,null,null,null,null,null,null,null,null,null,null,null,null,null,null,null,null,null,null,null,"K6S","F-350 KTP XLT 6.2L GAS AT A/A"]
[null,null,null,null,null,null,null,null,null,null,null,null,null,null,null,null,null,null,null,null,null,null,null,null,null,null,null,null,null,null,null,null,null,null,"K6SCA1","F-350 KTP XLT 6.2L Gas AT AA"]
[null,null,null,null,null,null,null,null,null,null,null,null,null,null,null,null,null,null,null,null,null,null,null,null,null,null,null,null,null,null,null,null,null,null,"K6SSCA1","F-350 KTP XLT 6.2L GAS AT A/A"]
[null,null,null,null,null,null,null,null,null,null,null,null,null,null,null,null,null,null,null,null,null,null,null,null,null,null,null,null,null,null,null,null,null,null,"K6TCE1","F-350 KTP XL 6.2L Gas AT"]
[null,null,null,null,null,null,null,null,null,null,null,null,null,null,null,null,null,null,null,null,null,null,null,null,null,null,null,null,null,null,null,null,null,null,"K6TSS8","F-350 KTP XL 6.2L Gas AT"]
[null,null,null,null,null,null,null,null,null,null,null,null,null,null,null,null,null,null,null,null,null,null,null,null,null,null,null,null,null,null,null,null,null,null,"K8L/A","F-550 SUPER DUTY / DIESEL A/A"]
[null,null,null,null,null,null,null,null,null,null,null,null,null,null,null,null,null,null,null,null,null,null,null,null,null,null,null,null,null,null,null,null,null,null,"KIN2","TIP AUT"]
[null,null,null,null,null,null,null,null,null,null,null,null,null,null,null,null,null,null,null,null,null,null,null,null,null,null,null,null,null,null,null,null,null,null,"L6A","ESCORT LX equipado T/A"]
[null,null,null,null,null,null,null,null,null,null,null,null,null,null,null,null,null,null,null,null,null,null,null,null,null,null,null,null,null,null,null,null,null,null,"L6D","ESCORT LX TIPICO T/M EQUIPO ELECTRICO"]
[null,null,null,null,null,null,null,null,null,null,null,null,null,null,null,null,null,null,null,null,null,null,null,null,null,null,null,null,null,null,null,null,null,null,"L8D","ESCORT ZX2 TM"]
[null,null,null,null,null,null,null,null,null,null,null,null,null,null,null,null,null,null,null,null,null,null,null,null,null,null,null,null,null,null,null,null,null,null,"LF","PICK UP CUS G"]
[null,null,null,null,null,null,null,null,null,null,null,null,null,null,null,null,null,null,null,null,null,null,null,null,null,null,null,null,null,null,null,null,null,null,"M1D2SS8","TRANSIT VAN CORTA DIESEL 2 PUERTAS LATER"]
[null,null,null,null,null,null,null,null,null,null,null,null,null,null,null,null,null,null,null,null,null,null,null,null,null,null,null,null,null,null,null,null,null,null,"M1DSS8","TRANSIT VAN CORTA DIESEL"]
[null,null,null,null,null,null,null,null,null,null,null,null,null,null,null,null,null,null,null,null,null,null,null,null,null,null,null,null,null,null,null,null,null,null,"M1ECE1","TRANSIT VAN LARGA DIESEL"]
[null,null,null,null,null,null,null,null,null,null,null,null,null,null,null,null,null,null,null,null,null,null,null,null,null,null,null,null,null,null,null,null,null,null,"M1EEM","TRANSIT VAN LARGA DIESEL"]
[null,null,null,null,null,null,null,null,null,null,null,null,null,null,null,null,null,null,null,null,null,null,null,null,null,null,null,null,null,null,null,null,null,null,"M1F6SS8","TRANSIT VAN CORTA DIESEL AA 6 VEL"]
[null,null,null,null,null,null,null,null,null,null,null,null,null,null,null,null,null,null,null,null,null,null,null,null,null,null,null,null,null,null,null,null,null,null,"M1G","TRANSIT VAN LARGA DIESEL A/A"]
[null,null,null,null,null,null,null,null,null,null,null,null,null,null,null,null,null,null,null,null,null,null,null,null,null,null,null,null,null,null,null,null,null,null,"M1GSS8","TRANSIT VAN LARGA DIESEL  AA"]
[null,null,null,null,null,null,null,null,null,null,null,null,null,null,null,null,null,null,null,null,null,null,null,null,null,null,null,null,null,null,null,null,null,null,"M2DCE1","TRANSIT PASAJEROS CORTA DIESEL"]
[null,null,null,null,null,null,null,null,null,null,null,null,null,null,null,null,null,null,null,null,null,null,null,null,null,null,null,null,null,null,null,null,null,null,"M2E6SS8","TRANSIT PASAJEROS LARGA DIESEL 6 VEL"]
[null,null,null,null,null,null,null,null,null,null,null,null,null,null,null,null,null,null,null,null,null,null,null,null,null,null,null,null,null,null,null,null,null,null,"M2F6CA1","TRANSIT PASAJEROS CORTA DIESEL AA 6 VEL"]
[null,null,null,null,null,null,null,null,null,null,null,null,null,null,null,null,null,null,null,null,null,null,null,null,null,null,null,null,null,null,null,null,null,null,"M2FSS8","TRANSIT PASAJEROS CORTA DIESEL AA"]
[null,null,null,null,null,null,null,null,null,null,null,null,null,null,null,null,null,null,null,null,null,null,null,null,null,null,null,null,null,null,null,null,null,null,"M2GEM","TRANSIT PASAJEROS LARGA DIESEL A/A"]
[null,null,null,null,null,null,null,null,null,null,null,null,null,null,null,null,null,null,null,null,null,null,null,null,null,null,null,null,null,null,null,null,null,null,"M2HCA1","TRANSIT PASAJEROS LARGA SIESEL SIN AA SI"]
[null,null,null,null,null,null,null,null,null,null,null,null,null,null,null,null,null,null,null,null,null,null,null,null,null,null,null,null,null,null,null,null,null,null,"M3ACE1","TRANSIT CHASSIS CORTA DIESEL A/A"]
[null,null,null,null,null,null,null,null,null,null,null,null,null,null,null,null,null,null,null,null,null,null,null,null,null,null,null,null,null,null,null,null,null,null,"M3BSS8","TRANSIT CHASSIS CORTA DIESEL"]
[null,null,null,null,null,null,null,null,null,null,null,null,null,null,null,null,null,null,null,null,null,null,null,null,null,null,null,null,null,null,null,null,null,null,"M3DCE1","TRANSIT CHASSIS CORTA DIESEL TRACCION TR"]
[null,null,null,null,null,null,null,null,null,null,null,null,null,null,null,null,null,null,null,null,null,null,null,null,null,null,null,null,null,null,null,null,null,null,"M3JP8","TRANSIT VAN CHASSIS CAB 350M RWD"]
[null,null,null,null,null,null,null,null,null,null,null,null,null,null,null,null,null,null,null,null,null,null,null,null,null,null,null,null,null,null,null,null,null,null,"M3JSS8","TRANSIT VAN CHASSIS CAB 350M RWD"]
[null,null,null,null,null,null,null,null,null,null,null,null,null,null,null,null,null,null,null,null,null,null,null,null,null,null,null,null,null,null,null,null,null,null,"M6A","WINDSTAR LX PLUS"]
[null,null,null,null,null,null,null,null,null,null,null,null,null,null,null,null,null,null,null,null,null,null,null,null,null,null,null,null,null,null,null,null,null,null,"M6A22","Freestar LX Base"]
[null,null,null,null,null,null,null,null,null,null,null,null,null,null,null,null,null,null,null,null,null,null,null,null,null,null,null,null,null,null,null,null,null,null,"M6A27","Freestar LX Base"]
[null,null,null,null,null,null,null,null,null,null,null,null,null,null,null,null,null,null,null,null,null,null,null,null,null,null,null,null,null,null,null,null,null,null,"M6A32","Freestar LX Base"]
[null,null,null,null,null,null,null,null,null,null,null,null,null,null,null,null,null,null,null,null,null,null,null,null,null,null,null,null,null,null,null,null,null,null,"M6B13","WINDSTAR LX BASE"]
[null,null,null,null,null,null,null,null,null,null,null,null,null,null,null,null,null,null,null,null,null,null,null,null,null,null,null,null,null,null,null,null,null,null,"M6B3","WINDSTAR LX BASE"]
[null,null,null,null,null,null,null,null,null,null,null,null,null,null,null,null,null,null,null,null,null,null,null,null,null,null,null,null,null,null,null,null,null,null,"M6BG","WINDSTAR LX BASE"]
[null,null,null,null,null,null,null,null,null,null,null,null,null,null,null,null,null,null,null,null,null,null,null,null,null,null,null,null,null,null,null,null,null,null,"M6BT","WINDSTAR LX BASE"]
[null,null,null,null,null,null,null,null,null,null,null,null,null,null,null,null,null,null,null,null,null,null,null,null,null,null,null,null,null,null,null,null,null,null,"M6C","WINDSTAR SE PIEL"]
[null,null,null,null,null,null,null,null,null,null,null,null,null,null,null,null,null,null,null,null,null,null,null,null,null,null,null,null,null,null,null,null,null,null,"M6DFH","Freestar SE Tela"]
[null,null,null,null,null,null,null,null,null,null,null,null,null,null,null,null,null,null,null,null,null,null,null,null,null,null,null,null,null,null,null,null,null,null,"M6GF","Freestar LX Plus"]
[null,null,null,null,null,null,null,null,null,null,null,null,null,null,null,null,null,null,null,null,null,null,null,null,null,null,null,null,null,null,null,null,null,null,"M6LFH","Freestar SEL"]
[null,null,null,null,null,null,null,null,null,null,null,null,null,null,null,null,null,null,null,null,null,null,null,null,null,null,null,null,null,null,null,null,null,null,"M6LS","WINDSTAR SEL"]
[null,null,null,null,null,null,null,null,null,null,null,null,null,null,null,null,null,null,null,null,null,null,null,null,null,null,null,null,null,null,null,null,null,null,"M7CCA1","TRANSIT 410 VAN MEDIANA, TECHO MEDIANO"]
[null,null,null,null,null,null,null,null,null,null,null,null,null,null,null,null,null,null,null,null,null,null,null,null,null,null,null,null,null,null,null,null,null,null,"M7DA","ECONOLINE E-150 V6 VINIL AA"]
[null,null,null,null,null,null,null,null,null,null,null,null,null,null,null,null,null,null,null,null,null,null,null,null,null,null,null,null,null,null,null,null,null,null,"M7GAEM","ECONOLINE E-150 V8 A/C"]
[null,null,null,null,null,null,null,null,null,null,null,null,null,null,null,null,null,null,null,null,null,null,null,null,null,null,null,null,null,null,null,null,null,null,"M7GSS8","ECONOLINE VAN E-150 V8 4 6 L"]
[null,null,null,null,null,null,null,null,null,null,null,null,null,null,null,null,null,null,null,null,null,null,null,null,null,null,null,null,null,null,null,null,null,null,"M9G","Econoline wagon 8 Pas V8"]
[null,null,null,null,null,null,null,null,null,null,null,null,null,null,null,null,null,null,null,null,null,null,null,null,null,null,null,null,null,null,null,null,null,null,"MA1","Mustang GT Base T/M"]
[null,null,null,null,null,null,null,null,null,null,null,null,null,null,null,null,null,null,null,null,null,null,null,null,null,null,null,null,null,null,null,null,null,null,"MA1T","MUSTANG GT BASE TM"]
[null,null,null,null,null,null,null,null,null,null,null,null,null,null,null,null,null,null,null,null,null,null,null,null,null,null,null,null,null,null,null,null,null,null,"MA3S","MUSTANG GT EQUIPADO T/A"]
[null,null,null,null,null,null,null,null,null,null,null,null,null,null,null,null,null,null,null,null,null,null,null,null,null,null,null,null,null,null,null,null,null,null,"MA6SS6","MUSTANG GT EQUIPADO PIEL VIP TA"]
[null,null,null,null,null,null,null,null,null,null,null,null,null,null,null,null,null,null,null,null,null,null,null,null,null,null,null,null,null,null,null,null,null,null,"MAB","MUSTANG GT EQUIPADO PIEL TA VIP"]
[null,null,null,null,null,null,null,null,null,null,null,null,null,null,null,null,null,null,null,null,null,null,null,null,null,null,null,null,null,null,null,null,null,null,"MAX1","GLE T/A"]
[null,null,null,null,null,null,null,null,null,null,null,null,null,null,null,null,null,null,null,null,null,null,null,null,null,null,null,null,null,null,null,null,null,null,"Mazda11","Mazda 3s HB M SAP/SAC"]
[null,null,null,null,null,null,null,null,null,null,null,null,null,null,null,null,null,null,null,null,null,null,null,null,null,null,null,null,null,null,null,null,null,null,"Mazda12","Mazda 3s HB A SAP/SAC"]
[null,null,null,null,null,null,null,null,null,null,null,null,null,null,null,null,null,null,null,null,null,null,null,null,null,null,null,null,null,null,null,null,null,null,"Mazda17","Mazda 6s Grand Sport M"]
[null,null,null,null,null,null,null,null,null,null,null,null,null,null,null,null,null,null,null,null,null,null,null,null,null,null,null,null,null,null,null,null,null,null,"Mazda3","Mazda 3i Touring M"]
[null,null,null,null,null,null,null,null,null,null,null,null,null,null,null,null,null,null,null,null,null,null,null,null,null,null,null,null,null,null,null,null,null,null,"Mazda8","Mazda 3s A SAP/SAC"]
[null,null,null,null,null,null,null,null,null,null,null,null,null,null,null,null,null,null,null,null,null,null,null,null,null,null,null,null,null,null,null,null,null,null,"MB541","Mustang Coupe Lujo V6 TM Tela"]
[null,null,null,null,null,null,null,null,null,null,null,null,null,null,null,null,null,null,null,null,null,null,null,null,null,null,null,null,null,null,null,null,null,null,"MB551","Mustang Coupe Lujo V6 TM Tela"]
[null,null,null,null,null,null,null,null,null,null,null,null,null,null,null,null,null,null,null,null,null,null,null,null,null,null,null,null,null,null,null,null,null,null,"MB556","Mustang Coupe Lujo V6 TM Tela"]
[null,null,null,null,null,null,null,null,null,null,null,null,null,null,null,null,null,null,null,null,null,null,null,null,null,null,null,null,null,null,null,null,null,null,"MB5CA1","MUSTANG COUPE LUJO V6 TM TELA"]
[null,null,null,null,null,null,null,null,null,null,null,null,null,null,null,null,null,null,null,null,null,null,null,null,null,null,null,null,null,null,null,null,null,null,"MB6","MUSTANG COUPE LUJO V6 TA TELA"]
[null,null,null,null,null,null,null,null,null,null,null,null,null,null,null,null,null,null,null,null,null,null,null,null,null,null,null,null,null,null,null,null,null,null,"MB6SS8","MUSTANG COUPE LUJO V6 TA TELA"]
[null,null,null,null,null,null,null,null,null,null,null,null,null,null,null,null,null,null,null,null,null,null,null,null,null,null,null,null,null,null,null,null,null,null,"MBB","MUSTANG ST V6 TM"]
[null,null,null,null,null,null,null,null,null,null,null,null,null,null,null,null,null,null,null,null,null,null,null,null,null,null,null,null,null,null,null,null,null,null,"MBDCA1","MUSTANG COUPE V6 TA"]
[null,null,null,null,null,null,null,null,null,null,null,null,null,null,null,null,null,null,null,null,null,null,null,null,null,null,null,null,null,null,null,null,null,null,"MC6","MUSTANG GT EQUIPADO CONVERTIBLE"]
[null,null,null,null,null,null,null,null,null,null,null,null,null,null,null,null,null,null,null,null,null,null,null,null,null,null,null,null,null,null,null,null,null,null,"MI","C-36 CAB. E"]
[null,null,null,null,null,null,null,null,null,null,null,null,null,null,null,null,null,null,null,null,null,null,null,null,null,null,null,null,null,null,null,null,null,null,"Mzd10","Mazda 3s HB A"]
[null,null,null,null,null,null,null,null,null,null,null,null,null,null,null,null,null,null,null,null,null,null,null,null,null,null,null,null,null,null,null,null,null,null,"Mzd16","Mazda 6s Sport A"]
[null,null,null,null,null,null,null,null,null,null,null,null,null,null,null,null,null,null,null,null,null,null,null,null,null,null,null,null,null,null,null,null,null,null,"Mzd20","Mazda 5 Sport A"]
[null,null,null,null,null,null,null,null,null,null,null,null,null,null,null,null,null,null,null,null,null,null,null,null,null,null,null,null,null,null,null,null,null,null,"Mzd6","Mazda 3s A"]
[null,null,null,null,null,null,null,null,null,null,null,null,null,null,null,null,null,null,null,null,null,null,null,null,null,null,null,null,null,null,null,null,null,null,"N1AE8","TRANSIT VAN CORTA DIESEL A/A"]
[null,null,null,null,null,null,null,null,null,null,null,null,null,null,null,null,null,null,null,null,null,null,null,null,null,null,null,null,null,null,null,null,null,null,"N1BE8","TRANSIT VAN CORTA DIESEL"]
[null,null,null,null,null,null,null,null,null,null,null,null,null,null,null,null,null,null,null,null,null,null,null,null,null,null,null,null,null,null,null,null,null,null,"N2ASS8","TRANSIT PASAJEROS LARGA DIESEL A/A"]
[null,null,null,null,null,null,null,null,null,null,null,null,null,null,null,null,null,null,null,null,null,null,null,null,null,null,null,null,null,null,null,null,null,null,"N3AE8","TRANSIT VAN LARGA DIESEL A/A"]
[null,null,null,null,null,null,null,null,null,null,null,null,null,null,null,null,null,null,null,null,null,null,null,null,null,null,null,null,null,null,null,null,null,null,"N3BE8","TRANSIT VAN LARGA DIESEL"]
[null,null,null,null,null,null,null,null,null,null,null,null,null,null,null,null,null,null,null,null,null,null,null,null,null,null,null,null,null,null,null,null,null,null,"NC3","Sentra GXE L2 TM"]
[null,null,null,null,null,null,null,null,null,null,null,null,null,null,null,null,null,null,null,null,null,null,null,null,null,null,null,null,null,null,null,null,null,null,"NH8","Titan Crew K 4x4 Piel"]
[null,null,null,null,null,null,null,null,null,null,null,null,null,null,null,null,null,null,null,null,null,null,null,null,null,null,null,null,null,null,null,null,null,null,"OX","MALIBU F"]
[null,null,null,null,null,null,null,null,null,null,null,null,null,null,null,null,null,null,null,null,null,null,null,null,null,null,null,null,null,null,null,null,null,null,"PF2","LE 4 X 2 AUT"]
[null,null,null,null,null,null,null,null,null,null,null,null,null,null,null,null,null,null,null,null,null,null,null,null,null,null,null,null,null,null,null,null,null,null,"PLA13","A T/A"]
[null,null,null,null,null,null,null,null,null,null,null,null,null,null,null,null,null,null,null,null,null,null,null,null,null,null,null,null,null,null,null,null,null,null,"PLA6","K PLUS T/M A/A"]
[null,null,null,null,null,null,null,null,null,null,null,null,null,null,null,null,null,null,null,null,null,null,null,null,null,null,null,null,null,null,null,null,null,null,"PP02","FIESTA FIST A/A"]
[null,null,null,null,null,null,null,null,null,null,null,null,null,null,null,null,null,null,null,null,null,null,null,null,null,null,null,null,null,null,null,null,null,null,"PP07","KA BASE AA"]
[null,null,null,null,null,null,null,null,null,null,null,null,null,null,null,null,null,null,null,null,null,null,null,null,null,null,null,null,null,null,null,null,null,null,"PP13","IKON MID AA AIR BAG POWER BACK"]
[null,null,null,null,null,null,null,null,null,null,null,null,null,null,null,null,null,null,null,null,null,null,null,null,null,null,null,null,null,null,null,null,null,null,"PP18","F-150 XL V6 T/M A/A"]
[null,null,null,null,null,null,null,null,null,null,null,null,null,null,null,null,null,null,null,null,null,null,null,null,null,null,null,null,null,null,null,null,null,null,"PP23","F-250 XLT V8 T/A A/A"]
[null,null,null,null,null,null,null,null,null,null,null,null,null,null,null,null,null,null,null,null,null,null,null,null,null,null,null,null,null,null,null,null,null,null,"PP29","RANGER CHASIS I4 TM"]
[null,null,null,null,null,null,null,null,null,null,null,null,null,null,null,null,null,null,null,null,null,null,null,null,null,null,null,null,null,null,null,null,null,null,"PP34","LOBO SUP. CAB. 4 X 2 TA SPORT"]
[null,null,null,null,null,null,null,null,null,null,null,null,null,null,null,null,null,null,null,null,null,null,null,null,null,null,null,null,null,null,null,null,null,null,"PP40","FOCUS LX BASE T/A"]
[null,null,null,null,null,null,null,null,null,null,null,null,null,null,null,null,null,null,null,null,null,null,null,null,null,null,null,null,null,null,null,null,null,null,"PP45","FOCUS ZX3 TM"]
[null,null,null,null,null,null,null,null,null,null,null,null,null,null,null,null,null,null,null,null,null,null,null,null,null,null,null,null,null,null,null,null,null,null,"PP50","EXPLORER XLT V8 TELA 4 X 2"]
[null,null,null,null,null,null,null,null,null,null,null,null,null,null,null,null,null,null,null,null,null,null,null,null,null,null,null,null,null,null,null,null,null,null,"PP51","EXPLORER XLT V8 TELA 3ER. ASIENTO 4 X 2"]
[null,null,null,null,null,null,null,null,null,null,null,null,null,null,null,null,null,null,null,null,null,null,null,null,null,null,null,null,null,null,null,null,null,null,"PP56","FREESTAR LX PLUS"]
[null,null,null,null,null,null,null,null,null,null,null,null,null,null,null,null,null,null,null,null,null,null,null,null,null,null,null,null,null,null,null,null,null,null,"PP61","FREESTAR SEL FES"]
[null,null,null,null,null,null,null,null,null,null,null,null,null,null,null,null,null,null,null,null,null,null,null,null,null,null,null,null,null,null,null,null,null,null,"PP67","ECONOLINE E-150 V8"]
[null,null,null,null,null,null,null,null,null,null,null,null,null,null,null,null,null,null,null,null,null,null,null,null,null,null,null,null,null,null,null,null,null,null,"PP72","GRAND MARQUIS HIGH PIEL"]
[null,null,null,null,null,null,null,null,null,null,null,null,null,null,null,null,null,null,null,null,null,null,null,null,null,null,null,null,null,null,null,null,null,null,"PP78","COURIER XL TM 4 X 2"]
[null,null,null,null,null,null,null,null,null,null,null,null,null,null,null,null,null,null,null,null,null,null,null,null,null,null,null,null,null,null,null,null,null,null,"PR1","Ka Base"]
[null,null,null,null,null,null,null,null,null,null,null,null,null,null,null,null,null,null,null,null,null,null,null,null,null,null,null,null,null,null,null,null,null,null,"PR103","Focus LX Austero TM AA"]
[null,null,null,null,null,null,null,null,null,null,null,null,null,null,null,null,null,null,null,null,null,null,null,null,null,null,null,null,null,null,null,null,null,null,"PR109","Ikon Base"]
[null,null,null,null,null,null,null,null,null,null,null,null,null,null,null,null,null,null,null,null,null,null,null,null,null,null,null,null,null,null,null,null,null,null,"PR113","Fiesta Trend Comfort"]
[null,null,null,null,null,null,null,null,null,null,null,null,null,null,null,null,null,null,null,null,null,null,null,null,null,null,null,null,null,null,null,null,null,null,"PR120","Ka Base"]
[null,null,null,null,null,null,null,null,null,null,null,null,null,null,null,null,null,null,null,null,null,null,null,null,null,null,null,null,null,null,null,null,null,null,"PR125","Fiesta First"]
[null,null,null,null,null,null,null,null,null,null,null,null,null,null,null,null,null,null,null,null,null,null,null,null,null,null,null,null,null,null,null,null,null,null,"PR13","Courier XL TM 4x2"]
[null,null,null,null,null,null,null,null,null,null,null,null,null,null,null,null,null,null,null,null,null,null,null,null,null,null,null,null,null,null,null,null,null,null,"PR130","F-350 Chasis Cabina XL"]
[null,null,null,null,null,null,null,null,null,null,null,null,null,null,null,null,null,null,null,null,null,null,null,null,null,null,null,null,null,null,null,null,null,null,"PR135","Freestar SE Tela"]
[null,null,null,null,null,null,null,null,null,null,null,null,null,null,null,null,null,null,null,null,null,null,null,null,null,null,null,null,null,null,null,null,null,null,"PR14","Ikon Base AA"]
[null,null,null,null,null,null,null,null,null,null,null,null,null,null,null,null,null,null,null,null,null,null,null,null,null,null,null,null,null,null,null,null,null,null,"PR145","Escape XLT Deportivo"]
[null,null,null,null,null,null,null,null,null,null,null,null,null,null,null,null,null,null,null,null,null,null,null,null,null,null,null,null,null,null,null,null,null,null,"PR15","Ikon Mid  AA"]
[null,null,null,null,null,null,null,null,null,null,null,null,null,null,null,null,null,null,null,null,null,null,null,null,null,null,null,null,null,null,null,null,null,null,"PR155","Fiesta First A/A"]
[null,null,null,null,null,null,null,null,null,null,null,null,null,null,null,null,null,null,null,null,null,null,null,null,null,null,null,null,null,null,null,null,null,null,"PR16","Fiesta Trend Comfort"]
[null,null,null,null,null,null,null,null,null,null,null,null,null,null,null,null,null,null,null,null,null,null,null,null,null,null,null,null,null,null,null,null,null,null,"PR164","Ka Base Aa"]
[null,null,null,null,null,null,null,null,null,null,null,null,null,null,null,null,null,null,null,null,null,null,null,null,null,null,null,null,null,null,null,null,null,null,"PR17","Ikon Mid AA Air Bag"]
[null,null,null,null,null,null,null,null,null,null,null,null,null,null,null,null,null,null,null,null,null,null,null,null,null,null,null,null,null,null,null,null,null,null,"PR174","F-250 XL V8 T/M"]
[null,null,null,null,null,null,null,null,null,null,null,null,null,null,null,null,null,null,null,null,null,null,null,null,null,null,null,null,null,null,null,null,null,null,"PR179","F-250 XLT V8 T/A AA"]
[null,null,null,null,null,null,null,null,null,null,null,null,null,null,null,null,null,null,null,null,null,null,null,null,null,null,null,null,null,null,null,null,null,null,"PR184","Ranger Chassis I4 TM"]
[null,null,null,null,null,null,null,null,null,null,null,null,null,null,null,null,null,null,null,null,null,null,null,null,null,null,null,null,null,null,null,null,null,null,"PR189","Ranger XLT Crew Cab I4 TM A/A"]
[null,null,null,null,null,null,null,null,null,null,null,null,null,null,null,null,null,null,null,null,null,null,null,null,null,null,null,null,null,null,null,null,null,null,"PR19","Ikon  Mid AA  Air Bag Power Back"]
[null,null,null,null,null,null,null,null,null,null,null,null,null,null,null,null,null,null,null,null,null,null,null,null,null,null,null,null,null,null,null,null,null,null,"PR194","Focus LX  Austero  TM AA"]
[null,null,null,null,null,null,null,null,null,null,null,null,null,null,null,null,null,null,null,null,null,null,null,null,null,null,null,null,null,null,null,null,null,null,"PR199","Explorer XLT 4x2 Tela V8 3r. Asiento sap"]
[null,null,null,null,null,null,null,null,null,null,null,null,null,null,null,null,null,null,null,null,null,null,null,null,null,null,null,null,null,null,null,null,null,null,"PR203","Mustang GT Base T/M"]
[null,null,null,null,null,null,null,null,null,null,null,null,null,null,null,null,null,null,null,null,null,null,null,null,null,null,null,null,null,null,null,null,null,null,"PR208","Freestar Limited"]
[null,null,null,null,null,null,null,null,null,null,null,null,null,null,null,null,null,null,null,null,null,null,null,null,null,null,null,null,null,null,null,null,null,null,"PR213","Mondeo Ghia TA Piel"]
[null,null,null,null,null,null,null,null,null,null,null,null,null,null,null,null,null,null,null,null,null,null,null,null,null,null,null,null,null,null,null,null,null,null,"PR218","Fusion SES V6"]
[null,null,null,null,null,null,null,null,null,null,null,null,null,null,null,null,null,null,null,null,null,null,null,null,null,null,null,null,null,null,null,null,null,null,"PR222","Escape XLS Tela Vinil"]
[null,null,null,null,null,null,null,null,null,null,null,null,null,null,null,null,null,null,null,null,null,null,null,null,null,null,null,null,null,null,null,null,null,null,"PR228","Fiesta First"]
[null,null,null,null,null,null,null,null,null,null,null,null,null,null,null,null,null,null,null,null,null,null,null,null,null,null,null,null,null,null,null,null,null,null,"PR232","Fiesta Trend FX"]
[null,null,null,null,null,null,null,null,null,null,null,null,null,null,null,null,null,null,null,null,null,null,null,null,null,null,null,null,null,null,null,null,null,null,"PR237","Ka Base"]
[null,null,null,null,null,null,null,null,null,null,null,null,null,null,null,null,null,null,null,null,null,null,null,null,null,null,null,null,null,null,null,null,null,null,"PR242","Ikon First"]
[null,null,null,null,null,null,null,null,null,null,null,null,null,null,null,null,null,null,null,null,null,null,null,null,null,null,null,null,null,null,null,null,null,null,"PR247","Ikon Mid AA Power Pack"]
[null,null,null,null,null,null,null,null,null,null,null,null,null,null,null,null,null,null,null,null,null,null,null,null,null,null,null,null,null,null,null,null,null,null,"PR248","Ikon  Mid AA  Air Bag Power Back"]
[null,null,null,null,null,null,null,null,null,null,null,null,null,null,null,null,null,null,null,null,null,null,null,null,null,null,null,null,null,null,null,null,null,null,"PR252","F-150 XL V6 AA TA"]
[null,null,null,null,null,null,null,null,null,null,null,null,null,null,null,null,null,null,null,null,null,null,null,null,null,null,null,null,null,null,null,null,null,null,"PR257","F-350 Chasis Cabina XLT"]
[null,null,null,null,null,null,null,null,null,null,null,null,null,null,null,null,null,null,null,null,null,null,null,null,null,null,null,null,null,null,null,null,null,null,"PR262","Ranger XL Caja Larga 14 TM AA"]
[null,null,null,null,null,null,null,null,null,null,null,null,null,null,null,null,null,null,null,null,null,null,null,null,null,null,null,null,null,null,null,null,null,null,"PR267","Lobo Crew Cab. 4x2 XLT"]
[null,null,null,null,null,null,null,null,null,null,null,null,null,null,null,null,null,null,null,null,null,null,null,null,null,null,null,null,null,null,null,null,null,null,"PR272","Focus SE Tipico TM**"]
[null,null,null,null,null,null,null,null,null,null,null,null,null,null,null,null,null,null,null,null,null,null,null,null,null,null,null,null,null,null,null,null,null,null,"PR277","Mustang Gt Equipado T/A VIP Piel"]
[null,null,null,null,null,null,null,null,null,null,null,null,null,null,null,null,null,null,null,null,null,null,null,null,null,null,null,null,null,null,null,null,null,null,"PR281","Freestar Limited"]
[null,null,null,null,null,null,null,null,null,null,null,null,null,null,null,null,null,null,null,null,null,null,null,null,null,null,null,null,null,null,null,null,null,null,"PR287","Courier L TM"]
[null,null,null,null,null,null,null,null,null,null,null,null,null,null,null,null,null,null,null,null,null,null,null,null,null,null,null,null,null,null,null,null,null,null,"PR291","Escape XLS 4X4"]
[null,null,null,null,null,null,null,null,null,null,null,null,null,null,null,null,null,null,null,null,null,null,null,null,null,null,null,null,null,null,null,null,null,null,"PR296","Mustang GT Equipado Piel VIP TA"]
[null,null,null,null,null,null,null,null,null,null,null,null,null,null,null,null,null,null,null,null,null,null,null,null,null,null,null,null,null,null,null,null,null,null,"PR300","Escape XLS 14"]
[null,null,null,null,null,null,null,null,null,null,null,null,null,null,null,null,null,null,null,null,null,null,null,null,null,null,null,null,null,null,null,null,null,null,"PR305","Escape Limited Quemacocos"]
[null,null,null,null,null,null,null,null,null,null,null,null,null,null,null,null,null,null,null,null,null,null,null,null,null,null,null,null,null,null,null,null,null,null,"PR306","Freestar LX Base"]
[null,null,null,null,null,null,null,null,null,null,null,null,null,null,null,null,null,null,null,null,null,null,null,null,null,null,null,null,null,null,null,null,null,null,"PR310","Ka Base"]
[null,null,null,null,null,null,null,null,null,null,null,null,null,null,null,null,null,null,null,null,null,null,null,null,null,null,null,null,null,null,null,null,null,null,"PR315","Fiesta First A/A"]
[null,null,null,null,null,null,null,null,null,null,null,null,null,null,null,null,null,null,null,null,null,null,null,null,null,null,null,null,null,null,null,null,null,null,"PR320","Fiesta Sedan First"]
[null,null,null,null,null,null,null,null,null,null,null,null,null,null,null,null,null,null,null,null,null,null,null,null,null,null,null,null,null,null,null,null,null,null,"PR325","Ikon First"]
[null,null,null,null,null,null,null,null,null,null,null,null,null,null,null,null,null,null,null,null,null,null,null,null,null,null,null,null,null,null,null,null,null,null,"PR33","Focus SE Equipado T/M A/A"]
[null,null,null,null,null,null,null,null,null,null,null,null,null,null,null,null,null,null,null,null,null,null,null,null,null,null,null,null,null,null,null,null,null,null,"PR335","Focus SE Tipico TA"]
[null,null,null,null,null,null,null,null,null,null,null,null,null,null,null,null,null,null,null,null,null,null,null,null,null,null,null,null,null,null,null,null,null,null,"PR339","Courier L TM D/H A/A"]
[null,null,null,null,null,null,null,null,null,null,null,null,null,null,null,null,null,null,null,null,null,null,null,null,null,null,null,null,null,null,null,null,null,null,"PR344","Ranger XL Crew Cab I4 TM"]
[null,null,null,null,null,null,null,null,null,null,null,null,null,null,null,null,null,null,null,null,null,null,null,null,null,null,null,null,null,null,null,null,null,null,"PR349","F-150 XL V6 T/M"]
[null,null,null,null,null,null,null,null,null,null,null,null,null,null,null,null,null,null,null,null,null,null,null,null,null,null,null,null,null,null,null,null,null,null,"PR353","F-250 XL V8 T/M A/A"]
[null,null,null,null,null,null,null,null,null,null,null,null,null,null,null,null,null,null,null,null,null,null,null,null,null,null,null,null,null,null,null,null,null,null,"PR359","Lobo Crew Cab. 4x4 Lariat"]
[null,null,null,null,null,null,null,null,null,null,null,null,null,null,null,null,null,null,null,null,null,null,null,null,null,null,null,null,null,null,null,null,null,null,"PR363","Fusion SES V6"]
[null,null,null,null,null,null,null,null,null,null,null,null,null,null,null,null,null,null,null,null,null,null,null,null,null,null,null,null,null,null,null,null,null,null,"PR364","Fusion SES Premium V6"]
[null,null,null,null,null,null,null,null,null,null,null,null,null,null,null,null,null,null,null,null,null,null,null,null,null,null,null,null,null,null,null,null,null,null,"PR369","Ranger XL Crew Cab I4 TM AA"]
[null,null,null,null,null,null,null,null,null,null,null,null,null,null,null,null,null,null,null,null,null,null,null,null,null,null,null,null,null,null,null,null,null,null,"PR373","MONDEO TREND TM"]
[null,null,null,null,null,null,null,null,null,null,null,null,null,null,null,null,null,null,null,null,null,null,null,null,null,null,null,null,null,null,null,null,null,null,"PR379","EXPEDITION EDDIE BAUER 4X2  5.4L V8"]
[null,null,null,null,null,null,null,null,null,null,null,null,null,null,null,null,null,null,null,null,null,null,null,null,null,null,null,null,null,null,null,null,null,null,"PR383","K8L"]
[null,null,null,null,null,null,null,null,null,null,null,null,null,null,null,null,null,null,null,null,null,null,null,null,null,null,null,null,null,null,null,null,null,null,"PR388","ESCAPE XLS I4"]
[null,null,null,null,null,null,null,null,null,null,null,null,null,null,null,null,null,null,null,null,null,null,null,null,null,null,null,null,null,null,null,null,null,null,"PR393","F-150 XL MID V6 TA A/A"]
[null,null,null,null,null,null,null,null,null,null,null,null,null,null,null,null,null,null,null,null,null,null,null,null,null,null,null,null,null,null,null,null,null,null,"PR398","F-250 XL MID V8 TM"]
[null,null,null,null,null,null,null,null,null,null,null,null,null,null,null,null,null,null,null,null,null,null,null,null,null,null,null,null,null,null,null,null,null,null,"PR402","RANGER XLT CREW CAB I4 TM A/A"]
[null,null,null,null,null,null,null,null,null,null,null,null,null,null,null,null,null,null,null,null,null,null,null,null,null,null,null,null,null,null,null,null,null,null,"PR407","F-450 SUPER DUTY V10 A/A"]
[null,null,null,null,null,null,null,null,null,null,null,null,null,null,null,null,null,null,null,null,null,null,null,null,null,null,null,null,null,null,null,null,null,null,"PR411","F-350 SUPER DUTY XLT V8 A/A"]
[null,null,null,null,null,null,null,null,null,null,null,null,null,null,null,null,null,null,null,null,null,null,null,null,null,null,null,null,null,null,null,null,null,null,"PR417","F-550 SUPER DUTY / DIESEL A/A"]
[null,null,null,null,null,null,null,null,null,null,null,null,null,null,null,null,null,null,null,null,null,null,null,null,null,null,null,null,null,null,null,null,null,null,"PR421","COURIER L TM"]
[null,null,null,null,null,null,null,null,null,null,null,null,null,null,null,null,null,null,null,null,null,null,null,null,null,null,null,null,null,null,null,null,null,null,"PR422","COURIER L TM D/H A/A"]
[null,null,null,null,null,null,null,null,null,null,null,null,null,null,null,null,null,null,null,null,null,null,null,null,null,null,null,null,null,null,null,null,null,null,"PR427","FIESTA TREND FX"]
[null,null,null,null,null,null,null,null,null,null,null,null,null,null,null,null,null,null,null,null,null,null,null,null,null,null,null,null,null,null,null,null,null,null,"PR431","FIESTA SEDAN TREND COMFORT TA"]
[null,null,null,null,null,null,null,null,null,null,null,null,null,null,null,null,null,null,null,null,null,null,null,null,null,null,null,null,null,null,null,null,null,null,"PR437","FUSION S I4 TA"]
[null,null,null,null,null,null,null,null,null,null,null,null,null,null,null,null,null,null,null,null,null,null,null,null,null,null,null,null,null,null,null,null,null,null,"PR441","Explorer"]
[null,null,null,null,null,null,null,null,null,null,null,null,null,null,null,null,null,null,null,null,null,null,null,null,null,null,null,null,null,null,null,null,null,null,"PR446","FOCUS"]
[null,null,null,null,null,null,null,null,null,null,null,null,null,null,null,null,null,null,null,null,null,null,null,null,null,null,null,null,null,null,null,null,null,null,"PR455","FIESTA SEDAN FIRST"]
[null,null,null,null,null,null,null,null,null,null,null,null,null,null,null,null,null,null,null,null,null,null,null,null,null,null,null,null,null,null,null,null,null,null,"PR46","F-350 Chasis Cabina XLT"]
[null,null,null,null,null,null,null,null,null,null,null,null,null,null,null,null,null,null,null,null,null,null,null,null,null,null,null,null,null,null,null,null,null,null,"PR465","IKON FIRST"]
[null,null,null,null,null,null,null,null,null,null,null,null,null,null,null,null,null,null,null,null,null,null,null,null,null,null,null,null,null,null,null,null,null,null,"PR47","F-250 XLT V8 T/A AA"]
[null,null,null,null,null,null,null,null,null,null,null,null,null,null,null,null,null,null,null,null,null,null,null,null,null,null,null,null,null,null,null,null,null,null,"PR474","F-150 XL MID V6 TM A/A"]
[null,null,null,null,null,null,null,null,null,null,null,null,null,null,null,null,null,null,null,null,null,null,null,null,null,null,null,null,null,null,null,null,null,null,"PR48","Econoline E-150 V8"]
[null,null,null,null,null,null,null,null,null,null,null,null,null,null,null,null,null,null,null,null,null,null,null,null,null,null,null,null,null,null,null,null,null,null,"PR484","RANGER XLT CREW CAB I4 TM A/A"]
[null,null,null,null,null,null,null,null,null,null,null,null,null,null,null,null,null,null,null,null,null,null,null,null,null,null,null,null,null,null,null,null,null,null,"PR489","FOCUS EUROPA AMBIENTE TM"]
[null,null,null,null,null,null,null,null,null,null,null,null,null,null,null,null,null,null,null,null,null,null,null,null,null,null,null,null,null,null,null,null,null,null,"PR49","Mondeo Trend TM"]
[null,null,null,null,null,null,null,null,null,null,null,null,null,null,null,null,null,null,null,null,null,null,null,null,null,null,null,null,null,null,null,null,null,null,"PR494","EXPLORER XLT BASE V6 TELA  4 X 2"]
[null,null,null,null,null,null,null,null,null,null,null,null,null,null,null,null,null,null,null,null,null,null,null,null,null,null,null,null,null,null,null,null,null,null,"PR5","Ikon Austero"]
[null,null,null,null,null,null,null,null,null,null,null,null,null,null,null,null,null,null,null,null,null,null,null,null,null,null,null,null,null,null,null,null,null,null,"PR503","MUSTANG GT BASE TM"]
[null,null,null,null,null,null,null,null,null,null,null,null,null,null,null,null,null,null,null,null,null,null,null,null,null,null,null,null,null,null,null,null,null,null,"PR508","FREESTAR SE TELA"]
[null,null,null,null,null,null,null,null,null,null,null,null,null,null,null,null,null,null,null,null,null,null,null,null,null,null,null,null,null,null,null,null,null,null,"PR513","FUSION SE V6"]
[null,null,null,null,null,null,null,null,null,null,null,null,null,null,null,null,null,null,null,null,null,null,null,null,null,null,null,null,null,null,null,null,null,null,"PR518","ESCAPE XLS 4X4"]
[null,null,null,null,null,null,null,null,null,null,null,null,null,null,null,null,null,null,null,null,null,null,null,null,null,null,null,null,null,null,null,null,null,null,"PR523","ESCAPE LIMITED QUEMACOCOS"]
[null,null,null,null,null,null,null,null,null,null,null,null,null,null,null,null,null,null,null,null,null,null,null,null,null,null,null,null,null,null,null,null,null,null,"PR528","F-350 SUPER DUTY XL V8 A/A"]
[null,null,null,null,null,null,null,null,null,null,null,null,null,null,null,null,null,null,null,null,null,null,null,null,null,null,null,null,null,null,null,null,null,null,"PR532","FUSION S I4 TA"]
[null,null,null,null,null,null,null,null,null,null,null,null,null,null,null,null,null,null,null,null,null,null,null,null,null,null,null,null,null,null,null,null,null,null,"PR539","FIVE HUNDRED SEL PIEL"]
[null,null,null,null,null,null,null,null,null,null,null,null,null,null,null,null,null,null,null,null,null,null,null,null,null,null,null,null,null,null,null,null,null,null,"PR543","FUSION SE V6"]
[null,null,null,null,null,null,null,null,null,null,null,null,null,null,null,null,null,null,null,null,null,null,null,null,null,null,null,null,null,null,null,null,null,null,"PR548","EXPLORER SPORT TRAC V8 4X2 TELA"]
[null,null,null,null,null,null,null,null,null,null,null,null,null,null,null,null,null,null,null,null,null,null,null,null,null,null,null,null,null,null,null,null,null,null,"PR549","EXPLORER XLT BASE V6 TELA  4 X 2"]
[null,null,null,null,null,null,null,null,null,null,null,null,null,null,null,null,null,null,null,null,null,null,null,null,null,null,null,null,null,null,null,null,null,null,"PR553","EXPLORER EDDIE BAUER V8  4 x 2 Q/C"]
[null,null,null,null,null,null,null,null,null,null,null,null,null,null,null,null,null,null,null,null,null,null,null,null,null,null,null,null,null,null,null,null,null,null,"PR559","ESCAPE XLS"]
[null,null,null,null,null,null,null,null,null,null,null,null,null,null,null,null,null,null,null,null,null,null,null,null,null,null,null,null,null,null,null,null,null,null,"PR563","ESCAPE LIMITED QUEMACOCOS"]
[null,null,null,null,null,null,null,null,null,null,null,null,null,null,null,null,null,null,null,null,null,null,null,null,null,null,null,null,null,null,null,null,null,null,"PR568","F-250 XLT MID V8 TA"]
[null,null,null,null,null,null,null,null,null,null,null,null,null,null,null,null,null,null,null,null,null,null,null,null,null,null,null,null,null,null,null,null,null,null,"PR573","RANGER XL CREW CAB I4 TM A/A"]
[null,null,null,null,null,null,null,null,null,null,null,null,null,null,null,null,null,null,null,null,null,null,null,null,null,null,null,null,null,null,null,null,null,null,"PR578","F-350 SUPER DUTY XLT V8"]
[null,null,null,null,null,null,null,null,null,null,null,null,null,null,null,null,null,null,null,null,null,null,null,null,null,null,null,null,null,null,null,null,null,null,"PR582","FREESTAR LX BASE"]
[null,null,null,null,null,null,null,null,null,null,null,null,null,null,null,null,null,null,null,null,null,null,null,null,null,null,null,null,null,null,null,null,null,null,"PR588","MUSTANG COUPE LUJO V6 TM TELA"]
[null,null,null,null,null,null,null,null,null,null,null,null,null,null,null,null,null,null,null,null,null,null,null,null,null,null,null,null,null,null,null,null,null,null,"PR592","COURIER L TM"]
[null,null,null,null,null,null,null,null,null,null,null,null,null,null,null,null,null,null,null,null,null,null,null,null,null,null,null,null,null,null,null,null,null,null,"PR598","FIESTA SEDAN TREND COMFORT"]
[null,null,null,null,null,null,null,null,null,null,null,null,null,null,null,null,null,null,null,null,null,null,null,null,null,null,null,null,null,null,null,null,null,null,"PR601","FIESTA SEDAN TREND COMFORT AIR BAG"]
[null,null,null,null,null,null,null,null,null,null,null,null,null,null,null,null,null,null,null,null,null,null,null,null,null,null,null,null,null,null,null,null,null,null,"PR606","IKON BASE D/H A/A"]
[null,null,null,null,null,null,null,null,null,null,null,null,null,null,null,null,null,null,null,null,null,null,null,null,null,null,null,null,null,null,null,null,null,null,"PR607","IKON MID A/A POWERPACK"]
[null,null,null,null,null,null,null,null,null,null,null,null,null,null,null,null,null,null,null,null,null,null,null,null,null,null,null,null,null,null,null,null,null,null,"PR611","KA BASE"]
[null,null,null,null,null,null,null,null,null,null,null,null,null,null,null,null,null,null,null,null,null,null,null,null,null,null,null,null,null,null,null,null,null,null,"PR617","FOCUS EUROPA AMBIENTE TM"]
[null,null,null,null,null,null,null,null,null,null,null,null,null,null,null,null,null,null,null,null,null,null,null,null,null,null,null,null,null,null,null,null,null,null,"PR621","FIESTA SEDAN TREND COMFORT"]
[null,null,null,null,null,null,null,null,null,null,null,null,null,null,null,null,null,null,null,null,null,null,null,null,null,null,null,null,null,null,null,null,null,null,"PR626","ESCAPE XLS I4"]
[null,null,null,null,null,null,null,null,null,null,null,null,null,null,null,null,null,null,null,null,null,null,null,null,null,null,null,null,null,null,null,null,null,null,"PR631","F-350 SUPER DUTY XL V8"]
[null,null,null,null,null,null,null,null,null,null,null,null,null,null,null,null,null,null,null,null,null,null,null,null,null,null,null,null,null,null,null,null,null,null,"PR636","FIESTA SEDAN FIRST A/A"]
[null,null,null,null,null,null,null,null,null,null,null,null,null,null,null,null,null,null,null,null,null,null,null,null,null,null,null,null,null,null,null,null,null,null,"PR640","KA HIGH A/A"]
[null,null,null,null,null,null,null,null,null,null,null,null,null,null,null,null,null,null,null,null,null,null,null,null,null,null,null,null,null,null,null,null,null,null,"PR646","IKON BASE D/H A/A"]
[null,null,null,null,null,null,null,null,null,null,null,null,null,null,null,null,null,null,null,null,null,null,null,null,null,null,null,null,null,null,null,null,null,null,"PR650","F-150 XL MID V6 TM"]
[null,null,null,null,null,null,null,null,null,null,null,null,null,null,null,null,null,null,null,null,null,null,null,null,null,null,null,null,null,null,null,null,null,null,"PR656","F-250 XLT MID V8 TA"]
[null,null,null,null,null,null,null,null,null,null,null,null,null,null,null,null,null,null,null,null,null,null,null,null,null,null,null,null,null,null,null,null,null,null,"PR658","RANGER XL CAJA LARGA I4 TM"]
[null,null,null,null,null,null,null,null,null,null,null,null,null,null,null,null,null,null,null,null,null,null,null,null,null,null,null,null,null,null,null,null,null,null,"PR664","LOBO CREW CAB 4 X 2 XLT"]
[null,null,null,null,null,null,null,null,null,null,null,null,null,null,null,null,null,null,null,null,null,null,null,null,null,null,null,null,null,null,null,null,null,null,"PR665","LOBO CAB REG 4 x 2 TA"]
[null,null,null,null,null,null,null,null,null,null,null,null,null,null,null,null,null,null,null,null,null,null,null,null,null,null,null,null,null,null,null,null,null,null,"PR67","Freestar LX Plus"]
[null,null,null,null,null,null,null,null,null,null,null,null,null,null,null,null,null,null,null,null,null,null,null,null,null,null,null,null,null,null,null,null,null,null,"PR675","EXPLORER EDDIE BAUER V8  4 x 2 Q/C"]
[null,null,null,null,null,null,null,null,null,null,null,null,null,null,null,null,null,null,null,null,null,null,null,null,null,null,null,null,null,null,null,null,null,null,"PR68","Grand Marquis Mid Tela"]
[null,null,null,null,null,null,null,null,null,null,null,null,null,null,null,null,null,null,null,null,null,null,null,null,null,null,null,null,null,null,null,null,null,null,"PR684","FREESTAR LX BASE"]
[null,null,null,null,null,null,null,null,null,null,null,null,null,null,null,null,null,null,null,null,null,null,null,null,null,null,null,null,null,null,null,null,null,null,"PR69","Lobo Crew Cab. 4x2 XLT"]
[null,null,null,null,null,null,null,null,null,null,null,null,null,null,null,null,null,null,null,null,null,null,null,null,null,null,null,null,null,null,null,null,null,null,"PR694","EXPEDITION XLT 4X2  5.4L TELA V8"]
[null,null,null,null,null,null,null,null,null,null,null,null,null,null,null,null,null,null,null,null,null,null,null,null,null,null,null,null,null,null,null,null,null,null,"PR699","COURIER L TM"]
[null,null,null,null,null,null,null,null,null,null,null,null,null,null,null,null,null,null,null,null,null,null,null,null,null,null,null,null,null,null,null,null,null,null,"PR703","F-350 SUPER DUTY XL V8 A/A"]
[null,null,null,null,null,null,null,null,null,null,null,null,null,null,null,null,null,null,null,null,null,null,null,null,null,null,null,null,null,null,null,null,null,null,"PR708","FUSION SE I4 TM"]
[null,null,null,null,null,null,null,null,null,null,null,null,null,null,null,null,null,null,null,null,null,null,null,null,null,null,null,null,null,null,null,null,null,null,"PR713","ESCAPE XLS 4X4"]
[null,null,null,null,null,null,null,null,null,null,null,null,null,null,null,null,null,null,null,null,null,null,null,null,null,null,null,null,null,null,null,null,null,null,"PR718","FIESTA SEDAN TREND COMFORT TA"]
[null,null,null,null,null,null,null,null,null,null,null,null,null,null,null,null,null,null,null,null,null,null,null,null,null,null,null,null,null,null,null,null,null,null,"PR722","LOBO CREW CAB  4 X 4  LARIAT"]
[null,null,null,null,null,null,null,null,null,null,null,null,null,null,null,null,null,null,null,null,null,null,null,null,null,null,null,null,null,null,null,null,null,null,"PR723","EXPLORER SPORT TRAC V8 4X2 TELA"]
[null,null,null,null,null,null,null,null,null,null,null,null,null,null,null,null,null,null,null,null,null,null,null,null,null,null,null,null,null,null,null,null,null,null,"PR728","ESCAPE LIMITED"]
[null,null,null,null,null,null,null,null,null,null,null,null,null,null,null,null,null,null,null,null,null,null,null,null,null,null,null,null,null,null,null,null,null,null,"PR732","F-350 SUPER DUTY XLT V8"]
[null,null,null,null,null,null,null,null,null,null,null,null,null,null,null,null,null,null,null,null,null,null,null,null,null,null,null,null,null,null,null,null,null,null,"PR738","F150 XL MID V6 TM"]
[null,null,null,null,null,null,null,null,null,null,null,null,null,null,null,null,null,null,null,null,null,null,null,null,null,null,null,null,null,null,null,null,null,null,"PR742","F-250 XL MID V8 TM A/A"]
[null,null,null,null,null,null,null,null,null,null,null,null,null,null,null,null,null,null,null,null,null,null,null,null,null,null,null,null,null,null,null,null,null,null,"PR748","MUSTANG COUPE LUJO V6 TM TELA"]
[null,null,null,null,null,null,null,null,null,null,null,null,null,null,null,null,null,null,null,null,null,null,null,null,null,null,null,null,null,null,null,null,null,null,"PR752","RANGER CHASSIS I4 TM"]
[null,null,null,null,null,null,null,null,null,null,null,null,null,null,null,null,null,null,null,null,null,null,null,null,null,null,null,null,null,null,null,null,null,null,"PR757","RANGER XLT CREW CAB I4 TM A/A"]
[null,null,null,null,null,null,null,null,null,null,null,null,null,null,null,null,null,null,null,null,null,null,null,null,null,null,null,null,null,null,null,null,null,null,"PR762","EXPEDITION EDDIE BAUER 4X2  5.4L V8"]
[null,null,null,null,null,null,null,null,null,null,null,null,null,null,null,null,null,null,null,null,null,null,null,null,null,null,null,null,null,null,null,null,null,null,"PR767","RANGER XL CREW CAB I4 TM"]
[null,null,null,null,null,null,null,null,null,null,null,null,null,null,null,null,null,null,null,null,null,null,null,null,null,null,null,null,null,null,null,null,null,null,"PR772","FOCUS EUROPA AMBIENTE TM"]
[null,null,null,null,null,null,null,null,null,null,null,null,null,null,null,null,null,null,null,null,null,null,null,null,null,null,null,null,null,null,null,null,null,null,"PR777","FUSION SEL V6"]
[null,null,null,null,null,null,null,null,null,null,null,null,null,null,null,null,null,null,null,null,null,null,null,null,null,null,null,null,null,null,null,null,null,null,"PR781","FUSION S I4 TM"]
[null,null,null,null,null,null,null,null,null,null,null,null,null,null,null,null,null,null,null,null,null,null,null,null,null,null,null,null,null,null,null,null,null,null,"PR782","FUSION S I4 TA"]
[null,null,null,null,null,null,null,null,null,null,null,null,null,null,null,null,null,null,null,null,null,null,null,null,null,null,null,null,null,null,null,null,null,null,"PR787","FOCUS SPORT TM"]
[null,null,null,null,null,null,null,null,null,null,null,null,null,null,null,null,null,null,null,null,null,null,null,null,null,null,null,null,null,null,null,null,null,null,"PR791","FUSION SEL PLUS V6"]
[null,null,null,null,null,null,null,null,null,null,null,null,null,null,null,null,null,null,null,null,null,null,null,null,null,null,null,null,null,null,null,null,null,null,"PR797","EXPLORER SPORT TRAC V8 4X2 TELA"]
[null,null,null,null,null,null,null,null,null,null,null,null,null,null,null,null,null,null,null,null,null,null,null,null,null,null,null,null,null,null,null,null,null,null,"PR800","RANGER XL CAJA LARGA I4 TM A/A"]
[null,null,null,null,null,null,null,null,null,null,null,null,null,null,null,null,null,null,null,null,null,null,null,null,null,null,null,null,null,null,null,null,null,null,"PR806","FOCUS SPORT TA"]
[null,null,null,null,null,null,null,null,null,null,null,null,null,null,null,null,null,null,null,null,null,null,null,null,null,null,null,null,null,null,null,null,null,null,"PR810","EXPLORER EDDIE BAUER V8  4 x 2 Q/C"]
[null,null,null,null,null,null,null,null,null,null,null,null,null,null,null,null,null,null,null,null,null,null,null,null,null,null,null,null,null,null,null,null,null,null,"PR815","FUSION SE V6"]
[null,null,null,null,null,null,null,null,null,null,null,null,null,null,null,null,null,null,null,null,null,null,null,null,null,null,null,null,null,null,null,null,null,null,"PR820","ESCAPE XLS"]
[null,null,null,null,null,null,null,null,null,null,null,null,null,null,null,null,null,null,null,null,null,null,null,null,null,null,null,null,null,null,null,null,null,null,"PR825","F350 SUPER DUTY XLT V8"]
[null,null,null,null,null,null,null,null,null,null,null,null,null,null,null,null,null,null,null,null,null,null,null,null,null,null,null,null,null,null,null,null,null,null,"PR83","Lincoln Navigator"]
[null,null,null,null,null,null,null,null,null,null,null,null,null,null,null,null,null,null,null,null,null,null,null,null,null,null,null,null,null,null,null,null,null,null,"PR835","ECOSPORT 4X2 TA TELA"]
[null,null,null,null,null,null,null,null,null,null,null,null,null,null,null,null,null,null,null,null,null,null,null,null,null,null,null,null,null,null,null,null,null,null,"PR840","ECOSPORT 4X2"]
[null,null,null,null,null,null,null,null,null,null,null,null,null,null,null,null,null,null,null,null,null,null,null,null,null,null,null,null,null,null,null,null,null,null,"PR841","ECOSPORT 4X2 TA TELA"]
[null,null,null,null,null,null,null,null,null,null,null,null,null,null,null,null,null,null,null,null,null,null,null,null,null,null,null,null,null,null,null,null,null,null,"PR846","F-350 SUPER DUTY XL V8 A/A"]
[null,null,null,null,null,null,null,null,null,null,null,null,null,null,null,null,null,null,null,null,null,null,null,null,null,null,null,null,null,null,null,null,null,null,"PR850","F-250 XL MID V8 TM"]
[null,null,null,null,null,null,null,null,null,null,null,null,null,null,null,null,null,null,null,null,null,null,null,null,null,null,null,null,null,null,null,null,null,null,"PR856","COURIER L TM"]
[null,null,null,null,null,null,null,null,null,null,null,null,null,null,null,null,null,null,null,null,null,null,null,null,null,null,null,null,null,null,null,null,null,null,"PR860","LOBO CREW CAB  4 X 4  LARIAT"]
[null,null,null,null,null,null,null,null,null,null,null,null,null,null,null,null,null,null,null,null,null,null,null,null,null,null,null,null,null,null,null,null,null,null,"PR866","RANGER XL CREW CAB I4 TM A/A"]
[null,null,null,null,null,null,null,null,null,null,null,null,null,null,null,null,null,null,null,null,null,null,null,null,null,null,null,null,null,null,null,null,null,null,"PR870","FOCUS SPORT TA"]
[null,null,null,null,null,null,null,null,null,null,null,null,null,null,null,null,null,null,null,null,null,null,null,null,null,null,null,null,null,null,null,null,null,null,"PR875","EXPLORER SPORT TRAC V8 4X2 TELA"]
[null,null,null,null,null,null,null,null,null,null,null,null,null,null,null,null,null,null,null,null,null,null,null,null,null,null,null,null,null,null,null,null,null,null,"PR880","FUSION SEL V6"]
[null,null,null,null,null,null,null,null,null,null,null,null,null,null,null,null,null,null,null,null,null,null,null,null,null,null,null,null,null,null,null,null,null,null,"PR885","ESCAPE XLS I4"]
[null,null,null,null,null,null,null,null,null,null,null,null,null,null,null,null,null,null,null,null,null,null,null,null,null,null,null,null,null,null,null,null,null,null,"PR89","Ikon Austero"]
[null,null,null,null,null,null,null,null,null,null,null,null,null,null,null,null,null,null,null,null,null,null,null,null,null,null,null,null,null,null,null,null,null,null,"PR895","EDGE SEL PLUS 3.5L V6 PIEL SUNROOF"]
[null,null,null,null,null,null,null,null,null,null,null,null,null,null,null,null,null,null,null,null,null,null,null,null,null,null,null,null,null,null,null,null,null,null,"PR9","Ka High AA"]
[null,null,null,null,null,null,null,null,null,null,null,null,null,null,null,null,null,null,null,null,null,null,null,null,null,null,null,null,null,null,null,null,null,null,"PR90","Ikon First AA"]
[null,null,null,null,null,null,null,null,null,null,null,null,null,null,null,null,null,null,null,null,null,null,null,null,null,null,null,null,null,null,null,null,null,null,"PR904","F150 XL MID V6 TM A/A"]
[null,null,null,null,null,null,null,null,null,null,null,null,null,null,null,null,null,null,null,null,null,null,null,null,null,null,null,null,null,null,null,null,null,null,"PR909","RANGER XL CREW CAB I4 TM"]
[null,null,null,null,null,null,null,null,null,null,null,null,null,null,null,null,null,null,null,null,null,null,null,null,null,null,null,null,null,null,null,null,null,null,"PR914","FOCUS SPORT TM"]
[null,null,null,null,null,null,null,null,null,null,null,null,null,null,null,null,null,null,null,null,null,null,null,null,null,null,null,null,null,null,null,null,null,null,"PR919","COURIER L TM D/H A/A"]
[null,null,null,null,null,null,null,null,null,null,null,null,null,null,null,null,null,null,null,null,null,null,null,null,null,null,null,null,null,null,null,null,null,null,"PR924","FIESTA ST"]
[null,null,null,null,null,null,null,null,null,null,null,null,null,null,null,null,null,null,null,null,null,null,null,null,null,null,null,null,null,null,null,null,null,null,"PR929","RANGER XLT CREW CAB I4 TM A/A LIMITED"]
[null,null,null,null,null,null,null,null,null,null,null,null,null,null,null,null,null,null,null,null,null,null,null,null,null,null,null,null,null,null,null,null,null,null,"PR933","LOBO CREW CAB 4X2 XLT CROMO"]
[null,null,null,null,null,null,null,null,null,null,null,null,null,null,null,null,null,null,null,null,null,null,null,null,null,null,null,null,null,null,null,null,null,null,"PR939","LOBO HARLEY DAVIDSON SUPER CREW"]
[null,null,null,null,null,null,null,null,null,null,null,null,null,null,null,null,null,null,null,null,null,null,null,null,null,null,null,null,null,null,null,null,null,null,"PR943","EXPLORER XLT V6 TELA 4X/2 SYNC"]
[null,null,null,null,null,null,null,null,null,null,null,null,null,null,null,null,null,null,null,null,null,null,null,null,null,null,null,null,null,null,null,null,null,null,"PR948","MUSTANG COUPE LUJO V6 TA TELA"]
[null,null,null,null,null,null,null,null,null,null,null,null,null,null,null,null,null,null,null,null,null,null,null,null,null,null,null,null,null,null,null,null,null,null,"PR953","FUSION SE I4 TA PIEL"]
[null,null,null,null,null,null,null,null,null,null,null,null,null,null,null,null,null,null,null,null,null,null,null,null,null,null,null,null,null,null,null,null,null,null,"PR958","ESCAPE XLT"]
[null,null,null,null,null,null,null,null,null,null,null,null,null,null,null,null,null,null,null,null,null,null,null,null,null,null,null,null,null,null,null,null,null,null,"PR959","COURIER L TM /AB"]
[null,null,null,null,null,null,null,null,null,null,null,null,null,null,null,null,null,null,null,null,null,null,null,null,null,null,null,null,null,null,null,null,null,null,"PR964","EDGE SEL"]
[null,null,null,null,null,null,null,null,null,null,null,null,null,null,null,null,null,null,null,null,null,null,null,null,null,null,null,null,null,null,null,null,null,null,"PR969","EXPEDITION LIMITED 4X4 5.4L V8"]
[null,null,null,null,null,null,null,null,null,null,null,null,null,null,null,null,null,null,null,null,null,null,null,null,null,null,null,null,null,null,null,null,null,null,"PR974","EXPEDITION EDDIE BAUER 4X2 5.4L V8 MAX"]
[null,null,null,null,null,null,null,null,null,null,null,null,null,null,null,null,null,null,null,null,null,null,null,null,null,null,null,null,null,null,null,null,null,null,"PR979","FUSION SEL PLUS V6"]
[null,null,null,null,null,null,null,null,null,null,null,null,null,null,null,null,null,null,null,null,null,null,null,null,null,null,null,null,null,null,null,null,null,null,"PR983","FUSION S I4 TA"]
[null,null,null,null,null,null,null,null,null,null,null,null,null,null,null,null,null,null,null,null,null,null,null,null,null,null,null,null,null,null,null,null,null,null,"PR988","RANGER CHASSIS I4 TM"]
[null,null,null,null,null,null,null,null,null,null,null,null,null,null,null,null,null,null,null,null,null,null,null,null,null,null,null,null,null,null,null,null,null,null,"PR992","RANGER XL CREW CAB I4 TM A/A"]
[null,null,null,null,null,null,null,null,null,null,null,null,null,null,null,null,null,null,null,null,null,null,null,null,null,null,null,null,null,null,null,null,null,null,"PR998","LOBO CAB REG 4 x 2 TA"]
[null,null,null,null,null,null,null,null,null,null,null,null,null,null,null,null,null,null,null,null,null,null,null,null,null,null,null,null,null,null,null,null,null,null,"PRA101","MUSTANG GT EQUIPADO PIEL VIP TM*"]
[null,null,null,null,null,null,null,null,null,null,null,null,null,null,null,null,null,null,null,null,null,null,null,null,null,null,null,null,null,null,null,null,null,null,"PRA106","FUSION SEL V6 PIEL*"]
[null,null,null,null,null,null,null,null,null,null,null,null,null,null,null,null,null,null,null,null,null,null,null,null,null,null,null,null,null,null,null,null,null,null,"PRA111","ESCAPE LIMITED*"]
[null,null,null,null,null,null,null,null,null,null,null,null,null,null,null,null,null,null,null,null,null,null,null,null,null,null,null,null,null,null,null,null,null,null,"PRA116","EXPLORER SPORT TRAC V8 4X2 TELA"]
[null,null,null,null,null,null,null,null,null,null,null,null,null,null,null,null,null,null,null,null,null,null,null,null,null,null,null,null,null,null,null,null,null,null,"PRA117","EDGE SEL"]
[null,null,null,null,null,null,null,null,null,null,null,null,null,null,null,null,null,null,null,null,null,null,null,null,null,null,null,null,null,null,null,null,null,null,"PRA121","LOBO CAB REG 4X4 SPORT"]
[null,null,null,null,null,null,null,null,null,null,null,null,null,null,null,null,null,null,null,null,null,null,null,null,null,null,null,null,null,null,null,null,null,null,"PRA126","RANGER XL CAJA LARGA I4 TM A/A"]
[null,null,null,null,null,null,null,null,null,null,null,null,null,null,null,null,null,null,null,null,null,null,null,null,null,null,null,null,null,null,null,null,null,null,"PRA131","ECOSPORT 4X2 TA TELA"]
[null,null,null,null,null,null,null,null,null,null,null,null,null,null,null,null,null,null,null,null,null,null,null,null,null,null,null,null,null,null,null,null,null,null,"PRA136","COURIER L TM"]
[null,null,null,null,null,null,null,null,null,null,null,null,null,null,null,null,null,null,null,null,null,null,null,null,null,null,null,null,null,null,null,null,null,null,"PRA140","F-250 XL MID V8 TM A/A"]
[null,null,null,null,null,null,null,null,null,null,null,null,null,null,null,null,null,null,null,null,null,null,null,null,null,null,null,null,null,null,null,null,null,null,"PRA146","RANGER XLT CREW CAB I4 TM A/A LIMITED"]
[null,null,null,null,null,null,null,null,null,null,null,null,null,null,null,null,null,null,null,null,null,null,null,null,null,null,null,null,null,null,null,null,null,null,"PRA150","FOCUS EUROPA AMBIENTE TM"]
[null,null,null,null,null,null,null,null,null,null,null,null,null,null,null,null,null,null,null,null,null,null,null,null,null,null,null,null,null,null,null,null,null,null,"PRA156","EXPLORER SPORT TRAC V8 4X2 TELA"]
[null,null,null,null,null,null,null,null,null,null,null,null,null,null,null,null,null,null,null,null,null,null,null,null,null,null,null,null,null,null,null,null,null,null,"PRA160","MUSTANG COUPE LUJO V6 TM TELA"]
[null,null,null,null,null,null,null,null,null,null,null,null,null,null,null,null,null,null,null,null,null,null,null,null,null,null,null,null,null,null,null,null,null,null,"PRA165","FUSION SE I4 TA"]
[null,null,null,null,null,null,null,null,null,null,null,null,null,null,null,null,null,null,null,null,null,null,null,null,null,null,null,null,null,null,null,null,null,null,"PRA170","ESCAPE XLS I4 TM"]
[null,null,null,null,null,null,null,null,null,null,null,null,null,null,null,null,null,null,null,null,null,null,null,null,null,null,null,null,null,null,null,null,null,null,"PRA175","COURIER L TM"]
[null,null,null,null,null,null,null,null,null,null,null,null,null,null,null,null,null,null,null,null,null,null,null,null,null,null,null,null,null,null,null,null,null,null,"PRA176","COURIER L TM D/H A/A"]
[null,null,null,null,null,null,null,null,null,null,null,null,null,null,null,null,null,null,null,null,null,null,null,null,null,null,null,null,null,null,null,null,null,null,"PRA180","RANGER XL CREW CAB I4 TM"]
[null,null,null,null,null,null,null,null,null,null,null,null,null,null,null,null,null,null,null,null,null,null,null,null,null,null,null,null,null,null,null,null,null,null,"PRA185","FOCUS EUROPA AMBIENTE TA"]
[null,null,null,null,null,null,null,null,null,null,null,null,null,null,null,null,null,null,null,null,null,null,null,null,null,null,null,null,null,null,null,null,null,null,"PRA190","EXPLORER SPORT TRAC V8 4X2 TELA"]
[null,null,null,null,null,null,null,null,null,null,null,null,null,null,null,null,null,null,null,null,null,null,null,null,null,null,null,null,null,null,null,null,null,null,"PRA195","MUSTANG COUPE LUJO V6 TA TELA"]
[null,null,null,null,null,null,null,null,null,null,null,null,null,null,null,null,null,null,null,null,null,null,null,null,null,null,null,null,null,null,null,null,null,null,"PRA2","LOBO CAB REG 4X4 SPORT"]
[null,null,null,null,null,null,null,null,null,null,null,null,null,null,null,null,null,null,null,null,null,null,null,null,null,null,null,null,null,null,null,null,null,null,"PRA204","ESCAPE XLS I4 TM"]
[null,null,null,null,null,null,null,null,null,null,null,null,null,null,null,null,null,null,null,null,null,null,null,null,null,null,null,null,null,null,null,null,null,null,"PRA209","EDGE SEL"]
[null,null,null,null,null,null,null,null,null,null,null,null,null,null,null,null,null,null,null,null,null,null,null,null,null,null,null,null,null,null,null,null,null,null,"PRA214","FIESTA SEDAN TREND COMFORT TA"]
[null,null,null,null,null,null,null,null,null,null,null,null,null,null,null,null,null,null,null,null,null,null,null,null,null,null,null,null,null,null,null,null,null,null,"PRA219","FOCUS SPORT TM"]
[null,null,null,null,null,null,null,null,null,null,null,null,null,null,null,null,null,null,null,null,null,null,null,null,null,null,null,null,null,null,null,null,null,null,"PRA223","EXPLORER SPORT TRAC V8 4X2 TELA"]
[null,null,null,null,null,null,null,null,null,null,null,null,null,null,null,null,null,null,null,null,null,null,null,null,null,null,null,null,null,null,null,null,null,null,"PRA229","MUSTANG GT EQUIPADO PIEL VIP TM"]
[null,null,null,null,null,null,null,null,null,null,null,null,null,null,null,null,null,null,null,null,null,null,null,null,null,null,null,null,null,null,null,null,null,null,"PRA233","FUSION SE V6"]
[null,null,null,null,null,null,null,null,null,null,null,null,null,null,null,null,null,null,null,null,null,null,null,null,null,null,null,null,null,null,null,null,null,null,"PRA238","ESCAPE XLS"]
[null,null,null,null,null,null,null,null,null,null,null,null,null,null,null,null,null,null,null,null,null,null,null,null,null,null,null,null,null,null,null,null,null,null,"PRA239","COURIER L TM"]
[null,null,null,null,null,null,null,null,null,null,null,null,null,null,null,null,null,null,null,null,null,null,null,null,null,null,null,null,null,null,null,null,null,null,"PRA243","F-350 SUPER DUTY XLT V8"]
[null,null,null,null,null,null,null,null,null,null,null,null,null,null,null,null,null,null,null,null,null,null,null,null,null,null,null,null,null,null,null,null,null,null,"PRA249","RANGER XL CAJA LARGA I4 TM A/A"]
[null,null,null,null,null,null,null,null,null,null,null,null,null,null,null,null,null,null,null,null,null,null,null,null,null,null,null,null,null,null,null,null,null,null,"PRA253","RANGER XLT CREW CAB I4 TM A/A LIMITED"]
[null,null,null,null,null,null,null,null,null,null,null,null,null,null,null,null,null,null,null,null,null,null,null,null,null,null,null,null,null,null,null,null,null,null,"PRA258","EXPLORER XLT BASE V6 TELA  4 X 2"]
[null,null,null,null,null,null,null,null,null,null,null,null,null,null,null,null,null,null,null,null,null,null,null,null,null,null,null,null,null,null,null,null,null,null,"PRA263","MUSTANG COUPE LUJO V6 TM TELA"]
[null,null,null,null,null,null,null,null,null,null,null,null,null,null,null,null,null,null,null,null,null,null,null,null,null,null,null,null,null,null,null,null,null,null,"PRA268","FUSION SE I4 TA"]
[null,null,null,null,null,null,null,null,null,null,null,null,null,null,null,null,null,null,null,null,null,null,null,null,null,null,null,null,null,null,null,null,null,null,"PRA273","ESCAPE XLS I4"]
[null,null,null,null,null,null,null,null,null,null,null,null,null,null,null,null,null,null,null,null,null,null,null,null,null,null,null,null,null,null,null,null,null,null,"PRA278","F-350 SUPER DUTY XLT V8"]
[null,null,null,null,null,null,null,null,null,null,null,null,null,null,null,null,null,null,null,null,null,null,null,null,null,null,null,null,null,null,null,null,null,null,"PRA29","COURIER L TM D/H A/A"]
[null,null,null,null,null,null,null,null,null,null,null,null,null,null,null,null,null,null,null,null,null,null,null,null,null,null,null,null,null,null,null,null,null,null,"PRA34","FOCUS SPORT TA"]
[null,null,null,null,null,null,null,null,null,null,null,null,null,null,null,null,null,null,null,null,null,null,null,null,null,null,null,null,null,null,null,null,null,null,"PRA39","ESCAPE XLS I4 TA"]
[null,null,null,null,null,null,null,null,null,null,null,null,null,null,null,null,null,null,null,null,null,null,null,null,null,null,null,null,null,null,null,null,null,null,"PRA43","FOCUS SPORT TA"]
[null,null,null,null,null,null,null,null,null,null,null,null,null,null,null,null,null,null,null,null,null,null,null,null,null,null,null,null,null,null,null,null,null,null,"PRA44","MUSTANG GT EQUIPADO PIEL VIP TA"]
[null,null,null,null,null,null,null,null,null,null,null,null,null,null,null,null,null,null,null,null,null,null,null,null,null,null,null,null,null,null,null,null,null,null,"PRA49","FUSION S I4 TA"]
[null,null,null,null,null,null,null,null,null,null,null,null,null,null,null,null,null,null,null,null,null,null,null,null,null,null,null,null,null,null,null,null,null,null,"PRA54","FIESTA SEDAN FIRST AA TA"]
[null,null,null,null,null,null,null,null,null,null,null,null,null,null,null,null,null,null,null,null,null,null,null,null,null,null,null,null,null,null,null,null,null,null,"PRA59","F-350 SUPER DUTY XL V8 A/A"]
[null,null,null,null,null,null,null,null,null,null,null,null,null,null,null,null,null,null,null,null,null,null,null,null,null,null,null,null,null,null,null,null,null,null,"PRA63","FIESTA SEDAN FIRST A/A"]
[null,null,null,null,null,null,null,null,null,null,null,null,null,null,null,null,null,null,null,null,null,null,null,null,null,null,null,null,null,null,null,null,null,null,"PRA69","MUSTANG GT EQUIPADO PIEL VIP TA"]
[null,null,null,null,null,null,null,null,null,null,null,null,null,null,null,null,null,null,null,null,null,null,null,null,null,null,null,null,null,null,null,null,null,null,"PRA73","COURIER XL TM 4X2"]
[null,null,null,null,null,null,null,null,null,null,null,null,null,null,null,null,null,null,null,null,null,null,null,null,null,null,null,null,null,null,null,null,null,null,"PRA78","FIESTA SEDAN FIRST A/A*"]
[null,null,null,null,null,null,null,null,null,null,null,null,null,null,null,null,null,null,null,null,null,null,null,null,null,null,null,null,null,null,null,null,null,null,"PRA83","RANGER CHASSIS I4 TM*"]
[null,null,null,null,null,null,null,null,null,null,null,null,null,null,null,null,null,null,null,null,null,null,null,null,null,null,null,null,null,null,null,null,null,null,"PRA88","RANGER XLT CREW CAB I4 TM A/A*"]
[null,null,null,null,null,null,null,null,null,null,null,null,null,null,null,null,null,null,null,null,null,null,null,null,null,null,null,null,null,null,null,null,null,null,"PRA93","FOCUS SPORT TA*"]
[null,null,null,null,null,null,null,null,null,null,null,null,null,null,null,null,null,null,null,null,null,null,null,null,null,null,null,null,null,null,null,null,null,null,"PRA98","MUSTANG COUPE LUJO V6 TM TELA*"]
[null,null,null,null,null,null,null,null,null,null,null,null,null,null,null,null,null,null,null,null,null,null,null,null,null,null,null,null,null,null,null,null,null,null,"PRE12","SABLE LS PIEL"]
[null,null,null,null,null,null,null,null,null,null,null,null,null,null,null,null,null,null,null,null,null,null,null,null,null,null,null,null,null,null,null,null,null,null,"PRE13","F-150 XL V6 T/M"]
[null,null,null,null,null,null,null,null,null,null,null,null,null,null,null,null,null,null,null,null,null,null,null,null,null,null,null,null,null,null,null,null,null,null,"PRE18","F-250 XL V8 T/A A/A"]
[null,null,null,null,null,null,null,null,null,null,null,null,null,null,null,null,null,null,null,null,null,null,null,null,null,null,null,null,null,null,null,null,null,null,"PRE23","F-450 SUPER DUTY"]
[null,null,null,null,null,null,null,null,null,null,null,null,null,null,null,null,null,null,null,null,null,null,null,null,null,null,null,null,null,null,null,null,null,null,"PRE28","RANGER XL CAJA LARGA 14 T/M"]
[null,null,null,null,null,null,null,null,null,null,null,null,null,null,null,null,null,null,null,null,null,null,null,null,null,null,null,null,null,null,null,null,null,null,"PRE32","LOBO SUP CAB 4X2 TA SPORT"]
[null,null,null,null,null,null,null,null,null,null,null,null,null,null,null,null,null,null,null,null,null,null,null,null,null,null,null,null,null,null,null,null,null,null,"PRE38","FOCUS LX BASE TM"]
[null,null,null,null,null,null,null,null,null,null,null,null,null,null,null,null,null,null,null,null,null,null,null,null,null,null,null,null,null,null,null,null,null,null,"PRE42","FOCUS SE EQUIPADO T/M A/A"]
[null,null,null,null,null,null,null,null,null,null,null,null,null,null,null,null,null,null,null,null,null,null,null,null,null,null,null,null,null,null,null,null,null,null,"PRE47","FOCUS ZTS PIEL"]
[null,null,null,null,null,null,null,null,null,null,null,null,null,null,null,null,null,null,null,null,null,null,null,null,null,null,null,null,null,null,null,null,null,null,"PRE52","EXPLORER XLT V8 TELA 4X2"]
[null,null,null,null,null,null,null,null,null,null,null,null,null,null,null,null,null,null,null,null,null,null,null,null,null,null,null,null,null,null,null,null,null,null,"PRE57","MUSTANG GT EQUIPADO T/A"]
[null,null,null,null,null,null,null,null,null,null,null,null,null,null,null,null,null,null,null,null,null,null,null,null,null,null,null,null,null,null,null,null,null,null,"PRE59","LINCOLN LS SPORT"]
[null,null,null,null,null,null,null,null,null,null,null,null,null,null,null,null,null,null,null,null,null,null,null,null,null,null,null,null,null,null,null,null,null,null,"PRE66","WINDSTAR LIMITED"]
[null,null,null,null,null,null,null,null,null,null,null,null,null,null,null,null,null,null,null,null,null,null,null,null,null,null,null,null,null,null,null,null,null,null,"PRE70","MONDEO TREND MTX"]
[null,null,null,null,null,null,null,null,null,null,null,null,null,null,null,null,null,null,null,null,null,null,null,null,null,null,null,null,null,null,null,null,null,null,"PRE71","MONDEO GHIA TA"]
[null,null,null,null,null,null,null,null,null,null,null,null,null,null,null,null,null,null,null,null,null,null,null,null,null,null,null,null,null,null,null,null,null,null,"PRE76","GRAND MARQUIS MID TELA"]
[null,null,null,null,null,null,null,null,null,null,null,null,null,null,null,null,null,null,null,null,null,null,null,null,null,null,null,null,null,null,null,null,null,null,"PRE81","EXPEDITION XLT TELA"]
[null,null,null,null,null,null,null,null,null,null,null,null,null,null,null,null,null,null,null,null,null,null,null,null,null,null,null,null,null,null,null,null,null,null,"PRE86","COURIER L TM DH"]
[null,null,null,null,null,null,null,null,null,null,null,null,null,null,null,null,null,null,null,null,null,null,null,null,null,null,null,null,null,null,null,null,null,null,"QC","SUNFIRE B"]
[null,null,null,null,null,null,null,null,null,null,null,null,null,null,null,null,null,null,null,null,null,null,null,null,null,null,null,null,null,null,null,null,null,null,"R1A6","MONDEO GHIA TA"]
[null,null,null,null,null,null,null,null,null,null,null,null,null,null,null,null,null,null,null,null,null,null,null,null,null,null,null,null,null,null,null,null,null,null,"R1B12","MONDEO TREND MTX"]
[null,null,null,null,null,null,null,null,null,null,null,null,null,null,null,null,null,null,null,null,null,null,null,null,null,null,null,null,null,null,null,null,null,null,"R1B27","Modeo Trend TM"]
[null,null,null,null,null,null,null,null,null,null,null,null,null,null,null,null,null,null,null,null,null,null,null,null,null,null,null,null,null,null,null,null,null,null,"R1BR","MONDEO TREND MTX"]
[null,null,null,null,null,null,null,null,null,null,null,null,null,null,null,null,null,null,null,null,null,null,null,null,null,null,null,null,null,null,null,null,null,null,"R1G17","MONDEO GHIA TA PIEL"]
[null,null,null,null,null,null,null,null,null,null,null,null,null,null,null,null,null,null,null,null,null,null,null,null,null,null,null,null,null,null,null,null,null,null,"R1G6","MONDEO CHIA TA PIEL"]
[null,null,null,null,null,null,null,null,null,null,null,null,null,null,null,null,null,null,null,null,null,null,null,null,null,null,null,null,null,null,null,null,null,null,"R2A","Mondeo Core TA"]
[null,null,null,null,null,null,null,null,null,null,null,null,null,null,null,null,null,null,null,null,null,null,null,null,null,null,null,null,null,null,null,null,null,null,"R2B11","MONDEO CORE MTX"]
[null,null,null,null,null,null,null,null,null,null,null,null,null,null,null,null,null,null,null,null,null,null,null,null,null,null,null,null,null,null,null,null,null,null,"R2B12","MONDEO CORE MTX"]
[null,null,null,null,null,null,null,null,null,null,null,null,null,null,null,null,null,null,null,null,null,null,null,null,null,null,null,null,null,null,null,null,null,null,"R2B18","MONDEO CORE MTX"]
[null,null,null,null,null,null,null,null,null,null,null,null,null,null,null,null,null,null,null,null,null,null,null,null,null,null,null,null,null,null,null,null,null,null,"R2B23","Mondeo Core MTX"]
[null,null,null,null,null,null,null,null,null,null,null,null,null,null,null,null,null,null,null,null,null,null,null,null,null,null,null,null,null,null,null,null,null,null,"R2B29","Mondeo Core TM"]
[null,null,null,null,null,null,null,null,null,null,null,null,null,null,null,null,null,null,null,null,null,null,null,null,null,null,null,null,null,null,null,null,null,null,"R2B9","MONDEO CORE MTX"]
[null,null,null,null,null,null,null,null,null,null,null,null,null,null,null,null,null,null,null,null,null,null,null,null,null,null,null,null,null,null,null,null,null,null,"R2BR","MONDEO CORE MTX"]
[null,null,null,null,null,null,null,null,null,null,null,null,null,null,null,null,null,null,null,null,null,null,null,null,null,null,null,null,null,null,null,null,null,null,"R2BY","MONDEO CORE MTX"]
[null,null,null,null,null,null,null,null,null,null,null,null,null,null,null,null,null,null,null,null,null,null,null,null,null,null,null,null,null,null,null,null,null,null,"R4AQ","MYSTIQUE LS PLUS VIP. 4 PTAS. PIEL QUEM."]
[null,null,null,null,null,null,null,null,null,null,null,null,null,null,null,null,null,null,null,null,null,null,null,null,null,null,null,null,null,null,null,null,null,null,"R4BZ","MYSTIQUE LS 4 PTAS. TELA B/AIRE"]
[null,null,null,null,null,null,null,null,null,null,null,null,null,null,null,null,null,null,null,null,null,null,null,null,null,null,null,null,null,null,null,null,null,null,"R4G","MYSTIQUE LS PLUS B/AIRE AM/FM/CD"]
[null,null,null,null,null,null,null,null,null,null,null,null,null,null,null,null,null,null,null,null,null,null,null,null,null,null,null,null,null,null,null,null,null,null,"R4SQ","MYSTIQUE PLUS VIP S/QUEMACOCOS"]
[null,null,null,null,null,null,null,null,null,null,null,null,null,null,null,null,null,null,null,null,null,null,null,null,null,null,null,null,null,null,null,null,null,null,"R7AB","CONTOUR POWER V6/BOLSA DE AIRE"]
[null,null,null,null,null,null,null,null,null,null,null,null,null,null,null,null,null,null,null,null,null,null,null,null,null,null,null,null,null,null,null,null,null,null,"R7CB","CONTOUR GL BASE V6 AUT. B/AIRE"]
[null,null,null,null,null,null,null,null,null,null,null,null,null,null,null,null,null,null,null,null,null,null,null,null,null,null,null,null,null,null,null,null,null,null,"R7CC","CONTOUR GL BASE V6 BOLSAS DE AIRE C.FIJA"]
[null,null,null,null,null,null,null,null,null,null,null,null,null,null,null,null,null,null,null,null,null,null,null,null,null,null,null,null,null,null,null,null,null,null,"R7DE","CONTOUR GL BASE I4 CASS."]
[null,null,null,null,null,null,null,null,null,null,null,null,null,null,null,null,null,null,null,null,null,null,null,null,null,null,null,null,null,null,null,null,null,null,"R7G0","CONTOUR POWER 14 TA EQUIPO ELECTRICO"]
[null,null,null,null,null,null,null,null,null,null,null,null,null,null,null,null,null,null,null,null,null,null,null,null,null,null,null,null,null,null,null,null,null,null,"R7IP","CONTOUR POWER V6 TA Eq. ELECTRICO"]
[null,null,null,null,null,null,null,null,null,null,null,null,null,null,null,null,null,null,null,null,null,null,null,null,null,null,null,null,null,null,null,null,null,null,"S3BZ","GRAND MARQUIS LS EQUIPADO PIEL AUTO V8"]
[null,null,null,null,null,null,null,null,null,null,null,null,null,null,null,null,null,null,null,null,null,null,null,null,null,null,null,null,null,null,null,null,null,null,"S3C17","GRAND MARQUIS MID TELA"]
[null,null,null,null,null,null,null,null,null,null,null,null,null,null,null,null,null,null,null,null,null,null,null,null,null,null,null,null,null,null,null,null,null,null,"S3C22","Grand Marquis Mid Tela"]
[null,null,null,null,null,null,null,null,null,null,null,null,null,null,null,null,null,null,null,null,null,null,null,null,null,null,null,null,null,null,null,null,null,null,"S3CU","GRAND MARQUIS MID TELA"]
[null,null,null,null,null,null,null,null,null,null,null,null,null,null,null,null,null,null,null,null,null,null,null,null,null,null,null,null,null,null,null,null,null,null,"S3DZ","GRAND MARQUIS LS EQUIPADO TELA AUTO V8"]
[null,null,null,null,null,null,null,null,null,null,null,null,null,null,null,null,null,null,null,null,null,null,null,null,null,null,null,null,null,null,null,null,null,null,"T7AS","LINCOLN LS SPORT"]
[null,null,null,null,null,null,null,null,null,null,null,null,null,null,null,null,null,null,null,null,null,null,null,null,null,null,null,null,null,null,null,null,null,null,"T8AZ","LINCOLN NAVIGATOR"]
[null,null,null,null,null,null,null,null,null,null,null,null,null,null,null,null,null,null,null,null,null,null,null,null,null,null,null,null,null,null,null,null,null,null,"TS3","GSII STD AUSTERO"]
[null,null,null,null,null,null,null,null,null,null,null,null,null,null,null,null,null,null,null,null,null,null,null,null,null,null,null,null,null,null,null,null,null,null,"TS8","GSII T/A"]
[null,null,null,null,null,null,null,null,null,null,null,null,null,null,null,null,null,null,null,null,null,null,null,null,null,null,null,null,null,null,null,null,null,null,"TTA","Mark LT 4X4"]
[null,null,null,null,null,null,null,null,null,null,null,null,null,null,null,null,null,null,null,null,null,null,null,null,null,null,null,null,null,null,null,null,null,null,"URV2","DX LARGA T/M"]
[null,null,null,null,null,null,null,null,null,null,null,null,null,null,null,null,null,null,null,null,null,null,null,null,null,null,null,null,null,null,null,null,null,null,"URV7","DX LARGA T/M 15 C A/A"]
[null,null,null,null,null,null,null,null,null,null,null,null,null,null,null,null,null,null,null,null,null,null,null,null,null,null,null,null,null,null,null,null,null,null,"V1AS","EXPEDITION EDDIE BAUER 4X2"]
[null,null,null,null,null,null,null,null,null,null,null,null,null,null,null,null,null,null,null,null,null,null,null,null,null,null,null,null,null,null,null,null,null,null,"V1E","Expedition XLT Tela"]
[null,null,null,null,null,null,null,null,null,null,null,null,null,null,null,null,null,null,null,null,null,null,null,null,null,null,null,null,null,null,null,null,null,null,"V1KPE","EXPEDITION KING RANCH 4X2 5.4L V8 PTA TR"]
[null,null,null,null,null,null,null,null,null,null,null,null,null,null,null,null,null,null,null,null,null,null,null,null,null,null,null,null,null,null,null,null,null,null,"V1MPE","EXPEDITION LIMITED 4X2 5.4L V8 PTA TRAS"]
[null,null,null,null,null,null,null,null,null,null,null,null,null,null,null,null,null,null,null,null,null,null,null,null,null,null,null,null,null,null,null,null,null,null,"V2FMV","EXPEDITION MAX LIMITED 4X2 54L V8"]
[null,null,null,null,null,null,null,null,null,null,null,null,null,null,null,null,null,null,null,null,null,null,null,null,null,null,null,null,null,null,null,null,null,null,"W2C37","Courier XL TM 4X2"]
[null,null,null,null,null,null,null,null,null,null,null,null,null,null,null,null,null,null,null,null,null,null,null,null,null,null,null,null,null,null,null,null,null,null,"W2C41","Courier XL TM 4x2"]
[null,null,null,null,null,null,null,null,null,null,null,null,null,null,null,null,null,null,null,null,null,null,null,null,null,null,null,null,null,null,null,null,null,null,"W2C46","Courier XL TM 4x2"]
[null,null,null,null,null,null,null,null,null,null,null,null,null,null,null,null,null,null,null,null,null,null,null,null,null,null,null,null,null,null,null,null,null,null,"W2C51","Courier XL TM 4x2"]
[null,null,null,null,null,null,null,null,null,null,null,null,null,null,null,null,null,null,null,null,null,null,null,null,null,null,null,null,null,null,null,null,null,null,"W2C56","Courier XL TM 4x2"]
[null,null,null,null,null,null,null,null,null,null,null,null,null,null,null,null,null,null,null,null,null,null,null,null,null,null,null,null,null,null,null,null,null,null,"W2C57","Courier XL TM 4x2"]
[null,null,null,null,null,null,null,null,null,null,null,null,null,null,null,null,null,null,null,null,null,null,null,null,null,null,null,null,null,null,null,null,null,null,"W2CCA2","COURIER XL TM 4X2"]
[null,null,null,null,null,null,null,null,null,null,null,null,null,null,null,null,null,null,null,null,null,null,null,null,null,null,null,null,null,null,null,null,null,null,"W2CM","COURIER XL 14 TM 4 X 2"]
[null,null,null,null,null,null,null,null,null,null,null,null,null,null,null,null,null,null,null,null,null,null,null,null,null,null,null,null,null,null,null,null,null,null,"W2CSS1","COURIER XL TM 4X2"]
[null,null,null,null,null,null,null,null,null,null,null,null,null,null,null,null,null,null,null,null,null,null,null,null,null,null,null,null,null,null,null,null,null,null,"W2CSS6","COURIER XL TM 4X2"]
[null,null,null,null,null,null,null,null,null,null,null,null,null,null,null,null,null,null,null,null,null,null,null,null,null,null,null,null,null,null,null,null,null,null,"W2D15","COURIER 1.4 TM"]
[null,null,null,null,null,null,null,null,null,null,null,null,null,null,null,null,null,null,null,null,null,null,null,null,null,null,null,null,null,null,null,null,null,null,"W2D20","Courier L 1.4 TM"]
[null,null,null,null,null,null,null,null,null,null,null,null,null,null,null,null,null,null,null,null,null,null,null,null,null,null,null,null,null,null,null,null,null,null,"W2D25","Courier L TM"]
[null,null,null,null,null,null,null,null,null,null,null,null,null,null,null,null,null,null,null,null,null,null,null,null,null,null,null,null,null,null,null,null,null,null,"W2D31","Courier L 1.4 TM"]
[null,null,null,null,null,null,null,null,null,null,null,null,null,null,null,null,null,null,null,null,null,null,null,null,null,null,null,null,null,null,null,null,null,null,"W2D37","Courier L TM"]
[null,null,null,null,null,null,null,null,null,null,null,null,null,null,null,null,null,null,null,null,null,null,null,null,null,null,null,null,null,null,null,null,null,null,"W2D41","Courier L TM"]
[null,null,null,null,null,null,null,null,null,null,null,null,null,null,null,null,null,null,null,null,null,null,null,null,null,null,null,null,null,null,null,null,null,null,"W2D47","Courier L TM"]
[null,null,null,null,null,null,null,null,null,null,null,null,null,null,null,null,null,null,null,null,null,null,null,null,null,null,null,null,null,null,null,null,null,null,"W2D52","Courier L TM"]
[null,null,null,null,null,null,null,null,null,null,null,null,null,null,null,null,null,null,null,null,null,null,null,null,null,null,null,null,null,null,null,null,null,null,"W2D53","Courier L TM"]
[null,null,null,null,null,null,null,null,null,null,null,null,null,null,null,null,null,null,null,null,null,null,null,null,null,null,null,null,null,null,null,null,null,null,"W2D58","Courier L TM"]
[null,null,null,null,null,null,null,null,null,null,null,null,null,null,null,null,null,null,null,null,null,null,null,null,null,null,null,null,null,null,null,null,null,null,"W2DA","Courier L TM"]
[null,null,null,null,null,null,null,null,null,null,null,null,null,null,null,null,null,null,null,null,null,null,null,null,null,null,null,null,null,null,null,null,null,null,"W2DAJ","COURIER L 14 TM 4X2"]
[null,null,null,null,null,null,null,null,null,null,null,null,null,null,null,null,null,null,null,null,null,null,null,null,null,null,null,null,null,null,null,null,null,null,"W2DAU","COURIER L 14 TM"]
[null,null,null,null,null,null,null,null,null,null,null,null,null,null,null,null,null,null,null,null,null,null,null,null,null,null,null,null,null,null,null,null,null,null,"W2DP","COURIER L 14 TM 4 X 2"]
[null,null,null,null,null,null,null,null,null,null,null,null,null,null,null,null,null,null,null,null,null,null,null,null,null,null,null,null,null,null,null,null,null,null,"W2DSS2","COURIER L TM"]
[null,null,null,null,null,null,null,null,null,null,null,null,null,null,null,null,null,null,null,null,null,null,null,null,null,null,null,null,null,null,null,null,null,null,"W2DSS7","COURIER L TM"]
[null,null,null,null,null,null,null,null,null,null,null,null,null,null,null,null,null,null,null,null,null,null,null,null,null,null,null,null,null,null,null,null,null,null,"W2EA","Courier L TM D/H A/A"]
[null,null,null,null,null,null,null,null,null,null,null,null,null,null,null,null,null,null,null,null,null,null,null,null,null,null,null,null,null,null,null,null,null,null,"W2ECA1","COURIER L TM D/H A/A"]
[null,null,null,null,null,null,null,null,null,null,null,null,null,null,null,null,null,null,null,null,null,null,null,null,null,null,null,null,null,null,null,null,null,null,"W2ESS1","COURIER L TM D/H A/A"]
[null,null,null,null,null,null,null,null,null,null,null,null,null,null,null,null,null,null,null,null,null,null,null,null,null,null,null,null,null,null,null,null,null,null,"W2ESS7","COURIER L TM D/H A/A"]
[null,null,null,null,null,null,null,null,null,null,null,null,null,null,null,null,null,null,null,null,null,null,null,null,null,null,null,null,null,null,null,null,null,null,"W5B10","ECOSPORT 4X2"]
[null,null,null,null,null,null,null,null,null,null,null,null,null,null,null,null,null,null,null,null,null,null,null,null,null,null,null,null,null,null,null,null,null,null,"W5B11","ECOSPORT 4X2"]
[null,null,null,null,null,null,null,null,null,null,null,null,null,null,null,null,null,null,null,null,null,null,null,null,null,null,null,null,null,null,null,null,null,null,"W5B21","Ecosport"]
[null,null,null,null,null,null,null,null,null,null,null,null,null,null,null,null,null,null,null,null,null,null,null,null,null,null,null,null,null,null,null,null,null,null,"W5B26","Ecosport 4x2"]
[null,null,null,null,null,null,null,null,null,null,null,null,null,null,null,null,null,null,null,null,null,null,null,null,null,null,null,null,null,null,null,null,null,null,"W5B30","Ecosport 4X2"]
[null,null,null,null,null,null,null,null,null,null,null,null,null,null,null,null,null,null,null,null,null,null,null,null,null,null,null,null,null,null,null,null,null,null,"W5B35","Ecosport 4x2"]
[null,null,null,null,null,null,null,null,null,null,null,null,null,null,null,null,null,null,null,null,null,null,null,null,null,null,null,null,null,null,null,null,null,null,"W5B3CA1","ECOSPORT TITANIUM AT"]
[null,null,null,null,null,null,null,null,null,null,null,null,null,null,null,null,null,null,null,null,null,null,null,null,null,null,null,null,null,null,null,null,null,null,"W5B44","Ecosport 4x2"]
[null,null,null,null,null,null,null,null,null,null,null,null,null,null,null,null,null,null,null,null,null,null,null,null,null,null,null,null,null,null,null,null,null,null,"W5B49","Ecosport 4x2"]
[null,null,null,null,null,null,null,null,null,null,null,null,null,null,null,null,null,null,null,null,null,null,null,null,null,null,null,null,null,null,null,null,null,null,"W5B55","Ecosport 4x2"]
[null,null,null,null,null,null,null,null,null,null,null,null,null,null,null,null,null,null,null,null,null,null,null,null,null,null,null,null,null,null,null,null,null,null,"W5B60","Ecosport 4x2"]
[null,null,null,null,null,null,null,null,null,null,null,null,null,null,null,null,null,null,null,null,null,null,null,null,null,null,null,null,null,null,null,null,null,null,"W5BBZ1","ECOSPORT 4X2"]
[null,null,null,null,null,null,null,null,null,null,null,null,null,null,null,null,null,null,null,null,null,null,null,null,null,null,null,null,null,null,null,null,null,null,"W5BES1","ECOSPORT 4X2"]
[null,null,null,null,null,null,null,null,null,null,null,null,null,null,null,null,null,null,null,null,null,null,null,null,null,null,null,null,null,null,null,null,null,null,"W5BPR","ECOSPORT 4X2"]
[null,null,null,null,null,null,null,null,null,null,null,null,null,null,null,null,null,null,null,null,null,null,null,null,null,null,null,null,null,null,null,null,null,null,"W5BPR2","ECOSPORT 4X2"]
[null,null,null,null,null,null,null,null,null,null,null,null,null,null,null,null,null,null,null,null,null,null,null,null,null,null,null,null,null,null,null,null,null,null,"W5BSS2","ECOSPORT 4X2"]
[null,null,null,null,null,null,null,null,null,null,null,null,null,null,null,null,null,null,null,null,null,null,null,null,null,null,null,null,null,null,null,null,null,null,"W5BSS7","ECOSPORT 4X2"]
[null,null,null,null,null,null,null,null,null,null,null,null,null,null,null,null,null,null,null,null,null,null,null,null,null,null,null,null,null,null,null,null,null,null,"W5D16","ECOSPORT"]
[null,null,null,null,null,null,null,null,null,null,null,null,null,null,null,null,null,null,null,null,null,null,null,null,null,null,null,null,null,null,null,null,null,null,"W5DMV13","ECOSPORT TITANIUM MT"]
[null,null,null,null,null,null,null,null,null,null,null,null,null,null,null,null,null,null,null,null,null,null,null,null,null,null,null,null,null,null,null,null,null,null,"W5R","ECOSPORT 4X2 RACING"]
[null,null,null,null,null,null,null,null,null,null,null,null,null,null,null,null,null,null,null,null,null,null,null,null,null,null,null,null,null,null,null,null,null,null,"W5T2CA1","ECOSPORT 4X2 TA"]
[null,null,null,null,null,null,null,null,null,null,null,null,null,null,null,null,null,null,null,null,null,null,null,null,null,null,null,null,null,null,null,null,null,null,"W5T39","Ecosport 4x2 TA Tela"]
[null,null,null,null,null,null,null,null,null,null,null,null,null,null,null,null,null,null,null,null,null,null,null,null,null,null,null,null,null,null,null,null,null,null,"W5T45","Ecosport 4x2 TA Tela"]
[null,null,null,null,null,null,null,null,null,null,null,null,null,null,null,null,null,null,null,null,null,null,null,null,null,null,null,null,null,null,null,null,null,null,"W5T50","Ecosport 4x2 TA Tela"]
[null,null,null,null,null,null,null,null,null,null,null,null,null,null,null,null,null,null,null,null,null,null,null,null,null,null,null,null,null,null,null,null,null,null,"W5T55","Ecosport 4x2 TA Tela"]
[null,null,null,null,null,null,null,null,null,null,null,null,null,null,null,null,null,null,null,null,null,null,null,null,null,null,null,null,null,null,null,null,null,null,"W5TBC","ECOSPORT TA TELA 2010"]
[null,null,null,null,null,null,null,null,null,null,null,null,null,null,null,null,null,null,null,null,null,null,null,null,null,null,null,null,null,null,null,null,null,null,"W5TBZ2","ECOSPORT 4X2 TA"]
[null,null,null,null,null,null,null,null,null,null,null,null,null,null,null,null,null,null,null,null,null,null,null,null,null,null,null,null,null,null,null,null,null,null,"W5TES1","ECOSPORT 4X2 TA TELA"]
[null,null,null,null,null,null,null,null,null,null,null,null,null,null,null,null,null,null,null,null,null,null,null,null,null,null,null,null,null,null,null,null,null,null,"W5TES3","ECOSPORT 4X2 TA TELA"]
[null,null,null,null,null,null,null,null,null,null,null,null,null,null,null,null,null,null,null,null,null,null,null,null,null,null,null,null,null,null,null,null,null,null,"W5TS10","ECOSPORT 4X2 TA TELA"]
[null,null,null,null,null,null,null,null,null,null,null,null,null,null,null,null,null,null,null,null,null,null,null,null,null,null,null,null,null,null,null,null,null,null,"W5TSS5","ECOSPORT 4X2 TA TELA"]
[null,null,null,null,null,null,null,null,null,null,null,null,null,null,null,null,null,null,null,null,null,null,null,null,null,null,null,null,null,null,null,null,null,null,"W5TVCA1","ECOSPORT 4X2 TA TELA |"]
[null,null,null,null,null,null,null,null,null,null,null,null,null,null,null,null,null,null,null,null,null,null,null,null,null,null,null,null,null,null,null,null,null,null,"W6BSS8","ECOSPORT SE AT"]
[null,null,null,null,null,null,null,null,null,null,null,null,null,null,null,null,null,null,null,null,null,null,null,null,null,null,null,null,null,null,null,null,null,null,"W6FCA1","ECOSPORT SE MT"]
[null,null,null,null,null,null,null,null,null,null,null,null,null,null,null,null,null,null,null,null,null,null,null,null,null,null,null,null,null,null,null,null,null,null,"W6GR","WINDSTAR LX PLUS"]
[null,null,null,null,null,null,null,null,null,null,null,null,null,null,null,null,null,null,null,null,null,null,null,null,null,null,null,null,null,null,null,null,null,null,"W7B8S","ECOSPORT TITANIUM AT"]
[null,null,null,null,null,null,null,null,null,null,null,null,null,null,null,null,null,null,null,null,null,null,null,null,null,null,null,null,null,null,null,null,null,null,"W7BP8","ECOSPORT TITANIUM AT"]
[null,null,null,null,null,null,null,null,null,null,null,null,null,null,null,null,null,null,null,null,null,null,null,null,null,null,null,null,null,null,null,null,null,null,"W8B6SS8","ECOSPORT TREND AT"]
[null,null,null,null,null,null,null,null,null,null,null,null,null,null,null,null,null,null,null,null,null,null,null,null,null,null,null,null,null,null,null,null,null,null,"W8BIC","ECOSPORT TREND AT"]
[null,null,null,null,null,null,null,null,null,null,null,null,null,null,null,null,null,null,null,null,null,null,null,null,null,null,null,null,null,null,null,null,null,null,"W8D5SS8","ECOSPORT TREND MT"]
[null,null,null,null,null,null,null,null,null,null,null,null,null,null,null,null,null,null,null,null,null,null,null,null,null,null,null,null,null,null,null,null,null,null,"W8DE8","ECOSPORT TREND MT"]
[null,null,null,null,null,null,null,null,null,null,null,null,null,null,null,null,null,null,null,null,null,null,null,null,null,null,null,null,null,null,null,null,null,null,"W8DEF","ECOSPORT SE TM R16"]
[null,null,null,null,null,null,null,null,null,null,null,null,null,null,null,null,null,null,null,null,null,null,null,null,null,null,null,null,null,null,null,null,null,null,"WA1","Seat Ibiza Stella Austero 2 ptas"]
[null,null,null,null,null,null,null,null,null,null,null,null,null,null,null,null,null,null,null,null,null,null,null,null,null,null,null,null,null,null,null,null,null,null,"WF5","Meriva monocab paquete c"]
[null,null,null,null,null,null,null,null,null,null,null,null,null,null,null,null,null,null,null,null,null,null,null,null,null,null,null,null,null,null,null,null,null,null,"WI8","Sharan 03"]
[null,null,null,null,null,null,null,null,null,null,null,null,null,null,null,null,null,null,null,null,null,null,null,null,null,null,null,null,null,null,null,null,null,null,"X4D8S","FIGO IMPULSE TM 4 PTAS W/DEFROSTER"]
[null,null,null,null,null,null,null,null,null,null,null,null,null,null,null,null,null,null,null,null,null,null,null,null,null,null,null,null,null,null,null,null,null,null,"X5A7SS8","FIGO IMPULSE TA A/A 5 PTAS W/DEFROSTER"]
[null,null,null,null,null,null,null,null,null,null,null,null,null,null,null,null,null,null,null,null,null,null,null,null,null,null,null,null,null,null,null,null,null,null,"X5ASS8","FIGO IMPULSE TA A/A 5 PTAS W/DEFROSTER"]
[null,null,null,null,null,null,null,null,null,null,null,null,null,null,null,null,null,null,null,null,null,null,null,null,null,null,null,null,null,null,null,null,null,null,"X5BE8","FIGO IMPULSE TA A/A 4 PTAS W/DEFROSTER"]
[null,null,null,null,null,null,null,null,null,null,null,null,null,null,null,null,null,null,null,null,null,null,null,null,null,null,null,null,null,null,null,null,null,null,"X5CBFSS8","FIGO IMPULSE TM A/A 5 PTAS W/DEFROSTER"]
[null,null,null,null,null,null,null,null,null,null,null,null,null,null,null,null,null,null,null,null,null,null,null,null,null,null,null,null,null,null,null,null,null,null,"X5D1+3/4","FIGO IMPULSE TM A/A 4 PTAS W/DEFROSTER"]
[null,null,null,null,null,null,null,null,null,null,null,null,null,null,null,null,null,null,null,null,null,null,null,null,null,null,null,null,null,null,null,null,null,null,"X5DSS8","FIGO IMPULSE TM A/A 4 PTAS W/DEFROSTER"]
[null,null,null,null,null,null,null,null,null,null,null,null,null,null,null,null,null,null,null,null,null,null,null,null,null,null,null,null,null,null,null,null,null,null,"X6AE8","FIGO ENERGY TA 5 PTAS W/DEFROSTER"]
[null,null,null,null,null,null,null,null,null,null,null,null,null,null,null,null,null,null,null,null,null,null,null,null,null,null,null,null,null,null,null,null,null,null,"X6B8S","FIGO ENERGY TM 5 PTAS W/DEFROSTER"]
[null,null,null,null,null,null,null,null,null,null,null,null,null,null,null,null,null,null,null,null,null,null,null,null,null,null,null,null,null,null,null,null,null,null,"X6BCA1","FIGO ENERGY TM 5 PTAS W/DEFROSTER"]
[null,null,null,null,null,null,null,null,null,null,null,null,null,null,null,null,null,null,null,null,null,null,null,null,null,null,null,null,null,null,null,null,null,null,"X6C7SS8","FIGO ENERGY TA 4 PTAS W/DEFROSTER"]
[null,null,null,null,null,null,null,null,null,null,null,null,null,null,null,null,null,null,null,null,null,null,null,null,null,null,null,null,null,null,null,null,null,null,"X6D1+3/4","FIGO ENERGY TM 4 PTAS W/DEFROSTER"]
[null,null,null,null,null,null,null,null,null,null,null,null,null,null,null,null,null,null,null,null,null,null,null,null,null,null,null,null,null,null,null,null,null,null,"X6DP8","FIGO ENERGY TM 4 PTAS W/DEFROSTER"]
[null,null,null,null,null,null,null,null,null,null,null,null,null,null,null,null,null,null,null,null,null,null,null,null,null,null,null,null,null,null,null,null,null,null,"X7ACA1","FIGO TITANIUM W/DEFROSTER"]
[null,null,null,null,null,null,null,null,null,null,null,null,null,null,null,null,null,null,null,null,null,null,null,null,null,null,null,null,null,null,null,null,null,null,"XQ","AZTEC Q"]
[null,null,null,null,null,null,null,null,null,null,null,null,null,null,null,null,null,null,null,null,null,null,null,null,null,null,null,null,null,null,null,null,null,null,"Y1ACA1","FIESTA SE TA"]
[null,null,null,null,null,null,null,null,null,null,null,null,null,null,null,null,null,null,null,null,null,null,null,null,null,null,null,null,null,null,null,null,null,null,"Y1ASC12","FIESTA SE TA"]
[null,null,null,null,null,null,null,null,null,null,null,null,null,null,null,null,null,null,null,null,null,null,null,null,null,null,null,null,null,null,null,null,null,null,"Y1BCA1","FIESTA SE TM"]
[null,null,null,null,null,null,null,null,null,null,null,null,null,null,null,null,null,null,null,null,null,null,null,null,null,null,null,null,null,null,null,null,null,null,"Y1BSC12","FIESTA SE TM"]
[null,null,null,null,null,null,null,null,null,null,null,null,null,null,null,null,null,null,null,null,null,null,null,null,null,null,null,null,null,null,null,null,null,null,"Y1C","FIESTA S TA"]
[null,null,null,null,null,null,null,null,null,null,null,null,null,null,null,null,null,null,null,null,null,null,null,null,null,null,null,null,null,null,null,null,null,null,"Y1CMV3","FIESTA S TA"]
[null,null,null,null,null,null,null,null,null,null,null,null,null,null,null,null,null,null,null,null,null,null,null,null,null,null,null,null,null,null,null,null,null,null,"Y1CVM","FIESTA S TA"]
[null,null,null,null,null,null,null,null,null,null,null,null,null,null,null,null,null,null,null,null,null,null,null,null,null,null,null,null,null,null,null,null,null,null,"Y1D","FIESTA S TM"]
[null,null,null,null,null,null,null,null,null,null,null,null,null,null,null,null,null,null,null,null,null,null,null,null,null,null,null,null,null,null,null,null,null,null,"Y1DMV3","FIESTA S TM"]
[null,null,null,null,null,null,null,null,null,null,null,null,null,null,null,null,null,null,null,null,null,null,null,null,null,null,null,null,null,null,null,null,null,null,"Y2A","FIESTA SES TA 5 PTAS"]
[null,null,null,null,null,null,null,null,null,null,null,null,null,null,null,null,null,null,null,null,null,null,null,null,null,null,null,null,null,null,null,null,null,null,"Y2AMV3","FIESTA SES TA 5 PTAS"]
[null,null,null,null,null,null,null,null,null,null,null,null,null,null,null,null,null,null,null,null,null,null,null,null,null,null,null,null,null,null,null,null,null,null,"Y2B","FIESTA SES 5PTAS TM"]
[null,null,null,null,null,null,null,null,null,null,null,null,null,null,null,null,null,null,null,null,null,null,null,null,null,null,null,null,null,null,null,null,null,null,"Y2BSCA1","FIESTA SES TM 5 PTAS"]
[null,null,null,null,null,null,null,null,null,null,null,null,null,null,null,null,null,null,null,null,null,null,null,null,null,null,null,null,null,null,null,null,null,null,"Y2CCA1","FIESTA SE TA 5 PTAS"]
[null,null,null,null,null,null,null,null,null,null,null,null,null,null,null,null,null,null,null,null,null,null,null,null,null,null,null,null,null,null,null,null,null,null,"Y2CSC12","FIESTA SE TA 5 PTAS"]
[null,null,null,null,null,null,null,null,null,null,null,null,null,null,null,null,null,null,null,null,null,null,null,null,null,null,null,null,null,null,null,null,null,null,"Y2DCE1","FIESTA SE TM 5 PTAS"]
[null,null,null,null,null,null,null,null,null,null,null,null,null,null,null,null,null,null,null,null,null,null,null,null,null,null,null,null,null,null,null,null,null,null,"Y2DSCE1","FIESTA SE TM 5 PTAS"]
[null,null,null,null,null,null,null,null,null,null,null,null,null,null,null,null,null,null,null,null,null,null,null,null,null,null,null,null,null,null,null,null,null,null,"Y3D3","FIESTA BASE 3 PTAS. 1.3LTS"]
[null,null,null,null,null,null,null,null,null,null,null,null,null,null,null,null,null,null,null,null,null,null,null,null,null,null,null,null,null,null,null,null,null,null,"Y3D9","FIESTA BASE 3 PTAS. 1.3 LTS."]
[null,null,null,null,null,null,null,null,null,null,null,null,null,null,null,null,null,null,null,null,null,null,null,null,null,null,null,null,null,null,null,null,null,null,"Y4B11","FISTA 5 PTAS. HT"]
[null,null,null,null,null,null,null,null,null,null,null,null,null,null,null,null,null,null,null,null,null,null,null,null,null,null,null,null,null,null,null,null,null,null,"Y4B12","FIESTA 5 PTAS. HT"]
[null,null,null,null,null,null,null,null,null,null,null,null,null,null,null,null,null,null,null,null,null,null,null,null,null,null,null,null,null,null,null,null,null,null,"Y4B15","FIESTA 5 PTAS. HT"]
[null,null,null,null,null,null,null,null,null,null,null,null,null,null,null,null,null,null,null,null,null,null,null,null,null,null,null,null,null,null,null,null,null,null,"Y4B20","Fiesta Trend Comfort"]
[null,null,null,null,null,null,null,null,null,null,null,null,null,null,null,null,null,null,null,null,null,null,null,null,null,null,null,null,null,null,null,null,null,null,"Y4B26","Fiesta Trend Comfort"]
[null,null,null,null,null,null,null,null,null,null,null,null,null,null,null,null,null,null,null,null,null,null,null,null,null,null,null,null,null,null,null,null,null,null,"Y4B31","Fiesta Trend Comfort"]
[null,null,null,null,null,null,null,null,null,null,null,null,null,null,null,null,null,null,null,null,null,null,null,null,null,null,null,null,null,null,null,null,null,null,"Y4B4ISC15","Ikon Trend"]
[null,null,null,null,null,null,null,null,null,null,null,null,null,null,null,null,null,null,null,null,null,null,null,null,null,null,null,null,null,null,null,null,null,null,"Y4B5IFC35","Ikon Trend"]
[null,null,null,null,null,null,null,null,null,null,null,null,null,null,null,null,null,null,null,null,null,null,null,null,null,null,null,null,null,null,null,null,null,null,"Y4BD-14","IKON HATCH TREND TM A/A (PRECIO ESPECIAL"]
[null,null,null,null,null,null,null,null,null,null,null,null,null,null,null,null,null,null,null,null,null,null,null,null,null,null,null,null,null,null,null,null,null,null,"Y4BEM","FIESTA IKON HATCH TREND TM A/A"]
[null,null,null,null,null,null,null,null,null,null,null,null,null,null,null,null,null,null,null,null,null,null,null,null,null,null,null,null,null,null,null,null,null,null,"Y4BIC17","Ikon Trend"]
[null,null,null,null,null,null,null,null,null,null,null,null,null,null,null,null,null,null,null,null,null,null,null,null,null,null,null,null,null,null,null,null,null,null,"Y4BIS17","Ikon Trend"]
[null,null,null,null,null,null,null,null,null,null,null,null,null,null,null,null,null,null,null,null,null,null,null,null,null,null,null,null,null,null,null,null,null,null,"Y4BM3CA1","FIESTA IKON HATCH TREND TM A/A"]
[null,null,null,null,null,null,null,null,null,null,null,null,null,null,null,null,null,null,null,null,null,null,null,null,null,null,null,null,null,null,null,null,null,null,"Y4BR14CA1","FIESTA IKON HATCH TREND TM A/A"]
[null,null,null,null,null,null,null,null,null,null,null,null,null,null,null,null,null,null,null,null,null,null,null,null,null,null,null,null,null,null,null,null,null,null,"Y4BR14SS8","IKON HATCH TREND TM AA"]
[null,null,null,null,null,null,null,null,null,null,null,null,null,null,null,null,null,null,null,null,null,null,null,null,null,null,null,null,null,null,null,null,null,null,"Y4BS3CE1","FIESTA IKON HATCH TREND TM A/A"]
[null,null,null,null,null,null,null,null,null,null,null,null,null,null,null,null,null,null,null,null,null,null,null,null,null,null,null,null,null,null,null,null,null,null,"Y4BSG15","Ikon Trend"]
[null,null,null,null,null,null,null,null,null,null,null,null,null,null,null,null,null,null,null,null,null,null,null,null,null,null,null,null,null,null,null,null,null,null,"Y4BZCA1","FIESTA IKON HATCH TREND TM A/A"]
[null,null,null,null,null,null,null,null,null,null,null,null,null,null,null,null,null,null,null,null,null,null,null,null,null,null,null,null,null,null,null,null,null,null,"Y4C13","FIESTA FIRST AA"]
[null,null,null,null,null,null,null,null,null,null,null,null,null,null,null,null,null,null,null,null,null,null,null,null,null,null,null,null,null,null,null,null,null,null,"Y4C17","FIESTA FIRST AA"]
[null,null,null,null,null,null,null,null,null,null,null,null,null,null,null,null,null,null,null,null,null,null,null,null,null,null,null,null,null,null,null,null,null,null,"Y4C22","Fiesta First AA"]
[null,null,null,null,null,null,null,null,null,null,null,null,null,null,null,null,null,null,null,null,null,null,null,null,null,null,null,null,null,null,null,null,null,null,"Y4C27","Fiesta First AA"]
[null,null,null,null,null,null,null,null,null,null,null,null,null,null,null,null,null,null,null,null,null,null,null,null,null,null,null,null,null,null,null,null,null,null,"Y4C32","Fiesta First AA"]
[null,null,null,null,null,null,null,null,null,null,null,null,null,null,null,null,null,null,null,null,null,null,null,null,null,null,null,null,null,null,null,null,null,null,"Y4C4ISC15","Ikon Hatch TM A/A"]
[null,null,null,null,null,null,null,null,null,null,null,null,null,null,null,null,null,null,null,null,null,null,null,null,null,null,null,null,null,null,null,null,null,null,"Y4C5ISC15","Ikon Hatch TM A/A"]
[null,null,null,null,null,null,null,null,null,null,null,null,null,null,null,null,null,null,null,null,null,null,null,null,null,null,null,null,null,null,null,null,null,null,"Y4CE12","FIESTA IKON HATCH AMBIENTE TM A/A"]
[null,null,null,null,null,null,null,null,null,null,null,null,null,null,null,null,null,null,null,null,null,null,null,null,null,null,null,null,null,null,null,null,null,null,"Y4CED35","Ikon Hatch TM A/A"]
[null,null,null,null,null,null,null,null,null,null,null,null,null,null,null,null,null,null,null,null,null,null,null,null,null,null,null,null,null,null,null,null,null,null,"Y4CEM","FIESTA IKON HATCH AMBIENTE TM A/A"]
[null,null,null,null,null,null,null,null,null,null,null,null,null,null,null,null,null,null,null,null,null,null,null,null,null,null,null,null,null,null,null,null,null,null,"Y4CIC17","Ikon Hatch TM A/A"]
[null,null,null,null,null,null,null,null,null,null,null,null,null,null,null,null,null,null,null,null,null,null,null,null,null,null,null,null,null,null,null,null,null,null,"Y4CIS15","Ikon Hatch TM A/A"]
[null,null,null,null,null,null,null,null,null,null,null,null,null,null,null,null,null,null,null,null,null,null,null,null,null,null,null,null,null,null,null,null,null,null,"Y4CM3CA1","FIESTA IKON HATCH AMBIENTE TM A/A"]
[null,null,null,null,null,null,null,null,null,null,null,null,null,null,null,null,null,null,null,null,null,null,null,null,null,null,null,null,null,null,null,null,null,null,"Y4CR14CA1","FIESTA IKON HATCH AMBIENTE TM A/A"]
[null,null,null,null,null,null,null,null,null,null,null,null,null,null,null,null,null,null,null,null,null,null,null,null,null,null,null,null,null,null,null,null,null,null,"Y4CS3CE1","FIESTA IKON HATCH AMBIENTE TM A/A"]
[null,null,null,null,null,null,null,null,null,null,null,null,null,null,null,null,null,null,null,null,null,null,null,null,null,null,null,null,null,null,null,null,null,null,"Y4CSG15","Ikon Hatch TM A/A"]
[null,null,null,null,null,null,null,null,null,null,null,null,null,null,null,null,null,null,null,null,null,null,null,null,null,null,null,null,null,null,null,null,null,null,"Y4CU","FIESTA FIRST AA"]
[null,null,null,null,null,null,null,null,null,null,null,null,null,null,null,null,null,null,null,null,null,null,null,null,null,null,null,null,null,null,null,null,null,null,"Y4D12","FIESTA FIRST"]
[null,null,null,null,null,null,null,null,null,null,null,null,null,null,null,null,null,null,null,null,null,null,null,null,null,null,null,null,null,null,null,null,null,null,"Y4D15","FIESTA FIRST"]
[null,null,null,null,null,null,null,null,null,null,null,null,null,null,null,null,null,null,null,null,null,null,null,null,null,null,null,null,null,null,null,null,null,null,"Y4D20","Fiesta First"]
[null,null,null,null,null,null,null,null,null,null,null,null,null,null,null,null,null,null,null,null,null,null,null,null,null,null,null,null,null,null,null,null,null,null,"Y4D26","Fiesta First"]
[null,null,null,null,null,null,null,null,null,null,null,null,null,null,null,null,null,null,null,null,null,null,null,null,null,null,null,null,null,null,null,null,null,null,"Y4D31","Fiesta First"]
[null,null,null,null,null,null,null,null,null,null,null,null,null,null,null,null,null,null,null,null,null,null,null,null,null,null,null,null,null,null,null,null,null,null,"Y4D32","Fiesta First"]
[null,null,null,null,null,null,null,null,null,null,null,null,null,null,null,null,null,null,null,null,null,null,null,null,null,null,null,null,null,null,null,null,null,null,"Y4D4ISC15","Ikon Hatch TM"]
[null,null,null,null,null,null,null,null,null,null,null,null,null,null,null,null,null,null,null,null,null,null,null,null,null,null,null,null,null,null,null,null,null,null,"Y4D5IFC35","Ikon Hatch TM"]
[null,null,null,null,null,null,null,null,null,null,null,null,null,null,null,null,null,null,null,null,null,null,null,null,null,null,null,null,null,null,null,null,null,null,"Y4DBF10","FIGO IMPULSE TM 4 PTAS"]
[null,null,null,null,null,null,null,null,null,null,null,null,null,null,null,null,null,null,null,null,null,null,null,null,null,null,null,null,null,null,null,null,null,null,"Y4DE8","FIGO IMPULSE TM 4 PTAS"]
[null,null,null,null,null,null,null,null,null,null,null,null,null,null,null,null,null,null,null,null,null,null,null,null,null,null,null,null,null,null,null,null,null,null,"Y4DFCA1","Figo Impulse TM 4 Ptas"]
[null,null,null,null,null,null,null,null,null,null,null,null,null,null,null,null,null,null,null,null,null,null,null,null,null,null,null,null,null,null,null,null,null,null,"Y4DIC15","Ikon Hatch TM"]
[null,null,null,null,null,null,null,null,null,null,null,null,null,null,null,null,null,null,null,null,null,null,null,null,null,null,null,null,null,null,null,null,null,null,"Y4DIS","Ikon Hatch TM"]
[null,null,null,null,null,null,null,null,null,null,null,null,null,null,null,null,null,null,null,null,null,null,null,null,null,null,null,null,null,null,null,null,null,null,"Y4DM13","FIESTA IKON HATCH AMBIENTE TM"]
[null,null,null,null,null,null,null,null,null,null,null,null,null,null,null,null,null,null,null,null,null,null,null,null,null,null,null,null,null,null,null,null,null,null,"Y4DR13","FIESTA IKON HATCH AMBIENTE TM"]
[null,null,null,null,null,null,null,null,null,null,null,null,null,null,null,null,null,null,null,null,null,null,null,null,null,null,null,null,null,null,null,null,null,null,"Y4DRCA1","FIESTA IKON HATCH AMBIENTE TM"]
[null,null,null,null,null,null,null,null,null,null,null,null,null,null,null,null,null,null,null,null,null,null,null,null,null,null,null,null,null,null,null,null,null,null,"Y4DSCE1","FIESTA IKON HATCH AMBIENTE TM"]
[null,null,null,null,null,null,null,null,null,null,null,null,null,null,null,null,null,null,null,null,null,null,null,null,null,null,null,null,null,null,null,null,null,null,"Y4DZCA1","FIESTA IKON HATCH AMBIENTE TM"]
[null,null,null,null,null,null,null,null,null,null,null,null,null,null,null,null,null,null,null,null,null,null,null,null,null,null,null,null,null,null,null,null,null,null,"Y4DZCE1","FIESTA IKON HATCH AMBIENTE TM"]
[null,null,null,null,null,null,null,null,null,null,null,null,null,null,null,null,null,null,null,null,null,null,null,null,null,null,null,null,null,null,null,null,null,null,"Y4T32","Fiesta Trend Comfort TA"]
[null,null,null,null,null,null,null,null,null,null,null,null,null,null,null,null,null,null,null,null,null,null,null,null,null,null,null,null,null,null,null,null,null,null,"Y5ABF10","FIGO IMPULSE TA A/A 5 PTAS"]
[null,null,null,null,null,null,null,null,null,null,null,null,null,null,null,null,null,null,null,null,null,null,null,null,null,null,null,null,null,null,null,null,null,null,"Y5AC","FIESTA EQUIP.ELEC. C/CENTRAL 5 PTAS.A/A"]
[null,null,null,null,null,null,null,null,null,null,null,null,null,null,null,null,null,null,null,null,null,null,null,null,null,null,null,null,null,null,null,null,null,null,"Y5AP8","FIGO IMPULSE TA A/A 5 PTAS"]
[null,null,null,null,null,null,null,null,null,null,null,null,null,null,null,null,null,null,null,null,null,null,null,null,null,null,null,null,null,null,null,null,null,null,"Y5B1+3/4","FIGO IMPULSE TA A/A 4 PTAS"]
[null,null,null,null,null,null,null,null,null,null,null,null,null,null,null,null,null,null,null,null,null,null,null,null,null,null,null,null,null,null,null,null,null,null,"Y5B28","Fiesta Sedan Trend Comfort"]
[null,null,null,null,null,null,null,null,null,null,null,null,null,null,null,null,null,null,null,null,null,null,null,null,null,null,null,null,null,null,null,null,null,null,"Y5B33","fiesta sedan trend comfort"]
[null,null,null,null,null,null,null,null,null,null,null,null,null,null,null,null,null,null,null,null,null,null,null,null,null,null,null,null,null,null,null,null,null,null,"Y5B39","Fiesta Sedan Trend Comfort"]
[null,null,null,null,null,null,null,null,null,null,null,null,null,null,null,null,null,null,null,null,null,null,null,null,null,null,null,null,null,null,null,null,null,null,"Y5B44","Fiesta Sedan Trend Comfort"]
[null,null,null,null,null,null,null,null,null,null,null,null,null,null,null,null,null,null,null,null,null,null,null,null,null,null,null,null,null,null,null,null,null,null,"Y5B49","Fiesta Sedan Trend Comfort"]
[null,null,null,null,null,null,null,null,null,null,null,null,null,null,null,null,null,null,null,null,null,null,null,null,null,null,null,null,null,null,null,null,null,null,"Y5B55","Fiesta Sedan Trend Comfort"]
[null,null,null,null,null,null,null,null,null,null,null,null,null,null,null,null,null,null,null,null,null,null,null,null,null,null,null,null,null,null,null,null,null,null,"Y5B60","Fiesta Sedan Trend Comfort"]
[null,null,null,null,null,null,null,null,null,null,null,null,null,null,null,null,null,null,null,null,null,null,null,null,null,null,null,null,null,null,null,null,null,null,"Y5B8S","FIGO IMPULSE TA A/A 4 PTAS"]
[null,null,null,null,null,null,null,null,null,null,null,null,null,null,null,null,null,null,null,null,null,null,null,null,null,null,null,null,null,null,null,null,null,null,"Y5BE8","FIGO IMPULSE TA A/A 4 PTAS"]
[null,null,null,null,null,null,null,null,null,null,null,null,null,null,null,null,null,null,null,null,null,null,null,null,null,null,null,null,null,null,null,null,null,null,"Y5BES4","FIESTA SEDAN TREND COMFORT"]
[null,null,null,null,null,null,null,null,null,null,null,null,null,null,null,null,null,null,null,null,null,null,null,null,null,null,null,null,null,null,null,null,null,null,"Y5BPR2","FIESTA SEDAN TREND COMFORT"]
[null,null,null,null,null,null,null,null,null,null,null,null,null,null,null,null,null,null,null,null,null,null,null,null,null,null,null,null,null,null,null,null,null,null,"Y5BSS","FIESTA SEDAN TREND COMFORT"]
[null,null,null,null,null,null,null,null,null,null,null,null,null,null,null,null,null,null,null,null,null,null,null,null,null,null,null,null,null,null,null,null,null,null,"Y5BSS5","FIESTA SEDAN TREND COMFORT"]
[null,null,null,null,null,null,null,null,null,null,null,null,null,null,null,null,null,null,null,null,null,null,null,null,null,null,null,null,null,null,null,null,null,null,"Y5C","FIESTA TIPICO 5 PTAS. 1.3 LTS."]
[null,null,null,null,null,null,null,null,null,null,null,null,null,null,null,null,null,null,null,null,null,null,null,null,null,null,null,null,null,null,null,null,null,null,"Y5C26","Fiesta Sedan First AA"]
[null,null,null,null,null,null,null,null,null,null,null,null,null,null,null,null,null,null,null,null,null,null,null,null,null,null,null,null,null,null,null,null,null,null,"Y5C32","Fiesta Sedan First AA"]
[null,null,null,null,null,null,null,null,null,null,null,null,null,null,null,null,null,null,null,null,null,null,null,null,null,null,null,null,null,null,null,null,null,null,"Y5C37","Fiesta Sedan First A/A"]
[null,null,null,null,null,null,null,null,null,null,null,null,null,null,null,null,null,null,null,null,null,null,null,null,null,null,null,null,null,null,null,null,null,null,"Y5C40","Fiesta Sedan First A/A"]
[null,null,null,null,null,null,null,null,null,null,null,null,null,null,null,null,null,null,null,null,null,null,null,null,null,null,null,null,null,null,null,null,null,null,"Y5C46","Fiesta Sedan First AA"]
[null,null,null,null,null,null,null,null,null,null,null,null,null,null,null,null,null,null,null,null,null,null,null,null,null,null,null,null,null,null,null,null,null,null,"Y5C4CE1","FIESTA IKON FIRST A/A"]
[null,null,null,null,null,null,null,null,null,null,null,null,null,null,null,null,null,null,null,null,null,null,null,null,null,null,null,null,null,null,null,null,null,null,"Y5C50","Fiesta Sedan First A/A"]
[null,null,null,null,null,null,null,null,null,null,null,null,null,null,null,null,null,null,null,null,null,null,null,null,null,null,null,null,null,null,null,null,null,null,"Y5C55","Fiesta Sedan First A/A"]
[null,null,null,null,null,null,null,null,null,null,null,null,null,null,null,null,null,null,null,null,null,null,null,null,null,null,null,null,null,null,null,null,null,null,"Y5C60","Fiesta Sedan First A/A"]
[null,null,null,null,null,null,null,null,null,null,null,null,null,null,null,null,null,null,null,null,null,null,null,null,null,null,null,null,null,null,null,null,null,null,"Y5CBF17","FIGO IMPULSE TM A/A 5 PTAS"]
[null,null,null,null,null,null,null,null,null,null,null,null,null,null,null,null,null,null,null,null,null,null,null,null,null,null,null,null,null,null,null,null,null,null,"Y5CE8","FIGO IMPULSE TM A/A 5 PTAS"]
[null,null,null,null,null,null,null,null,null,null,null,null,null,null,null,null,null,null,null,null,null,null,null,null,null,null,null,null,null,null,null,null,null,null,"Y5CES2","FIESTA SEDAN FIRST A/A"]
[null,null,null,null,null,null,null,null,null,null,null,null,null,null,null,null,null,null,null,null,null,null,null,null,null,null,null,null,null,null,null,null,null,null,"Y5CICA1","FIESTA IKON FIRST AA"]
[null,null,null,null,null,null,null,null,null,null,null,null,null,null,null,null,null,null,null,null,null,null,null,null,null,null,null,null,null,null,null,null,null,null,"Y5CMM","FIESTA SEDAN FIRST A/A"]
[null,null,null,null,null,null,null,null,null,null,null,null,null,null,null,null,null,null,null,null,null,null,null,null,null,null,null,null,null,null,null,null,null,null,"Y5CREM","IKON FIRST AA"]
[null,null,null,null,null,null,null,null,null,null,null,null,null,null,null,null,null,null,null,null,null,null,null,null,null,null,null,null,null,null,null,null,null,null,"Y5CSCA2","FIESTA SEDAN FIRST A/A"]
[null,null,null,null,null,null,null,null,null,null,null,null,null,null,null,null,null,null,null,null,null,null,null,null,null,null,null,null,null,null,null,null,null,null,"Y5CSS3","FIESTA SEDAN FIRST A/A"]
[null,null,null,null,null,null,null,null,null,null,null,null,null,null,null,null,null,null,null,null,null,null,null,null,null,null,null,null,null,null,null,null,null,null,"Y5CSS9","FIESTA SEDAN FIRST A/A"]
[null,null,null,null,null,null,null,null,null,null,null,null,null,null,null,null,null,null,null,null,null,null,null,null,null,null,null,null,null,null,null,null,null,null,"Y5D1+3/4","FIGO IMPULSE TM A/A 4 PTAS"]
[null,null,null,null,null,null,null,null,null,null,null,null,null,null,null,null,null,null,null,null,null,null,null,null,null,null,null,null,null,null,null,null,null,null,"Y5D26","Fiesta Sedan First"]
[null,null,null,null,null,null,null,null,null,null,null,null,null,null,null,null,null,null,null,null,null,null,null,null,null,null,null,null,null,null,null,null,null,null,"Y5D27","Fiesta Sedan First"]
[null,null,null,null,null,null,null,null,null,null,null,null,null,null,null,null,null,null,null,null,null,null,null,null,null,null,null,null,null,null,null,null,null,null,"Y5D31","Fiesta Sedan First"]
[null,null,null,null,null,null,null,null,null,null,null,null,null,null,null,null,null,null,null,null,null,null,null,null,null,null,null,null,null,null,null,null,null,null,"Y5D37","Fiesta Sedan First"]
[null,null,null,null,null,null,null,null,null,null,null,null,null,null,null,null,null,null,null,null,null,null,null,null,null,null,null,null,null,null,null,null,null,null,"Y5D4","FIESTA BASE 5 PTAS. 1.3 LTS."]
[null,null,null,null,null,null,null,null,null,null,null,null,null,null,null,null,null,null,null,null,null,null,null,null,null,null,null,null,null,null,null,null,null,null,"Y5D44","Fiesta Sedan First"]
[null,null,null,null,null,null,null,null,null,null,null,null,null,null,null,null,null,null,null,null,null,null,null,null,null,null,null,null,null,null,null,null,null,null,"Y5D4CA1","FIESTA IKON FIRST"]
[null,null,null,null,null,null,null,null,null,null,null,null,null,null,null,null,null,null,null,null,null,null,null,null,null,null,null,null,null,null,null,null,null,null,"Y5D52","Fiesta Sedan First"]
[null,null,null,null,null,null,null,null,null,null,null,null,null,null,null,null,null,null,null,null,null,null,null,null,null,null,null,null,null,null,null,null,null,null,"Y5D58","Fiesta Sedan First"]
[null,null,null,null,null,null,null,null,null,null,null,null,null,null,null,null,null,null,null,null,null,null,null,null,null,null,null,null,null,null,null,null,null,null,"Y5DA4","FIESTA 5 PTAS. 1.3 LTS. AA DH"]
[null,null,null,null,null,null,null,null,null,null,null,null,null,null,null,null,null,null,null,null,null,null,null,null,null,null,null,null,null,null,null,null,null,null,"Y5DBF17","FIGO IMPULSE TM A/A 4 PTAS"]
[null,null,null,null,null,null,null,null,null,null,null,null,null,null,null,null,null,null,null,null,null,null,null,null,null,null,null,null,null,null,null,null,null,null,"Y5DEMR","FIESTA IKON FIRST"]
[null,null,null,null,null,null,null,null,null,null,null,null,null,null,null,null,null,null,null,null,null,null,null,null,null,null,null,null,null,null,null,null,null,null,"Y5DES4","FIESTA SEDAN FIRST"]
[null,null,null,null,null,null,null,null,null,null,null,null,null,null,null,null,null,null,null,null,null,null,null,null,null,null,null,null,null,null,null,null,null,null,"Y5DICA1","FIESTA IKON FIRST"]
[null,null,null,null,null,null,null,null,null,null,null,null,null,null,null,null,null,null,null,null,null,null,null,null,null,null,null,null,null,null,null,null,null,null,"Y5DICE1","IKON FIRST*"]
[null,null,null,null,null,null,null,null,null,null,null,null,null,null,null,null,null,null,null,null,null,null,null,null,null,null,null,null,null,null,null,null,null,null,"Y5DP","FIESTA BASE 5 PTAS. 1.3 LTS"]
[null,null,null,null,null,null,null,null,null,null,null,null,null,null,null,null,null,null,null,null,null,null,null,null,null,null,null,null,null,null,null,null,null,null,"Y5DREM","IKON FIRST"]
[null,null,null,null,null,null,null,null,null,null,null,null,null,null,null,null,null,null,null,null,null,null,null,null,null,null,null,null,null,null,null,null,null,null,"Y5DSCA2","FIESTA SEDAN FIRST"]
[null,null,null,null,null,null,null,null,null,null,null,null,null,null,null,null,null,null,null,null,null,null,null,null,null,null,null,null,null,null,null,null,null,null,"Y5DSS3","FIESTA SEDAN FIRST"]
[null,null,null,null,null,null,null,null,null,null,null,null,null,null,null,null,null,null,null,null,null,null,null,null,null,null,null,null,null,null,null,null,null,null,"Y5DSS9","FIESTA SEDAN FIRST"]
[null,null,null,null,null,null,null,null,null,null,null,null,null,null,null,null,null,null,null,null,null,null,null,null,null,null,null,null,null,null,null,null,null,null,"Y5E39","Fiesta Sedan First A/A TA"]
[null,null,null,null,null,null,null,null,null,null,null,null,null,null,null,null,null,null,null,null,null,null,null,null,null,null,null,null,null,null,null,null,null,null,"Y5E44","Fiesta Sedan First A/A TA"]
[null,null,null,null,null,null,null,null,null,null,null,null,null,null,null,null,null,null,null,null,null,null,null,null,null,null,null,null,null,null,null,null,null,null,"Y5E50","Fiesta Sedan First A/A TA"]
[null,null,null,null,null,null,null,null,null,null,null,null,null,null,null,null,null,null,null,null,null,null,null,null,null,null,null,null,null,null,null,null,null,null,"Y5E55","Fiesta Sedan First A/A TA"]
[null,null,null,null,null,null,null,null,null,null,null,null,null,null,null,null,null,null,null,null,null,null,null,null,null,null,null,null,null,null,null,null,null,null,"Y5EES1","FIESTA SEDAN FIRST AA TA"]
[null,null,null,null,null,null,null,null,null,null,null,null,null,null,null,null,null,null,null,null,null,null,null,null,null,null,null,null,null,null,null,null,null,null,"Y5EMM","FIESTA SEDAN FIRST AA TA"]
[null,null,null,null,null,null,null,null,null,null,null,null,null,null,null,null,null,null,null,null,null,null,null,null,null,null,null,null,null,null,null,null,null,null,"Y5ESCA1","FIESTA SEDAN FIRST AA TA"]
[null,null,null,null,null,null,null,null,null,null,null,null,null,null,null,null,null,null,null,null,null,null,null,null,null,null,null,null,null,null,null,null,null,null,"Y5ESCA2","FIESTA SEDAN FIRST AA TA"]
[null,null,null,null,null,null,null,null,null,null,null,null,null,null,null,null,null,null,null,null,null,null,null,null,null,null,null,null,null,null,null,null,null,null,"Y5ESS4","FIESTA SEDAN FIRST AA TA"]
[null,null,null,null,null,null,null,null,null,null,null,null,null,null,null,null,null,null,null,null,null,null,null,null,null,null,null,null,null,null,null,null,null,null,"Y5ESSS","FIESTA SEDAN FIRST AA TA"]
[null,null,null,null,null,null,null,null,null,null,null,null,null,null,null,null,null,null,null,null,null,null,null,null,null,null,null,null,null,null,null,null,null,null,"Y5G27","Fiesta Sedan Trend Comfort Air Bag"]
[null,null,null,null,null,null,null,null,null,null,null,null,null,null,null,null,null,null,null,null,null,null,null,null,null,null,null,null,null,null,null,null,null,null,"Y5G32","Fiesta Sedan Trend Comfort Air Bag"]
[null,null,null,null,null,null,null,null,null,null,null,null,null,null,null,null,null,null,null,null,null,null,null,null,null,null,null,null,null,null,null,null,null,null,"Y5GS","Fiesta Sedan Trend Comfort Air Bag"]
[null,null,null,null,null,null,null,null,null,null,null,null,null,null,null,null,null,null,null,null,null,null,null,null,null,null,null,null,null,null,null,null,null,null,"Y5T34","Fiesta Sedan Trend Comfort TA"]
[null,null,null,null,null,null,null,null,null,null,null,null,null,null,null,null,null,null,null,null,null,null,null,null,null,null,null,null,null,null,null,null,null,null,"Y5T39","Fiesta Sedan Trend Comfort TA"]
[null,null,null,null,null,null,null,null,null,null,null,null,null,null,null,null,null,null,null,null,null,null,null,null,null,null,null,null,null,null,null,null,null,null,"Y5T44","Fiesta Sedan Trend Comfort TA"]
[null,null,null,null,null,null,null,null,null,null,null,null,null,null,null,null,null,null,null,null,null,null,null,null,null,null,null,null,null,null,null,null,null,null,"Y5T49","Fiesta Sedan Trend Comfort TA"]
[null,null,null,null,null,null,null,null,null,null,null,null,null,null,null,null,null,null,null,null,null,null,null,null,null,null,null,null,null,null,null,null,null,null,"Y5T55","Fiesta Sedan Trend Comfort TA"]
[null,null,null,null,null,null,null,null,null,null,null,null,null,null,null,null,null,null,null,null,null,null,null,null,null,null,null,null,null,null,null,null,null,null,"Y5T60","Fiesta Sedan Trend Comfort TA"]
[null,null,null,null,null,null,null,null,null,null,null,null,null,null,null,null,null,null,null,null,null,null,null,null,null,null,null,null,null,null,null,null,null,null,"Y5TES4","FIESTA SEDAN TREND COMFORT TA"]
[null,null,null,null,null,null,null,null,null,null,null,null,null,null,null,null,null,null,null,null,null,null,null,null,null,null,null,null,null,null,null,null,null,null,"Y5TMM","FIESTA SEDAN TREND COMFORT TA"]
[null,null,null,null,null,null,null,null,null,null,null,null,null,null,null,null,null,null,null,null,null,null,null,null,null,null,null,null,null,null,null,null,null,null,"Y5TSCA1","FIESTA SEDAN TREND COMFORT TA"]
[null,null,null,null,null,null,null,null,null,null,null,null,null,null,null,null,null,null,null,null,null,null,null,null,null,null,null,null,null,null,null,null,null,null,"Y5TSS4","FIESTA SEDAN TREND COMFORT TA"]
[null,null,null,null,null,null,null,null,null,null,null,null,null,null,null,null,null,null,null,null,null,null,null,null,null,null,null,null,null,null,null,null,null,null,"Y5TSS9","FIESTA SEDAN TREND COMFORT TA"]
[null,null,null,null,null,null,null,null,null,null,null,null,null,null,null,null,null,null,null,null,null,null,null,null,null,null,null,null,null,null,null,null,null,null,"Y6ABF15","FIGO ENERGY TA 5 PTAS"]
[null,null,null,null,null,null,null,null,null,null,null,null,null,null,null,null,null,null,null,null,null,null,null,null,null,null,null,null,null,null,null,null,null,null,"Y6AHX","IKON BASE 1.6 LTS. AA DH"]
[null,null,null,null,null,null,null,null,null,null,null,null,null,null,null,null,null,null,null,null,null,null,null,null,null,null,null,null,null,null,null,null,null,null,"Y6B1+3/4","FIGO ENERGY TM 5 PTAS"]
[null,null,null,null,null,null,null,null,null,null,null,null,null,null,null,null,null,null,null,null,null,null,null,null,null,null,null,null,null,null,null,null,null,null,"Y6B15","IKON MID MT 1.6 AA"]
[null,null,null,null,null,null,null,null,null,null,null,null,null,null,null,null,null,null,null,null,null,null,null,null,null,null,null,null,null,null,null,null,null,null,"Y6B21","Ikon Mid AA"]
[null,null,null,null,null,null,null,null,null,null,null,null,null,null,null,null,null,null,null,null,null,null,null,null,null,null,null,null,null,null,null,null,null,null,"Y6B26","Ikon Mid AA Air Bag Power Back"]
[null,null,null,null,null,null,null,null,null,null,null,null,null,null,null,null,null,null,null,null,null,null,null,null,null,null,null,null,null,null,null,null,null,null,"Y6B32","Ikon Mid AA Air Bag Power Back"]
[null,null,null,null,null,null,null,null,null,null,null,null,null,null,null,null,null,null,null,null,null,null,null,null,null,null,null,null,null,null,null,null,null,null,"Y6BA6","IKON MID MT 1.6 AA"]
[null,null,null,null,null,null,null,null,null,null,null,null,null,null,null,null,null,null,null,null,null,null,null,null,null,null,null,null,null,null,null,null,null,null,"Y6BAK","IKON MID MT 1.6 LTS. AA"]
[null,null,null,null,null,null,null,null,null,null,null,null,null,null,null,null,null,null,null,null,null,null,null,null,null,null,null,null,null,null,null,null,null,null,"Y6BAM","IKON MID 1.6 LTS AA"]
[null,null,null,null,null,null,null,null,null,null,null,null,null,null,null,null,null,null,null,null,null,null,null,null,null,null,null,null,null,null,null,null,null,null,"Y6BAV","IKON MID MT 1.6 AA"]
[null,null,null,null,null,null,null,null,null,null,null,null,null,null,null,null,null,null,null,null,null,null,null,null,null,null,null,null,null,null,null,null,null,null,"Y6BBF17","FIGO ENERGY TM 5 PTAS"]
[null,null,null,null,null,null,null,null,null,null,null,null,null,null,null,null,null,null,null,null,null,null,null,null,null,null,null,null,null,null,null,null,null,null,"Y6BPK","IKON MID MT 1.6 LTS.C/POWERBACK"]
[null,null,null,null,null,null,null,null,null,null,null,null,null,null,null,null,null,null,null,null,null,null,null,null,null,null,null,null,null,null,null,null,null,null,"Y6C11","IKON MID AA"]
[null,null,null,null,null,null,null,null,null,null,null,null,null,null,null,null,null,null,null,null,null,null,null,null,null,null,null,null,null,null,null,null,null,null,"Y6CE8","FIGO ENERGY TA 4 PTAS"]
[null,null,null,null,null,null,null,null,null,null,null,null,null,null,null,null,null,null,null,null,null,null,null,null,null,null,null,null,null,null,null,null,null,null,"Y6CICA1","FIESTA IKON FIRST A/A"]
[null,null,null,null,null,null,null,null,null,null,null,null,null,null,null,null,null,null,null,null,null,null,null,null,null,null,null,null,null,null,null,null,null,null,"Y6D01","IKON BASE DH"]
[null,null,null,null,null,null,null,null,null,null,null,null,null,null,null,null,null,null,null,null,null,null,null,null,null,null,null,null,null,null,null,null,null,null,"Y6D14","IKON BASE"]
[null,null,null,null,null,null,null,null,null,null,null,null,null,null,null,null,null,null,null,null,null,null,null,null,null,null,null,null,null,null,null,null,null,null,"Y6D19","Ikon Base"]
[null,null,null,null,null,null,null,null,null,null,null,null,null,null,null,null,null,null,null,null,null,null,null,null,null,null,null,null,null,null,null,null,null,null,"Y6D25","Ikon Base"]
[null,null,null,null,null,null,null,null,null,null,null,null,null,null,null,null,null,null,null,null,null,null,null,null,null,null,null,null,null,null,null,null,null,null,"Y6D30","Ikon Base MT 1.6 LTS"]
[null,null,null,null,null,null,null,null,null,null,null,null,null,null,null,null,null,null,null,null,null,null,null,null,null,null,null,null,null,null,null,null,null,null,"Y6D6","IKON BASE MT 1.6 LTS"]
[null,null,null,null,null,null,null,null,null,null,null,null,null,null,null,null,null,null,null,null,null,null,null,null,null,null,null,null,null,null,null,null,null,null,"Y6D7","IKON BASE 1.6 LTS"]
[null,null,null,null,null,null,null,null,null,null,null,null,null,null,null,null,null,null,null,null,null,null,null,null,null,null,null,null,null,null,null,null,null,null,"Y6DA6","IKON BASE MT 1.6 LTS AA"]
[null,null,null,null,null,null,null,null,null,null,null,null,null,null,null,null,null,null,null,null,null,null,null,null,null,null,null,null,null,null,null,null,null,null,"Y6DAK","IKON BASE MT 1.6 LTS. AA"]
[null,null,null,null,null,null,null,null,null,null,null,null,null,null,null,null,null,null,null,null,null,null,null,null,null,null,null,null,null,null,null,null,null,null,"Y6DAU","IKON BASE MT 1.6 LTS. AA"]
[null,null,null,null,null,null,null,null,null,null,null,null,null,null,null,null,null,null,null,null,null,null,null,null,null,null,null,null,null,null,null,null,null,null,"Y6DBF17","FIGO ENERGY TM 4 PTAS"]
[null,null,null,null,null,null,null,null,null,null,null,null,null,null,null,null,null,null,null,null,null,null,null,null,null,null,null,null,null,null,null,null,null,null,"Y6DFSS8","Figo Energy TM 4 Ptas"]
[null,null,null,null,null,null,null,null,null,null,null,null,null,null,null,null,null,null,null,null,null,null,null,null,null,null,null,null,null,null,null,null,null,null,"Y6DICA1","FIESTA IKON FIRST"]
[null,null,null,null,null,null,null,null,null,null,null,null,null,null,null,null,null,null,null,null,null,null,null,null,null,null,null,null,null,null,null,null,null,null,"Y6DP","IKON BASE MT 1.6 LTS"]
[null,null,null,null,null,null,null,null,null,null,null,null,null,null,null,null,null,null,null,null,null,null,null,null,null,null,null,null,null,null,null,null,null,null,"Y6DY","IKON BASE MT 1.6 LTS"]
[null,null,null,null,null,null,null,null,null,null,null,null,null,null,null,null,null,null,null,null,null,null,null,null,null,null,null,null,null,null,null,null,null,null,"Y6E23","Ikon Base AA"]
[null,null,null,null,null,null,null,null,null,null,null,null,null,null,null,null,null,null,null,null,null,null,null,null,null,null,null,null,null,null,null,null,null,null,"Y6F01","IKON MID AA AIR BAG"]
[null,null,null,null,null,null,null,null,null,null,null,null,null,null,null,null,null,null,null,null,null,null,null,null,null,null,null,null,null,null,null,null,null,null,"Y6S","Ikon First"]
[null,null,null,null,null,null,null,null,null,null,null,null,null,null,null,null,null,null,null,null,null,null,null,null,null,null,null,null,null,null,null,null,null,null,"Y6S30","Ikon First"]
[null,null,null,null,null,null,null,null,null,null,null,null,null,null,null,null,null,null,null,null,null,null,null,null,null,null,null,null,null,null,null,null,null,null,"Y6S31","Ikon First"]
[null,null,null,null,null,null,null,null,null,null,null,null,null,null,null,null,null,null,null,null,null,null,null,null,null,null,null,null,null,null,null,null,null,null,"Y6T","Ikon Austero"]
[null,null,null,null,null,null,null,null,null,null,null,null,null,null,null,null,null,null,null,null,null,null,null,null,null,null,null,null,null,null,null,null,null,null,"Y7ABF10","FIGO TITANIUM"]
[null,null,null,null,null,null,null,null,null,null,null,null,null,null,null,null,null,null,null,null,null,null,null,null,null,null,null,null,null,null,null,null,null,null,"Y7AP8","FIGO TITANIUM"]
[null,null,null,null,null,null,null,null,null,null,null,null,null,null,null,null,null,null,null,null,null,null,null,null,null,null,null,null,null,null,null,null,null,null,"Y8A13","KA HIGH AC"]
[null,null,null,null,null,null,null,null,null,null,null,null,null,null,null,null,null,null,null,null,null,null,null,null,null,null,null,null,null,null,null,null,null,null,"Y8A20","Ka High AA"]
[null,null,null,null,null,null,null,null,null,null,null,null,null,null,null,null,null,null,null,null,null,null,null,null,null,null,null,null,null,null,null,null,null,null,"Y8A25","Ka High AA"]
[null,null,null,null,null,null,null,null,null,null,null,null,null,null,null,null,null,null,null,null,null,null,null,null,null,null,null,null,null,null,null,null,null,null,"Y8A30","Ka High AA"]
[null,null,null,null,null,null,null,null,null,null,null,null,null,null,null,null,null,null,null,null,null,null,null,null,null,null,null,null,null,null,null,null,null,null,"Y8A37","Ka High AA"]
[null,null,null,null,null,null,null,null,null,null,null,null,null,null,null,null,null,null,null,null,null,null,null,null,null,null,null,null,null,null,null,null,null,null,"Y8AJ","KA HIGH AC"]
[null,null,null,null,null,null,null,null,null,null,null,null,null,null,null,null,null,null,null,null,null,null,null,null,null,null,null,null,null,null,null,null,null,null,"Y8AP","KA HIGH AC"]
[null,null,null,null,null,null,null,null,null,null,null,null,null,null,null,null,null,null,null,null,null,null,null,null,null,null,null,null,null,null,null,null,null,null,"Y8AY","KA HIGH AC"]
[null,null,null,null,null,null,null,null,null,null,null,null,null,null,null,null,null,null,null,null,null,null,null,null,null,null,null,null,null,null,null,null,null,null,"Y8B12","KA BASE"]
[null,null,null,null,null,null,null,null,null,null,null,null,null,null,null,null,null,null,null,null,null,null,null,null,null,null,null,null,null,null,null,null,null,null,"Y8B13","KA BASE"]
[null,null,null,null,null,null,null,null,null,null,null,null,null,null,null,null,null,null,null,null,null,null,null,null,null,null,null,null,null,null,null,null,null,null,"Y8B18","KA BASE"]
[null,null,null,null,null,null,null,null,null,null,null,null,null,null,null,null,null,null,null,null,null,null,null,null,null,null,null,null,null,null,null,null,null,null,"Y8B23","Ka Base"]
[null,null,null,null,null,null,null,null,null,null,null,null,null,null,null,null,null,null,null,null,null,null,null,null,null,null,null,null,null,null,null,null,null,null,"Y8B29","Ka Base"]
[null,null,null,null,null,null,null,null,null,null,null,null,null,null,null,null,null,null,null,null,null,null,null,null,null,null,null,null,null,null,null,null,null,null,"Y8B34","Ka Base"]
[null,null,null,null,null,null,null,null,null,null,null,null,null,null,null,null,null,null,null,null,null,null,null,null,null,null,null,null,null,null,null,null,null,null,"Y8B9","KA BASE"]
[null,null,null,null,null,null,null,null,null,null,null,null,null,null,null,null,null,null,null,null,null,null,null,null,null,null,null,null,null,null,null,null,null,null,"Y8BK","KA BASE"]
[null,null,null,null,null,null,null,null,null,null,null,null,null,null,null,null,null,null,null,null,null,null,null,null,null,null,null,null,null,null,null,null,null,null,"Y8BU","KA BASE"]
[null,null,null,null,null,null,null,null,null,null,null,null,null,null,null,null,null,null,null,null,null,null,null,null,null,null,null,null,null,null,null,null,null,null,"Y8E11","KA BASE AA"]
[null,null,null,null,null,null,null,null,null,null,null,null,null,null,null,null,null,null,null,null,null,null,null,null,null,null,null,null,null,null,null,null,null,null,"Y8S","Ka Sport"]
[null,null,null,null,null,null,null,null,null,null,null,null,null,null,null,null,null,null,null,null,null,null,null,null,null,null,null,null,null,null,null,null,null,null,"YES","FIESTA ST"]
[null,null,null,null,null,null,null,null,null,null,null,null,null,null,null,null,null,null,null,null,null,null,null,null,null,null,null,null,null,null,null,null,null,null,"YI","CHEVY SWING C"]
[null,null,null,null,null,null,null,null,null,null,null,null,null,null,null,null,null,null,null,null,null,null,null,null,null,null,null,null,null,null,null,null,null,null,"YP","CHEVY PICK-UP B"]
[null,null,null,null,null,null,null,null,null,null,null,null,null,null,null,null,null,null,null,null,null,null,null,null,null,null,null,null,null,null,null,null,null,null,"YQ","CHEVY PICK-UP C"]
[null,null,null,null,null,null,null,null,null,null,null,null,null,null,null,null,null,null,null,null,null,null,null,null,null,null,null,null,null,null,null,null,null,null,"Z1A2","FOCUS ZX3 TA"]
[null,null,null,null,null,null,null,null,null,null,null,null,null,null,null,null,null,null,null,null,null,null,null,null,null,null,null,null,null,null,null,null,null,null,"Z1A5SS8","FOCUS S 4 PTAS TA"]
[null,null,null,null,null,null,null,null,null,null,null,null,null,null,null,null,null,null,null,null,null,null,null,null,null,null,null,null,null,null,null,null,null,null,"Z1AEM","FOCUS S TA 4 PTAS"]
[null,null,null,null,null,null,null,null,null,null,null,null,null,null,null,null,null,null,null,null,null,null,null,null,null,null,null,null,null,null,null,null,null,null,"Z1AIC","FOCUS S 4 PTAS TA"]
[null,null,null,null,null,null,null,null,null,null,null,null,null,null,null,null,null,null,null,null,null,null,null,null,null,null,null,null,null,null,null,null,null,null,"Z1AT","FOCUS XZ3 TA"]
[null,null,null,null,null,null,null,null,null,null,null,null,null,null,null,null,null,null,null,null,null,null,null,null,null,null,null,null,null,null,null,null,null,null,"Z1B5SS8","FOCUS S 4 PTAS TM"]
[null,null,null,null,null,null,null,null,null,null,null,null,null,null,null,null,null,null,null,null,null,null,null,null,null,null,null,null,null,null,null,null,null,null,"Z1BEF","FOCUS S 4 PTAS TM"]
[null,null,null,null,null,null,null,null,null,null,null,null,null,null,null,null,null,null,null,null,null,null,null,null,null,null,null,null,null,null,null,null,null,null,"Z1BIC","FOCUS S 4 PTAS TM"]
[null,null,null,null,null,null,null,null,null,null,null,null,null,null,null,null,null,null,null,null,null,null,null,null,null,null,null,null,null,null,null,null,null,null,"Z1C","Focus ZX3 Mid TA"]
[null,null,null,null,null,null,null,null,null,null,null,null,null,null,null,null,null,null,null,null,null,null,null,null,null,null,null,null,null,null,null,null,null,null,"Z2A12","FOCUS SE TA AA"]
[null,null,null,null,null,null,null,null,null,null,null,null,null,null,null,null,null,null,null,null,null,null,null,null,null,null,null,null,null,null,null,null,null,null,"Z2A9","FOCUS SE EQUIPADO TA AA"]
[null,null,null,null,null,null,null,null,null,null,null,null,null,null,null,null,null,null,null,null,null,null,null,null,null,null,null,null,null,null,null,null,null,null,"Z2AFCE1","FOCUS SE TA 4 PTAS *"]
[null,null,null,null,null,null,null,null,null,null,null,null,null,null,null,null,null,null,null,null,null,null,null,null,null,null,null,null,null,null,null,null,null,null,"Z2AFSS8","FOCUS SE TA 4 PTAS"]
[null,null,null,null,null,null,null,null,null,null,null,null,null,null,null,null,null,null,null,null,null,null,null,null,null,null,null,null,null,null,null,null,null,null,"Z2AMV3","FOCUS SE PLUS TA 5 PTAS"]
[null,null,null,null,null,null,null,null,null,null,null,null,null,null,null,null,null,null,null,null,null,null,null,null,null,null,null,null,null,null,null,null,null,null,"Z2ASS8","FOCUS NA SE PLUS 5 PTAS TA"]
[null,null,null,null,null,null,null,null,null,null,null,null,null,null,null,null,null,null,null,null,null,null,null,null,null,null,null,null,null,null,null,null,null,null,"Z2B1SS8","FOCUS NA SE 5 PTAS TA"]
[null,null,null,null,null,null,null,null,null,null,null,null,null,null,null,null,null,null,null,null,null,null,null,null,null,null,null,null,null,null,null,null,null,null,"Z2B5SS8","FOCUS SE 5 PTAS TA"]
[null,null,null,null,null,null,null,null,null,null,null,null,null,null,null,null,null,null,null,null,null,null,null,null,null,null,null,null,null,null,null,null,null,null,"Z2BCE1","FOCUS SE 5 PTAS TA"]
[null,null,null,null,null,null,null,null,null,null,null,null,null,null,null,null,null,null,null,null,null,null,null,null,null,null,null,null,null,null,null,null,null,null,"Z2BMCA1","FOCUS SE  TA 5 PTAS"]
[null,null,null,null,null,null,null,null,null,null,null,null,null,null,null,null,null,null,null,null,null,null,null,null,null,null,null,null,null,null,null,null,null,null,"Z2BSC12","FOCUS SE 5 PTAS"]
[null,null,null,null,null,null,null,null,null,null,null,null,null,null,null,null,null,null,null,null,null,null,null,null,null,null,null,null,null,null,null,null,null,null,"Z2C1SS8","FOCUS NA SE PLUS 4 PTAS TA"]
[null,null,null,null,null,null,null,null,null,null,null,null,null,null,null,null,null,null,null,null,null,null,null,null,null,null,null,null,null,null,null,null,null,null,"Z2CMV13","FOCUS SE PLUS 4 PTAS TA"]
[null,null,null,null,null,null,null,null,null,null,null,null,null,null,null,null,null,null,null,null,null,null,null,null,null,null,null,null,null,null,null,null,null,null,"Z2CSS8","FOCUS SE PLUS 4 PTAS TA"]
[null,null,null,null,null,null,null,null,null,null,null,null,null,null,null,null,null,null,null,null,null,null,null,null,null,null,null,null,null,null,null,null,null,null,"Z2D6SS8","FOCUS SE TA 4 PTAS"]
[null,null,null,null,null,null,null,null,null,null,null,null,null,null,null,null,null,null,null,null,null,null,null,null,null,null,null,null,null,null,null,null,null,null,"Z2DEF","FOCUS SE 4 PTAS TA"]
[null,null,null,null,null,null,null,null,null,null,null,null,null,null,null,null,null,null,null,null,null,null,null,null,null,null,null,null,null,null,null,null,null,null,"Z2DEM","FOCUS SE 4 PTAS TA"]
[null,null,null,null,null,null,null,null,null,null,null,null,null,null,null,null,null,null,null,null,null,null,null,null,null,null,null,null,null,null,null,null,null,null,"Z2DP8","FOCUS SE TA 4 PTAS"]
[null,null,null,null,null,null,null,null,null,null,null,null,null,null,null,null,null,null,null,null,null,null,null,null,null,null,null,null,null,null,null,null,null,null,"Z2E6CA1","FOCUS SE TM 4 PTAS"]
[null,null,null,null,null,null,null,null,null,null,null,null,null,null,null,null,null,null,null,null,null,null,null,null,null,null,null,null,null,null,null,null,null,null,"Z2F6CA1","FOCUS SE TM 5 PTAS"]
[null,null,null,null,null,null,null,null,null,null,null,null,null,null,null,null,null,null,null,null,null,null,null,null,null,null,null,null,null,null,null,null,null,null,"Z2T","FOCUS SE SPORT TA 5 PTAS"]
[null,null,null,null,null,null,null,null,null,null,null,null,null,null,null,null,null,null,null,null,null,null,null,null,null,null,null,null,null,null,null,null,null,null,"Z2TSS8","FOCUS SE SPORT TA 5 PTAS"]
[null,null,null,null,null,null,null,null,null,null,null,null,null,null,null,null,null,null,null,null,null,null,null,null,null,null,null,null,null,null,null,null,null,null,"Z3A17","FOCUS LX BASE TA AA"]
[null,null,null,null,null,null,null,null,null,null,null,null,null,null,null,null,null,null,null,null,null,null,null,null,null,null,null,null,null,null,null,null,null,null,"Z3A21","Focus LX Base TA/AA"]
[null,null,null,null,null,null,null,null,null,null,null,null,null,null,null,null,null,null,null,null,null,null,null,null,null,null,null,null,null,null,null,null,null,null,"Z3A6CA1","FOCUS SE LUXURY TA 5 PTAS"]
[null,null,null,null,null,null,null,null,null,null,null,null,null,null,null,null,null,null,null,null,null,null,null,null,null,null,null,null,null,null,null,null,null,null,"Z3AEF","FOCUS APPEARANCE 5 PTAS TA"]
[null,null,null,null,null,null,null,null,null,null,null,null,null,null,null,null,null,null,null,null,null,null,null,null,null,null,null,null,null,null,null,null,null,null,"Z3AP","FOCUS LX BASE TA AA"]
[null,null,null,null,null,null,null,null,null,null,null,null,null,null,null,null,null,null,null,null,null,null,null,null,null,null,null,null,null,null,null,null,null,null,"Z3AX","FOCUS LX BASE TA AA"]
[null,null,null,null,null,null,null,null,null,null,null,null,null,null,null,null,null,null,null,null,null,null,null,null,null,null,null,null,null,null,null,null,null,null,"Z3B3","FOCUS LX BASE T/A"]
[null,null,null,null,null,null,null,null,null,null,null,null,null,null,null,null,null,null,null,null,null,null,null,null,null,null,null,null,null,null,null,null,null,null,"Z3B6SS8","FOCUS SE LUXURY TA 4 PTAS"]
[null,null,null,null,null,null,null,null,null,null,null,null,null,null,null,null,null,null,null,null,null,null,null,null,null,null,null,null,null,null,null,null,null,null,"Z3B8","FOCUS LX BASE TA"]
[null,null,null,null,null,null,null,null,null,null,null,null,null,null,null,null,null,null,null,null,null,null,null,null,null,null,null,null,null,null,null,null,null,null,"Z3BAK","FOCUS LX BASE T/A A/A"]
[null,null,null,null,null,null,null,null,null,null,null,null,null,null,null,null,null,null,null,null,null,null,null,null,null,null,null,null,null,null,null,null,null,null,"Z3BP8","FOCUS SE LUXURY TA 4 PTAS"]
[null,null,null,null,null,null,null,null,null,null,null,null,null,null,null,null,null,null,null,null,null,null,null,null,null,null,null,null,null,null,null,null,null,null,"Z3C13","FOCUS LX BASE TM / AA"]
[null,null,null,null,null,null,null,null,null,null,null,null,null,null,null,null,null,null,null,null,null,null,null,null,null,null,null,null,null,null,null,null,null,null,"Z3C20","Focus Base TM AA"]
[null,null,null,null,null,null,null,null,null,null,null,null,null,null,null,null,null,null,null,null,null,null,null,null,null,null,null,null,null,null,null,null,null,null,"Z3C6CA1","FOCUS SE LUXURY TM 4 PTAS"]
[null,null,null,null,null,null,null,null,null,null,null,null,null,null,null,null,null,null,null,null,null,null,null,null,null,null,null,null,null,null,null,null,null,null,"Z3CA7","FOCUS LX BASE TM AA"]
[null,null,null,null,null,null,null,null,null,null,null,null,null,null,null,null,null,null,null,null,null,null,null,null,null,null,null,null,null,null,null,null,null,null,"Z3CM","FOCUS LX TM AA"]
[null,null,null,null,null,null,null,null,null,null,null,null,null,null,null,null,null,null,null,null,null,null,null,null,null,null,null,null,null,null,null,null,null,null,"Z3CU","FOCUS LX BASE TM AA"]
[null,null,null,null,null,null,null,null,null,null,null,null,null,null,null,null,null,null,null,null,null,null,null,null,null,null,null,null,null,null,null,null,null,null,"Z3D11","FOCUS LX BASE TM"]
[null,null,null,null,null,null,null,null,null,null,null,null,null,null,null,null,null,null,null,null,null,null,null,null,null,null,null,null,null,null,null,null,null,null,"Z3D19","Focus LX Base TM"]
[null,null,null,null,null,null,null,null,null,null,null,null,null,null,null,null,null,null,null,null,null,null,null,null,null,null,null,null,null,null,null,null,null,null,"Z3D4","FOCUS LX AUSTERO TM"]
[null,null,null,null,null,null,null,null,null,null,null,null,null,null,null,null,null,null,null,null,null,null,null,null,null,null,null,null,null,null,null,null,null,null,"Z3D9","FOCUS LX BASE TM"]
[null,null,null,null,null,null,null,null,null,null,null,null,null,null,null,null,null,null,null,null,null,null,null,null,null,null,null,null,null,null,null,null,null,null,"Z3DCA1","FOCUS S 4 PTAS TA"]
[null,null,null,null,null,null,null,null,null,null,null,null,null,null,null,null,null,null,null,null,null,null,null,null,null,null,null,null,null,null,null,null,null,null,"Z3DJ","FOCUS LX BASE TM"]
[null,null,null,null,null,null,null,null,null,null,null,null,null,null,null,null,null,null,null,null,null,null,null,null,null,null,null,null,null,null,null,null,null,null,"Z3DR","FOCUS LX BASE TM"]
[null,null,null,null,null,null,null,null,null,null,null,null,null,null,null,null,null,null,null,null,null,null,null,null,null,null,null,null,null,null,null,null,null,null,"Z3DSS8","FOCUS S 4 PTAS TA"]
[null,null,null,null,null,null,null,null,null,null,null,null,null,null,null,null,null,null,null,null,null,null,null,null,null,null,null,null,null,null,null,null,null,null,"Z3F","FOCUS S 4 PTAS TM"]
[null,null,null,null,null,null,null,null,null,null,null,null,null,null,null,null,null,null,null,null,null,null,null,null,null,null,null,null,null,null,null,null,null,null,"Z3FMV13","FOCUS S 4 PTAS TM"]
[null,null,null,null,null,null,null,null,null,null,null,null,null,null,null,null,null,null,null,null,null,null,null,null,null,null,null,null,null,null,null,null,null,null,"Z3FSS8","FOCUS S 4 PTAS TM"]
[null,null,null,null,null,null,null,null,null,null,null,null,null,null,null,null,null,null,null,null,null,null,null,null,null,null,null,null,null,null,null,null,null,null,"Z4A","FOCUS SEL TA 4 PTAS"]
[null,null,null,null,null,null,null,null,null,null,null,null,null,null,null,null,null,null,null,null,null,null,null,null,null,null,null,null,null,null,null,null,null,null,"Z4ASS8","FOCUS SEL TA 4 PTAS"]
[null,null,null,null,null,null,null,null,null,null,null,null,null,null,null,null,null,null,null,null,null,null,null,null,null,null,null,null,null,null,null,null,null,null,"Z4C6SS8","FOCUS TITANIUM 4 PTAS"]
[null,null,null,null,null,null,null,null,null,null,null,null,null,null,null,null,null,null,null,null,null,null,null,null,null,null,null,null,null,null,null,null,null,null,"Z4CEM","FOCUS TITANIUM PLUS 4 PTAS"]
[null,null,null,null,null,null,null,null,null,null,null,null,null,null,null,null,null,null,null,null,null,null,null,null,null,null,null,null,null,null,null,null,null,null,"Z4CSC12","FOCUS TITANIUM PLUS 4 PTAS"]
[null,null,null,null,null,null,null,null,null,null,null,null,null,null,null,null,null,null,null,null,null,null,null,null,null,null,null,null,null,null,null,null,null,null,"Z4GCA1","FOCUS SEL TA PLUS 4 PTAS"]
[null,null,null,null,null,null,null,null,null,null,null,null,null,null,null,null,null,null,null,null,null,null,null,null,null,null,null,null,null,null,null,null,null,null,"Z4GCE1","FOCUS SEL TA PLUS 4 PTAS *"]
[null,null,null,null,null,null,null,null,null,null,null,null,null,null,null,null,null,null,null,null,null,null,null,null,null,null,null,null,null,null,null,null,null,null,"Z5A0","FOCUS SW EQUIPADA T/A A/A"]
[null,null,null,null,null,null,null,null,null,null,null,null,null,null,null,null,null,null,null,null,null,null,null,null,null,null,null,null,null,null,null,null,null,null,"Z5AFCE1","FOCUS SEL TA 5 PTAS *"]
[null,null,null,null,null,null,null,null,null,null,null,null,null,null,null,null,null,null,null,null,null,null,null,null,null,null,null,null,null,null,null,null,null,null,"Z5B","FOCUS ST 5 PTAS"]
[null,null,null,null,null,null,null,null,null,null,null,null,null,null,null,null,null,null,null,null,null,null,null,null,null,null,null,null,null,null,null,null,null,null,"Z5J5CA1","FOCUS ST 5 PTAS"]
[null,null,null,null,null,null,null,null,null,null,null,null,null,null,null,null,null,null,null,null,null,null,null,null,null,null,null,null,null,null,null,null,null,null,"Z6BCA1","FOCUS AMBIENTE 4 PTAS TA"]
[null,null,null,null,null,null,null,null,null,null,null,null,null,null,null,null,null,null,null,null,null,null,null,null,null,null,null,null,null,null,null,null,null,null,"Z7KSS8","FOCUS TREND 5 PTAS TA"]
[null,null,null,null,null,null,null,null,null,null,null,null,null,null,null,null,null,null,null,null,null,null,null,null,null,null,null,null,null,null,null,null,null,null,"Z8B","FOCUS ZTS"]
[null,null,null,null,null,null,null,null,null,null,null,null,null,null,null,null,null,null,null,null,null,null,null,null,null,null,null,null,null,null,null,null,null,null,"Z8B4","FOCUS ZTS"]
[null,null,null,null,null,null,null,null,null,null,null,null,null,null,null,null,null,null,null,null,null,null,null,null,null,null,null,null,null,null,null,null,null,null,"Z8B8","FOCUS ZTS TELA"]
[null,null,null,null,null,null,null,null,null,null,null,null,null,null,null,null,null,null,null,null,null,null,null,null,null,null,null,null,null,null,null,null,null,null,"Z8ECA1","FOCUS TREND PLUS 4 PTAS TA"]
[null,null,null,null,null,null,null,null,null,null,null,null,null,null,null,null,null,null,null,null,null,null,null,null,null,null,null,null,null,null,null,null,null,null,"Z8ESS8","FOCUS TREND PLUS 4 PTAS TA"]
[null,null,null,null,null,null,null,null,null,null,null,null,null,null,null,null,null,null,null,null,null,null,null,null,null,null,null,null,null,null,null,null,null,null,"Z8KCA1","FOCUS TREND PLUS 5 PTAS TA"]
[null,null,null,null,null,null,null,null,null,null,null,null,null,null,null,null,null,null,null,null,null,null,null,null,null,null,null,null,null,null,null,null,null,null,"Z8KSS8","FOCUS TREND PLUS 5 PTAS TA"]
[null,null,null,null,null,null,null,null,null,null,null,null,null,null,null,null,null,null,null,null,null,null,null,null,null,null,null,null,null,null,null,null,null,null,"Z9BCA1","FOCUS TITANIUM 4 PTAS"]
[null,null,null,null,null,null,null,null,null,null,null,null,null,null,null,null,null,null,null,null,null,null,null,null,null,null,null,null,null,null,null,null,null,null,"Z9BSS8","FOCUS TITANIUM 4 PTAS"]
[null,null,null,null,null,null,null,null,null,null,null,null,null,null,null,null,null,null,null,null,null,null,null,null,null,null,null,null,null,null,null,null,null,null,"ZEA","FOCUS SPORT TA"]
[null,null,null,null,null,null,null,null,null,null,null,null,null,null,null,null,null,null,null,null,null,null,null,null,null,null,null,null,null,null,null,null,null,null,"ZEA34","Focus Sport TA"]
[null,null,null,null,null,null,null,null,null,null,null,null,null,null,null,null,null,null,null,null,null,null,null,null,null,null,null,null,null,null,null,null,null,null,"ZEA35","Focus Sport TA"]
[null,null,null,null,null,null,null,null,null,null,null,null,null,null,null,null,null,null,null,null,null,null,null,null,null,null,null,null,null,null,null,null,null,null,"ZEA36","Focus Sport TA"]
[null,null,null,null,null,null,null,null,null,null,null,null,null,null,null,null,null,null,null,null,null,null,null,null,null,null,null,null,null,null,null,null,null,null,"ZEA37","Focus Sport TA"]
[null,null,null,null,null,null,null,null,null,null,null,null,null,null,null,null,null,null,null,null,null,null,null,null,null,null,null,null,null,null,null,null,null,null,"ZEA38","Focus Sport TA"]
[null,null,null,null,null,null,null,null,null,null,null,null,null,null,null,null,null,null,null,null,null,null,null,null,null,null,null,null,null,null,null,null,null,null,"ZEA39","Focus Europa Sport TA"]
[null,null,null,null,null,null,null,null,null,null,null,null,null,null,null,null,null,null,null,null,null,null,null,null,null,null,null,null,null,null,null,null,null,null,"ZEA40","Focus Europa Sport TA"]
[null,null,null,null,null,null,null,null,null,null,null,null,null,null,null,null,null,null,null,null,null,null,null,null,null,null,null,null,null,null,null,null,null,null,"ZEA41","Focus Europa Sport TA"]
[null,null,null,null,null,null,null,null,null,null,null,null,null,null,null,null,null,null,null,null,null,null,null,null,null,null,null,null,null,null,null,null,null,null,"ZEA42","Focus Europa Sport TA"]
[null,null,null,null,null,null,null,null,null,null,null,null,null,null,null,null,null,null,null,null,null,null,null,null,null,null,null,null,null,null,null,null,null,null,"ZEA43","Focus Europa Sport TA"]
[null,null,null,null,null,null,null,null,null,null,null,null,null,null,null,null,null,null,null,null,null,null,null,null,null,null,null,null,null,null,null,null,null,null,"ZEA44","Focus Europa Sport TA"]
[null,null,null,null,null,null,null,null,null,null,null,null,null,null,null,null,null,null,null,null,null,null,null,null,null,null,null,null,null,null,null,null,null,null,"ZEA45","Focus Europa Sport TA"]
[null,null,null,null,null,null,null,null,null,null,null,null,null,null,null,null,null,null,null,null,null,null,null,null,null,null,null,null,null,null,null,null,null,null,"ZEA46","Focus Europa Sport TA"]
[null,null,null,null,null,null,null,null,null,null,null,null,null,null,null,null,null,null,null,null,null,null,null,null,null,null,null,null,null,null,null,null,null,null,"ZEA47","Focus Europa Sport TA"]
[null,null,null,null,null,null,null,null,null,null,null,null,null,null,null,null,null,null,null,null,null,null,null,null,null,null,null,null,null,null,null,null,null,null,"ZEA48","Focus Europa Sport TA"]
[null,null,null,null,null,null,null,null,null,null,null,null,null,null,null,null,null,null,null,null,null,null,null,null,null,null,null,null,null,null,null,null,null,null,"ZEA49","Focus Europa Sport TA"]
[null,null,null,null,null,null,null,null,null,null,null,null,null,null,null,null,null,null,null,null,null,null,null,null,null,null,null,null,null,null,null,null,null,null,"ZEA50","Focus Europa Sport TA"]
[null,null,null,null,null,null,null,null,null,null,null,null,null,null,null,null,null,null,null,null,null,null,null,null,null,null,null,null,null,null,null,null,null,null,"ZEA51","Focus Europa Sport TA"]
[null,null,null,null,null,null,null,null,null,null,null,null,null,null,null,null,null,null,null,null,null,null,null,null,null,null,null,null,null,null,null,null,null,null,"ZEA52","Focus Europa Sport TA"]
[null,null,null,null,null,null,null,null,null,null,null,null,null,null,null,null,null,null,null,null,null,null,null,null,null,null,null,null,null,null,null,null,null,null,"ZEA53","Focus Europa Sport TA"]
[null,null,null,null,null,null,null,null,null,null,null,null,null,null,null,null,null,null,null,null,null,null,null,null,null,null,null,null,null,null,null,null,null,null,"ZEA54","Focus Europa Sport TA"]
[null,null,null,null,null,null,null,null,null,null,null,null,null,null,null,null,null,null,null,null,null,null,null,null,null,null,null,null,null,null,null,null,null,null,"ZEA55","Focus Europa Sport TA"]
[null,null,null,null,null,null,null,null,null,null,null,null,null,null,null,null,null,null,null,null,null,null,null,null,null,null,null,null,null,null,null,null,null,null,"ZEA56","Focus Europa Sport TA"]
[null,null,null,null,null,null,null,null,null,null,null,null,null,null,null,null,null,null,null,null,null,null,null,null,null,null,null,null,null,null,null,null,null,null,"ZEA57","Focus Europa Sport TA"]
[null,null,null,null,null,null,null,null,null,null,null,null,null,null,null,null,null,null,null,null,null,null,null,null,null,null,null,null,null,null,null,null,null,null,"ZEA58","Focus Europa Sport TA"]
[null,null,null,null,null,null,null,null,null,null,null,null,null,null,null,null,null,null,null,null,null,null,null,null,null,null,null,null,null,null,null,null,null,null,"ZEA59","Focus Europa Sport TA"]
[null,null,null,null,null,null,null,null,null,null,null,null,null,null,null,null,null,null,null,null,null,null,null,null,null,null,null,null,null,null,null,null,null,null,"ZEA60","Focus Europa Sport TA"]
[null,null,null,null,null,null,null,null,null,null,null,null,null,null,null,null,null,null,null,null,null,null,null,null,null,null,null,null,null,null,null,null,null,null,"ZEACA1","FOCUS SPORT TA"]
[null,null,null,null,null,null,null,null,null,null,null,null,null,null,null,null,null,null,null,null,null,null,null,null,null,null,null,null,null,null,null,null,null,null,"ZEACA2","FOCUS SPORT TA"]
[null,null,null,null,null,null,null,null,null,null,null,null,null,null,null,null,null,null,null,null,null,null,null,null,null,null,null,null,null,null,null,null,null,null,"ZEAEM","FOCUS SPORT TA"]
[null,null,null,null,null,null,null,null,null,null,null,null,null,null,null,null,null,null,null,null,null,null,null,null,null,null,null,null,null,null,null,null,null,null,"ZEAES1","FOCUS SPORT TA"]
[null,null,null,null,null,null,null,null,null,null,null,null,null,null,null,null,null,null,null,null,null,null,null,null,null,null,null,null,null,null,null,null,null,null,"ZEAMT","FOCUS SPORT TA"]
[null,null,null,null,null,null,null,null,null,null,null,null,null,null,null,null,null,null,null,null,null,null,null,null,null,null,null,null,null,null,null,null,null,null,"ZEAPR","FOCUS SPORT TA"]
[null,null,null,null,null,null,null,null,null,null,null,null,null,null,null,null,null,null,null,null,null,null,null,null,null,null,null,null,null,null,null,null,null,null,"ZEAPR2","FOCUS EUROPA SPORT TA"]
[null,null,null,null,null,null,null,null,null,null,null,null,null,null,null,null,null,null,null,null,null,null,null,null,null,null,null,null,null,null,null,null,null,null,"ZEASS","FOCUS EUROPA SPORT TA"]
[null,null,null,null,null,null,null,null,null,null,null,null,null,null,null,null,null,null,null,null,null,null,null,null,null,null,null,null,null,null,null,null,null,null,"ZEASS1","FOCUS SPORT TA*"]
[null,null,null,null,null,null,null,null,null,null,null,null,null,null,null,null,null,null,null,null,null,null,null,null,null,null,null,null,null,null,null,null,null,null,"ZEASS2","FOCUS SPORT TA"]
[null,null,null,null,null,null,null,null,null,null,null,null,null,null,null,null,null,null,null,null,null,null,null,null,null,null,null,null,null,null,null,null,null,null,"ZEASS3","FOCUS SPORT TA"]
[null,null,null,null,null,null,null,null,null,null,null,null,null,null,null,null,null,null,null,null,null,null,null,null,null,null,null,null,null,null,null,null,null,null,"ZEASS4","FOCUS SPORT TA"]
[null,null,null,null,null,null,null,null,null,null,null,null,null,null,null,null,null,null,null,null,null,null,null,null,null,null,null,null,null,null,null,null,null,null,"ZEASS5","FOCUS SPORT TA"]
[null,null,null,null,null,null,null,null,null,null,null,null,null,null,null,null,null,null,null,null,null,null,null,null,null,null,null,null,null,null,null,null,null,null,"ZEASS6","FOCUS SPORT TA"]
[null,null,null,null,null,null,null,null,null,null,null,null,null,null,null,null,null,null,null,null,null,null,null,null,null,null,null,null,null,null,null,null,null,null,"ZEASS7","FOCUS SPORT TA"]
[null,null,null,null,null,null,null,null,null,null,null,null,null,null,null,null,null,null,null,null,null,null,null,null,null,null,null,null,null,null,null,null,null,null,"ZEASS8","FOCUS SPORT TA"]
[null,null,null,null,null,null,null,null,null,null,null,null,null,null,null,null,null,null,null,null,null,null,null,null,null,null,null,null,null,null,null,null,null,null,"ZEASSS","FOCUS SPORT TA"]
[null,null,null,null,null,null,null,null,null,null,null,null,null,null,null,null,null,null,null,null,null,null,null,null,null,null,null,null,null,null,null,null,null,null,"ZEB","FOCUS SPORT TM"]
[null,null,null,null,null,null,null,null,null,null,null,null,null,null,null,null,null,null,null,null,null,null,null,null,null,null,null,null,null,null,null,null,null,null,"ZEB34","Focus Sport TM"]
[null,null,null,null,null,null,null,null,null,null,null,null,null,null,null,null,null,null,null,null,null,null,null,null,null,null,null,null,null,null,null,null,null,null,"ZEB36","Focus Sport TM"]
[null,null,null,null,null,null,null,null,null,null,null,null,null,null,null,null,null,null,null,null,null,null,null,null,null,null,null,null,null,null,null,null,null,null,"ZEB37","Focus Sport TM"]
[null,null,null,null,null,null,null,null,null,null,null,null,null,null,null,null,null,null,null,null,null,null,null,null,null,null,null,null,null,null,null,null,null,null,"ZEB38","Focus Sport TM"]
[null,null,null,null,null,null,null,null,null,null,null,null,null,null,null,null,null,null,null,null,null,null,null,null,null,null,null,null,null,null,null,null,null,null,"ZEB39","Focus Europa Sport TM"]
[null,null,null,null,null,null,null,null,null,null,null,null,null,null,null,null,null,null,null,null,null,null,null,null,null,null,null,null,null,null,null,null,null,null,"ZEB40","Focus Europa Sport TM"]
[null,null,null,null,null,null,null,null,null,null,null,null,null,null,null,null,null,null,null,null,null,null,null,null,null,null,null,null,null,null,null,null,null,null,"ZEB41","Focus Europa Sport TM"]
[null,null,null,null,null,null,null,null,null,null,null,null,null,null,null,null,null,null,null,null,null,null,null,null,null,null,null,null,null,null,null,null,null,null,"ZEB42","Focus Europa Sport TM"]
[null,null,null,null,null,null,null,null,null,null,null,null,null,null,null,null,null,null,null,null,null,null,null,null,null,null,null,null,null,null,null,null,null,null,"ZEB43","Focus Europa Sport TM"]
[null,null,null,null,null,null,null,null,null,null,null,null,null,null,null,null,null,null,null,null,null,null,null,null,null,null,null,null,null,null,null,null,null,null,"ZEB44","Focus Europa Sport TM"]
[null,null,null,null,null,null,null,null,null,null,null,null,null,null,null,null,null,null,null,null,null,null,null,null,null,null,null,null,null,null,null,null,null,null,"ZEB45","Focus Europa Sport TM"]
[null,null,null,null,null,null,null,null,null,null,null,null,null,null,null,null,null,null,null,null,null,null,null,null,null,null,null,null,null,null,null,null,null,null,"ZEB46","Focus Europa Sport TM"]
[null,null,null,null,null,null,null,null,null,null,null,null,null,null,null,null,null,null,null,null,null,null,null,null,null,null,null,null,null,null,null,null,null,null,"ZEB47","Focus Europa Sport TM"]
[null,null,null,null,null,null,null,null,null,null,null,null,null,null,null,null,null,null,null,null,null,null,null,null,null,null,null,null,null,null,null,null,null,null,"ZEB48","Focus Europa Sport TM"]
[null,null,null,null,null,null,null,null,null,null,null,null,null,null,null,null,null,null,null,null,null,null,null,null,null,null,null,null,null,null,null,null,null,null,"ZEB49","Focus Europa Sport TM"]
[null,null,null,null,null,null,null,null,null,null,null,null,null,null,null,null,null,null,null,null,null,null,null,null,null,null,null,null,null,null,null,null,null,null,"ZEB50","Focus Europa Sport TM"]
[null,null,null,null,null,null,null,null,null,null,null,null,null,null,null,null,null,null,null,null,null,null,null,null,null,null,null,null,null,null,null,null,null,null,"ZEB51","Focus Europa Sport TM"]
[null,null,null,null,null,null,null,null,null,null,null,null,null,null,null,null,null,null,null,null,null,null,null,null,null,null,null,null,null,null,null,null,null,null,"ZEB52","Focus Europa Sport TM"]
[null,null,null,null,null,null,null,null,null,null,null,null,null,null,null,null,null,null,null,null,null,null,null,null,null,null,null,null,null,null,null,null,null,null,"ZEB53","Focus Europa Sport TM"]
[null,null,null,null,null,null,null,null,null,null,null,null,null,null,null,null,null,null,null,null,null,null,null,null,null,null,null,null,null,null,null,null,null,null,"ZEB54","Focus Europa Sport TM"]
[null,null,null,null,null,null,null,null,null,null,null,null,null,null,null,null,null,null,null,null,null,null,null,null,null,null,null,null,null,null,null,null,null,null,"ZEB55","Focus Europa Sport TM"]
[null,null,null,null,null,null,null,null,null,null,null,null,null,null,null,null,null,null,null,null,null,null,null,null,null,null,null,null,null,null,null,null,null,null,"ZEB56","Focus Europa Sport TM"]
[null,null,null,null,null,null,null,null,null,null,null,null,null,null,null,null,null,null,null,null,null,null,null,null,null,null,null,null,null,null,null,null,null,null,"ZEB57","Focus Europa Sport TM"]
[null,null,null,null,null,null,null,null,null,null,null,null,null,null,null,null,null,null,null,null,null,null,null,null,null,null,null,null,null,null,null,null,null,null,"ZEB58","Focus Europa Sport TM"]
[null,null,null,null,null,null,null,null,null,null,null,null,null,null,null,null,null,null,null,null,null,null,null,null,null,null,null,null,null,null,null,null,null,null,"ZEB59","Focus Europa Sport TM"]
[null,null,null,null,null,null,null,null,null,null,null,null,null,null,null,null,null,null,null,null,null,null,null,null,null,null,null,null,null,null,null,null,null,null,"ZEB60","Focus Europa Sport TM"]
[null,null,null,null,null,null,null,null,null,null,null,null,null,null,null,null,null,null,null,null,null,null,null,null,null,null,null,null,null,null,null,null,null,null,"ZEBCA1","FOCUS SPORT TM"]
[null,null,null,null,null,null,null,null,null,null,null,null,null,null,null,null,null,null,null,null,null,null,null,null,null,null,null,null,null,null,null,null,null,null,"ZEBCA2","FOCUS SPORT TM"]
[null,null,null,null,null,null,null,null,null,null,null,null,null,null,null,null,null,null,null,null,null,null,null,null,null,null,null,null,null,null,null,null,null,null,"ZEBEM","FOCUS SPORT TM"]
[null,null,null,null,null,null,null,null,null,null,null,null,null,null,null,null,null,null,null,null,null,null,null,null,null,null,null,null,null,null,null,null,null,null,"ZEBES1","FOCUS SPORT TM"]
[null,null,null,null,null,null,null,null,null,null,null,null,null,null,null,null,null,null,null,null,null,null,null,null,null,null,null,null,null,null,null,null,null,null,"ZEBMT","FOCUS SPORT TM"]
[null,null,null,null,null,null,null,null,null,null,null,null,null,null,null,null,null,null,null,null,null,null,null,null,null,null,null,null,null,null,null,null,null,null,"ZEBPR","FOCUS SPORT TM"]
[null,null,null,null,null,null,null,null,null,null,null,null,null,null,null,null,null,null,null,null,null,null,null,null,null,null,null,null,null,null,null,null,null,null,"ZEBPR2","FOCUS EUROPA SPORT TM"]
[null,null,null,null,null,null,null,null,null,null,null,null,null,null,null,null,null,null,null,null,null,null,null,null,null,null,null,null,null,null,null,null,null,null,"ZEBSS","FOCUS EUROPA SPORT TM"]
[null,null,null,null,null,null,null,null,null,null,null,null,null,null,null,null,null,null,null,null,null,null,null,null,null,null,null,null,null,null,null,null,null,null,"ZEBSS1","FOCUS SPORT TM*"]
[null,null,null,null,null,null,null,null,null,null,null,null,null,null,null,null,null,null,null,null,null,null,null,null,null,null,null,null,null,null,null,null,null,null,"ZEBSS2","FOCUS SPORT TM"]
[null,null,null,null,null,null,null,null,null,null,null,null,null,null,null,null,null,null,null,null,null,null,null,null,null,null,null,null,null,null,null,null,null,null,"ZEBSS3","FOCUS SPORT TM"]
[null,null,null,null,null,null,null,null,null,null,null,null,null,null,null,null,null,null,null,null,null,null,null,null,null,null,null,null,null,null,null,null,null,null,"ZEBSS4","FOCUS SPORT TM"]
[null,null,null,null,null,null,null,null,null,null,null,null,null,null,null,null,null,null,null,null,null,null,null,null,null,null,null,null,null,null,null,null,null,null,"ZEBSS5","FOCUS SPORT TM"]
[null,null,null,null,null,null,null,null,null,null,null,null,null,null,null,null,null,null,null,null,null,null,null,null,null,null,null,null,null,null,null,null,null,null,"ZEBSS6","FOCUS SPORT TM"]
[null,null,null,null,null,null,null,null,null,null,null,null,null,null,null,null,null,null,null,null,null,null,null,null,null,null,null,null,null,null,null,null,null,null,"ZEBSS7","FOCUS SPORT TM"]
[null,null,null,null,null,null,null,null,null,null,null,null,null,null,null,null,null,null,null,null,null,null,null,null,null,null,null,null,null,null,null,null,null,null,"ZEBSS8","FOCUS SPORT TM"]
[null,null,null,null,null,null,null,null,null,null,null,null,null,null,null,null,null,null,null,null,null,null,null,null,null,null,null,null,null,null,null,null,null,null,"ZEBSSS","FOCUS SPORT TM"]
[null,null,null,null,null,null,null,null,null,null,null,null,null,null,null,null,null,null,null,null,null,null,null,null,null,null,null,null,null,null,null,null,null,null,"ZEC","FOCUS EUROPA AMBIENTE TA"]
[null,null,null,null,null,null,null,null,null,null,null,null,null,null,null,null,null,null,null,null,null,null,null,null,null,null,null,null,null,null,null,null,null,null,"ZEC34","Focus Europa Ambiente TA"]
[null,null,null,null,null,null,null,null,null,null,null,null,null,null,null,null,null,null,null,null,null,null,null,null,null,null,null,null,null,null,null,null,null,null,"ZEC35","Focus Europa Ambiente TA"]
[null,null,null,null,null,null,null,null,null,null,null,null,null,null,null,null,null,null,null,null,null,null,null,null,null,null,null,null,null,null,null,null,null,null,"ZEC36","Focus Europa Ambiente TA"]
[null,null,null,null,null,null,null,null,null,null,null,null,null,null,null,null,null,null,null,null,null,null,null,null,null,null,null,null,null,null,null,null,null,null,"ZEC37","Focus Europa Ambiente TA"]
[null,null,null,null,null,null,null,null,null,null,null,null,null,null,null,null,null,null,null,null,null,null,null,null,null,null,null,null,null,null,null,null,null,null,"ZEC38","Focus Europa Ambiente TA"]
[null,null,null,null,null,null,null,null,null,null,null,null,null,null,null,null,null,null,null,null,null,null,null,null,null,null,null,null,null,null,null,null,null,null,"ZEC39","Focus Europa Ambiente TA"]
[null,null,null,null,null,null,null,null,null,null,null,null,null,null,null,null,null,null,null,null,null,null,null,null,null,null,null,null,null,null,null,null,null,null,"ZEC40","Focus Europa Ambiente TA"]
[null,null,null,null,null,null,null,null,null,null,null,null,null,null,null,null,null,null,null,null,null,null,null,null,null,null,null,null,null,null,null,null,null,null,"ZEC41","Focus Europa Ambiente TA"]
[null,null,null,null,null,null,null,null,null,null,null,null,null,null,null,null,null,null,null,null,null,null,null,null,null,null,null,null,null,null,null,null,null,null,"ZEC42","Focus Europa Ambiente TA"]
[null,null,null,null,null,null,null,null,null,null,null,null,null,null,null,null,null,null,null,null,null,null,null,null,null,null,null,null,null,null,null,null,null,null,"ZEC43","Focus Europa Ambiente TA"]
[null,null,null,null,null,null,null,null,null,null,null,null,null,null,null,null,null,null,null,null,null,null,null,null,null,null,null,null,null,null,null,null,null,null,"ZEC44","Focus Europa Ambiente TA"]
[null,null,null,null,null,null,null,null,null,null,null,null,null,null,null,null,null,null,null,null,null,null,null,null,null,null,null,null,null,null,null,null,null,null,"ZEC45","Focus Europa Ambiente TA"]
[null,null,null,null,null,null,null,null,null,null,null,null,null,null,null,null,null,null,null,null,null,null,null,null,null,null,null,null,null,null,null,null,null,null,"ZEC46","Focus Europa Ambiente TA"]
[null,null,null,null,null,null,null,null,null,null,null,null,null,null,null,null,null,null,null,null,null,null,null,null,null,null,null,null,null,null,null,null,null,null,"ZEC47","Focus Europa Ambiente TA"]
[null,null,null,null,null,null,null,null,null,null,null,null,null,null,null,null,null,null,null,null,null,null,null,null,null,null,null,null,null,null,null,null,null,null,"ZEC48","Focus Europa Ambiente TA"]
[null,null,null,null,null,null,null,null,null,null,null,null,null,null,null,null,null,null,null,null,null,null,null,null,null,null,null,null,null,null,null,null,null,null,"ZEC49","Focus Europa Ambiente TA"]
[null,null,null,null,null,null,null,null,null,null,null,null,null,null,null,null,null,null,null,null,null,null,null,null,null,null,null,null,null,null,null,null,null,null,"ZEC50","Focus Europa Ambiente TA"]
[null,null,null,null,null,null,null,null,null,null,null,null,null,null,null,null,null,null,null,null,null,null,null,null,null,null,null,null,null,null,null,null,null,null,"ZEC51","Focus Europa Ambiente TA"]
[null,null,null,null,null,null,null,null,null,null,null,null,null,null,null,null,null,null,null,null,null,null,null,null,null,null,null,null,null,null,null,null,null,null,"ZEC52","Focus Europa Ambiente TA"]
[null,null,null,null,null,null,null,null,null,null,null,null,null,null,null,null,null,null,null,null,null,null,null,null,null,null,null,null,null,null,null,null,null,null,"ZEC53","Focus Europa Ambiente TA"]
[null,null,null,null,null,null,null,null,null,null,null,null,null,null,null,null,null,null,null,null,null,null,null,null,null,null,null,null,null,null,null,null,null,null,"ZEC54","Focus Europa Ambiente TA"]
[null,null,null,null,null,null,null,null,null,null,null,null,null,null,null,null,null,null,null,null,null,null,null,null,null,null,null,null,null,null,null,null,null,null,"ZEC55","Focus Europa Ambiente TA"]
[null,null,null,null,null,null,null,null,null,null,null,null,null,null,null,null,null,null,null,null,null,null,null,null,null,null,null,null,null,null,null,null,null,null,"ZEC56","Focus Europa Ambiente TA"]
[null,null,null,null,null,null,null,null,null,null,null,null,null,null,null,null,null,null,null,null,null,null,null,null,null,null,null,null,null,null,null,null,null,null,"ZEC57","Focus Europa Ambiente TA"]
[null,null,null,null,null,null,null,null,null,null,null,null,null,null,null,null,null,null,null,null,null,null,null,null,null,null,null,null,null,null,null,null,null,null,"ZEC58","Focus Europa Ambiente TA"]
[null,null,null,null,null,null,null,null,null,null,null,null,null,null,null,null,null,null,null,null,null,null,null,null,null,null,null,null,null,null,null,null,null,null,"ZEC59","Focus Europa Ambiente TA"]
[null,null,null,null,null,null,null,null,null,null,null,null,null,null,null,null,null,null,null,null,null,null,null,null,null,null,null,null,null,null,null,null,null,null,"ZEC60","Focus Europa Ambiente TA"]
[null,null,null,null,null,null,null,null,null,null,null,null,null,null,null,null,null,null,null,null,null,null,null,null,null,null,null,null,null,null,null,null,null,null,"ZECCA1","FOCUS EUROPA AMBIENTE TA"]
[null,null,null,null,null,null,null,null,null,null,null,null,null,null,null,null,null,null,null,null,null,null,null,null,null,null,null,null,null,null,null,null,null,null,"ZECCA2","FOCUS EUROPA AMBIENTE TA"]
[null,null,null,null,null,null,null,null,null,null,null,null,null,null,null,null,null,null,null,null,null,null,null,null,null,null,null,null,null,null,null,null,null,null,"ZECEM","FOCUS EUROPA AMBIENTE TA"]
[null,null,null,null,null,null,null,null,null,null,null,null,null,null,null,null,null,null,null,null,null,null,null,null,null,null,null,null,null,null,null,null,null,null,"ZECES1","FOCUS EUROPA AMBIENTE TA"]
[null,null,null,null,null,null,null,null,null,null,null,null,null,null,null,null,null,null,null,null,null,null,null,null,null,null,null,null,null,null,null,null,null,null,"ZECMT","FOCUS EUROPA AMBIENTE TA"]
[null,null,null,null,null,null,null,null,null,null,null,null,null,null,null,null,null,null,null,null,null,null,null,null,null,null,null,null,null,null,null,null,null,null,"ZECPR","FOCUS EUROPA AMBIENTE TA"]
[null,null,null,null,null,null,null,null,null,null,null,null,null,null,null,null,null,null,null,null,null,null,null,null,null,null,null,null,null,null,null,null,null,null,"ZECPR2","FOCUS EUROPA AMBIENTE TA"]
[null,null,null,null,null,null,null,null,null,null,null,null,null,null,null,null,null,null,null,null,null,null,null,null,null,null,null,null,null,null,null,null,null,null,"ZECSS","FOCUS EUROPA AMBIENTE TA"]
[null,null,null,null,null,null,null,null,null,null,null,null,null,null,null,null,null,null,null,null,null,null,null,null,null,null,null,null,null,null,null,null,null,null,"ZECSS1","FOCUS EUROPA AMBIENTE TA*"]
[null,null,null,null,null,null,null,null,null,null,null,null,null,null,null,null,null,null,null,null,null,null,null,null,null,null,null,null,null,null,null,null,null,null,"ZECSS2","FOCUS EUROPA AMBIENTE TA"]
[null,null,null,null,null,null,null,null,null,null,null,null,null,null,null,null,null,null,null,null,null,null,null,null,null,null,null,null,null,null,null,null,null,null,"ZECSS3","FOCUS EUROPA AMBIENTE TA"]
[null,null,null,null,null,null,null,null,null,null,null,null,null,null,null,null,null,null,null,null,null,null,null,null,null,null,null,null,null,null,null,null,null,null,"ZECSS4","FOCUS EUROPA AMBIENTE TA"]
[null,null,null,null,null,null,null,null,null,null,null,null,null,null,null,null,null,null,null,null,null,null,null,null,null,null,null,null,null,null,null,null,null,null,"ZECSS5","FOCUS EUROPA AMBIENTE TA"]
[null,null,null,null,null,null,null,null,null,null,null,null,null,null,null,null,null,null,null,null,null,null,null,null,null,null,null,null,null,null,null,null,null,null,"ZECSS6","FOCUS EUROPA AMBIENTE TA"]
[null,null,null,null,null,null,null,null,null,null,null,null,null,null,null,null,null,null,null,null,null,null,null,null,null,null,null,null,null,null,null,null,null,null,"ZECSS7","FOCUS EUROPA AMBIENTE TA"]
[null,null,null,null,null,null,null,null,null,null,null,null,null,null,null,null,null,null,null,null,null,null,null,null,null,null,null,null,null,null,null,null,null,null,"ZECSS8","FOCUS EUROPA AMBIENTE TA"]
[null,null,null,null,null,null,null,null,null,null,null,null,null,null,null,null,null,null,null,null,null,null,null,null,null,null,null,null,null,null,null,null,null,null,"ZECSSS","FOCUS EUROPA AMBIENTE TA"]
[null,null,null,null,null,null,null,null,null,null,null,null,null,null,null,null,null,null,null,null,null,null,null,null,null,null,null,null,null,null,null,null,null,null,"ZED","FOCUS EUROPA AMBIENTE TM"]
[null,null,null,null,null,null,null,null,null,null,null,null,null,null,null,null,null,null,null,null,null,null,null,null,null,null,null,null,null,null,null,null,null,null,"ZED34","Focus Europa Ambiente TM"]
[null,null,null,null,null,null,null,null,null,null,null,null,null,null,null,null,null,null,null,null,null,null,null,null,null,null,null,null,null,null,null,null,null,null,"ZED35","Focus Europa Ambiente TM"]
[null,null,null,null,null,null,null,null,null,null,null,null,null,null,null,null,null,null,null,null,null,null,null,null,null,null,null,null,null,null,null,null,null,null,"ZED36","Focus Europa Ambiente TM"]
[null,null,null,null,null,null,null,null,null,null,null,null,null,null,null,null,null,null,null,null,null,null,null,null,null,null,null,null,null,null,null,null,null,null,"ZED37","Focus Europa Ambiente TM"]
[null,null,null,null,null,null,null,null,null,null,null,null,null,null,null,null,null,null,null,null,null,null,null,null,null,null,null,null,null,null,null,null,null,null,"ZED38","Focus Europa Ambiente TM"]
[null,null,null,null,null,null,null,null,null,null,null,null,null,null,null,null,null,null,null,null,null,null,null,null,null,null,null,null,null,null,null,null,null,null,"ZED39","Focus Europa Ambiente TM"]
[null,null,null,null,null,null,null,null,null,null,null,null,null,null,null,null,null,null,null,null,null,null,null,null,null,null,null,null,null,null,null,null,null,null,"ZED40","Focus Europa Ambiente TM"]
[null,null,null,null,null,null,null,null,null,null,null,null,null,null,null,null,null,null,null,null,null,null,null,null,null,null,null,null,null,null,null,null,null,null,"ZED41","Focus Europa Ambiente TM"]
[null,null,null,null,null,null,null,null,null,null,null,null,null,null,null,null,null,null,null,null,null,null,null,null,null,null,null,null,null,null,null,null,null,null,"ZED42","Focus Europa Ambiente TM"]
[null,null,null,null,null,null,null,null,null,null,null,null,null,null,null,null,null,null,null,null,null,null,null,null,null,null,null,null,null,null,null,null,null,null,"ZED43","Focus Europa Ambiente TM"]
[null,null,null,null,null,null,null,null,null,null,null,null,null,null,null,null,null,null,null,null,null,null,null,null,null,null,null,null,null,null,null,null,null,null,"ZED44","Focus Europa Ambiente TM"]
[null,null,null,null,null,null,null,null,null,null,null,null,null,null,null,null,null,null,null,null,null,null,null,null,null,null,null,null,null,null,null,null,null,null,"ZED45","Focus Europa Ambiente TM"]
[null,null,null,null,null,null,null,null,null,null,null,null,null,null,null,null,null,null,null,null,null,null,null,null,null,null,null,null,null,null,null,null,null,null,"ZED46","Focus Europa Ambiente TM"]
[null,null,null,null,null,null,null,null,null,null,null,null,null,null,null,null,null,null,null,null,null,null,null,null,null,null,null,null,null,null,null,null,null,null,"ZED47","Focus Europa Ambiente TM"]
[null,null,null,null,null,null,null,null,null,null,null,null,null,null,null,null,null,null,null,null,null,null,null,null,null,null,null,null,null,null,null,null,null,null,"ZED48","Focus Europa Ambiente TM"]
[null,null,null,null,null,null,null,null,null,null,null,null,null,null,null,null,null,null,null,null,null,null,null,null,null,null,null,null,null,null,null,null,null,null,"ZED49","Focus Europa Ambiente TM"]
[null,null,null,null,null,null,null,null,null,null,null,null,null,null,null,null,null,null,null,null,null,null,null,null,null,null,null,null,null,null,null,null,null,null,"ZED50","Focus Europa Ambiente TM"]
[null,null,null,null,null,null,null,null,null,null,null,null,null,null,null,null,null,null,null,null,null,null,null,null,null,null,null,null,null,null,null,null,null,null,"ZED51","Focus Europa Ambiente TM"]
[null,null,null,null,null,null,null,null,null,null,null,null,null,null,null,null,null,null,null,null,null,null,null,null,null,null,null,null,null,null,null,null,null,null,"ZED52","Focus Europa Ambiente TM"]
[null,null,null,null,null,null,null,null,null,null,null,null,null,null,null,null,null,null,null,null,null,null,null,null,null,null,null,null,null,null,null,null,null,null,"ZED53","Focus Europa Ambiente TM"]
[null,null,null,null,null,null,null,null,null,null,null,null,null,null,null,null,null,null,null,null,null,null,null,null,null,null,null,null,null,null,null,null,null,null,"ZED54","Focus Europa Ambiente TM"]
[null,null,null,null,null,null,null,null,null,null,null,null,null,null,null,null,null,null,null,null,null,null,null,null,null,null,null,null,null,null,null,null,null,null,"ZED55","Focus Europa Ambiente TM"]
[null,null,null,null,null,null,null,null,null,null,null,null,null,null,null,null,null,null,null,null,null,null,null,null,null,null,null,null,null,null,null,null,null,null,"ZED56","Focus Europa Ambiente TM"]
[null,null,null,null,null,null,null,null,null,null,null,null,null,null,null,null,null,null,null,null,null,null,null,null,null,null,null,null,null,null,null,null,null,null,"ZED57","Focus Europa Ambiente TM"]
[null,null,null,null,null,null,null,null,null,null,null,null,null,null,null,null,null,null,null,null,null,null,null,null,null,null,null,null,null,null,null,null,null,null,"ZED58","Focus Europa Ambiente TM"]
[null,null,null,null,null,null,null,null,null,null,null,null,null,null,null,null,null,null,null,null,null,null,null,null,null,null,null,null,null,null,null,null,null,null,"ZED59","Focus Europa Ambiente TM"]
[null,null,null,null,null,null,null,null,null,null,null,null,null,null,null,null,null,null,null,null,null,null,null,null,null,null,null,null,null,null,null,null,null,null,"ZED60","Focus Europa Ambiente TM"]
[null,null,null,null,null,null,null,null,null,null,null,null,null,null,null,null,null,null,null,null,null,null,null,null,null,null,null,null,null,null,null,null,null,null,"ZEDCA1","FOCUS EUROPA AMBIENTE TM"]
[null,null,null,null,null,null,null,null,null,null,null,null,null,null,null,null,null,null,null,null,null,null,null,null,null,null,null,null,null,null,null,null,null,null,"ZEDCA2","FOCUS EUROPA AMBIENTE TM"]
[null,null,null,null,null,null,null,null,null,null,null,null,null,null,null,null,null,null,null,null,null,null,null,null,null,null,null,null,null,null,null,null,null,null,"ZEDEM","FOCUS EUROPA AMBIENTE TM"]
[null,null,null,null,null,null,null,null,null,null,null,null,null,null,null,null,null,null,null,null,null,null,null,null,null,null,null,null,null,null,null,null,null,null,"ZEDES1","FOCUS EUROPA AMBIENTE TM"]
[null,null,null,null,null,null,null,null,null,null,null,null,null,null,null,null,null,null,null,null,null,null,null,null,null,null,null,null,null,null,null,null,null,null,"ZEDMT","FOCUS EUROPA AMBIENTE TM"]
[null,null,null,null,null,null,null,null,null,null,null,null,null,null,null,null,null,null,null,null,null,null,null,null,null,null,null,null,null,null,null,null,null,null,"ZEDPR","FOCUS EUROPA AMBIENTE TM"]
[null,null,null,null,null,null,null,null,null,null,null,null,null,null,null,null,null,null,null,null,null,null,null,null,null,null,null,null,null,null,null,null,null,null,"ZEDPR2","FOCUS EUROPA AMBIENTE TM"]
[null,null,null,null,null,null,null,null,null,null,null,null,null,null,null,null,null,null,null,null,null,null,null,null,null,null,null,null,null,null,null,null,null,null,"ZEDSS","FOCUS EUROPA AMBIENTE TM"]
[null,null,null,null,null,null,null,null,null,null,null,null,null,null,null,null,null,null,null,null,null,null,null,null,null,null,null,null,null,null,null,null,null,null,"ZEDSS1","FOCUS EUROPA AMBIENTE TM*"]
[null,null,null,null,null,null,null,null,null,null,null,null,null,null,null,null,null,null,null,null,null,null,null,null,null,null,null,null,null,null,null,null,null,null,"ZEDSS2","FOCUS EUROPA AMBIENTE TM"]
[null,null,null,null,null,null,null,null,null,null,null,null,null,null,null,null,null,null,null,null,null,null,null,null,null,null,null,null,null,null,null,null,null,null,"ZEDSS3","FOCUS EUROPA AMBIENTE TM"]
[null,null,null,null,null,null,null,null,null,null,null,null,null,null,null,null,null,null,null,null,null,null,null,null,null,null,null,null,null,null,null,null,null,null,"ZEDSS4","FOCUS EUROPA AMBIENTE TM"]
[null,null,null,null,null,null,null,null,null,null,null,null,null,null,null,null,null,null,null,null,null,null,null,null,null,null,null,null,null,null,null,null,null,null,"ZEDSS5","FOCUS EUROPA AMBIENTE TM"]
[null,null,null,null,null,null,null,null,null,null,null,null,null,null,null,null,null,null,null,null,null,null,null,null,null,null,null,null,null,null,null,null,null,null,"ZEDSS6","FOCUS EUROPA AMBIENTE TM"]
[null,null,null,null,null,null,null,null,null,null,null,null,null,null,null,null,null,null,null,null,null,null,null,null,null,null,null,null,null,null,null,null,null,null,"ZEDSS7","FOCUS EUROPA AMBIENTE TM"]
[null,null,null,null,null,null,null,null,null,null,null,null,null,null,null,null,null,null,null,null,null,null,null,null,null,null,null,null,null,null,null,null,null,null,"ZEDSS8","FOCUS EUROPA AMBIENTE TM"]
[null,null,null,null,null,null,null,null,null,null,null,null,null,null,null,null,null,null,null,null,null,null,null,null,null,null,null,null,null,null,null,null,null,null,"ZEDSSS","FOCUS EUROPA AMBIENTE TM"]
[null,null,null,null,null,null,null,null,null,null,null,null,null,null,null,null,null,null,null,null,null,null,null,null,null,null,null,null,null,null,null,null,null,null,"ZES","FOCUS EUROPA ST"]
[null,null,null,null,null,null,null,null,null,null,null,null,null,null,null,null,null,null,null,null,null,null,null,null,null,null,null,null,null,null,null,null,null,null,"ZES36","Focus Europa ST"]
[null,null,null,null,null,null,null,null,null,null,null,null,null,null,null,null,null,null,null,null,null,null,null,null,null,null,null,null,null,null,null,null,null,null,"ZES37","Focus Europa ST"]
[null,null,null,null,null,null,null,null,null,null,null,null,null,null,null,null,null,null,null,null,null,null,null,null,null,null,null,null,null,null,null,null,null,null,"ZESCA1","FOCUS EUROPA ST"]
[null,null,null,null,null,null,null,null,null,null,null,null,null,null,null,null,null,null,null,null,null,null,null,null,null,null,null,null,null,null,null,null,null,null,"ZESCA2","FOCUS EUROPA ST"]
[null,null,null,null,null,null,null,null,null,null,null,null,null,null,null,null,null,null,null,null,null,null,null,null,null,null,null,null,null,null,null,null,null,null,"ZESEM","FOCUS EUROPA ST"]
[null,null,null,null,null,null,null,null,null,null,null,null,null,null,null,null,null,null,null,null,null,null,null,null,null,null,null,null,null,null,null,null,null,null,"ZESES1","FOCUS EUROPA ST"]
[null,null,null,null,null,null,null,null,null,null,null,null,null,null,null,null,null,null,null,null,null,null,null,null,null,null,null,null,null,null,null,null,null,null,"ZESMT","FOCUS EUROPA ST"]
[null,null,null,null,null,null,null,null,null,null,null,null,null,null,null,null,null,null,null,null,null,null,null,null,null,null,null,null,null,null,null,null,null,null,"ZESSS1","FOCUS EUROPA ST*"]
[null,null,null,null,null,null,null,null,null,null,null,null,null,null,null,null,null,null,null,null,null,null,null,null,null,null,null,null,null,null,null,null,null,null,"ZESSS6","FOCUS EUROPA ST"]
[null,null,null,null,null,null,null,null,null,null,null,null,null,null,null,null,null,null,null,null,null,null,null,null,null,null,null,null,null,null,null,null,null,null,"ZESSS8","FOCUS EUROPA ST"]
[null,null,null,null,null,null,null,null,null,null,null,null,null,null,null,null,null,null,null,null,null,null,null,null,null,null,null,null,null,null,null,null,null,null,"ZESSSS","FOCUS EUROPA ST"]
[null,null,null,null,null,null,null,null,null,null,null,null,null,null,null,null,null,null,null,null,null,null,null,null,null,null,null,null,null,null,null,null,null,null,"ZFA","FOCUS EUROPA SPORT TA 5 PTAS"]
[null,null,null,null,null,null,null,null,null,null,null,null,null,null,null,null,null,null,null,null,null,null,null,null,null,null,null,null,null,null,null,null,null,null,"ZFACA1","FOCUS EUROPA SPORT TA 5 PTAS"]
[null,null,null,null,null,null,null,null,null,null,null,null,null,null,null,null,null,null,null,null,null,null,null,null,null,null,null,null,null,null,null,null,null,null,"ZFAEM","FOCUS EUROPA SPORT TA 5 PTAS"]
[null,null,null,null,null,null,null,null,null,null,null,null,null,null,null,null,null,null,null,null,null,null,null,null,null,null,null,null,null,null,null,null,null,null,"ZFAES1","FOCUS EUROPA SPORT TA 5 PTAS"]
[null,null,null,null,null,null,null,null,null,null,null,null,null,null,null,null,null,null,null,null,null,null,null,null,null,null,null,null,null,null,null,null,null,null,"ZFAMT","FOCUS EUROPA SPORT TA 5 PTAS"]
[null,null,null,null,null,null,null,null,null,null,null,null,null,null,null,null,null,null,null,null,null,null,null,null,null,null,null,null,null,null,null,null,null,null,"ZFAPR","FOCUS EUROPA SPORT TA 5 PTAS"]
[null,null,null,null,null,null,null,null,null,null,null,null,null,null,null,null,null,null,null,null,null,null,null,null,null,null,null,null,null,null,null,null,null,null,"ZFAPR2","FOCUS EUROPA SPORT TA 5 PTAS"]
[null,null,null,null,null,null,null,null,null,null,null,null,null,null,null,null,null,null,null,null,null,null,null,null,null,null,null,null,null,null,null,null,null,null,"ZFASS7","FOCUS EUROPA SPORT TA 5 PTAS"]
[null,null,null,null,null,null,null,null,null,null,null,null,null,null,null,null,null,null,null,null,null,null,null,null,null,null,null,null,null,null,null,null,null,null,"ZFASS8","FOCUS EUROPA SPORT TA 5 PTAS"]
[null,null,null,null,null,null,null,null,null,null,null,null,null,null,null,null,null,null,null,null,null,null,null,null,null,null,null,null,null,null,null,null,null,null,"ZFBCA1","FOCUS EUROPA SPORT TM 5 PTAS"]
[null,null,null,null,null,null,null,null,null,null,null,null,null,null,null,null,null,null,null,null,null,null,null,null,null,null,null,null,null,null,null,null,null,null,"ZFBES1","FOCUS EUROPA ESPORT TM 5 PTAS"]
[null,null,null,null,null,null,null,null,null,null,null,null,null,null,null,null,null,null,null,null,null,null,null,null,null,null,null,null,null,null,null,null,null,null,"ZFBPR","FOCUS EUROPA SPORT TM 5 PTAS"]
[null,null,null,null,null,null,null,null,null,null,null,null,null,null,null,null,null,null,null,null,null,null,null,null,null,null,null,null,null,null,null,null,null,null,"ZLA","Focus LX Austero TA AA"]
[null,null,null,null,null,null,null,null,null,null,null,null,null,null,null,null,null,null,null,null,null,null,null,null,null,null,null,null,null,null,null,null,null,null,"ZLA1","Focus LX Austrero TA AA"]
[null,null,null,null,null,null,null,null,null,null,null,null,null,null,null,null,null,null,null,null,null,null,null,null,null,null,null,null,null,null,null,null,null,null,"ZLA23","Focus Base TA AA"]
[null,null,null,null,null,null,null,null,null,null,null,null,null,null,null,null,null,null,null,null,null,null,null,null,null,null,null,null,null,null,null,null,null,null,"ZLA24","Focus LX Austero TA AA"]
[null,null,null,null,null,null,null,null,null,null,null,null,null,null,null,null,null,null,null,null,null,null,null,null,null,null,null,null,null,null,null,null,null,null,"ZLA25","Focus LX Austero TA AA"]
[null,null,null,null,null,null,null,null,null,null,null,null,null,null,null,null,null,null,null,null,null,null,null,null,null,null,null,null,null,null,null,null,null,null,"ZLA26","Focus LX Base TA AA"]
[null,null,null,null,null,null,null,null,null,null,null,null,null,null,null,null,null,null,null,null,null,null,null,null,null,null,null,null,null,null,null,null,null,null,"ZLA27","Focus LX Base TA AA"]
[null,null,null,null,null,null,null,null,null,null,null,null,null,null,null,null,null,null,null,null,null,null,null,null,null,null,null,null,null,null,null,null,null,null,"ZLB","Focus LX Austero TM AA"]
[null,null,null,null,null,null,null,null,null,null,null,null,null,null,null,null,null,null,null,null,null,null,null,null,null,null,null,null,null,null,null,null,null,null,"ZLB1","Focus LX Austero TM  AA"]
[null,null,null,null,null,null,null,null,null,null,null,null,null,null,null,null,null,null,null,null,null,null,null,null,null,null,null,null,null,null,null,null,null,null,"ZLB23","Focus LX Base TM AA"]
[null,null,null,null,null,null,null,null,null,null,null,null,null,null,null,null,null,null,null,null,null,null,null,null,null,null,null,null,null,null,null,null,null,null,"ZLB24","Focus LX Base TM AA"]
[null,null,null,null,null,null,null,null,null,null,null,null,null,null,null,null,null,null,null,null,null,null,null,null,null,null,null,null,null,null,null,null,null,null,"ZLB25","Focus LX Austero TM AA"]
[null,null,null,null,null,null,null,null,null,null,null,null,null,null,null,null,null,null,null,null,null,null,null,null,null,null,null,null,null,null,null,null,null,null,"ZLB26","Focus LX Base TM AA"]
[null,null,null,null,null,null,null,null,null,null,null,null,null,null,null,null,null,null,null,null,null,null,null,null,null,null,null,null,null,null,null,null,null,null,"ZLB27","Focus LX Base TM AA"]
[null,null,null,null,null,null,null,null,null,null,null,null,null,null,null,null,null,null,null,null,null,null,null,null,null,null,null,null,null,null,null,null,null,null,"ZLE","Focus LX  Austero  TM AA"]
[null,null,null,null,null,null,null,null,null,null,null,null,null,null,null,null,null,null,null,null,null,null,null,null,null,null,null,null,null,null,null,null,null,null,"ZLE28","Focus LX Base TM AA"]
[null,null,null,null,null,null,null,null,null,null,null,null,null,null,null,null,null,null,null,null,null,null,null,null,null,null,null,null,null,null,null,null,null,null,"ZLE29","Focus LX Base TM AA"]
[null,null,null,null,null,null,null,null,null,null,null,null,null,null,null,null,null,null,null,null,null,null,null,null,null,null,null,null,null,null,null,null,null,null,"ZLE30","Focus LX Base TM AA"]
[null,null,null,null,null,null,null,null,null,null,null,null,null,null,null,null,null,null,null,null,null,null,null,null,null,null,null,null,null,null,null,null,null,null,"ZLE31","Focus LX Base TM AA"]
[null,null,null,null,null,null,null,null,null,null,null,null,null,null,null,null,null,null,null,null,null,null,null,null,null,null,null,null,null,null,null,null,null,null,"ZLE32","Focus LX Base TM AA"]
[null,null,null,null,null,null,null,null,null,null,null,null,null,null,null,null,null,null,null,null,null,null,null,null,null,null,null,null,null,null,null,null,null,null,"ZLE33","focus LX austero TM A/A"]
[null,null,null,null,null,null,null,null,null,null,null,null,null,null,null,null,null,null,null,null,null,null,null,null,null,null,null,null,null,null,null,null,null,null,"ZLF","Focus LX  Austero  TA AA"]
[null,null,null,null,null,null,null,null,null,null,null,null,null,null,null,null,null,null,null,null,null,null,null,null,null,null,null,null,null,null,null,null,null,null,"ZLF28","Focus LX Base TA AA"]
[null,null,null,null,null,null,null,null,null,null,null,null,null,null,null,null,null,null,null,null,null,null,null,null,null,null,null,null,null,null,null,null,null,null,"ZLF29","Focus LX Base TA AA"]
[null,null,null,null,null,null,null,null,null,null,null,null,null,null,null,null,null,null,null,null,null,null,null,null,null,null,null,null,null,null,null,null,null,null,"ZLF30","Focus LX Base TA AA"]
[null,null,null,null,null,null,null,null,null,null,null,null,null,null,null,null,null,null,null,null,null,null,null,null,null,null,null,null,null,null,null,null,null,null,"ZLF31","Focus LX Base TA AA"]
[null,null,null,null,null,null,null,null,null,null,null,null,null,null,null,null,null,null,null,null,null,null,null,null,null,null,null,null,null,null,null,null,null,null,"ZLF32","Focus LX Base TA AA"]
[null,null,null,null,null,null,null,null,null,null,null,null,null,null,null,null,null,null,null,null,null,null,null,null,null,null,null,null,null,null,null,null,null,null,"ZLF33","focus LX austero TA A/A"]
[null,null,null,null,null,null,null,null,null,null,null,null,null,null,null,null,null,null,null,null,null,null,null,null,null,null,null,null,null,null,null,null,null,null,"ZM","ZAFIRA M"]
[null,null,null,null,null,null,null,null,null,null,null,null,null,null,null,null,null,null,null,null,null,null,null,null,null,null,null,null,null,null,null,null,null,null,"ZN","ZAFIRA N"]
[null,null,null,null,null,null,null,null,null,null,null,null,null,null,null,null,null,null,null,null,null,null,null,null,null,null,null,null,null,null,null,null,null,null,"ZSA","Focus SE Tipico  TA"]
[null,null,null,null,null,null,null,null,null,null,null,null,null,null,null,null,null,null,null,null,null,null,null,null,null,null,null,null,null,null,null,null,null,null,"ZSA1","Focus SE Tipico TA"]
[null,null,null,null,null,null,null,null,null,null,null,null,null,null,null,null,null,null,null,null,null,null,null,null,null,null,null,null,null,null,null,null,null,null,"ZSB","Focus SE Tipico TM"]
[null,null,null,null,null,null,null,null,null,null,null,null,null,null,null,null,null,null,null,null,null,null,null,null,null,null,null,null,null,null,null,null,null,null,"ZSB1","Focus SE Tipico TM"]
[null,null,null,null,null,null,null,null,null,null,null,null,null,null,null,null,null,null,null,null,null,null,null,null,null,null,null,null,null,null,null,null,null,null,"ZSE","Focus SE Tipico TM"]
[null,null,null,null,null,null,null,null,null,null,null,null,null,null,null,null,null,null,null,null,null,null,null,null,null,null,null,null,null,null,null,null,null,null,"ZSE33","focus SE tipico TM"]
[null,null,null,null,null,null,null,null,null,null,null,null,null,null,null,null,null,null,null,null,null,null,null,null,null,null,null,null,null,null,null,null,null,null,"ZSF","Focus SE Tipico TA"]
[null,null,null,null,null,null,null,null,null,null,null,null,null,null,null,null,null,null,null,null,null,null,null,null,null,null,null,null,null,null,null,null,null,null,"ZSF33","focus SE tipico TA"]

{"sheet":"CP","index":1,"n_rows":145483,"n_cols":17,"rows_kept":4500,"cut":true,"hidden":true,"merged":[],"bounds":{"rows_first":2000,"rows_last":500,"rows_between":2000,"halvings":0}}
[null,null,"El Catálogo Nacional de Códigos Postales, es elaborado por Correos de México y se proporciona en forma gratuita para uso particular, no estando permitida su comercialización, total o parcial, ni su distribución a terceros bajo ningún concepto."]
["cp Trabajo","cp Domicilio","d_codigo","d_asenta","d_tipo_asenta","D_mnpio","d_estado","d_ciudad","d_CP","c_estado","c_oficina","c_CP","c_tipo_asenta","c_mnpio","id_asenta_cpcons","d_zona","c_cve_ciudad"]
[{"$f":"IF(C3=base!$AC$2,ROW()+1,\"\")","v":{"$error":"#REF!"}},{"$f":"IF(C3=base!$W$2,ROW()+1,\"\")","v":{"$error":"#REF!"}},1000,"San Ángel","Colonia","Álvaro Obregón","Distrito Federal","Ciudad de México",1001,9,1001,null,9,10,1,"Urbano",1]
[{"$f":"IF(C4=base!$AC$2,ROW()+1,\"\")","v":{"$error":"#REF!"}},{"$f":"IF(C4=base!$W$2,ROW()+1,\"\")","v":{"$error":"#REF!"}},1010,"Los Alpes","Colonia","Álvaro Obregón","Distrito Federal","Ciudad de México",1001,9,1001,null,9,10,5,"Urbano",1]
[{"$f":"IF(C5=base!$AC$2,ROW()+1,\"\")","v":{"$error":"#REF!"}},{"$f":"IF(C5=base!$W$2,ROW()+1,\"\")","v":{"$error":"#REF!"}},1020,"Guadalupe Inn","Colonia","Álvaro Obregón","Distrito Federal","Ciudad de México",1001,9,1001,null,9,10,6,"Urbano",1]
[{"$f":"IF(C6=base!$AC$2,ROW()+1,\"\")","v":{"$error":"#REF!"}},{"$f":"IF(C6=base!$W$2,ROW()+1,\"\")","v":{"$error":"#REF!"}},1028,"Secretaria de Contraloría y Desarrollo Administrativo","Gran usuario","Álvaro Obregón","Distrito Federal","Ciudad de México",1001,9,1001,null,22,10,7,"Urbano",1]
[{"$f":"IF(C7=base!$AC$2,ROW()+1,\"\")","v":{"$error":"#REF!"}},{"$f":"IF(C7=base!$W$2,ROW()+1,\"\")","v":{"$error":"#REF!"}},1029,"INFONAVIT","Gran usuario","Álvaro Obregón","Distrito Federal","Ciudad de México",1001,9,1001,null,22,10,8,"Urbano",1]
[{"$f":"IF(C8=base!$AC$2,ROW()+1,\"\")","v":{"$error":"#REF!"}},{"$f":"IF(C8=base!$W$2,ROW()+1,\"\")","v":{"$error":"#REF!"}},1030,"Florida","Colonia","Álvaro Obregón","Distrito Federal","Ciudad de México",1001,9,1001,null,9,10,10,"Urbano",1]
[{"$f":"IF(C9=base!$AC$2,ROW()+1,\"\")","v":{"$error":"#REF!"}},{"$f":"IF(C9=base!$W$2,ROW()+1,\"\")","v":{"$error":"#REF!"}},1030,"Axotla","Pueblo","Álvaro Obregón","Distrito Federal","Ciudad de México",1001,9,1001,null,28,10,9,"Urbano",1]
[{"$f":"IF(C10=base!$AC$2,ROW()+1,\"\")","v":{"$error":"#REF!"}},{"$f":"IF(C10=base!$W$2,ROW()+1,\"\")","v":{"$error":"#REF!"}},1040,"Campestre","Colonia","Álvaro Obregón","Distrito Federal","Ciudad de México",1001,9,1001,null,9,10,12,"Urbano",1]
[{"$f":"IF(C11=base!$AC$2,ROW()+1,\"\")","v":{"$error":"#REF!"}},{"$f":"IF(C11=base!$W$2,ROW()+1,\"\")","v":{"$error":"#REF!"}},1048,"Las Águilas","Unidad habitacional","Álvaro Obregón","Distrito Federal","Ciudad de México",1001,9,1001,null,31,10,13,"Urbano",1]
[{"$f":"IF(C12=base!$AC$2,ROW()+1,\"\")","v":{"$error":"#REF!"}},{"$f":"IF(C12=base!$W$2,ROW()+1,\"\")","v":{"$error":"#REF!"}},1049,"Tlacopac","Pueblo","Álvaro Obregón","Distrito Federal","Ciudad de México",1001,9,1001,null,28,10,14,"Urbano",1]
[{"$f":"IF(C13=base!$AC$2,ROW()+1,\"\")","v":{"$error":"#REF!"}},{"$f":"IF(C13=base!$W$2,ROW()+1,\"\")","v":{"$error":"#REF!"}},1050,"Ex-Hacienda de Guadalupe Chimalistac","Colonia","Álvaro Obregón","Distrito Federal","Ciudad de México",1001,9,1001,null,9,10,16,"Urbano",1]
[{"$f":"IF(C14=base!$AC$2,ROW()+1,\"\")","v":{"$error":"#REF!"}},{"$f":"IF(C14=base!$W$2,ROW()+1,\"\")","v":{"$error":"#REF!"}},1060,"Altavista","Colonia","Álvaro Obregón","Distrito Federal","Ciudad de México",1001,9,1001,null,9,10,17,"Urbano",1]
[{"$f":"IF(C15=base!$AC$2,ROW()+1,\"\")","v":{"$error":"#REF!"}},{"$f":"IF(C15=base!$W$2,ROW()+1,\"\")","v":{"$error":"#REF!"}},1060,"San Ángel Inn","Colonia","Álvaro Obregón","Distrito Federal","Ciudad de México",1001,9,1001,null,9,10,18,"Urbano",1]
[{"$f":"IF(C16=base!$AC$2,ROW()+1,\"\")","v":{"$error":"#REF!"}},{"$f":"IF(C16=base!$W$2,ROW()+1,\"\")","v":{"$error":"#REF!"}},1070,"Chimalistac","Colonia","Álvaro Obregón","Distrito Federal","Ciudad de México",1001,9,1001,null,9,10,19,"Urbano",1]
[{"$f":"IF(C17=base!$AC$2,ROW()+1,\"\")","v":{"$error":"#REF!"}},{"$f":"IF(C17=base!$W$2,ROW()+1,\"\")","v":{"$error":"#REF!"}},1080,"Progreso Tizapan","Colonia","Álvaro Obregón","Distrito Federal","Ciudad de México",1001,9,1001,null,9,10,22,"Urbano",1]
[{"$f":"IF(C18=base!$AC$2,ROW()+1,\"\")","v":{"$error":"#REF!"}},{"$f":"IF(C18=base!$W$2,ROW()+1,\"\")","v":{"$error":"#REF!"}},1089,"Ermita Tizapan","Colonia","Álvaro Obregón","Distrito Federal","Ciudad de México",1001,9,1001,null,9,10,24,"Urbano",1]
[{"$f":"IF(C19=base!$AC$2,ROW()+1,\"\")","v":{"$error":"#REF!"}},{"$f":"IF(C19=base!$W$2,ROW()+1,\"\")","v":{"$error":"#REF!"}},1090,"Tizapan","Pueblo","Álvaro Obregón","Distrito Federal","Ciudad de México",1001,9,1001,null,28,10,28,"Urbano",1]
[{"$f":"IF(C20=base!$AC$2,ROW()+1,\"\")","v":{"$error":"#REF!"}},{"$f":"IF(C20=base!$W$2,ROW()+1,\"\")","v":{"$error":"#REF!"}},1090,"Loreto","Barrio","Álvaro Obregón","Distrito Federal","Ciudad de México",1001,9,1001,null,2,10,26,"Urbano",1]
[{"$f":"IF(C21=base!$AC$2,ROW()+1,\"\")","v":{"$error":"#REF!"}},{"$f":"IF(C21=base!$W$2,ROW()+1,\"\")","v":{"$error":"#REF!"}},1090,"La Otra Banda","Barrio","Álvaro Obregón","Distrito Federal","Ciudad de México",1001,9,1001,null,2,10,25,"Urbano",1]
[{"$f":"IF(C22=base!$AC$2,ROW()+1,\"\")","v":{"$error":"#REF!"}},{"$f":"IF(C22=base!$W$2,ROW()+1,\"\")","v":{"$error":"#REF!"}},1100,"Pólvora","Colonia","Álvaro Obregón","Distrito Federal","Ciudad de México",1131,9,1131,null,9,10,31,"Urbano",1]
[{"$f":"IF(C23=base!$AC$2,ROW()+1,\"\")","v":{"$error":"#REF!"}},{"$f":"IF(C23=base!$W$2,ROW()+1,\"\")","v":{"$error":"#REF!"}},1100,"Lomas de Santo Domingo","Unidad habitacional","Álvaro Obregón","Distrito Federal","Ciudad de México",1131,9,1131,null,31,10,29,"Urbano",1]
[{"$f":"IF(C24=base!$AC$2,ROW()+1,\"\")","v":{"$error":"#REF!"}},{"$f":"IF(C24=base!$W$2,ROW()+1,\"\")","v":{"$error":"#REF!"}},1109,"La Conchita","Colonia","Álvaro Obregón","Distrito Federal","Ciudad de México",1131,9,1131,null,9,10,33,"Urbano",1]
[{"$f":"IF(C25=base!$AC$2,ROW()+1,\"\")","v":{"$error":"#REF!"}},{"$f":"IF(C25=base!$W$2,ROW()+1,\"\")","v":{"$error":"#REF!"}},1110,"Belém de las Flores","Colonia","Álvaro Obregón","Distrito Federal","Ciudad de México",1131,9,1131,null,9,10,34,"Urbano",1]
[{"$f":"IF(C26=base!$AC$2,ROW()+1,\"\")","v":{"$error":"#REF!"}},{"$f":"IF(C26=base!$W$2,ROW()+1,\"\")","v":{"$error":"#REF!"}},1110,"Ampliación El Capulín","Colonia","Álvaro Obregón","Distrito Federal","Ciudad de México",1131,9,1131,null,9,10,37,"Urbano",1]
[{"$f":"IF(C27=base!$AC$2,ROW()+1,\"\")","v":{"$error":"#REF!"}},{"$f":"IF(C27=base!$W$2,ROW()+1,\"\")","v":{"$error":"#REF!"}},1110,"El Capulín","Colonia","Álvaro Obregón","Distrito Federal","Ciudad de México",1131,9,1131,null,9,10,36,"Urbano",1]
[{"$f":"IF(C28=base!$AC$2,ROW()+1,\"\")","v":{"$error":"#REF!"}},{"$f":"IF(C28=base!$W$2,ROW()+1,\"\")","v":{"$error":"#REF!"}},1110,"Liberales de 1857","Colonia","Álvaro Obregón","Distrito Federal","Ciudad de México",1131,9,1131,null,9,10,39,"Urbano",1]
[{"$f":"IF(C29=base!$AC$2,ROW()+1,\"\")","v":{"$error":"#REF!"}},{"$f":"IF(C29=base!$W$2,ROW()+1,\"\")","v":{"$error":"#REF!"}},1116,"Secretaria de la Policia Federal Preventiva","Gran usuario","Álvaro Obregón","Distrito Federal","Ciudad de México",1131,9,1131,null,22,10,41,"Urbano",1]
[{"$f":"IF(C30=base!$AC$2,ROW()+1,\"\")","v":{"$error":"#REF!"}},{"$f":"IF(C30=base!$W$2,ROW()+1,\"\")","v":{"$error":"#REF!"}},1120,"Las Américas","Colonia","Álvaro Obregón","Distrito Federal","Ciudad de México",1131,9,1131,null,9,10,47,"Urbano",1]
[{"$f":"IF(C31=base!$AC$2,ROW()+1,\"\")","v":{"$error":"#REF!"}},{"$f":"IF(C31=base!$W$2,ROW()+1,\"\")","v":{"$error":"#REF!"}},1120,"Acueducto","Colonia","Álvaro Obregón","Distrito Federal","Ciudad de México",1131,9,1131,null,9,10,42,"Urbano",1]
[{"$f":"IF(C32=base!$AC$2,ROW()+1,\"\")","v":{"$error":"#REF!"}},{"$f":"IF(C32=base!$W$2,ROW()+1,\"\")","v":{"$error":"#REF!"}},1120,"Hidalgo","Colonia","Álvaro Obregón","Distrito Federal","Ciudad de México",1131,9,1131,null,9,10,46,"Urbano",1]
[{"$f":"IF(C33=base!$AC$2,ROW()+1,\"\")","v":{"$error":"#REF!"}},{"$f":"IF(C33=base!$W$2,ROW()+1,\"\")","v":{"$error":"#REF!"}},1120,"Cove","Colonia","Álvaro Obregón","Distrito Federal","Ciudad de México",1131,9,1131,null,9,10,44,"Urbano",1]
[{"$f":"IF(C34=base!$AC$2,ROW()+1,\"\")","v":{"$error":"#REF!"}},{"$f":"IF(C34=base!$W$2,ROW()+1,\"\")","v":{"$error":"#REF!"}},1120,"Sears Roebuck","Unidad habitacional","Álvaro Obregón","Distrito Federal","Ciudad de México",1131,9,1131,null,31,10,50,"Urbano",1]
[{"$f":"IF(C35=base!$AC$2,ROW()+1,\"\")","v":{"$error":"#REF!"}},{"$f":"IF(C35=base!$W$2,ROW()+1,\"\")","v":{"$error":"#REF!"}},1125,"Ampliación Acueducto","Colonia","Álvaro Obregón","Distrito Federal","Ciudad de México",1131,9,1131,null,9,10,43,"Urbano",1]
[{"$f":"IF(C36=base!$AC$2,ROW()+1,\"\")","v":{"$error":"#REF!"}},{"$f":"IF(C36=base!$W$2,ROW()+1,\"\")","v":{"$error":"#REF!"}},1130,"Molino de Santo Domingo","Colonia","Álvaro Obregón","Distrito Federal","Ciudad de México",1131,9,1131,null,9,10,53,"Urbano",1]
[{"$f":"IF(C37=base!$AC$2,ROW()+1,\"\")","v":{"$error":"#REF!"}},{"$f":"IF(C37=base!$W$2,ROW()+1,\"\")","v":{"$error":"#REF!"}},1130,"Molino de Santo Domingo","Unidad habitacional","Álvaro Obregón","Distrito Federal","Ciudad de México",1131,9,1131,null,31,10,54,"Urbano",1]
[{"$f":"IF(C38=base!$AC$2,ROW()+1,\"\")","v":{"$error":"#REF!"}},{"$f":"IF(C38=base!$W$2,ROW()+1,\"\")","v":{"$error":"#REF!"}},1130,"Paraíso","Colonia","Álvaro Obregón","Distrito Federal","Ciudad de México",1131,9,1131,null,9,10,52,"Urbano",1]
[{"$f":"IF(C39=base!$AC$2,ROW()+1,\"\")","v":{"$error":"#REF!"}},{"$f":"IF(C39=base!$W$2,ROW()+1,\"\")","v":{"$error":"#REF!"}},1130,"Real del Monte","Colonia","Álvaro Obregón","Distrito Federal","Ciudad de México",1131,9,1131,null,9,10,56,"Urbano",1]
[{"$f":"IF(C40=base!$AC$2,ROW()+1,\"\")","v":{"$error":"#REF!"}},{"$f":"IF(C40=base!$W$2,ROW()+1,\"\")","v":{"$error":"#REF!"}},1139,"Reacomodo Pino Suárez","Colonia","Álvaro Obregón","Distrito Federal","Ciudad de México",1131,9,1131,null,9,10,58,"Urbano",1]
[{"$f":"IF(C41=base!$AC$2,ROW()+1,\"\")","v":{"$error":"#REF!"}},{"$f":"IF(C41=base!$W$2,ROW()+1,\"\")","v":{"$error":"#REF!"}},1140,"Bellavista","Colonia","Álvaro Obregón","Distrito Federal","Ciudad de México",1131,9,1131,null,9,10,59,"Urbano",1]
[{"$f":"IF(C42=base!$AC$2,ROW()+1,\"\")","v":{"$error":"#REF!"}},{"$f":"IF(C42=base!$W$2,ROW()+1,\"\")","v":{"$error":"#REF!"}},1140,"José Maria Pino Suárez","Colonia","Álvaro Obregón","Distrito Federal","Ciudad de México",1131,9,1131,null,9,10,60,"Urbano",1]
[{"$f":"IF(C43=base!$AC$2,ROW()+1,\"\")","v":{"$error":"#REF!"}},{"$f":"IF(C43=base!$W$2,ROW()+1,\"\")","v":{"$error":"#REF!"}},1150,"Tolteca","Colonia","Álvaro Obregón","Distrito Federal","Ciudad de México",1131,9,1131,null,9,10,64,"Urbano",1]
[{"$f":"IF(C44=base!$AC$2,ROW()+1,\"\")","v":{"$error":"#REF!"}},{"$f":"IF(C44=base!$W$2,ROW()+1,\"\")","v":{"$error":"#REF!"}},1150,"Cristo Rey","Colonia","Álvaro Obregón","Distrito Federal","Ciudad de México",1131,9,1131,null,9,10,63,"Urbano",1]
[{"$f":"IF(C45=base!$AC$2,ROW()+1,\"\")","v":{"$error":"#REF!"}},{"$f":"IF(C45=base!$W$2,ROW()+1,\"\")","v":{"$error":"#REF!"}},1159,"Delegación Política Álvaro Obregón","Gran usuario","Álvaro Obregón","Distrito Federal","Ciudad de México",1131,9,1131,null,22,10,65,"Urbano",1]
[{"$f":"IF(C46=base!$AC$2,ROW()+1,\"\")","v":{"$error":"#REF!"}},{"$f":"IF(C46=base!$W$2,ROW()+1,\"\")","v":{"$error":"#REF!"}},1160,"Isidro Fabela","Colonia","Álvaro Obregón","Distrito Federal","Ciudad de México",1131,9,1131,null,9,10,67,"Urbano",1]
[{"$f":"IF(C47=base!$AC$2,ROW()+1,\"\")","v":{"$error":"#REF!"}},{"$f":"IF(C47=base!$W$2,ROW()+1,\"\")","v":{"$error":"#REF!"}},1160,"Bosque","Colonia","Álvaro Obregón","Distrito Federal","Ciudad de México",1131,9,1131,null,9,10,66,"Urbano",1]
[{"$f":"IF(C48=base!$AC$2,ROW()+1,\"\")","v":{"$error":"#REF!"}},{"$f":"IF(C48=base!$W$2,ROW()+1,\"\")","v":{"$error":"#REF!"}},1160,"Maria G. de García Ruiz","Colonia","Álvaro Obregón","Distrito Federal","Ciudad de México",1131,9,1131,null,9,10,68,"Urbano",1]
[{"$f":"IF(C49=base!$AC$2,ROW()+1,\"\")","v":{"$error":"#REF!"}},{"$f":"IF(C49=base!$W$2,ROW()+1,\"\")","v":{"$error":"#REF!"}},1160,"1a Victoria","Colonia","Álvaro Obregón","Distrito Federal","Ciudad de México",1131,9,1131,null,9,10,69,"Urbano",1]
[{"$f":"IF(C50=base!$AC$2,ROW()+1,\"\")","v":{"$error":"#REF!"}},{"$f":"IF(C50=base!$W$2,ROW()+1,\"\")","v":{"$error":"#REF!"}},1170,"Abraham M. González","Colonia","Álvaro Obregón","Distrito Federal","Ciudad de México",1131,9,1131,null,9,10,74,"Urbano",1]
[{"$f":"IF(C51=base!$AC$2,ROW()+1,\"\")","v":{"$error":"#REF!"}},{"$f":"IF(C51=base!$W$2,ROW()+1,\"\")","v":{"$error":"#REF!"}},1170,"Santa Fe IMSS","Unidad habitacional","Álvaro Obregón","Distrito Federal","Ciudad de México",1131,9,1131,null,31,10,75,"Urbano",1]
[{"$f":"IF(C52=base!$AC$2,ROW()+1,\"\")","v":{"$error":"#REF!"}},{"$f":"IF(C52=base!$W$2,ROW()+1,\"\")","v":{"$error":"#REF!"}},1180,"San Pedro de los Pinos","Colonia","Álvaro Obregón","Distrito Federal","Ciudad de México",1131,9,1131,null,9,10,78,"Urbano",1]
[{"$f":"IF(C53=base!$AC$2,ROW()+1,\"\")","v":{"$error":"#REF!"}},{"$f":"IF(C53=base!$W$2,ROW()+1,\"\")","v":{"$error":"#REF!"}},1180,"Carola","Colonia","Álvaro Obregón","Distrito Federal","Ciudad de México",1131,9,1131,null,9,10,76,"Urbano",1]
[{"$f":"IF(C54=base!$AC$2,ROW()+1,\"\")","v":{"$error":"#REF!"}},{"$f":"IF(C54=base!$W$2,ROW()+1,\"\")","v":{"$error":"#REF!"}},1180,"8 de Agosto","Colonia","Álvaro Obregón","Distrito Federal","Ciudad de México",1131,9,1131,null,9,10,77,"Urbano",1]
[{"$f":"IF(C55=base!$AC$2,ROW()+1,\"\")","v":{"$error":"#REF!"}},{"$f":"IF(C55=base!$W$2,ROW()+1,\"\")","v":{"$error":"#REF!"}},1184,"Nelli Campo Bello","Unidad habitacional","Álvaro Obregón","Distrito Federal","Ciudad de México",1131,9,1131,null,31,10,2720,"Urbano",1]
[{"$f":"IF(C56=base!$AC$2,ROW()+1,\"\")","v":{"$error":"#REF!"}},{"$f":"IF(C56=base!$W$2,ROW()+1,\"\")","v":{"$error":"#REF!"}},1200,"Arturo Martínez","Colonia","Álvaro Obregón","Distrito Federal","Ciudad de México",1291,9,1291,null,9,10,79,"Urbano",1]
[{"$f":"IF(C57=base!$AC$2,ROW()+1,\"\")","v":{"$error":"#REF!"}},{"$f":"IF(C57=base!$W$2,ROW()+1,\"\")","v":{"$error":"#REF!"}},1209,"Belén","Unidad habitacional","Álvaro Obregón","Distrito Federal","Ciudad de México",1291,9,1291,null,31,10,80,"Urbano",1]
[{"$f":"IF(C58=base!$AC$2,ROW()+1,\"\")","v":{"$error":"#REF!"}},{"$f":"IF(C58=base!$W$2,ROW()+1,\"\")","v":{"$error":"#REF!"}},1210,"Santa Fe","Pueblo","Álvaro Obregón","Distrito Federal","Ciudad de México",1291,9,1291,null,28,10,82,"Urbano",1]
[{"$f":"IF(C59=base!$AC$2,ROW()+1,\"\")","v":{"$error":"#REF!"}},{"$f":"IF(C59=base!$W$2,ROW()+1,\"\")","v":{"$error":"#REF!"}},1219,"Lomas de Santa Fe","Colonia","Álvaro Obregón","Distrito Federal","Ciudad de México",1291,9,1291,null,9,10,84,"Urbano",1]
[{"$f":"IF(C60=base!$AC$2,ROW()+1,\"\")","v":{"$error":"#REF!"}},{"$f":"IF(C60=base!$W$2,ROW()+1,\"\")","v":{"$error":"#REF!"}},1220,"Bonanza","Colonia","Álvaro Obregón","Distrito Federal","Ciudad de México",1291,9,1291,null,9,10,85,"Urbano",1]
[{"$f":"IF(C61=base!$AC$2,ROW()+1,\"\")","v":{"$error":"#REF!"}},{"$f":"IF(C61=base!$W$2,ROW()+1,\"\")","v":{"$error":"#REF!"}},1220,"Cuevitas","Colonia","Álvaro Obregón","Distrito Federal","Ciudad de México",1291,9,1291,null,9,10,86,"Urbano",1]
[{"$f":"IF(C62=base!$AC$2,ROW()+1,\"\")","v":{"$error":"#REF!"}},{"$f":"IF(C62=base!$W$2,ROW()+1,\"\")","v":{"$error":"#REF!"}},1220,"La Estrella","Colonia","Álvaro Obregón","Distrito Federal","Ciudad de México",1291,9,1291,null,9,10,2681,"Urbano",1]
[{"$f":"IF(C63=base!$AC$2,ROW()+1,\"\")","v":{"$error":"#REF!"}},{"$f":"IF(C63=base!$W$2,ROW()+1,\"\")","v":{"$error":"#REF!"}},1220,"Mártires de Tacubaya","Colonia","Álvaro Obregón","Distrito Federal","Ciudad de México",1291,9,1291,null,9,10,89,"Urbano",1]
[{"$f":"IF(C64=base!$AC$2,ROW()+1,\"\")","v":{"$error":"#REF!"}},{"$f":"IF(C64=base!$W$2,ROW()+1,\"\")","v":{"$error":"#REF!"}},1220,"El Cuernito","Colonia","Álvaro Obregón","Distrito Federal","Ciudad de México",1291,9,1291,null,9,10,87,"Urbano",1]
[{"$f":"IF(C65=base!$AC$2,ROW()+1,\"\")","v":{"$error":"#REF!"}},{"$f":"IF(C65=base!$W$2,ROW()+1,\"\")","v":{"$error":"#REF!"}},1220,"Zenón Delgado","Colonia","Álvaro Obregón","Distrito Federal","Ciudad de México",1291,9,1291,null,9,10,90,"Urbano",1]
[{"$f":"IF(C66=base!$AC$2,ROW()+1,\"\")","v":{"$error":"#REF!"}},{"$f":"IF(C66=base!$W$2,ROW()+1,\"\")","v":{"$error":"#REF!"}},1230,"Campo de Tiro los Gamitos","Colonia","Álvaro Obregón","Distrito Federal","Ciudad de México",1291,9,1291,null,9,10,92,"Urbano",1]
[{"$f":"IF(C67=base!$AC$2,ROW()+1,\"\")","v":{"$error":"#REF!"}},{"$f":"IF(C67=base!$W$2,ROW()+1,\"\")","v":{"$error":"#REF!"}},1230,"Los Gamitos","Colonia","Álvaro Obregón","Distrito Federal","Ciudad de México",1291,9,1291,null,9,10,97,"Urbano",1]
[{"$f":"IF(C68=base!$AC$2,ROW()+1,\"\")","v":{"$error":"#REF!"}},{"$f":"IF(C68=base!$W$2,ROW()+1,\"\")","v":{"$error":"#REF!"}},1230,"Tlapechico","Colonia","Álvaro Obregón","Distrito Federal","Ciudad de México",1291,9,1291,null,9,10,98,"Urbano",1]
[{"$f":"IF(C69=base!$AC$2,ROW()+1,\"\")","v":{"$error":"#REF!"}},{"$f":"IF(C69=base!$W$2,ROW()+1,\"\")","v":{"$error":"#REF!"}},1230,"El Piru Santa Fe","Colonia","Álvaro Obregón","Distrito Federal","Ciudad de México",1291,9,1291,null,9,10,132,"Urbano",1]
[{"$f":"IF(C70=base!$AC$2,ROW()+1,\"\")","v":{"$error":"#REF!"}},{"$f":"IF(C70=base!$W$2,ROW()+1,\"\")","v":{"$error":"#REF!"}},1230,"El Piru 2a Ampliación","Colonia","Álvaro Obregón","Distrito Federal","Ciudad de México",1291,9,1291,null,9,10,224,"Urbano",1]
[{"$f":"IF(C71=base!$AC$2,ROW()+1,\"\")","v":{"$error":"#REF!"}},{"$f":"IF(C71=base!$W$2,ROW()+1,\"\")","v":{"$error":"#REF!"}},1239,"La Huerta","Colonia","Álvaro Obregón","Distrito Federal","Ciudad de México",1291,9,1291,null,9,10,102,"Urbano",1]
[{"$f":"IF(C72=base!$AC$2,ROW()+1,\"\")","v":{"$error":"#REF!"}},{"$f":"IF(C72=base!$W$2,ROW()+1,\"\")","v":{"$error":"#REF!"}},1240,"Pueblo Nuevo","Colonia","Álvaro Obregón","Distrito Federal","Ciudad de México",1291,9,1291,null,9,10,103,"Urbano",1]
[{"$f":"IF(C73=base!$AC$2,ROW()+1,\"\")","v":{"$error":"#REF!"}},{"$f":"IF(C73=base!$W$2,ROW()+1,\"\")","v":{"$error":"#REF!"}},1250,"Margarita Maza de Juárez","Colonia","Álvaro Obregón","Distrito Federal","Ciudad de México",1291,9,1291,null,9,10,107,"Urbano",1]
[{"$f":"IF(C74=base!$AC$2,ROW()+1,\"\")","v":{"$error":"#REF!"}},{"$f":"IF(C74=base!$W$2,ROW()+1,\"\")","v":{"$error":"#REF!"}},1250,"Lomas de Nuevo México","Colonia","Álvaro Obregón","Distrito Federal","Ciudad de México",1291,9,1291,null,9,10,106,"Urbano",1]
[{"$f":"IF(C75=base!$AC$2,ROW()+1,\"\")","v":{"$error":"#REF!"}},{"$f":"IF(C75=base!$W$2,ROW()+1,\"\")","v":{"$error":"#REF!"}},1250,"El Árbol","Colonia","Álvaro Obregón","Distrito Federal","Ciudad de México",1291,9,1291,null,9,10,104,"Urbano",1]
[{"$f":"IF(C76=base!$AC$2,ROW()+1,\"\")","v":{"$error":"#REF!"}},{"$f":"IF(C76=base!$W$2,ROW()+1,\"\")","v":{"$error":"#REF!"}},1250,"Ladera","Colonia","Álvaro Obregón","Distrito Federal","Ciudad de México",1291,9,1291,null,9,10,105,"Urbano",1]
[{"$f":"IF(C77=base!$AC$2,ROW()+1,\"\")","v":{"$error":"#REF!"}},{"$f":"IF(C77=base!$W$2,ROW()+1,\"\")","v":{"$error":"#REF!"}},1250,"Tecolalco","Colonia","Álvaro Obregón","Distrito Federal","Ciudad de México",1291,9,1291,null,9,10,108,"Urbano",1]
[{"$f":"IF(C78=base!$AC$2,ROW()+1,\"\")","v":{"$error":"#REF!"}},{"$f":"IF(C78=base!$W$2,ROW()+1,\"\")","v":{"$error":"#REF!"}},1259,"La Mexicana 2a Ampliación","Colonia","Álvaro Obregón","Distrito Federal","Ciudad de México",1291,9,1291,null,9,10,2845,"Urbano",1]
[{"$f":"IF(C79=base!$AC$2,ROW()+1,\"\")","v":{"$error":"#REF!"}},{"$f":"IF(C79=base!$W$2,ROW()+1,\"\")","v":{"$error":"#REF!"}},1259,"Ampliación La Cebada","Colonia","Álvaro Obregón","Distrito Federal","Ciudad de México",1291,9,1291,null,9,10,109,"Urbano",1]
[{"$f":"IF(C80=base!$AC$2,ROW()+1,\"\")","v":{"$error":"#REF!"}},{"$f":"IF(C80=base!$W$2,ROW()+1,\"\")","v":{"$error":"#REF!"}},1260,"Liberación Proletaria","Colonia","Álvaro Obregón","Distrito Federal","Ciudad de México",1291,9,1291,null,9,10,115,"Urbano",1]
[{"$f":"IF(C81=base!$AC$2,ROW()+1,\"\")","v":{"$error":"#REF!"}},{"$f":"IF(C81=base!$W$2,ROW()+1,\"\")","v":{"$error":"#REF!"}},1260,"Ampliación La Mexicana","Colonia","Álvaro Obregón","Distrito Federal","Ciudad de México",1291,9,1291,null,9,10,113,"Urbano",1]
[{"$f":"IF(C82=base!$AC$2,ROW()+1,\"\")","v":{"$error":"#REF!"}},{"$f":"IF(C82=base!$W$2,ROW()+1,\"\")","v":{"$error":"#REF!"}},1260,"La Mexicana","Colonia","Álvaro Obregón","Distrito Federal","Ciudad de México",1291,9,1291,null,9,10,112,"Urbano",1]
[{"$f":"IF(C83=base!$AC$2,ROW()+1,\"\")","v":{"$error":"#REF!"}},{"$f":"IF(C83=base!$W$2,ROW()+1,\"\")","v":{"$error":"#REF!"}},1260,"La Palmita","Colonia","Álvaro Obregón","Distrito Federal","Ciudad de México",1291,9,1291,null,9,10,114,"Urbano",1]
[{"$f":"IF(C84=base!$AC$2,ROW()+1,\"\")","v":{"$error":"#REF!"}},{"$f":"IF(C84=base!$W$2,ROW()+1,\"\")","v":{"$error":"#REF!"}},1260,"Calzada Jalalpa","Colonia","Álvaro Obregón","Distrito Federal","Ciudad de México",1291,9,1291,null,9,10,110,"Urbano",1]
[{"$f":"IF(C85=base!$AC$2,ROW()+1,\"\")","v":{"$error":"#REF!"}},{"$f":"IF(C85=base!$W$2,ROW()+1,\"\")","v":{"$error":"#REF!"}},1269,"1a Sección Cañada","Colonia","Álvaro Obregón","Distrito Federal","Ciudad de México",1291,9,1291,null,9,10,117,"Urbano",1]
[{"$f":"IF(C86=base!$AC$2,ROW()+1,\"\")","v":{"$error":"#REF!"}},{"$f":"IF(C86=base!$W$2,ROW()+1,\"\")","v":{"$error":"#REF!"}},1269,"2a Sección Cañada","Colonia","Álvaro Obregón","Distrito Federal","Ciudad de México",1291,9,1291,null,9,10,118,"Urbano",1]
[{"$f":"IF(C87=base!$AC$2,ROW()+1,\"\")","v":{"$error":"#REF!"}},{"$f":"IF(C87=base!$W$2,ROW()+1,\"\")","v":{"$error":"#REF!"}},1270,"Golondrinas","Colonia","Álvaro Obregón","Distrito Federal","Ciudad de México",1291,9,1291,null,9,10,123,"Urbano",1]
[{"$f":"IF(C88=base!$AC$2,ROW()+1,\"\")","v":{"$error":"#REF!"}},{"$f":"IF(C88=base!$W$2,ROW()+1,\"\")","v":{"$error":"#REF!"}},1270,"Golondrinas 2a Sección","Colonia","Álvaro Obregón","Distrito Federal","Ciudad de México",1291,9,1291,null,9,10,125,"Urbano",1]
[{"$f":"IF(C89=base!$AC$2,ROW()+1,\"\")","v":{"$error":"#REF!"}},{"$f":"IF(C89=base!$W$2,ROW()+1,\"\")","v":{"$error":"#REF!"}},1270,"La Presa","Colonia","Álvaro Obregón","Distrito Federal","Ciudad de México",1291,9,1291,null,9,10,121,"Urbano",1]
[{"$f":"IF(C90=base!$AC$2,ROW()+1,\"\")","v":{"$error":"#REF!"}},{"$f":"IF(C90=base!$W$2,ROW()+1,\"\")","v":{"$error":"#REF!"}},1270,"El Tejocote","Colonia","Álvaro Obregón","Distrito Federal","Ciudad de México",1291,9,1291,null,9,10,120,"Urbano",1]
[{"$f":"IF(C91=base!$AC$2,ROW()+1,\"\")","v":{"$error":"#REF!"}},{"$f":"IF(C91=base!$W$2,ROW()+1,\"\")","v":{"$error":"#REF!"}},1270,"Lomas de Capula","Colonia","Álvaro Obregón","Distrito Federal","Ciudad de México",1291,9,1291,null,9,10,127,"Urbano",1]
[{"$f":"IF(C92=base!$AC$2,ROW()+1,\"\")","v":{"$error":"#REF!"}},{"$f":"IF(C92=base!$W$2,ROW()+1,\"\")","v":{"$error":"#REF!"}},1270,"Golondrinas 1a Sección","Colonia","Álvaro Obregón","Distrito Federal","Ciudad de México",1291,9,1291,null,9,10,124,"Urbano",1]
[{"$f":"IF(C93=base!$AC$2,ROW()+1,\"\")","v":{"$error":"#REF!"}},{"$f":"IF(C93=base!$W$2,ROW()+1,\"\")","v":{"$error":"#REF!"}},1275,"Villa Solidaridad","Colonia","Álvaro Obregón","Distrito Federal","Ciudad de México",1291,9,1291,null,9,10,131,"Urbano",1]
[{"$f":"IF(C94=base!$AC$2,ROW()+1,\"\")","v":{"$error":"#REF!"}},{"$f":"IF(C94=base!$W$2,ROW()+1,\"\")","v":{"$error":"#REF!"}},1276,"El Pirul","Colonia","Álvaro Obregón","Distrito Federal","Ciudad de México",1291,9,1291,null,9,10,93,"Urbano",1]
[{"$f":"IF(C95=base!$AC$2,ROW()+1,\"\")","v":{"$error":"#REF!"}},{"$f":"IF(C95=base!$W$2,ROW()+1,\"\")","v":{"$error":"#REF!"}},1278,"Desarrollo Urbano","Colonia","Álvaro Obregón","Distrito Federal","Ciudad de México",1291,9,1291,null,9,10,133,"Urbano",1]
[{"$f":"IF(C96=base!$AC$2,ROW()+1,\"\")","v":{"$error":"#REF!"}},{"$f":"IF(C96=base!$W$2,ROW()+1,\"\")","v":{"$error":"#REF!"}},1279,"Lomas de Becerra","Colonia","Álvaro Obregón","Distrito Federal","Ciudad de México",1291,9,1291,null,9,10,136,"Urbano",1]
[{"$f":"IF(C97=base!$AC$2,ROW()+1,\"\")","v":{"$error":"#REF!"}},{"$f":"IF(C97=base!$W$2,ROW()+1,\"\")","v":{"$error":"#REF!"}},1280,"El Pocito","Colonia","Álvaro Obregón","Distrito Federal","Ciudad de México",1291,9,1291,null,9,10,139,"Urbano",1]
[{"$f":"IF(C98=base!$AC$2,ROW()+1,\"\")","v":{"$error":"#REF!"}},{"$f":"IF(C98=base!$W$2,ROW()+1,\"\")","v":{"$error":"#REF!"}},1280,"Francisco Villa","Colonia","Álvaro Obregón","Distrito Federal","Ciudad de México",1291,9,1291,null,9,10,140,"Urbano",1]
[{"$f":"IF(C99=base!$AC$2,ROW()+1,\"\")","v":{"$error":"#REF!"}},{"$f":"IF(C99=base!$W$2,ROW()+1,\"\")","v":{"$error":"#REF!"}},1280,"Lomas de Becerra","Unidad habitacional","Álvaro Obregón","Distrito Federal","Ciudad de México",1291,9,1291,null,31,10,143,"Urbano",1]
[{"$f":"IF(C100=base!$AC$2,ROW()+1,\"\")","v":{"$error":"#REF!"}},{"$f":"IF(C100=base!$W$2,ROW()+1,\"\")","v":{"$error":"#REF!"}},1280,"Arvide","Colonia","Álvaro Obregón","Distrito Federal","Ciudad de México",1291,9,1291,null,9,10,138,"Urbano",1]
[{"$f":"IF(C101=base!$AC$2,ROW()+1,\"\")","v":{"$error":"#REF!"}},{"$f":"IF(C101=base!$W$2,ROW()+1,\"\")","v":{"$error":"#REF!"}},1280,"La Joya","Colonia","Álvaro Obregón","Distrito Federal","Ciudad de México",1291,9,1291,null,9,10,141,"Urbano",1]
[{"$f":"IF(C102=base!$AC$2,ROW()+1,\"\")","v":{"$error":"#REF!"}},{"$f":"IF(C102=base!$W$2,ROW()+1,\"\")","v":{"$error":"#REF!"}},1285,"El Rodeo","Colonia","Álvaro Obregón","Distrito Federal","Ciudad de México",1291,9,1291,null,9,10,144,"Urbano",1]
[{"$f":"IF(C103=base!$AC$2,ROW()+1,\"\")","v":{"$error":"#REF!"}},{"$f":"IF(C103=base!$W$2,ROW()+1,\"\")","v":{"$error":"#REF!"}},1289,"Reacomodo El Cuernito","Colonia","Álvaro Obregón","Distrito Federal","Ciudad de México",1291,9,1291,null,9,10,146,"Urbano",1]
[{"$f":"IF(C104=base!$AC$2,ROW()+1,\"\")","v":{"$error":"#REF!"}},{"$f":"IF(C104=base!$W$2,ROW()+1,\"\")","v":{"$error":"#REF!"}},1290,"Piloto Adolfo López Mateos","Colonia","Álvaro Obregón","Distrito Federal","Ciudad de México",1291,9,1291,null,9,10,147,"Urbano",1]
[{"$f":"IF(C105=base!$AC$2,ROW()+1,\"\")","v":{"$error":"#REF!"}},{"$f":"IF(C105=base!$W$2,ROW()+1,\"\")","v":{"$error":"#REF!"}},1290,"Presidentes","Colonia","Álvaro Obregón","Distrito Federal","Ciudad de México",1291,9,1291,null,9,10,148,"Urbano",1]
[{"$f":"IF(C106=base!$AC$2,ROW()+1,\"\")","v":{"$error":"#REF!"}},{"$f":"IF(C106=base!$W$2,ROW()+1,\"\")","v":{"$error":"#REF!"}},1296,"Jalalpa Tepito 2a Ampliación","Colonia","Álvaro Obregón","Distrito Federal","Ciudad de México",1291,9,1291,null,9,10,152,"Urbano",1]
[{"$f":"IF(C107=base!$AC$2,ROW()+1,\"\")","v":{"$error":"#REF!"}},{"$f":"IF(C107=base!$W$2,ROW()+1,\"\")","v":{"$error":"#REF!"}},1296,"Ampliación Jalalpa","Colonia","Álvaro Obregón","Distrito Federal","Ciudad de México",1291,9,1291,null,9,10,153,"Urbano",1]
[{"$f":"IF(C108=base!$AC$2,ROW()+1,\"\")","v":{"$error":"#REF!"}},{"$f":"IF(C108=base!$W$2,ROW()+1,\"\")","v":{"$error":"#REF!"}},1296,"Jalalpa Tepito","Colonia","Álvaro Obregón","Distrito Federal","Ciudad de México",1291,9,1291,null,9,10,154,"Urbano",1]
[{"$f":"IF(C109=base!$AC$2,ROW()+1,\"\")","v":{"$error":"#REF!"}},{"$f":"IF(C109=base!$W$2,ROW()+1,\"\")","v":{"$error":"#REF!"}},1298,"Ampliación Piloto Adolfo López Mateos","Colonia","Álvaro Obregón","Distrito Federal","Ciudad de México",1291,9,1291,null,9,10,156,"Urbano",1]
[{"$f":"IF(C110=base!$AC$2,ROW()+1,\"\")","v":{"$error":"#REF!"}},{"$f":"IF(C110=base!$W$2,ROW()+1,\"\")","v":{"$error":"#REF!"}},1299,"1a Ampliación Presidentes","Colonia","Álvaro Obregón","Distrito Federal","Ciudad de México",1291,9,1291,null,9,10,160,"Urbano",1]
[{"$f":"IF(C111=base!$AC$2,ROW()+1,\"\")","v":{"$error":"#REF!"}},{"$f":"IF(C111=base!$W$2,ROW()+1,\"\")","v":{"$error":"#REF!"}},1299,"2a Ampliación Presidentes","Colonia","Álvaro Obregón","Distrito Federal","Ciudad de México",1291,9,1291,null,9,10,161,"Urbano",1]
[{"$f":"IF(C112=base!$AC$2,ROW()+1,\"\")","v":{"$error":"#REF!"}},{"$f":"IF(C112=base!$W$2,ROW()+1,\"\")","v":{"$error":"#REF!"}},1310,"San Gabriel","Colonia","Álvaro Obregón","Distrito Federal","Ciudad de México",1291,9,1291,null,9,10,163,"Urbano",1]
[{"$f":"IF(C113=base!$AC$2,ROW()+1,\"\")","v":{"$error":"#REF!"}},{"$f":"IF(C113=base!$W$2,ROW()+1,\"\")","v":{"$error":"#REF!"}},1320,"Carlos A. Madrazo","Colonia","Álvaro Obregón","Distrito Federal","Ciudad de México",1291,9,1291,null,9,10,164,"Urbano",1]
[{"$f":"IF(C114=base!$AC$2,ROW()+1,\"\")","v":{"$error":"#REF!"}},{"$f":"IF(C114=base!$W$2,ROW()+1,\"\")","v":{"$error":"#REF!"}},1330,"Paseo de las Lomas","Colonia","Álvaro Obregón","Distrito Federal","Ciudad de México",1291,9,1291,null,9,10,168,"Urbano",1]
[{"$f":"IF(C115=base!$AC$2,ROW()+1,\"\")","v":{"$error":"#REF!"}},{"$f":"IF(C115=base!$W$2,ROW()+1,\"\")","v":{"$error":"#REF!"}},1340,"Bejero del Pueblo Santa Fe","Colonia","Álvaro Obregón","Distrito Federal","Ciudad de México",1291,9,1291,null,9,10,170,"Urbano",1]
[{"$f":"IF(C116=base!$AC$2,ROW()+1,\"\")","v":{"$error":"#REF!"}},{"$f":"IF(C116=base!$W$2,ROW()+1,\"\")","v":{"$error":"#REF!"}},1376,"Santa Fe","Colonia","Álvaro Obregón","Distrito Federal","Ciudad de México",1291,9,1291,null,9,10,171,"Urbano",1]
[{"$f":"IF(C117=base!$AC$2,ROW()+1,\"\")","v":{"$error":"#REF!"}},{"$f":"IF(C117=base!$W$2,ROW()+1,\"\")","v":{"$error":"#REF!"}},1376,"Santa Fe Peña Blanca","Colonia","Álvaro Obregón","Distrito Federal","Ciudad de México",1291,9,1291,null,9,10,2682,"Urbano",1]
[{"$f":"IF(C118=base!$AC$2,ROW()+1,\"\")","v":{"$error":"#REF!"}},{"$f":"IF(C118=base!$W$2,ROW()+1,\"\")","v":{"$error":"#REF!"}},1376,"Santa Fe La Loma","Colonia","Álvaro Obregón","Distrito Federal","Ciudad de México",1291,9,1291,null,9,10,2683,"Urbano",1]
[{"$f":"IF(C119=base!$AC$2,ROW()+1,\"\")","v":{"$error":"#REF!"}},{"$f":"IF(C119=base!$W$2,ROW()+1,\"\")","v":{"$error":"#REF!"}},1376,"Santa Fe Centro Ciudad","Colonia","Álvaro Obregón","Distrito Federal","Ciudad de México",1291,9,1291,null,9,10,2864,"Urbano",1]
[{"$f":"IF(C120=base!$AC$2,ROW()+1,\"\")","v":{"$error":"#REF!"}},{"$f":"IF(C120=base!$W$2,ROW()+1,\"\")","v":{"$error":"#REF!"}},1377,"Jalalpa El Grande","Colonia","Álvaro Obregón","Distrito Federal","Ciudad de México",1291,9,1291,null,9,10,172,"Urbano",1]
[{"$f":"IF(C121=base!$AC$2,ROW()+1,\"\")","v":{"$error":"#REF!"}},{"$f":"IF(C121=base!$W$2,ROW()+1,\"\")","v":{"$error":"#REF!"}},1379,"Antonio Carrillo Flores","Unidad habitacional","Álvaro Obregón","Distrito Federal","Ciudad de México",1401,9,1401,null,31,10,174,"Urbano",1]
[{"$f":"IF(C122=base!$AC$2,ROW()+1,\"\")","v":{"$error":"#REF!"}},{"$f":"IF(C122=base!$W$2,ROW()+1,\"\")","v":{"$error":"#REF!"}},1389,"Santa Fe Tlayapaca","Colonia","Álvaro Obregón","Distrito Federal","Ciudad de México",1291,9,1291,null,9,10,176,"Urbano",1]
[{"$f":"IF(C123=base!$AC$2,ROW()+1,\"\")","v":{"$error":"#REF!"}},{"$f":"IF(C123=base!$W$2,ROW()+1,\"\")","v":{"$error":"#REF!"}},1400,"Olivar del Conde 1a Sección","Colonia","Álvaro Obregón","Distrito Federal","Ciudad de México",1401,9,1401,null,9,10,181,"Urbano",1]
[{"$f":"IF(C124=base!$AC$2,ROW()+1,\"\")","v":{"$error":"#REF!"}},{"$f":"IF(C124=base!$W$2,ROW()+1,\"\")","v":{"$error":"#REF!"}},1400,"Preconcreto","Colonia","Álvaro Obregón","Distrito Federal","Ciudad de México",1401,9,1401,null,9,10,184,"Urbano",1]
[{"$f":"IF(C125=base!$AC$2,ROW()+1,\"\")","v":{"$error":"#REF!"}},{"$f":"IF(C125=base!$W$2,ROW()+1,\"\")","v":{"$error":"#REF!"}},1407,"Galeana","Colonia","Álvaro Obregón","Distrito Federal","Ciudad de México",1401,9,1401,null,9,10,187,"Urbano",1]
[{"$f":"IF(C126=base!$AC$2,ROW()+1,\"\")","v":{"$error":"#REF!"}},{"$f":"IF(C126=base!$W$2,ROW()+1,\"\")","v":{"$error":"#REF!"}},1408,"Olivar del Conde 2a Sección","Colonia","Álvaro Obregón","Distrito Federal","Ciudad de México",1401,9,1401,null,9,10,188,"Urbano",1]
[{"$f":"IF(C127=base!$AC$2,ROW()+1,\"\")","v":{"$error":"#REF!"}},{"$f":"IF(C127=base!$W$2,ROW()+1,\"\")","v":{"$error":"#REF!"}},1410,"Palmas","Colonia","Álvaro Obregón","Distrito Federal","Ciudad de México",1401,9,1401,null,9,10,194,"Urbano",1]
[{"$f":"IF(C128=base!$AC$2,ROW()+1,\"\")","v":{"$error":"#REF!"}},{"$f":"IF(C128=base!$W$2,ROW()+1,\"\")","v":{"$error":"#REF!"}},1410,"Barrio Norte","Colonia","Álvaro Obregón","Distrito Federal","Ciudad de México",1401,9,1401,null,9,10,193,"Urbano",1]
[{"$f":"IF(C129=base!$AC$2,ROW()+1,\"\")","v":{"$error":"#REF!"}},{"$f":"IF(C129=base!$W$2,ROW()+1,\"\")","v":{"$error":"#REF!"}},1419,"Minas Cristo Rey","Colonia","Álvaro Obregón","Distrito Federal","Ciudad de México",1401,9,1401,null,9,10,195,"Urbano",1]
[{"$f":"IF(C130=base!$AC$2,ROW()+1,\"\")","v":{"$error":"#REF!"}},{"$f":"IF(C130=base!$W$2,ROW()+1,\"\")","v":{"$error":"#REF!"}},1420,"Santa María Nonoalco","Barrio","Álvaro Obregón","Distrito Federal","Ciudad de México",1401,9,1401,null,2,10,197,"Urbano",1]
[{"$f":"IF(C131=base!$AC$2,ROW()+1,\"\")","v":{"$error":"#REF!"}},{"$f":"IF(C131=base!$W$2,ROW()+1,\"\")","v":{"$error":"#REF!"}},1420,"Sacramento","Colonia","Álvaro Obregón","Distrito Federal","Ciudad de México",1401,9,1401,null,9,10,196,"Urbano",1]
[{"$f":"IF(C132=base!$AC$2,ROW()+1,\"\")","v":{"$error":"#REF!"}},{"$f":"IF(C132=base!$W$2,ROW()+1,\"\")","v":{"$error":"#REF!"}},1430,"Colina del Sur","Colonia","Álvaro Obregón","Distrito Federal","Ciudad de México",1401,9,1401,null,9,10,198,"Urbano",1]
[{"$f":"IF(C133=base!$AC$2,ROW()+1,\"\")","v":{"$error":"#REF!"}},{"$f":"IF(C133=base!$W$2,ROW()+1,\"\")","v":{"$error":"#REF!"}},1440,"Abeto","Condominio","Álvaro Obregón","Distrito Federal","Ciudad de México",1401,9,1401,null,10,10,199,"Urbano",1]
[{"$f":"IF(C134=base!$AC$2,ROW()+1,\"\")","v":{"$error":"#REF!"}},{"$f":"IF(C134=base!$W$2,ROW()+1,\"\")","v":{"$error":"#REF!"}},1450,"Unidad Popular Emiliano Zapata","Unidad habitacional","Álvaro Obregón","Distrito Federal","Ciudad de México",1401,9,1401,null,31,10,2635,"Urbano",1]
[{"$f":"IF(C135=base!$AC$2,ROW()+1,\"\")","v":{"$error":"#REF!"}},{"$f":"IF(C135=base!$W$2,ROW()+1,\"\")","v":{"$error":"#REF!"}},1450,"Batallón de San Patricio","Unidad habitacional","Álvaro Obregón","Distrito Federal","Ciudad de México",1401,9,1401,null,31,10,201,"Urbano",1]
[{"$f":"IF(C136=base!$AC$2,ROW()+1,\"\")","v":{"$error":"#REF!"}},{"$f":"IF(C136=base!$W$2,ROW()+1,\"\")","v":{"$error":"#REF!"}},1450,"Hogar y Redención","Colonia","Álvaro Obregón","Distrito Federal","Ciudad de México",1401,9,1401,null,9,10,202,"Urbano",1]
[{"$f":"IF(C137=base!$AC$2,ROW()+1,\"\")","v":{"$error":"#REF!"}},{"$f":"IF(C137=base!$W$2,ROW()+1,\"\")","v":{"$error":"#REF!"}},1450,"Cañada del Olivar","Unidad habitacional","Álvaro Obregón","Distrito Federal","Ciudad de México",1401,9,1401,null,31,10,2634,"Urbano",1]
[{"$f":"IF(C138=base!$AC$2,ROW()+1,\"\")","v":{"$error":"#REF!"}},{"$f":"IF(C138=base!$W$2,ROW()+1,\"\")","v":{"$error":"#REF!"}},1460,"Alfonso XIII","Colonia","Álvaro Obregón","Distrito Federal","Ciudad de México",1401,9,1401,null,9,10,204,"Urbano",1]
[{"$f":"IF(C139=base!$AC$2,ROW()+1,\"\")","v":{"$error":"#REF!"}},{"$f":"IF(C139=base!$W$2,ROW()+1,\"\")","v":{"$error":"#REF!"}},1470,"Alfalfar","Barrio","Álvaro Obregón","Distrito Federal","Ciudad de México",1401,9,1401,null,2,10,206,"Urbano",1]
[{"$f":"IF(C140=base!$AC$2,ROW()+1,\"\")","v":{"$error":"#REF!"}},{"$f":"IF(C140=base!$W$2,ROW()+1,\"\")","v":{"$error":"#REF!"}},1470,"Molino de Rosas","Colonia","Álvaro Obregón","Distrito Federal","Ciudad de México",1401,9,1401,null,9,10,207,"Urbano",1]
[{"$f":"IF(C141=base!$AC$2,ROW()+1,\"\")","v":{"$error":"#REF!"}},{"$f":"IF(C141=base!$W$2,ROW()+1,\"\")","v":{"$error":"#REF!"}},1480,"Lomas de Plateros","Colonia","Álvaro Obregón","Distrito Federal","Ciudad de México",1401,9,1401,null,9,10,209,"Urbano",1]
[{"$f":"IF(C142=base!$AC$2,ROW()+1,\"\")","v":{"$error":"#REF!"}},{"$f":"IF(C142=base!$W$2,ROW()+1,\"\")","v":{"$error":"#REF!"}},1490,"Torres de Mixcoac","Unidad habitacional","Álvaro Obregón","Distrito Federal","Ciudad de México",1401,9,1401,null,31,10,212,"Urbano",1]
[{"$f":"IF(C143=base!$AC$2,ROW()+1,\"\")","v":{"$error":"#REF!"}},{"$f":"IF(C143=base!$W$2,ROW()+1,\"\")","v":{"$error":"#REF!"}},1490,"La Cascada","Colonia","Álvaro Obregón","Distrito Federal","Ciudad de México",1401,9,1401,null,9,10,211,"Urbano",1]
[{"$f":"IF(C144=base!$AC$2,ROW()+1,\"\")","v":{"$error":"#REF!"}},{"$f":"IF(C144=base!$W$2,ROW()+1,\"\")","v":{"$error":"#REF!"}},1500,"Miguel Gaona Armenta","Colonia","Álvaro Obregón","Distrito Federal","Ciudad de México",1401,9,1401,null,9,10,2704,"Urbano",1]
[{"$f":"IF(C145=base!$AC$2,ROW()+1,\"\")","v":{"$error":"#REF!"}},{"$f":"IF(C145=base!$W$2,ROW()+1,\"\")","v":{"$error":"#REF!"}},1500,"Santa Lucía","Pueblo","Álvaro Obregón","Distrito Federal","Ciudad de México",1401,9,1401,null,28,10,213,"Urbano",1]
[{"$f":"IF(C146=base!$AC$2,ROW()+1,\"\")","v":{"$error":"#REF!"}},{"$f":"IF(C146=base!$W$2,ROW()+1,\"\")","v":{"$error":"#REF!"}},1504,"19 de Mayo","Campamento","Álvaro Obregón","Distrito Federal","Ciudad de México",1401,9,1401,null,4,10,175,"Urbano",1]
[{"$f":"IF(C147=base!$AC$2,ROW()+1,\"\")","v":{"$error":"#REF!"}},{"$f":"IF(C147=base!$W$2,ROW()+1,\"\")","v":{"$error":"#REF!"}},1505,"Milpa los Cedros","Campamento","Álvaro Obregón","Distrito Federal","Ciudad de México",1401,9,1401,null,4,10,215,"Urbano",1]
[{"$f":"IF(C148=base!$AC$2,ROW()+1,\"\")","v":{"$error":"#REF!"}},{"$f":"IF(C148=base!$W$2,ROW()+1,\"\")","v":{"$error":"#REF!"}},1506,"Arturo Gamiz","Campamento","Álvaro Obregón","Distrito Federal","Ciudad de México",1401,9,1401,null,4,10,216,"Urbano",1]
[{"$f":"IF(C149=base!$AC$2,ROW()+1,\"\")","v":{"$error":"#REF!"}},{"$f":"IF(C149=base!$W$2,ROW()+1,\"\")","v":{"$error":"#REF!"}},1507,"Tetlalpan","Campamento","Álvaro Obregón","Distrito Federal","Ciudad de México",1401,9,1401,null,4,10,217,"Urbano",1]
[{"$f":"IF(C150=base!$AC$2,ROW()+1,\"\")","v":{"$error":"#REF!"}},{"$f":"IF(C150=base!$W$2,ROW()+1,\"\")","v":{"$error":"#REF!"}},1508,"Ladera Chica","Campamento","Álvaro Obregón","Distrito Federal","Ciudad de México",1401,9,1401,null,4,10,219,"Urbano",1]
[{"$f":"IF(C151=base!$AC$2,ROW()+1,\"\")","v":{"$error":"#REF!"}},{"$f":"IF(C151=base!$W$2,ROW()+1,\"\")","v":{"$error":"#REF!"}},1509,"Santa Lucía Chantepec","Pueblo","Álvaro Obregón","Distrito Federal","Ciudad de México",1401,9,1401,null,28,10,221,"Urbano",1]
[{"$f":"IF(C152=base!$AC$2,ROW()+1,\"\")","v":{"$error":"#REF!"}},{"$f":"IF(C152=base!$W$2,ROW()+1,\"\")","v":{"$error":"#REF!"}},1510,"La Araña","Colonia","Álvaro Obregón","Distrito Federal","Ciudad de México",1401,9,1401,null,9,10,223,"Urbano",1]
[{"$f":"IF(C153=base!$AC$2,ROW()+1,\"\")","v":{"$error":"#REF!"}},{"$f":"IF(C153=base!$W$2,ROW()+1,\"\")","v":{"$error":"#REF!"}},1510,"Garcimarrero","Colonia","Álvaro Obregón","Distrito Federal","Ciudad de México",1401,9,1401,null,9,10,222,"Urbano",1]
[{"$f":"IF(C154=base!$AC$2,ROW()+1,\"\")","v":{"$error":"#REF!"}},{"$f":"IF(C154=base!$W$2,ROW()+1,\"\")","v":{"$error":"#REF!"}},1510,"Los Cedros","Colonia","Álvaro Obregón","Distrito Federal","Ciudad de México",1401,9,1401,null,9,10,2636,"Urbano",1]
[{"$f":"IF(C155=base!$AC$2,ROW()+1,\"\")","v":{"$error":"#REF!"}},{"$f":"IF(C155=base!$W$2,ROW()+1,\"\")","v":{"$error":"#REF!"}},1520,"Ampliación Estado de Hidalgo","Colonia","Álvaro Obregón","Distrito Federal","Ciudad de México",1401,9,1401,null,9,10,226,"Urbano",1]
[{"$f":"IF(C156=base!$AC$2,ROW()+1,\"\")","v":{"$error":"#REF!"}},{"$f":"IF(C156=base!$W$2,ROW()+1,\"\")","v":{"$error":"#REF!"}},1520,"Ampliación Los Pirules","Colonia","Álvaro Obregón","Distrito Federal","Ciudad de México",1401,9,1401,null,9,10,94,"Urbano",1]
[{"$f":"IF(C157=base!$AC$2,ROW()+1,\"\")","v":{"$error":"#REF!"}},{"$f":"IF(C157=base!$W$2,ROW()+1,\"\")","v":{"$error":"#REF!"}},1520,"Estado de Hidalgo","Colonia","Álvaro Obregón","Distrito Federal","Ciudad de México",1401,9,1401,null,9,10,225,"Urbano",1]
[{"$f":"IF(C158=base!$AC$2,ROW()+1,\"\")","v":{"$error":"#REF!"}},{"$f":"IF(C158=base!$W$2,ROW()+1,\"\")","v":{"$error":"#REF!"}},1520,"Piru Santa Lucía","Colonia","Álvaro Obregón","Distrito Federal","Ciudad de México",1401,9,1401,null,9,10,227,"Urbano",1]
[{"$f":"IF(C159=base!$AC$2,ROW()+1,\"\")","v":{"$error":"#REF!"}},{"$f":"IF(C159=base!$W$2,ROW()+1,\"\")","v":{"$error":"#REF!"}},1520,"El Politoco","Colonia","Álvaro Obregón","Distrito Federal","Ciudad de México",1401,9,1401,null,9,10,2841,"Urbano",1]
[{"$f":"IF(C160=base!$AC$2,ROW()+1,\"\")","v":{"$error":"#REF!"}},{"$f":"IF(C160=base!$W$2,ROW()+1,\"\")","v":{"$error":"#REF!"}},1530,"Corpus Christy","Colonia","Álvaro Obregón","Distrito Federal","Ciudad de México",1401,9,1401,null,9,10,229,"Urbano",1]
[{"$f":"IF(C161=base!$AC$2,ROW()+1,\"\")","v":{"$error":"#REF!"}},{"$f":"IF(C161=base!$W$2,ROW()+1,\"\")","v":{"$error":"#REF!"}},1537,"Universal","Unidad habitacional","Álvaro Obregón","Distrito Federal","Ciudad de México",1401,9,1401,null,31,10,230,"Urbano",1]
[{"$f":"IF(C162=base!$AC$2,ROW()+1,\"\")","v":{"$error":"#REF!"}},{"$f":"IF(C162=base!$W$2,ROW()+1,\"\")","v":{"$error":"#REF!"}},1538,"Tepopotla","Colonia","Álvaro Obregón","Distrito Federal","Ciudad de México",1401,9,1401,null,9,10,232,"Urbano",1]
[{"$f":"IF(C163=base!$AC$2,ROW()+1,\"\")","v":{"$error":"#REF!"}},{"$f":"IF(C163=base!$W$2,ROW()+1,\"\")","v":{"$error":"#REF!"}},1539,"Acuilotla","Colonia","Álvaro Obregón","Distrito Federal","Ciudad de México",1401,9,1401,null,9,10,233,"Urbano",1]
[{"$f":"IF(C164=base!$AC$2,ROW()+1,\"\")","v":{"$error":"#REF!"}},{"$f":"IF(C164=base!$W$2,ROW()+1,\"\")","v":{"$error":"#REF!"}},1539,"Cooperativa Unión Olivos","Colonia","Álvaro Obregón","Distrito Federal","Ciudad de México",1401,9,1401,null,9,10,2643,"Urbano",1]
[{"$f":"IF(C165=base!$AC$2,ROW()+1,\"\")","v":{"$error":"#REF!"}},{"$f":"IF(C165=base!$W$2,ROW()+1,\"\")","v":{"$error":"#REF!"}},1540,"Balcones de Cehuayo","Colonia","Álvaro Obregón","Distrito Federal","Ciudad de México",1401,9,1401,null,9,10,238,"Urbano",1]
[{"$f":"IF(C166=base!$AC$2,ROW()+1,\"\")","v":{"$error":"#REF!"}},{"$f":"IF(C166=base!$W$2,ROW()+1,\"\")","v":{"$error":"#REF!"}},1540,"Providencia","Fraccionamiento","Álvaro Obregón","Distrito Federal","Ciudad de México",1401,9,1401,null,21,10,2684,"Urbano",1]
[{"$f":"IF(C167=base!$AC$2,ROW()+1,\"\")","v":{"$error":"#REF!"}},{"$f":"IF(C167=base!$W$2,ROW()+1,\"\")","v":{"$error":"#REF!"}},1540,"Cehuaya","Colonia","Álvaro Obregón","Distrito Federal","Ciudad de México",1401,9,1401,null,9,10,239,"Urbano",1]
[{"$f":"IF(C168=base!$AC$2,ROW()+1,\"\")","v":{"$error":"#REF!"}},{"$f":"IF(C168=base!$W$2,ROW()+1,\"\")","v":{"$error":"#REF!"}},1540,"Llano Redondo","Colonia","Álvaro Obregón","Distrito Federal","Ciudad de México",1401,9,1401,null,9,10,240,"Urbano",1]
[{"$f":"IF(C169=base!$AC$2,ROW()+1,\"\")","v":{"$error":"#REF!"}},{"$f":"IF(C169=base!$W$2,ROW()+1,\"\")","v":{"$error":"#REF!"}},1540,"Punta de Cehuaya","Colonia","Álvaro Obregón","Distrito Federal","Ciudad de México",1401,9,1401,null,9,10,241,"Urbano",1]
[{"$f":"IF(C170=base!$AC$2,ROW()+1,\"\")","v":{"$error":"#REF!"}},{"$f":"IF(C170=base!$W$2,ROW()+1,\"\")","v":{"$error":"#REF!"}},1548,"Villa Progresista","Colonia","Álvaro Obregón","Distrito Federal","Ciudad de México",1401,9,1401,null,9,10,2638,"Urbano",1]
[{"$f":"IF(C171=base!$AC$2,ROW()+1,\"\")","v":{"$error":"#REF!"}},{"$f":"IF(C171=base!$W$2,ROW()+1,\"\")","v":{"$error":"#REF!"}},1549,"Dos Ríos del Pueblo Santa Lucía","Colonia","Álvaro Obregón","Distrito Federal","Ciudad de México",1401,9,1401,null,9,10,243,"Urbano",1]
[{"$f":"IF(C172=base!$AC$2,ROW()+1,\"\")","v":{"$error":"#REF!"}},{"$f":"IF(C172=base!$W$2,ROW()+1,\"\")","v":{"$error":"#REF!"}},1550,"Tepeaca","Colonia","Álvaro Obregón","Distrito Federal","Ciudad de México",1401,9,1401,null,9,10,245,"Urbano",1]
[{"$f":"IF(C173=base!$AC$2,ROW()+1,\"\")","v":{"$error":"#REF!"}},{"$f":"IF(C173=base!$W$2,ROW()+1,\"\")","v":{"$error":"#REF!"}},1550,"Ampliación Tepeaca","Colonia","Álvaro Obregón","Distrito Federal","Ciudad de México",1401,9,1401,null,9,10,246,"Urbano",1]
[{"$f":"IF(C174=base!$AC$2,ROW()+1,\"\")","v":{"$error":"#REF!"}},{"$f":"IF(C174=base!$W$2,ROW()+1,\"\")","v":{"$error":"#REF!"}},1550,"Rinconada Las Cuevitas","Colonia","Álvaro Obregón","Distrito Federal","Ciudad de México",1401,9,1401,null,9,10,2849,"Urbano",1]
[{"$f":"IF(C175=base!$AC$2,ROW()+1,\"\")","v":{"$error":"#REF!"}},{"$f":"IF(C175=base!$W$2,ROW()+1,\"\")","v":{"$error":"#REF!"}},1560,"Canutillo 2a Sección","Colonia","Álvaro Obregón","Distrito Federal","Ciudad de México",1401,9,1401,null,9,10,251,"Urbano",1]
[{"$f":"IF(C176=base!$AC$2,ROW()+1,\"\")","v":{"$error":"#REF!"}},{"$f":"IF(C176=base!$W$2,ROW()+1,\"\")","v":{"$error":"#REF!"}},1560,"Canutillo","Colonia","Álvaro Obregón","Distrito Federal","Ciudad de México",1401,9,1401,null,9,10,249,"Urbano",1]
[{"$f":"IF(C177=base!$AC$2,ROW()+1,\"\")","v":{"$error":"#REF!"}},{"$f":"IF(C177=base!$W$2,ROW()+1,\"\")","v":{"$error":"#REF!"}},1560,"Canutillo 3a Sección","Colonia","Álvaro Obregón","Distrito Federal","Ciudad de México",1401,9,1401,null,9,10,250,"Urbano",1]
[{"$f":"IF(C178=base!$AC$2,ROW()+1,\"\")","v":{"$error":"#REF!"}},{"$f":"IF(C178=base!$W$2,ROW()+1,\"\")","v":{"$error":"#REF!"}},1560,"Ave Real","Colonia","Álvaro Obregón","Distrito Federal","Ciudad de México",1401,9,1401,null,9,10,248,"Urbano",1]
[{"$f":"IF(C179=base!$AC$2,ROW()+1,\"\")","v":{"$error":"#REF!"}},{"$f":"IF(C179=base!$W$2,ROW()+1,\"\")","v":{"$error":"#REF!"}},1566,"Hueytlale","Colonia","Álvaro Obregón","Distrito Federal","Ciudad de México",1401,9,1401,null,9,10,2747,"Urbano",1]
[{"$f":"IF(C180=base!$AC$2,ROW()+1,\"\")","v":{"$error":"#REF!"}},{"$f":"IF(C180=base!$W$2,ROW()+1,\"\")","v":{"$error":"#REF!"}},1567,"Tepeaca","Unidad habitacional","Álvaro Obregón","Distrito Federal","Ciudad de México",1401,9,1401,null,31,10,253,"Urbano",1]
[{"$f":"IF(C181=base!$AC$2,ROW()+1,\"\")","v":{"$error":"#REF!"}},{"$f":"IF(C181=base!$W$2,ROW()+1,\"\")","v":{"$error":"#REF!"}},1569,"Reacomodo Valentín Gómez Farías","Colonia","Álvaro Obregón","Distrito Federal","Ciudad de México",1401,9,1401,null,9,10,255,"Urbano",1]
[{"$f":"IF(C182=base!$AC$2,ROW()+1,\"\")","v":{"$error":"#REF!"}},{"$f":"IF(C182=base!$W$2,ROW()+1,\"\")","v":{"$error":"#REF!"}},1580,"Rancho Casa Blanca","Fraccionamiento","Álvaro Obregón","Distrito Federal","Ciudad de México",1401,9,1401,null,21,10,2768,"Urbano",1]
[{"$f":"IF(C183=base!$AC$2,ROW()+1,\"\")","v":{"$error":"#REF!"}},{"$f":"IF(C183=base!$W$2,ROW()+1,\"\")","v":{"$error":"#REF!"}},1580,"Bosques de Tarango","Fraccionamiento","Álvaro Obregón","Distrito Federal","Ciudad de México",1401,9,1401,null,21,10,256,"Urbano",1]
[{"$f":"IF(C184=base!$AC$2,ROW()+1,\"\")","v":{"$error":"#REF!"}},{"$f":"IF(C184=base!$W$2,ROW()+1,\"\")","v":{"$error":"#REF!"}},1585,"Las Haciendas","Fraccionamiento","Álvaro Obregón","Distrito Federal","Ciudad de México",1001,9,1001,null,21,10,2755,"Urbano",1]
[{"$f":"IF(C185=base!$AC$2,ROW()+1,\"\")","v":{"$error":"#REF!"}},{"$f":"IF(C185=base!$W$2,ROW()+1,\"\")","v":{"$error":"#REF!"}},1586,"Real de Tarango","Fraccionamiento","Álvaro Obregón","Distrito Federal","Ciudad de México",1401,9,1401,null,21,10,257,"Urbano",1]
[{"$f":"IF(C186=base!$AC$2,ROW()+1,\"\")","v":{"$error":"#REF!"}},{"$f":"IF(C186=base!$W$2,ROW()+1,\"\")","v":{"$error":"#REF!"}},1587,"Misiones de Tarango","Fraccionamiento","Álvaro Obregón","Distrito Federal","Ciudad de México",1401,9,1401,null,21,10,258,"Urbano",1]
[{"$f":"IF(C187=base!$AC$2,ROW()+1,\"\")","v":{"$error":"#REF!"}},{"$f":"IF(C187=base!$W$2,ROW()+1,\"\")","v":{"$error":"#REF!"}},1588,"Tarango","Colonia","Álvaro Obregón","Distrito Federal","Ciudad de México",1401,9,1401,null,9,10,259,"Urbano",1]
[{"$f":"IF(C188=base!$AC$2,ROW()+1,\"\")","v":{"$error":"#REF!"}},{"$f":"IF(C188=base!$W$2,ROW()+1,\"\")","v":{"$error":"#REF!"}},1589,"Lomas de Tarango Reacomodo","Fraccionamiento","Álvaro Obregón","Distrito Federal","Ciudad de México",1401,9,1401,null,21,10,260,"Urbano",1]
[{"$f":"IF(C189=base!$AC$2,ROW()+1,\"\")","v":{"$error":"#REF!"}},{"$f":"IF(C189=base!$W$2,ROW()+1,\"\")","v":{"$error":"#REF!"}},1590,"El Rincón","Colonia","Álvaro Obregón","Distrito Federal","Ciudad de México",1401,9,1401,null,9,10,261,"Urbano",1]
[{"$f":"IF(C190=base!$AC$2,ROW()+1,\"\")","v":{"$error":"#REF!"}},{"$f":"IF(C190=base!$W$2,ROW()+1,\"\")","v":{"$error":"#REF!"}},1600,"Sociedad Cooperativa Unión Poder Popular","Fraccionamiento","Álvaro Obregón","Distrito Federal","Ciudad de México",1401,9,1401,null,21,10,2641,"Urbano",1]
[{"$f":"IF(C191=base!$AC$2,ROW()+1,\"\")","v":{"$error":"#REF!"}},{"$f":"IF(C191=base!$W$2,ROW()+1,\"\")","v":{"$error":"#REF!"}},1600,"Merced Gómez","Colonia","Álvaro Obregón","Distrito Federal","Ciudad de México",1401,9,1401,null,9,10,263,"Urbano",1]
[{"$f":"IF(C192=base!$AC$2,ROW()+1,\"\")","v":{"$error":"#REF!"}},{"$f":"IF(C192=base!$W$2,ROW()+1,\"\")","v":{"$error":"#REF!"}},1610,"Colinas de Tarango","Colonia","Álvaro Obregón","Distrito Federal","Ciudad de México",1401,9,1401,null,9,10,265,"Urbano",1]
[{"$f":"IF(C193=base!$AC$2,ROW()+1,\"\")","v":{"$error":"#REF!"}},{"$f":"IF(C193=base!$W$2,ROW()+1,\"\")","v":{"$error":"#REF!"}},1610,"Profesor J. Arturo López Martínez","Colonia","Álvaro Obregón","Distrito Federal","Ciudad de México",1401,9,1401,null,9,10,2639,"Urbano",1]
[{"$f":"IF(C194=base!$AC$2,ROW()+1,\"\")","v":{"$error":"#REF!"}},{"$f":"IF(C194=base!$W$2,ROW()+1,\"\")","v":{"$error":"#REF!"}},1618,"Ex-Hacienda de Tarango","Colonia","Álvaro Obregón","Distrito Federal","Ciudad de México",1401,9,1401,null,9,10,2745,"Urbano",1]
[{"$f":"IF(C195=base!$AC$2,ROW()+1,\"\")","v":{"$error":"#REF!"}},{"$f":"IF(C195=base!$W$2,ROW()+1,\"\")","v":{"$error":"#REF!"}},1618,"Arcos Centenario","Colonia","Álvaro Obregón","Distrito Federal","Ciudad de México",1401,9,1401,null,9,10,267,"Urbano",1]
[{"$f":"IF(C196=base!$AC$2,ROW()+1,\"\")","v":{"$error":"#REF!"}},{"$f":"IF(C196=base!$W$2,ROW()+1,\"\")","v":{"$error":"#REF!"}},1619,"Rinconada de Tarango","Colonia","Álvaro Obregón","Distrito Federal","Ciudad de México",1401,9,1401,null,9,10,269,"Urbano",1]
[{"$f":"IF(C197=base!$AC$2,ROW()+1,\"\")","v":{"$error":"#REF!"}},{"$f":"IF(C197=base!$W$2,ROW()+1,\"\")","v":{"$error":"#REF!"}},1619,"La Martinica","Colonia","Álvaro Obregón","Distrito Federal","Ciudad de México",1401,9,1401,null,9,10,268,"Urbano",1]
[{"$f":"IF(C198=base!$AC$2,ROW()+1,\"\")","v":{"$error":"#REF!"}},{"$f":"IF(C198=base!$W$2,ROW()+1,\"\")","v":{"$error":"#REF!"}},1620,"Lomas de Tarango","Colonia","Álvaro Obregón","Distrito Federal","Ciudad de México",1401,9,1401,null,9,10,270,"Urbano",1]
[{"$f":"IF(C199=base!$AC$2,ROW()+1,\"\")","v":{"$error":"#REF!"}},{"$f":"IF(C199=base!$W$2,ROW()+1,\"\")","v":{"$error":"#REF!"}},1630,"Los Juristas","Colonia","Álvaro Obregón","Distrito Federal","Ciudad de México",1401,9,1401,null,9,10,2640,"Urbano",1]
[{"$f":"IF(C200=base!$AC$2,ROW()+1,\"\")","v":{"$error":"#REF!"}},{"$f":"IF(C200=base!$W$2,ROW()+1,\"\")","v":{"$error":"#REF!"}},1630,"Lomas de Puerta Grande","Colonia","Álvaro Obregón","Distrito Federal","Ciudad de México",1401,9,1401,null,9,10,271,"Urbano",1]
[{"$f":"IF(C201=base!$AC$2,ROW()+1,\"\")","v":{"$error":"#REF!"}},{"$f":"IF(C201=base!$W$2,ROW()+1,\"\")","v":{"$error":"#REF!"}},1630,"Puerta Grande","Colonia","Álvaro Obregón","Distrito Federal","Ciudad de México",1401,9,1401,null,9,10,273,"Urbano",1]
[{"$f":"IF(C202=base!$AC$2,ROW()+1,\"\")","v":{"$error":"#REF!"}},{"$f":"IF(C202=base!$W$2,ROW()+1,\"\")","v":{"$error":"#REF!"}},1630,"Belém de las Flores","Unidad habitacional","Álvaro Obregón","Distrito Federal","Ciudad de México",1401,9,1401,null,31,10,2838,"Urbano",1]
[{"$f":"IF(C203=base!$AC$2,ROW()+1,\"\")","v":{"$error":"#REF!"}},{"$f":"IF(C203=base!$W$2,ROW()+1,\"\")","v":{"$error":"#REF!"}},1640,"Herón Proal","Colonia","Álvaro Obregón","Distrito Federal","Ciudad de México",1401,9,1401,null,9,10,275,"Urbano",1]
[{"$f":"IF(C204=base!$AC$2,ROW()+1,\"\")","v":{"$error":"#REF!"}},{"$f":"IF(C204=base!$W$2,ROW()+1,\"\")","v":{"$error":"#REF!"}},1645,"Ponciano Arriaga","Colonia","Álvaro Obregón","Distrito Federal","Ciudad de México",1401,9,1401,null,9,10,276,"Urbano",1]
[{"$f":"IF(C205=base!$AC$2,ROW()+1,\"\")","v":{"$error":"#REF!"}},{"$f":"IF(C205=base!$W$2,ROW()+1,\"\")","v":{"$error":"#REF!"}},1650,"La Milagrosa","Colonia","Álvaro Obregón","Distrito Federal","Ciudad de México",1401,9,1401,null,9,10,277,"Urbano",1]
[{"$f":"IF(C206=base!$AC$2,ROW()+1,\"\")","v":{"$error":"#REF!"}},{"$f":"IF(C206=base!$W$2,ROW()+1,\"\")","v":{"$error":"#REF!"}},1650,"Palmas Axotitla","Colonia","Álvaro Obregón","Distrito Federal","Ciudad de México",1401,9,1401,null,9,10,278,"Urbano",1]
[{"$f":"IF(C207=base!$AC$2,ROW()+1,\"\")","v":{"$error":"#REF!"}},{"$f":"IF(C207=base!$W$2,ROW()+1,\"\")","v":{"$error":"#REF!"}},1650,"Tlacuitlapa","Colonia","Álvaro Obregón","Distrito Federal","Ciudad de México",1401,9,1401,null,9,10,279,"Urbano",1]
[{"$f":"IF(C208=base!$AC$2,ROW()+1,\"\")","v":{"$error":"#REF!"}},{"$f":"IF(C208=base!$W$2,ROW()+1,\"\")","v":{"$error":"#REF!"}},1650,"Ampliación Tlacuitlapa","Colonia","Álvaro Obregón","Distrito Federal","Ciudad de México",1401,9,1401,null,9,10,280,"Urbano",1]
[{"$f":"IF(C209=base!$AC$2,ROW()+1,\"\")","v":{"$error":"#REF!"}},{"$f":"IF(C209=base!$W$2,ROW()+1,\"\")","v":{"$error":"#REF!"}},1650,"2o Reacomodo Tlacuitlapa","Colonia","Álvaro Obregón","Distrito Federal","Ciudad de México",1401,9,1401,null,9,10,281,"Urbano",1]
[{"$f":"IF(C210=base!$AC$2,ROW()+1,\"\")","v":{"$error":"#REF!"}},{"$f":"IF(C210=base!$W$2,ROW()+1,\"\")","v":{"$error":"#REF!"}},1650,"El Ruedo","Colonia","Álvaro Obregón","Distrito Federal","Ciudad de México",1401,9,1401,null,9,10,2844,"Urbano",1]
[{"$f":"IF(C211=base!$AC$2,ROW()+1,\"\")","v":{"$error":"#REF!"}},{"$f":"IF(C211=base!$W$2,ROW()+1,\"\")","v":{"$error":"#REF!"}},1650,"Santa Lucía Chantepec","Colonia","Álvaro Obregón","Distrito Federal","Ciudad de México",1401,9,1401,null,9,10,2848,"Urbano",1]
[{"$f":"IF(C212=base!$AC$2,ROW()+1,\"\")","v":{"$error":"#REF!"}},{"$f":"IF(C212=base!$W$2,ROW()+1,\"\")","v":{"$error":"#REF!"}},1700,"2a Del Moral del Pueblo de Tetelpan","Colonia","Álvaro Obregón","Distrito Federal","Ciudad de México",1001,9,1001,null,9,10,285,"Urbano",1]
[{"$f":"IF(C213=base!$AC$2,ROW()+1,\"\")","v":{"$error":"#REF!"}},{"$f":"IF(C213=base!$W$2,ROW()+1,\"\")","v":{"$error":"#REF!"}},1700,"San Agustín del Pueblo Tetelpan","Colonia","Álvaro Obregón","Distrito Federal","Ciudad de México",1001,9,1001,null,9,10,284,"Urbano",1]
[{"$f":"IF(C214=base!$AC$2,ROW()+1,\"\")","v":{"$error":"#REF!"}},{"$f":"IF(C214=base!$W$2,ROW()+1,\"\")","v":{"$error":"#REF!"}},1700,"Tecalcapa del Pueblo Tetelpan","Colonia","Álvaro Obregón","Distrito Federal","Ciudad de México",1001,9,1001,null,9,10,286,"Urbano",1]
[{"$f":"IF(C215=base!$AC$2,ROW()+1,\"\")","v":{"$error":"#REF!"}},{"$f":"IF(C215=base!$W$2,ROW()+1,\"\")","v":{"$error":"#REF!"}},1700,"Tetelpan","Pueblo","Álvaro Obregón","Distrito Federal","Ciudad de México",1001,9,1001,null,28,10,287,"Urbano",1]
[{"$f":"IF(C216=base!$AC$2,ROW()+1,\"\")","v":{"$error":"#REF!"}},{"$f":"IF(C216=base!$W$2,ROW()+1,\"\")","v":{"$error":"#REF!"}},1700,"La Joyita del Pueblo Tetelpan","Colonia","Álvaro Obregón","Distrito Federal","Ciudad de México",1001,9,1001,null,9,10,282,"Urbano",1]
[{"$f":"IF(C217=base!$AC$2,ROW()+1,\"\")","v":{"$error":"#REF!"}},{"$f":"IF(C217=base!$W$2,ROW()+1,\"\")","v":{"$error":"#REF!"}},1700,"Ocotillos del Pueblo Tetelpan","Colonia","Álvaro Obregón","Distrito Federal","Ciudad de México",1001,9,1001,null,9,10,283,"Urbano",1]
[{"$f":"IF(C218=base!$AC$2,ROW()+1,\"\")","v":{"$error":"#REF!"}},{"$f":"IF(C218=base!$W$2,ROW()+1,\"\")","v":{"$error":"#REF!"}},1708,"El Encino del Pueblo Tetelpan","Colonia","Álvaro Obregón","Distrito Federal","Ciudad de México",1001,9,1001,null,9,10,291,"Urbano",1]
[{"$f":"IF(C219=base!$AC$2,ROW()+1,\"\")","v":{"$error":"#REF!"}},{"$f":"IF(C219=base!$W$2,ROW()+1,\"\")","v":{"$error":"#REF!"}},1708,"El Mirador del Pueblo Tetelpan","Colonia","Álvaro Obregón","Distrito Federal","Ciudad de México",1001,9,1001,null,9,10,292,"Urbano",1]
[{"$f":"IF(C220=base!$AC$2,ROW()+1,\"\")","v":{"$error":"#REF!"}},{"$f":"IF(C220=base!$W$2,ROW()+1,\"\")","v":{"$error":"#REF!"}},1710,"Ampliación Alpes","Colonia","Álvaro Obregón","Distrito Federal","Ciudad de México",1001,9,1001,null,9,10,295,"Urbano",1]
[{"$f":"IF(C221=base!$AC$2,ROW()+1,\"\")","v":{"$error":"#REF!"}},{"$f":"IF(C221=base!$W$2,ROW()+1,\"\")","v":{"$error":"#REF!"}},1710,"Las Águilas","Colonia","Álvaro Obregón","Distrito Federal","Ciudad de México",1001,9,1001,null,9,10,294,"Urbano",1]
[{"$f":"IF(C222=base!$AC$2,ROW()+1,\"\")","v":{"$error":"#REF!"}},{"$f":"IF(C222=base!$W$2,ROW()+1,\"\")","v":{"$error":"#REF!"}},1720,"Lomas de Guadalupe","Colonia","Álvaro Obregón","Distrito Federal","Ciudad de México",1001,9,1001,null,9,10,297,"Urbano",1]
[{"$f":"IF(C223=base!$AC$2,ROW()+1,\"\")","v":{"$error":"#REF!"}},{"$f":"IF(C223=base!$W$2,ROW()+1,\"\")","v":{"$error":"#REF!"}},1729,"Alcantarilla","Colonia","Álvaro Obregón","Distrito Federal","Ciudad de México",1001,9,1001,null,9,10,298,"Urbano",1]
[{"$f":"IF(C224=base!$AC$2,ROW()+1,\"\")","v":{"$error":"#REF!"}},{"$f":"IF(C224=base!$W$2,ROW()+1,\"\")","v":{"$error":"#REF!"}},1730,"Puente Colorado","Colonia","Álvaro Obregón","Distrito Federal","Ciudad de México",1001,9,1001,null,9,10,300,"Urbano",1]
[{"$f":"IF(C225=base!$AC$2,ROW()+1,\"\")","v":{"$error":"#REF!"}},{"$f":"IF(C225=base!$W$2,ROW()+1,\"\")","v":{"$error":"#REF!"}},1730,"Lomas de las Águilas","Colonia","Álvaro Obregón","Distrito Federal","Ciudad de México",1001,9,1001,null,9,10,299,"Urbano",1]
[{"$f":"IF(C226=base!$AC$2,ROW()+1,\"\")","v":{"$error":"#REF!"}},{"$f":"IF(C226=base!$W$2,ROW()+1,\"\")","v":{"$error":"#REF!"}},1740,"La Peñita del Pueblo Tetelpan","Colonia","Álvaro Obregón","Distrito Federal","Ciudad de México",1001,9,1001,null,9,10,303,"Urbano",1]
[{"$f":"IF(C227=base!$AC$2,ROW()+1,\"\")","v":{"$error":"#REF!"}},{"$f":"IF(C227=base!$W$2,ROW()+1,\"\")","v":{"$error":"#REF!"}},1740,"San Clemente Norte","Colonia","Álvaro Obregón","Distrito Federal","Ciudad de México",1001,9,1001,null,9,10,304,"Urbano",1]
[{"$f":"IF(C228=base!$AC$2,ROW()+1,\"\")","v":{"$error":"#REF!"}},{"$f":"IF(C228=base!$W$2,ROW()+1,\"\")","v":{"$error":"#REF!"}},1740,"San Clemente Sur","Colonia","Álvaro Obregón","Distrito Federal","Ciudad de México",1001,9,1001,null,9,10,2842,"Urbano",1]
[{"$f":"IF(C229=base!$AC$2,ROW()+1,\"\")","v":{"$error":"#REF!"}},{"$f":"IF(C229=base!$W$2,ROW()+1,\"\")","v":{"$error":"#REF!"}},1750,"Las Águilas 3er Parque","Colonia","Álvaro Obregón","Distrito Federal","Ciudad de México",1001,9,1001,null,9,10,307,"Urbano",1]
[{"$f":"IF(C230=base!$AC$2,ROW()+1,\"\")","v":{"$error":"#REF!"}},{"$f":"IF(C230=base!$W$2,ROW()+1,\"\")","v":{"$error":"#REF!"}},1750,"Las Águilas 2o Parque","Colonia","Álvaro Obregón","Distrito Federal","Ciudad de México",1001,9,1001,null,9,10,306,"Urbano",1]
[{"$f":"IF(C231=base!$AC$2,ROW()+1,\"\")","v":{"$error":"#REF!"}},{"$f":"IF(C231=base!$W$2,ROW()+1,\"\")","v":{"$error":"#REF!"}},1750,"Las Águilas 1a Sección","Colonia","Álvaro Obregón","Distrito Federal","Ciudad de México",1001,9,1001,null,9,10,305,"Urbano",1]
[{"$f":"IF(C232=base!$AC$2,ROW()+1,\"\")","v":{"$error":"#REF!"}},{"$f":"IF(C232=base!$W$2,ROW()+1,\"\")","v":{"$error":"#REF!"}},1759,"Ampliación Las Águilas","Colonia","Álvaro Obregón","Distrito Federal","Ciudad de México",1001,9,1001,null,9,10,308,"Urbano",1]
[{"$f":"IF(C233=base!$AC$2,ROW()+1,\"\")","v":{"$error":"#REF!"}},{"$f":"IF(C233=base!$W$2,ROW()+1,\"\")","v":{"$error":"#REF!"}},1760,"Flor de María","Colonia","Álvaro Obregón","Distrito Federal","Ciudad de México",1001,9,1001,null,9,10,310,"Urbano",1]
[{"$f":"IF(C234=base!$AC$2,ROW()+1,\"\")","v":{"$error":"#REF!"}},{"$f":"IF(C234=base!$W$2,ROW()+1,\"\")","v":{"$error":"#REF!"}},1760,"Atlamaya","Colonia","Álvaro Obregón","Distrito Federal","Ciudad de México",1001,9,1001,null,9,10,309,"Urbano",1]
[{"$f":"IF(C235=base!$AC$2,ROW()+1,\"\")","v":{"$error":"#REF!"}},{"$f":"IF(C235=base!$W$2,ROW()+1,\"\")","v":{"$error":"#REF!"}},1760,"La Herradura del Pueblo Tetelpan","Colonia","Álvaro Obregón","Distrito Federal","Ciudad de México",1001,9,1001,null,9,10,311,"Urbano",1]
[{"$f":"IF(C236=base!$AC$2,ROW()+1,\"\")","v":{"$error":"#REF!"}},{"$f":"IF(C236=base!$W$2,ROW()+1,\"\")","v":{"$error":"#REF!"}},1770,"San José del Olivar","Colonia","Álvaro Obregón","Distrito Federal","Ciudad de México",1001,9,1001,null,9,10,316,"Urbano",1]
[{"$f":"IF(C237=base!$AC$2,ROW()+1,\"\")","v":{"$error":"#REF!"}},{"$f":"IF(C237=base!$W$2,ROW()+1,\"\")","v":{"$error":"#REF!"}},1770,"La Angostura","Colonia","Álvaro Obregón","Distrito Federal","Ciudad de México",1001,9,1001,null,9,10,315,"Urbano",1]
[{"$f":"IF(C238=base!$AC$2,ROW()+1,\"\")","v":{"$error":"#REF!"}},{"$f":"IF(C238=base!$W$2,ROW()+1,\"\")","v":{"$error":"#REF!"}},1780,"Olivar de los Padres","Colonia","Álvaro Obregón","Distrito Federal","Ciudad de México",1001,9,1001,null,9,10,318,"Urbano",1]
[{"$f":"IF(C239=base!$AC$2,ROW()+1,\"\")","v":{"$error":"#REF!"}},{"$f":"IF(C239=base!$W$2,ROW()+1,\"\")","v":{"$error":"#REF!"}},1780,"Tizampampano del Pueblo Tetelpan","Colonia","Álvaro Obregón","Distrito Federal","Ciudad de México",1001,9,1001,null,9,10,319,"Urbano",1]
[{"$f":"IF(C240=base!$AC$2,ROW()+1,\"\")","v":{"$error":"#REF!"}},{"$f":"IF(C240=base!$W$2,ROW()+1,\"\")","v":{"$error":"#REF!"}},1788,"El Olivarito","Conjunto habitacional","Álvaro Obregón","Distrito Federal","Ciudad de México",1001,9,1001,null,12,10,322,"Urbano",1]
[{"$f":"IF(C241=base!$AC$2,ROW()+1,\"\")","v":{"$error":"#REF!"}},{"$f":"IF(C241=base!$W$2,ROW()+1,\"\")","v":{"$error":"#REF!"}},1789,"Miguel Hidalgo","Colonia","Álvaro Obregón","Distrito Federal","Ciudad de México",1001,9,1001,null,9,10,323,"Urbano",1]
[{"$f":"IF(C242=base!$AC$2,ROW()+1,\"\")","v":{"$error":"#REF!"}},{"$f":"IF(C242=base!$W$2,ROW()+1,\"\")","v":{"$error":"#REF!"}},1790,"Lomas de los Ángeles del Pueblo Tetelpan","Colonia","Álvaro Obregón","Distrito Federal","Ciudad de México",1001,9,1001,null,9,10,324,"Urbano",1]
[{"$f":"IF(C243=base!$AC$2,ROW()+1,\"\")","v":{"$error":"#REF!"}},{"$f":"IF(C243=base!$W$2,ROW()+1,\"\")","v":{"$error":"#REF!"}},1790,"Lomas de San Ángel Inn","Colonia","Álvaro Obregón","Distrito Federal","Ciudad de México",1001,9,1001,null,9,10,325,"Urbano",1]
[{"$f":"IF(C244=base!$AC$2,ROW()+1,\"\")","v":{"$error":"#REF!"}},{"$f":"IF(C244=base!$W$2,ROW()+1,\"\")","v":{"$error":"#REF!"}},1800,"San Bartolo Ameyalco","Pueblo","Álvaro Obregón","Distrito Federal","Ciudad de México",1001,9,1001,null,28,10,327,"Urbano",1]
[{"$f":"IF(C245=base!$AC$2,ROW()+1,\"\")","v":{"$error":"#REF!"}},{"$f":"IF(C245=base!$W$2,ROW()+1,\"\")","v":{"$error":"#REF!"}},1807,"Rancho San Francisco Pueblo San Bartolo Ameyalco","Colonia","Álvaro Obregón","Distrito Federal","Ciudad de México",1001,9,1001,null,9,10,328,"Urbano",1]
[{"$f":"IF(C246=base!$AC$2,ROW()+1,\"\")","v":{"$error":"#REF!"}},{"$f":"IF(C246=base!$W$2,ROW()+1,\"\")","v":{"$error":"#REF!"}},1810,"Villa Verdún","Colonia","Álvaro Obregón","Distrito Federal","Ciudad de México",1001,9,1001,null,9,10,330,"Urbano",1]
[{"$f":"IF(C247=base!$AC$2,ROW()+1,\"\")","v":{"$error":"#REF!"}},{"$f":"IF(C247=base!$W$2,ROW()+1,\"\")","v":{"$error":"#REF!"}},1820,"Ejido San Mateo","Colonia","Álvaro Obregón","Distrito Federal","Ciudad de México",1001,9,1001,null,9,10,2843,"Urbano",1]
[{"$f":"IF(C248=base!$AC$2,ROW()+1,\"\")","v":{"$error":"#REF!"}},{"$f":"IF(C248=base!$W$2,ROW()+1,\"\")","v":{"$error":"#REF!"}},1820,"Lomas Axomiatla","Colonia","Álvaro Obregón","Distrito Federal","Ciudad de México",1001,9,1001,null,9,10,332,"Urbano",1]
[{"$f":"IF(C249=base!$AC$2,ROW()+1,\"\")","v":{"$error":"#REF!"}},{"$f":"IF(C249=base!$W$2,ROW()+1,\"\")","v":{"$error":"#REF!"}},1830,"Santa Rosa Xochiac","Pueblo","Álvaro Obregón","Distrito Federal","Ciudad de México",1001,9,1001,null,28,10,333,"Urbano",1]
[{"$f":"IF(C250=base!$AC$2,ROW()+1,\"\")","v":{"$error":"#REF!"}},{"$f":"IF(C250=base!$W$2,ROW()+1,\"\")","v":{"$error":"#REF!"}},1840,"Torres de Potrero","Colonia","Álvaro Obregón","Distrito Federal","Ciudad de México",1001,9,1001,null,9,10,334,"Urbano",1]
[{"$f":"IF(C251=base!$AC$2,ROW()+1,\"\")","v":{"$error":"#REF!"}},{"$f":"IF(C251=base!$W$2,ROW()+1,\"\")","v":{"$error":"#REF!"}},1849,"Rancho del Carmen del Pueblo San Bartolo Ameyalco","Colonia","Álvaro Obregón","Distrito Federal","Ciudad de México",1001,9,1001,null,9,10,2847,"Urbano",1]
[{"$f":"IF(C252=base!$AC$2,ROW()+1,\"\")","v":{"$error":"#REF!"}},{"$f":"IF(C252=base!$W$2,ROW()+1,\"\")","v":{"$error":"#REF!"}},1849,"Rincón de la Bolsa","Colonia","Álvaro Obregón","Distrito Federal","Ciudad de México",1001,9,1001,null,9,10,337,"Urbano",1]
[{"$f":"IF(C253=base!$AC$2,ROW()+1,\"\")","v":{"$error":"#REF!"}},{"$f":"IF(C253=base!$W$2,ROW()+1,\"\")","v":{"$error":"#REF!"}},1856,"Paraje del Caballito","Campamento","Álvaro Obregón","Distrito Federal","Ciudad de México",1001,9,1001,null,4,10,340,"Urbano",1]
[{"$f":"IF(C254=base!$AC$2,ROW()+1,\"\")","v":{"$error":"#REF!"}},{"$f":"IF(C254=base!$W$2,ROW()+1,\"\")","v":{"$error":"#REF!"}},1857,"Lomas de Chamontoya","Colonia","Álvaro Obregón","Distrito Federal","Ciudad de México",1001,9,1001,null,9,10,341,"Urbano",1]
[{"$f":"IF(C255=base!$AC$2,ROW()+1,\"\")","v":{"$error":"#REF!"}},{"$f":"IF(C255=base!$W$2,ROW()+1,\"\")","v":{"$error":"#REF!"}},1859,"Tlacoyaque","Colonia","Álvaro Obregón","Distrito Federal","Ciudad de México",1001,9,1001,null,9,10,343,"Urbano",1]
[{"$f":"IF(C256=base!$AC$2,ROW()+1,\"\")","v":{"$error":"#REF!"}},{"$f":"IF(C256=base!$W$2,ROW()+1,\"\")","v":{"$error":"#REF!"}},1860,"Lomas de La Era","Colonia","Álvaro Obregón","Distrito Federal","Ciudad de México",1001,9,1001,null,9,10,344,"Urbano",1]
[{"$f":"IF(C257=base!$AC$2,ROW()+1,\"\")","v":{"$error":"#REF!"}},{"$f":"IF(C257=base!$W$2,ROW()+1,\"\")","v":{"$error":"#REF!"}},1863,"Lomas del Capulín","Campamento","Álvaro Obregón","Distrito Federal","Ciudad de México",1001,9,1001,null,4,10,3,"Urbano",1]
[{"$f":"IF(C258=base!$AC$2,ROW()+1,\"\")","v":{"$error":"#REF!"}},{"$f":"IF(C258=base!$W$2,ROW()+1,\"\")","v":{"$error":"#REF!"}},1870,"Lomas de los Cedros","Colonia","Álvaro Obregón","Distrito Federal","Ciudad de México",1001,9,1001,null,9,10,345,"Urbano",1]
[{"$f":"IF(C259=base!$AC$2,ROW()+1,\"\")","v":{"$error":"#REF!"}},{"$f":"IF(C259=base!$W$2,ROW()+1,\"\")","v":{"$error":"#REF!"}},1900,"Jardines del Pedregal","Colonia","Álvaro Obregón","Distrito Federal","Ciudad de México",1001,9,1001,null,9,10,347,"Urbano",1]
[{"$f":"IF(C260=base!$AC$2,ROW()+1,\"\")","v":{"$error":"#REF!"}},{"$f":"IF(C260=base!$W$2,ROW()+1,\"\")","v":{"$error":"#REF!"}},1904,"San Jerónimo Aculco","Colonia","Álvaro Obregón","Distrito Federal","Ciudad de México",1001,9,1001,null,9,10,2846,"Urbano",1]
[{"$f":"IF(C261=base!$AC$2,ROW()+1,\"\")","v":{"$error":"#REF!"}},{"$f":"IF(C261=base!$W$2,ROW()+1,\"\")","v":{"$error":"#REF!"}},1940,"Rancho Anzaldo y Contreras","Fraccionamiento","Álvaro Obregón","Distrito Federal","Ciudad de México",1001,9,1001,null,21,10,350,"Urbano",1]
[{"$f":"IF(C262=base!$AC$2,ROW()+1,\"\")","v":{"$error":"#REF!"}},{"$f":"IF(C262=base!$W$2,ROW()+1,\"\")","v":{"$error":"#REF!"}},1990,"Pedregal","Fraccionamiento","Álvaro Obregón","Distrito Federal","Ciudad de México",1001,9,1001,null,21,10,352,"Urbano",1]
[{"$f":"IF(C263=base!$AC$2,ROW()+1,\"\")","v":{"$error":"#REF!"}},{"$f":"IF(C263=base!$W$2,ROW()+1,\"\")","v":{"$error":"#REF!"}},2000,"Centro de Azcapotzalco","Colonia","Azcapotzalco","Distrito Federal","Ciudad de México",2011,9,2011,null,9,2,353,"Urbano",2]
[{"$f":"IF(C264=base!$AC$2,ROW()+1,\"\")","v":{"$error":"#REF!"}},{"$f":"IF(C264=base!$W$2,ROW()+1,\"\")","v":{"$error":"#REF!"}},2008,"Delegación Política Azcapotzalco","Gran usuario","Azcapotzalco","Distrito Federal","Ciudad de México",2011,9,2011,null,22,2,354,"Urbano",2]
[{"$f":"IF(C265=base!$AC$2,ROW()+1,\"\")","v":{"$error":"#REF!"}},{"$f":"IF(C265=base!$W$2,ROW()+1,\"\")","v":{"$error":"#REF!"}},2010,"Nuevo Barrio San Rafael","Barrio","Azcapotzalco","Distrito Federal","Ciudad de México",2011,9,2011,null,2,2,358,"Urbano",2]
[{"$f":"IF(C266=base!$AC$2,ROW()+1,\"\")","v":{"$error":"#REF!"}},{"$f":"IF(C266=base!$W$2,ROW()+1,\"\")","v":{"$error":"#REF!"}},2010,"San Rafael","Colonia","Azcapotzalco","Distrito Federal","Ciudad de México",2011,9,2011,null,9,2,357,"Urbano",2]
[{"$f":"IF(C267=base!$AC$2,ROW()+1,\"\")","v":{"$error":"#REF!"}},{"$f":"IF(C267=base!$W$2,ROW()+1,\"\")","v":{"$error":"#REF!"}},2010,"Los Reyes","Barrio","Azcapotzalco","Distrito Federal","Ciudad de México",2011,9,2011,null,2,2,356,"Urbano",2]
[{"$f":"IF(C268=base!$AC$2,ROW()+1,\"\")","v":{"$error":"#REF!"}},{"$f":"IF(C268=base!$W$2,ROW()+1,\"\")","v":{"$error":"#REF!"}},2020,"Santo Tomás","Colonia","Azcapotzalco","Distrito Federal","Ciudad de México",2011,9,2011,null,9,2,361,"Urbano",2]
[{"$f":"IF(C269=base!$AC$2,ROW()+1,\"\")","v":{"$error":"#REF!"}},{"$f":"IF(C269=base!$W$2,ROW()+1,\"\")","v":{"$error":"#REF!"}},2020,"San Marcos","Barrio","Azcapotzalco","Distrito Federal","Ciudad de México",2011,9,2011,null,2,2,360,"Urbano",2]
[{"$f":"IF(C270=base!$AC$2,ROW()+1,\"\")","v":{"$error":"#REF!"}},{"$f":"IF(C270=base!$W$2,ROW()+1,\"\")","v":{"$error":"#REF!"}},2040,"San Sebastián","Colonia","Azcapotzalco","Distrito Federal","Ciudad de México",2011,9,2011,null,9,2,363,"Urbano",2]
[{"$f":"IF(C271=base!$AC$2,ROW()+1,\"\")","v":{"$error":"#REF!"}},{"$f":"IF(C271=base!$W$2,ROW()+1,\"\")","v":{"$error":"#REF!"}},2040,"Del Maestro","Colonia","Azcapotzalco","Distrito Federal","Ciudad de México",2011,9,2011,null,9,2,362,"Urbano",2]
[{"$f":"IF(C272=base!$AC$2,ROW()+1,\"\")","v":{"$error":"#REF!"}},{"$f":"IF(C272=base!$W$2,ROW()+1,\"\")","v":{"$error":"#REF!"}},2050,"Wake","Unidad habitacional","Azcapotzalco","Distrito Federal","Ciudad de México",2011,9,2011,null,31,2,2823,"Urbano",2]
[{"$f":"IF(C273=base!$AC$2,ROW()+1,\"\")","v":{"$error":"#REF!"}},{"$f":"IF(C273=base!$W$2,ROW()+1,\"\")","v":{"$error":"#REF!"}},2050,"Libertad","Colonia","Azcapotzalco","Distrito Federal","Ciudad de México",2011,9,2011,null,9,2,364,"Urbano",2]
[{"$f":"IF(C274=base!$AC$2,ROW()+1,\"\")","v":{"$error":"#REF!"}},{"$f":"IF(C274=base!$W$2,ROW()+1,\"\")","v":{"$error":"#REF!"}},2050,"Santa María Malinalco","Pueblo","Azcapotzalco","Distrito Federal","Ciudad de México",2011,9,2011,null,28,2,365,"Urbano",2]
[{"$f":"IF(C275=base!$AC$2,ROW()+1,\"\")","v":{"$error":"#REF!"}},{"$f":"IF(C275=base!$W$2,ROW()+1,\"\")","v":{"$error":"#REF!"}},2060,"Sindicato Mexicano de Electricistas","Colonia","Azcapotzalco","Distrito Federal","Ciudad de México",2011,9,2011,null,9,2,368,"Urbano",2]
[{"$f":"IF(C276=base!$AC$2,ROW()+1,\"\")","v":{"$error":"#REF!"}},{"$f":"IF(C276=base!$W$2,ROW()+1,\"\")","v":{"$error":"#REF!"}},2060,"Un Hogar Para Cada Trabajador","Colonia","Azcapotzalco","Distrito Federal","Ciudad de México",2011,9,2011,null,9,2,369,"Urbano",2]
[{"$f":"IF(C277=base!$AC$2,ROW()+1,\"\")","v":{"$error":"#REF!"}},{"$f":"IF(C277=base!$W$2,ROW()+1,\"\")","v":{"$error":"#REF!"}},2070,"Nextengo","Unidad habitacional","Azcapotzalco","Distrito Federal","Ciudad de México",2011,9,2011,null,31,2,2826,"Urbano",2]
[{"$f":"IF(C278=base!$AC$2,ROW()+1,\"\")","v":{"$error":"#REF!"}},{"$f":"IF(C278=base!$W$2,ROW()+1,\"\")","v":{"$error":"#REF!"}},2070,"Nextengo","Barrio","Azcapotzalco","Distrito Federal","Ciudad de México",2011,9,2011,null,2,2,372,"Urbano",2]
[{"$f":"IF(C279=base!$AC$2,ROW()+1,\"\")","v":{"$error":"#REF!"}},{"$f":"IF(C279=base!$W$2,ROW()+1,\"\")","v":{"$error":"#REF!"}},2070,"Azcapotzalco","Unidad habitacional","Azcapotzalco","Distrito Federal","Ciudad de México",2011,9,2011,null,31,2,370,"Urbano",2]
[{"$f":"IF(C280=base!$AC$2,ROW()+1,\"\")","v":{"$error":"#REF!"}},{"$f":"IF(C280=base!$W$2,ROW()+1,\"\")","v":{"$error":"#REF!"}},2070,"Del Recreo","Colonia","Azcapotzalco","Distrito Federal","Ciudad de México",2011,9,2011,null,9,2,371,"Urbano",2]
[{"$f":"IF(C281=base!$AC$2,ROW()+1,\"\")","v":{"$error":"#REF!"}},{"$f":"IF(C281=base!$W$2,ROW()+1,\"\")","v":{"$error":"#REF!"}},2070,"Palestina","Unidad habitacional","Azcapotzalco","Distrito Federal","Ciudad de México",2011,9,2011,null,31,2,2827,"Urbano",2]
[{"$f":"IF(C282=base!$AC$2,ROW()+1,\"\")","v":{"$error":"#REF!"}},{"$f":"IF(C282=base!$W$2,ROW()+1,\"\")","v":{"$error":"#REF!"}},2080,"Clavería","Colonia","Azcapotzalco","Distrito Federal","Ciudad de México",2011,9,2011,null,9,2,374,"Urbano",2]
[{"$f":"IF(C283=base!$AC$2,ROW()+1,\"\")","v":{"$error":"#REF!"}},{"$f":"IF(C283=base!$W$2,ROW()+1,\"\")","v":{"$error":"#REF!"}},2080,"Sector Naval","Colonia","Azcapotzalco","Distrito Federal","Ciudad de México",2011,9,2011,null,9,2,376,"Urbano",2]
[{"$f":"IF(C284=base!$AC$2,ROW()+1,\"\")","v":{"$error":"#REF!"}},{"$f":"IF(C284=base!$W$2,ROW()+1,\"\")","v":{"$error":"#REF!"}},2090,"San Álvaro","Colonia","Azcapotzalco","Distrito Federal","Ciudad de México",2011,9,2011,null,9,2,377,"Urbano",2]
[{"$f":"IF(C285=base!$AC$2,ROW()+1,\"\")","v":{"$error":"#REF!"}},{"$f":"IF(C285=base!$W$2,ROW()+1,\"\")","v":{"$error":"#REF!"}},2099,"Ángel Zimbrón","Colonia","Azcapotzalco","Distrito Federal","Ciudad de México",2011,9,2011,null,9,2,378,"Urbano",2]
[{"$f":"IF(C286=base!$AC$2,ROW()+1,\"\")","v":{"$error":"#REF!"}},{"$f":"IF(C286=base!$W$2,ROW()+1,\"\")","v":{"$error":"#REF!"}},2100,"Los Oyameles","Unidad habitacional","Azcapotzalco","Distrito Federal","Ciudad de México",2011,9,2011,null,31,2,2817,"Urbano",2]
[{"$f":"IF(C287=base!$AC$2,ROW()+1,\"\")","v":{"$error":"#REF!"}},{"$f":"IF(C287=base!$W$2,ROW()+1,\"\")","v":{"$error":"#REF!"}},2100,"El Rosario","Colonia","Azcapotzalco","Distrito Federal","Ciudad de México",2011,9,2011,null,9,2,379,"Urbano",2]
[{"$f":"IF(C288=base!$AC$2,ROW()+1,\"\")","v":{"$error":"#REF!"}},{"$f":"IF(C288=base!$W$2,ROW()+1,\"\")","v":{"$error":"#REF!"}},2109,"CROC 6 Olimpia","Unidad habitacional","Azcapotzalco","Distrito Federal","Ciudad de México",2011,9,2011,null,31,2,2645,"Urbano",2]
[{"$f":"IF(C289=base!$AC$2,ROW()+1,\"\")","v":{"$error":"#REF!"}},{"$f":"IF(C289=base!$W$2,ROW()+1,\"\")","v":{"$error":"#REF!"}},2109,"Manuel Rivera Anaya CROC 1","Unidad habitacional","Azcapotzalco","Distrito Federal","Ciudad de México",2011,9,2011,null,31,2,380,"Urbano",2]
[{"$f":"IF(C290=base!$AC$2,ROW()+1,\"\")","v":{"$error":"#REF!"}},{"$f":"IF(C290=base!$W$2,ROW()+1,\"\")","v":{"$error":"#REF!"}},2110,"Ecológica Novedades Impacto","Unidad habitacional","Azcapotzalco","Distrito Federal","Ciudad de México",2011,9,2011,null,31,2,381,"Urbano",2]
[{"$f":"IF(C291=base!$AC$2,ROW()+1,\"\")","v":{"$error":"#REF!"}},{"$f":"IF(C291=base!$W$2,ROW()+1,\"\")","v":{"$error":"#REF!"}},2110,"San Pablo Xalpa","Unidad habitacional","Azcapotzalco","Distrito Federal","Ciudad de México",2011,9,2011,null,31,2,382,"Urbano",2]
[{"$f":"IF(C292=base!$AC$2,ROW()+1,\"\")","v":{"$error":"#REF!"}},{"$f":"IF(C292=base!$W$2,ROW()+1,\"\")","v":{"$error":"#REF!"}},2120,"San Martín Xochinahuac","Pueblo","Azcapotzalco","Distrito Federal","Ciudad de México",2011,9,2011,null,28,2,385,"Urbano",2]
[{"$f":"IF(C293=base!$AC$2,ROW()+1,\"\")","v":{"$error":"#REF!"}},{"$f":"IF(C293=base!$W$2,ROW()+1,\"\")","v":{"$error":"#REF!"}},2125,"San Martín Xochinahuac","Unidad habitacional","Azcapotzalco","Distrito Federal","Ciudad de México",2011,9,2011,null,31,2,386,"Urbano",2]
[{"$f":"IF(C294=base!$AC$2,ROW()+1,\"\")","v":{"$error":"#REF!"}},{"$f":"IF(C294=base!$W$2,ROW()+1,\"\")","v":{"$error":"#REF!"}},2127,"Tepantongo","Unidad habitacional","Azcapotzalco","Distrito Federal","Ciudad de México",2011,9,2011,null,31,2,387,"Urbano",2]
[{"$f":"IF(C295=base!$AC$2,ROW()+1,\"\")","v":{"$error":"#REF!"}},{"$f":"IF(C295=base!$W$2,ROW()+1,\"\")","v":{"$error":"#REF!"}},2128,"Nueva El Rosario","Colonia","Azcapotzalco","Distrito Federal","Ciudad de México",2011,9,2011,null,9,2,389,"Urbano",2]
[{"$f":"IF(C296=base!$AC$2,ROW()+1,\"\")","v":{"$error":"#REF!"}},{"$f":"IF(C296=base!$W$2,ROW()+1,\"\")","v":{"$error":"#REF!"}},2129,"Nueva España","Colonia","Azcapotzalco","Distrito Federal","Ciudad de México",2011,9,2011,null,9,2,390,"Urbano",2]
[{"$f":"IF(C297=base!$AC$2,ROW()+1,\"\")","v":{"$error":"#REF!"}},{"$f":"IF(C297=base!$W$2,ROW()+1,\"\")","v":{"$error":"#REF!"}},2130,"Tierra Nueva","Colonia","Azcapotzalco","Distrito Federal","Ciudad de México",2011,9,2011,null,9,2,391,"Urbano",2]
[{"$f":"IF(C298=base!$AC$2,ROW()+1,\"\")","v":{"$error":"#REF!"}},{"$f":"IF(C298=base!$W$2,ROW()+1,\"\")","v":{"$error":"#REF!"}},2140,"Santa Inés","Colonia","Azcapotzalco","Distrito Federal","Ciudad de México",2011,9,2011,null,9,2,392,"Urbano",2]
[{"$f":"IF(C299=base!$AC$2,ROW()+1,\"\")","v":{"$error":"#REF!"}},{"$f":"IF(C299=base!$W$2,ROW()+1,\"\")","v":{"$error":"#REF!"}},2150,"Azcapotzalco Pasteros","Unidad habitacional","Azcapotzalco","Distrito Federal","Ciudad de México",2011,9,2011,null,31,2,2820,"Urbano",2]
[{"$f":"IF(C300=base!$AC$2,ROW()+1,\"\")","v":{"$error":"#REF!"}},{"$f":"IF(C300=base!$W$2,ROW()+1,\"\")","v":{"$error":"#REF!"}},2150,"Pasteros","Colonia","Azcapotzalco","Distrito Federal","Ciudad de México",2011,9,2011,null,9,2,393,"Urbano",2]
[{"$f":"IF(C301=base!$AC$2,ROW()+1,\"\")","v":{"$error":"#REF!"}},{"$f":"IF(C301=base!$W$2,ROW()+1,\"\")","v":{"$error":"#REF!"}},2160,"Santo Domingo","Pueblo","Azcapotzalco","Distrito Federal","Ciudad de México",2011,9,2011,null,28,2,394,"Urbano",2]
[{"$f":"IF(C302=base!$AC$2,ROW()+1,\"\")","v":{"$error":"#REF!"}},{"$f":"IF(C302=base!$W$2,ROW()+1,\"\")","v":{"$error":"#REF!"}},2169,"Villas de Azcapotzalco","Unidad habitacional","Azcapotzalco","Distrito Federal","Ciudad de México",2011,9,2011,null,31,2,395,"Urbano",2]
[{"$f":"IF(C303=base!$AC$2,ROW()+1,\"\")","v":{"$error":"#REF!"}},{"$f":"IF(C303=base!$W$2,ROW()+1,\"\")","v":{"$error":"#REF!"}},2200,"Reynosa Tamaulipas","Colonia","Azcapotzalco","Distrito Federal","Ciudad de México",2011,9,2011,null,9,2,396,"Urbano",2]
[{"$f":"IF(C304=base!$AC$2,ROW()+1,\"\")","v":{"$error":"#REF!"}},{"$f":"IF(C304=base!$W$2,ROW()+1,\"\")","v":{"$error":"#REF!"}},2230,"Santa Bárbara","Pueblo","Azcapotzalco","Distrito Federal","Ciudad de México",2011,9,2011,null,28,2,397,"Urbano",2]
[{"$f":"IF(C305=base!$AC$2,ROW()+1,\"\")","v":{"$error":"#REF!"}},{"$f":"IF(C305=base!$W$2,ROW()+1,\"\")","v":{"$error":"#REF!"}},2240,"Ticoman","Unidad habitacional","Azcapotzalco","Distrito Federal","Ciudad de México",2011,9,2011,null,31,2,2818,"Urbano",2]
[{"$f":"IF(C306=base!$AC$2,ROW()+1,\"\")","v":{"$error":"#REF!"}},{"$f":"IF(C306=base!$W$2,ROW()+1,\"\")","v":{"$error":"#REF!"}},2240,"San Andrés","Pueblo","Azcapotzalco","Distrito Federal","Ciudad de México",2011,9,2011,null,28,2,399,"Urbano",2]
[{"$f":"IF(C307=base!$AC$2,ROW()+1,\"\")","v":{"$error":"#REF!"}},{"$f":"IF(C307=base!$W$2,ROW()+1,\"\")","v":{"$error":"#REF!"}},2240,"San Andrés","Barrio","Azcapotzalco","Distrito Federal","Ciudad de México",2011,9,2011,null,2,2,398,"Urbano",2]
[{"$f":"IF(C308=base!$AC$2,ROW()+1,\"\")","v":{"$error":"#REF!"}},{"$f":"IF(C308=base!$W$2,ROW()+1,\"\")","v":{"$error":"#REF!"}},2240,"San Andrés Fase II","Unidad habitacional","Azcapotzalco","Distrito Federal","Ciudad de México",2011,9,2011,null,31,2,2819,"Urbano",2]
[{"$f":"IF(C309=base!$AC$2,ROW()+1,\"\")","v":{"$error":"#REF!"}},{"$f":"IF(C309=base!$W$2,ROW()+1,\"\")","v":{"$error":"#REF!"}},2250,"Santa Catarina","Pueblo","Azcapotzalco","Distrito Federal","Ciudad de México",2011,9,2011,null,28,2,400,"Urbano",2]
[{"$f":"IF(C310=base!$AC$2,ROW()+1,\"\")","v":{"$error":"#REF!"}},{"$f":"IF(C310=base!$W$2,ROW()+1,\"\")","v":{"$error":"#REF!"}},2260,"Pitolaca","Unidad habitacional","Azcapotzalco","Distrito Federal","Ciudad de México",2011,9,2011,null,31,2,2821,"Urbano",2]
[{"$f":"IF(C311=base!$AC$2,ROW()+1,\"\")","v":{"$error":"#REF!"}},{"$f":"IF(C311=base!$W$2,ROW()+1,\"\")","v":{"$error":"#REF!"}},2300,"Industrial Vallejo","Colonia","Azcapotzalco","Distrito Federal","Ciudad de México",2601,9,2601,null,9,2,402,"Urbano",2]
[{"$f":"IF(C312=base!$AC$2,ROW()+1,\"\")","v":{"$error":"#REF!"}},{"$f":"IF(C312=base!$W$2,ROW()+1,\"\")","v":{"$error":"#REF!"}},2310,"Ferrería","Colonia","Azcapotzalco","Distrito Federal","Ciudad de México",2601,9,2601,null,9,2,404,"Urbano",2]
[{"$f":"IF(C313=base!$AC$2,ROW()+1,\"\")","v":{"$error":"#REF!"}},{"$f":"IF(C313=base!$W$2,ROW()+1,\"\")","v":{"$error":"#REF!"}},2320,"San Andrés de las Salinas","Pueblo","Azcapotzalco","Distrito Federal","Ciudad de México",2601,9,2601,null,28,2,405,"Urbano",2]
[{"$f":"IF(C314=base!$AC$2,ROW()+1,\"\")","v":{"$error":"#REF!"}},{"$f":"IF(C314=base!$W$2,ROW()+1,\"\")","v":{"$error":"#REF!"}},2330,"Huautla de las Salinas","Barrio","Azcapotzalco","Distrito Federal","Ciudad de México",2601,9,2601,null,2,2,406,"Urbano",2]
[{"$f":"IF(C315=base!$AC$2,ROW()+1,\"\")","v":{"$error":"#REF!"}},{"$f":"IF(C315=base!$W$2,ROW()+1,\"\")","v":{"$error":"#REF!"}},2340,"Santa Cruz de las Salinas","Colonia","Azcapotzalco","Distrito Federal","Ciudad de México",2601,9,2601,null,9,2,407,"Urbano",2]
[{"$f":"IF(C316=base!$AC$2,ROW()+1,\"\")","v":{"$error":"#REF!"}},{"$f":"IF(C316=base!$W$2,ROW()+1,\"\")","v":{"$error":"#REF!"}},2350,"Jardines de Ceylán","Unidad habitacional","Azcapotzalco","Distrito Federal","Ciudad de México",2601,9,2601,null,31,2,408,"Urbano",2]
[{"$f":"IF(C317=base!$AC$2,ROW()+1,\"\")","v":{"$error":"#REF!"}},{"$f":"IF(C317=base!$W$2,ROW()+1,\"\")","v":{"$error":"#REF!"}},2360,"Las Salinas","Colonia","Azcapotzalco","Distrito Federal","Ciudad de México",2601,9,2601,null,9,2,409,"Urbano",2]
[{"$f":"IF(C318=base!$AC$2,ROW()+1,\"\")","v":{"$error":"#REF!"}},{"$f":"IF(C318=base!$W$2,ROW()+1,\"\")","v":{"$error":"#REF!"}},2400,"Rinconada el Olivar","Unidad habitacional","Azcapotzalco","Distrito Federal","Ciudad de México",2011,9,2011,null,31,2,2802,"Urbano",2]
[{"$f":"IF(C319=base!$AC$2,ROW()+1,\"\")","v":{"$error":"#REF!"}},{"$f":"IF(C319=base!$W$2,ROW()+1,\"\")","v":{"$error":"#REF!"}},2400,"San Juan Tlihuaca","Pueblo","Azcapotzalco","Distrito Federal","Ciudad de México",2011,9,2011,null,28,2,410,"Urbano",2]
[{"$f":"IF(C320=base!$AC$2,ROW()+1,\"\")","v":{"$error":"#REF!"}},{"$f":"IF(C320=base!$W$2,ROW()+1,\"\")","v":{"$error":"#REF!"}},2400,"San Juan Tlihuaca","Unidad habitacional","Azcapotzalco","Distrito Federal","Ciudad de México",2011,9,2011,null,31,2,2801,"Urbano",2]
[{"$f":"IF(C321=base!$AC$2,ROW()+1,\"\")","v":{"$error":"#REF!"}},{"$f":"IF(C321=base!$W$2,ROW()+1,\"\")","v":{"$error":"#REF!"}},2409,"Rosendo Salazar","Unidad habitacional","Azcapotzalco","Distrito Federal","Ciudad de México",2011,9,2011,null,31,2,411,"Urbano",2]
[{"$f":"IF(C322=base!$AC$2,ROW()+1,\"\")","v":{"$error":"#REF!"}},{"$f":"IF(C322=base!$W$2,ROW()+1,\"\")","v":{"$error":"#REF!"}},2410,"Prados del Rosario","Colonia","Azcapotzalco","Distrito Federal","Ciudad de México",2011,9,2011,null,9,2,412,"Urbano",2]
[{"$f":"IF(C323=base!$AC$2,ROW()+1,\"\")","v":{"$error":"#REF!"}},{"$f":"IF(C323=base!$W$2,ROW()+1,\"\")","v":{"$error":"#REF!"}},2419,"Trabajadores de PEMEX","Unidad habitacional","Azcapotzalco","Distrito Federal","Ciudad de México",2011,9,2011,null,31,2,413,"Urbano",2]
[{"$f":"IF(C324=base!$AC$2,ROW()+1,\"\")","v":{"$error":"#REF!"}},{"$f":"IF(C324=base!$W$2,ROW()+1,\"\")","v":{"$error":"#REF!"}},2420,"Francisco Villa","Unidad habitacional","Azcapotzalco","Distrito Federal","Ciudad de México",2011,9,2011,null,31,2,414,"Urbano",2]
[{"$f":"IF(C325=base!$AC$2,ROW()+1,\"\")","v":{"$error":"#REF!"}},{"$f":"IF(C325=base!$W$2,ROW()+1,\"\")","v":{"$error":"#REF!"}},2420,"Ex-Hacienda El Rosario","Colonia","Azcapotzalco","Distrito Federal","Ciudad de México",2011,9,2011,null,9,2,415,"Urbano",2]
[{"$f":"IF(C326=base!$AC$2,ROW()+1,\"\")","v":{"$error":"#REF!"}},{"$f":"IF(C326=base!$W$2,ROW()+1,\"\")","v":{"$error":"#REF!"}},2430,"Presidente Madero","Unidad habitacional","Azcapotzalco","Distrito Federal","Ciudad de México",2011,9,2011,null,31,2,416,"Urbano",2]
[{"$f":"IF(C327=base!$AC$2,ROW()+1,\"\")","v":{"$error":"#REF!"}},{"$f":"IF(C327=base!$W$2,ROW()+1,\"\")","v":{"$error":"#REF!"}},2440,"Providencia","Colonia","Azcapotzalco","Distrito Federal","Ciudad de México",2011,9,2011,null,9,2,418,"Urbano",2]
[{"$f":"IF(C328=base!$AC$2,ROW()+1,\"\")","v":{"$error":"#REF!"}},{"$f":"IF(C328=base!$W$2,ROW()+1,\"\")","v":{"$error":"#REF!"}},2450,"Miguel Hidalgo","Unidad habitacional","Azcapotzalco","Distrito Federal","Ciudad de México",2011,9,2011,null,31,2,420,"Urbano",2]
[{"$f":"IF(C329=base!$AC$2,ROW()+1,\"\")","v":{"$error":"#REF!"}},{"$f":"IF(C329=base!$W$2,ROW()+1,\"\")","v":{"$error":"#REF!"}},2450,"Las Trancas","Unidad habitacional","Azcapotzalco","Distrito Federal","Ciudad de México",2011,9,2011,null,31,2,419,"Urbano",2]
[{"$f":"IF(C330=base!$AC$2,ROW()+1,\"\")","v":{"$error":"#REF!"}},{"$f":"IF(C330=base!$W$2,ROW()+1,\"\")","v":{"$error":"#REF!"}},2459,"Tezozomoc","Colonia","Azcapotzalco","Distrito Federal","Ciudad de México",2011,9,2011,null,9,2,421,"Urbano",2]
[{"$f":"IF(C331=base!$AC$2,ROW()+1,\"\")","v":{"$error":"#REF!"}},{"$f":"IF(C331=base!$W$2,ROW()+1,\"\")","v":{"$error":"#REF!"}},2460,"Axolahua","Unidad habitacional","Azcapotzalco","Distrito Federal","Ciudad de México",2011,9,2011,null,31,2,2803,"Urbano",2]
[{"$f":"IF(C332=base!$AC$2,ROW()+1,\"\")","v":{"$error":"#REF!"}},{"$f":"IF(C332=base!$W$2,ROW()+1,\"\")","v":{"$error":"#REF!"}},2460,"La Preciosa","Colonia","Azcapotzalco","Distrito Federal","Ciudad de México",2011,9,2011,null,9,2,422,"Urbano",2]
[{"$f":"IF(C333=base!$AC$2,ROW()+1,\"\")","v":{"$error":"#REF!"}},{"$f":"IF(C333=base!$W$2,ROW()+1,\"\")","v":{"$error":"#REF!"}},2470,"Ampliación Petrolera","Colonia","Azcapotzalco","Distrito Federal","Ciudad de México",2011,9,2011,null,9,2,423,"Urbano",2]
[{"$f":"IF(C334=base!$AC$2,ROW()+1,\"\")","v":{"$error":"#REF!"}},{"$f":"IF(C334=base!$W$2,ROW()+1,\"\")","v":{"$error":"#REF!"}},2479,"Lázaro Cárdenas","Unidad habitacional","Azcapotzalco","Distrito Federal","Ciudad de México",2011,9,2011,null,31,2,424,"Urbano",2]
[{"$f":"IF(C335=base!$AC$2,ROW()+1,\"\")","v":{"$error":"#REF!"}},{"$f":"IF(C335=base!$W$2,ROW()+1,\"\")","v":{"$error":"#REF!"}},2480,"Petrolera","Colonia","Azcapotzalco","Distrito Federal","Ciudad de México",2011,9,2011,null,9,2,425,"Urbano",2]
[{"$f":"IF(C336=base!$AC$2,ROW()+1,\"\")","v":{"$error":"#REF!"}},{"$f":"IF(C336=base!$W$2,ROW()+1,\"\")","v":{"$error":"#REF!"}},2490,"San Mateo","Barrio","Azcapotzalco","Distrito Federal","Ciudad de México",2011,9,2011,null,2,2,427,"Urbano",2]
[{"$f":"IF(C337=base!$AC$2,ROW()+1,\"\")","v":{"$error":"#REF!"}},{"$f":"IF(C337=base!$W$2,ROW()+1,\"\")","v":{"$error":"#REF!"}},2490,"Kervin","Unidad habitacional","Azcapotzalco","Distrito Federal","Ciudad de México",2011,9,2011,null,31,2,2828,"Urbano",2]
[{"$f":"IF(C338=base!$AC$2,ROW()+1,\"\")","v":{"$error":"#REF!"}},{"$f":"IF(C338=base!$W$2,ROW()+1,\"\")","v":{"$error":"#REF!"}},2500,"Unidad Cuitlahuac","Colonia","Azcapotzalco","Distrito Federal","Ciudad de México",2011,9,2011,null,9,2,428,"Urbano",2]
[{"$f":"IF(C339=base!$AC$2,ROW()+1,\"\")","v":{"$error":"#REF!"}},{"$f":"IF(C339=base!$W$2,ROW()+1,\"\")","v":{"$error":"#REF!"}},2510,"Pantaco","Unidad habitacional","Azcapotzalco","Distrito Federal","Ciudad de México",2011,9,2011,null,31,2,429,"Urbano",2]
[{"$f":"IF(C340=base!$AC$2,ROW()+1,\"\")","v":{"$error":"#REF!"}},{"$f":"IF(C340=base!$W$2,ROW()+1,\"\")","v":{"$error":"#REF!"}},2510,"El Jagüey","Unidad habitacional","Azcapotzalco","Distrito Federal","Ciudad de México",2011,9,2011,null,31,2,2822,"Urbano",2]
[{"$f":"IF(C341=base!$AC$2,ROW()+1,\"\")","v":{"$error":"#REF!"}},{"$f":"IF(C341=base!$W$2,ROW()+1,\"\")","v":{"$error":"#REF!"}},2519,"El Jagüey","Colonia","Azcapotzalco","Distrito Federal","Ciudad de México",2011,9,2011,null,9,2,430,"Urbano",2]
[{"$f":"IF(C342=base!$AC$2,ROW()+1,\"\")","v":{"$error":"#REF!"}},{"$f":"IF(C342=base!$W$2,ROW()+1,\"\")","v":{"$error":"#REF!"}},2520,"Estación Pantaco","Equipamiento","Azcapotzalco","Distrito Federal","Ciudad de México",2601,9,2601,null,17,2,431,"Urbano",2]
[{"$f":"IF(C343=base!$AC$2,ROW()+1,\"\")","v":{"$error":"#REF!"}},{"$f":"IF(C343=base!$W$2,ROW()+1,\"\")","v":{"$error":"#REF!"}},2525,"Granjas Pantaco Campamento Ferrocarrilero","Unidad habitacional","Azcapotzalco","Distrito Federal","Ciudad de México",2011,9,2011,null,31,2,2829,"Urbano",2]
[{"$f":"IF(C344=base!$AC$2,ROW()+1,\"\")","v":{"$error":"#REF!"}},{"$f":"IF(C344=base!$W$2,ROW()+1,\"\")","v":{"$error":"#REF!"}},2530,"Jardín Azpeitia","Colonia","Azcapotzalco","Distrito Federal","Ciudad de México",2011,9,2011,null,9,2,439,"Urbano",2]
[{"$f":"IF(C345=base!$AC$2,ROW()+1,\"\")","v":{"$error":"#REF!"}},{"$f":"IF(C345=base!$W$2,ROW()+1,\"\")","v":{"$error":"#REF!"}},2540,"Hogares Ferrocarrileros","Unidad habitacional","Azcapotzalco","Distrito Federal","Ciudad de México",2011,9,2011,null,31,2,440,"Urbano",2]
[{"$f":"IF(C346=base!$AC$2,ROW()+1,\"\")","v":{"$error":"#REF!"}},{"$f":"IF(C346=base!$W$2,ROW()+1,\"\")","v":{"$error":"#REF!"}},2600,"Pro-Hogar","Colonia","Azcapotzalco","Distrito Federal","Ciudad de México",2601,9,2601,null,9,2,441,"Urbano",2]
[{"$f":"IF(C347=base!$AC$2,ROW()+1,\"\")","v":{"$error":"#REF!"}},{"$f":"IF(C347=base!$W$2,ROW()+1,\"\")","v":{"$error":"#REF!"}},2630,"Coltongo","Colonia","Azcapotzalco","Distrito Federal","Ciudad de México",2601,9,2601,null,9,2,2798,"Urbano",2]
[{"$f":"IF(C348=base!$AC$2,ROW()+1,\"\")","v":{"$error":"#REF!"}},{"$f":"IF(C348=base!$W$2,ROW()+1,\"\")","v":{"$error":"#REF!"}},2630,"Coltongo","Barrio","Azcapotzalco","Distrito Federal","Ciudad de México",2601,9,2601,null,2,2,443,"Urbano",2]
[{"$f":"IF(C349=base!$AC$2,ROW()+1,\"\")","v":{"$error":"#REF!"}},{"$f":"IF(C349=base!$W$2,ROW()+1,\"\")","v":{"$error":"#REF!"}},2640,"Monte Alto","Colonia","Azcapotzalco","Distrito Federal","Ciudad de México",2601,9,2601,null,9,2,444,"Urbano",2]
[{"$f":"IF(C350=base!$AC$2,ROW()+1,\"\")","v":{"$error":"#REF!"}},{"$f":"IF(C350=base!$W$2,ROW()+1,\"\")","v":{"$error":"#REF!"}},2650,"Trabajadores de Hierro","Colonia","Azcapotzalco","Distrito Federal","Ciudad de México",2601,9,2601,null,9,2,445,"Urbano",2]
[{"$f":"IF(C351=base!$AC$2,ROW()+1,\"\")","v":{"$error":"#REF!"}},{"$f":"IF(C351=base!$W$2,ROW()+1,\"\")","v":{"$error":"#REF!"}},2660,"Euzkadi","Colonia","Azcapotzalco","Distrito Federal","Ciudad de México",2601,9,2601,null,9,2,446,"Urbano",2]
[{"$f":"IF(C352=base!$AC$2,ROW()+1,\"\")","v":{"$error":"#REF!"}},{"$f":"IF(C352=base!$W$2,ROW()+1,\"\")","v":{"$error":"#REF!"}},2670,"Cosmopolita","Colonia","Azcapotzalco","Distrito Federal","Ciudad de México",2601,9,2601,null,9,2,447,"Urbano",2]
[{"$f":"IF(C353=base!$AC$2,ROW()+1,\"\")","v":{"$error":"#REF!"}},{"$f":"IF(C353=base!$W$2,ROW()+1,\"\")","v":{"$error":"#REF!"}},2680,"Potrero del Llano","Colonia","Azcapotzalco","Distrito Federal","Ciudad de México",2601,9,2601,null,9,2,448,"Urbano",2]
[{"$f":"IF(C354=base!$AC$2,ROW()+1,\"\")","v":{"$error":"#REF!"}},{"$f":"IF(C354=base!$W$2,ROW()+1,\"\")","v":{"$error":"#REF!"}},2700,"San Miguel Amantla","Pueblo","Azcapotzalco","Distrito Federal","Ciudad de México",2011,9,2011,null,28,2,449,"Urbano",2]
[{"$f":"IF(C355=base!$AC$2,ROW()+1,\"\")","v":{"$error":"#REF!"}},{"$f":"IF(C355=base!$W$2,ROW()+1,\"\")","v":{"$error":"#REF!"}},2710,"San Pedro Xalpa","Pueblo","Azcapotzalco","Distrito Federal","Ciudad de México",2011,9,2011,null,28,2,451,"Urbano",2]
[{"$f":"IF(C356=base!$AC$2,ROW()+1,\"\")","v":{"$error":"#REF!"}},{"$f":"IF(C356=base!$W$2,ROW()+1,\"\")","v":{"$error":"#REF!"}},2710,"San Isidro","Unidad habitacional","Azcapotzalco","Distrito Federal","Ciudad de México",2011,9,2011,null,31,2,2804,"Urbano",2]
[{"$f":"IF(C357=base!$AC$2,ROW()+1,\"\")","v":{"$error":"#REF!"}},{"$f":"IF(C357=base!$W$2,ROW()+1,\"\")","v":{"$error":"#REF!"}},2718,"Las Armas","Unidad habitacional","Azcapotzalco","Distrito Federal","Ciudad de México",2011,9,2011,null,31,2,452,"Urbano",2]
[{"$f":"IF(C358=base!$AC$2,ROW()+1,\"\")","v":{"$error":"#REF!"}},{"$f":"IF(C358=base!$W$2,ROW()+1,\"\")","v":{"$error":"#REF!"}},2719,"Ampliación San Pedro Xalpa","Colonia","Azcapotzalco","Distrito Federal","Ciudad de México",2011,9,2011,null,9,2,454,"Urbano",2]
[{"$f":"IF(C359=base!$AC$2,ROW()+1,\"\")","v":{"$error":"#REF!"}},{"$f":"IF(C359=base!$W$2,ROW()+1,\"\")","v":{"$error":"#REF!"}},2720,"San Bartolo Cahualtongo","Pueblo","Azcapotzalco","Distrito Federal","Ciudad de México",2011,9,2011,null,28,2,457,"Urbano",2]
[{"$f":"IF(C360=base!$AC$2,ROW()+1,\"\")","v":{"$error":"#REF!"}},{"$f":"IF(C360=base!$W$2,ROW()+1,\"\")","v":{"$error":"#REF!"}},2720,"San Antonio","Colonia","Azcapotzalco","Distrito Federal","Ciudad de México",2011,9,2011,null,9,2,456,"Urbano",2]
[{"$f":"IF(C361=base!$AC$2,ROW()+1,\"\")","v":{"$error":"#REF!"}},{"$f":"IF(C361=base!$W$2,ROW()+1,\"\")","v":{"$error":"#REF!"}},2729,"Campo Encantado","Unidad habitacional","Azcapotzalco","Distrito Federal","Ciudad de México",2011,9,2011,null,31,2,458,"Urbano",2]
[{"$f":"IF(C362=base!$AC$2,ROW()+1,\"\")","v":{"$error":"#REF!"}},{"$f":"IF(C362=base!$W$2,ROW()+1,\"\")","v":{"$error":"#REF!"}},2730,"San Francisco Tetecala","Pueblo","Azcapotzalco","Distrito Federal","Ciudad de México",2011,9,2011,null,28,2,459,"Urbano",2]
[{"$f":"IF(C363=base!$AC$2,ROW()+1,\"\")","v":{"$error":"#REF!"}},{"$f":"IF(C363=base!$W$2,ROW()+1,\"\")","v":{"$error":"#REF!"}},2739,"Miguel Lerdo de Tejada","Unidad habitacional","Azcapotzalco","Distrito Federal","Ciudad de México",2011,9,2011,null,31,2,460,"Urbano",2]
[{"$f":"IF(C364=base!$AC$2,ROW()+1,\"\")","v":{"$error":"#REF!"}},{"$f":"IF(C364=base!$W$2,ROW()+1,\"\")","v":{"$error":"#REF!"}},2750,"La Escuadra","Unidad habitacional","Azcapotzalco","Distrito Federal","Ciudad de México",2011,9,2011,null,31,2,2799,"Urbano",2]
[{"$f":"IF(C365=base!$AC$2,ROW()+1,\"\")","v":{"$error":"#REF!"}},{"$f":"IF(C365=base!$W$2,ROW()+1,\"\")","v":{"$error":"#REF!"}},2750,"La Providencia","Fraccionamiento","Azcapotzalco","Distrito Federal","Ciudad de México",2011,9,2011,null,21,2,2800,"Urbano",2]
[{"$f":"IF(C366=base!$AC$2,ROW()+1,\"\")","v":{"$error":"#REF!"}},{"$f":"IF(C366=base!$W$2,ROW()+1,\"\")","v":{"$error":"#REF!"}},2750,"Santiago Ahuizotla","Pueblo","Azcapotzalco","Distrito Federal","Ciudad de México",2011,9,2011,null,28,2,461,"Urbano",2]
[{"$f":"IF(C367=base!$AC$2,ROW()+1,\"\")","v":{"$error":"#REF!"}},{"$f":"IF(C367=base!$W$2,ROW()+1,\"\")","v":{"$error":"#REF!"}},2760,"Industrial San Antonio","Colonia","Azcapotzalco","Distrito Federal","Ciudad de México",2011,9,2011,null,9,2,462,"Urbano",2]
[{"$f":"IF(C368=base!$AC$2,ROW()+1,\"\")","v":{"$error":"#REF!"}},{"$f":"IF(C368=base!$W$2,ROW()+1,\"\")","v":{"$error":"#REF!"}},2760,"Santa Lucía","Barrio","Azcapotzalco","Distrito Federal","Ciudad de México",2011,9,2011,null,2,2,463,"Urbano",2]
[{"$f":"IF(C369=base!$AC$2,ROW()+1,\"\")","v":{"$error":"#REF!"}},{"$f":"IF(C369=base!$W$2,ROW()+1,\"\")","v":{"$error":"#REF!"}},2770,"Santa Cruz Acayucan","Pueblo","Azcapotzalco","Distrito Federal","Ciudad de México",2011,9,2011,null,28,2,464,"Urbano",2]
[{"$f":"IF(C370=base!$AC$2,ROW()+1,\"\")","v":{"$error":"#REF!"}},{"$f":"IF(C370=base!$W$2,ROW()+1,\"\")","v":{"$error":"#REF!"}},2780,"Plenitud","Colonia","Azcapotzalco","Distrito Federal","Ciudad de México",2011,9,2011,null,9,2,465,"Urbano",2]
[{"$f":"IF(C371=base!$AC$2,ROW()+1,\"\")","v":{"$error":"#REF!"}},{"$f":"IF(C371=base!$W$2,ROW()+1,\"\")","v":{"$error":"#REF!"}},2790,"Santa Apolonia","Barrio","Azcapotzalco","Distrito Federal","Ciudad de México",2011,9,2011,null,2,2,466,"Urbano",2]
[{"$f":"IF(C372=base!$AC$2,ROW()+1,\"\")","v":{"$error":"#REF!"}},{"$f":"IF(C372=base!$W$2,ROW()+1,\"\")","v":{"$error":"#REF!"}},2800,"Nueva Santa María","Colonia","Azcapotzalco","Distrito Federal","Ciudad de México",2601,9,2601,null,9,2,467,"Urbano",2]
[{"$f":"IF(C373=base!$AC$2,ROW()+1,\"\")","v":{"$error":"#REF!"}},{"$f":"IF(C373=base!$W$2,ROW()+1,\"\")","v":{"$error":"#REF!"}},2810,"Ignacio Allende","Colonia","Azcapotzalco","Distrito Federal","Ciudad de México",2601,9,2601,null,9,2,469,"Urbano",2]
[{"$f":"IF(C374=base!$AC$2,ROW()+1,\"\")","v":{"$error":"#REF!"}},{"$f":"IF(C374=base!$W$2,ROW()+1,\"\")","v":{"$error":"#REF!"}},2810,"Victoria de las Democracias","Colonia","Azcapotzalco","Distrito Federal","Ciudad de México",2601,9,2601,null,9,2,470,"Urbano",2]
[{"$f":"IF(C375=base!$AC$2,ROW()+1,\"\")","v":{"$error":"#REF!"}},{"$f":"IF(C375=base!$W$2,ROW()+1,\"\")","v":{"$error":"#REF!"}},2830,"San Bernabé","Barrio","Azcapotzalco","Distrito Federal","Ciudad de México",2601,9,2601,null,2,2,473,"Urbano",2]
[{"$f":"IF(C376=base!$AC$2,ROW()+1,\"\")","v":{"$error":"#REF!"}},{"$f":"IF(C376=base!$W$2,ROW()+1,\"\")","v":{"$error":"#REF!"}},2830,"Toronja","Unidad habitacional","Azcapotzalco","Distrito Federal","Ciudad de México",2601,9,2601,null,31,2,2830,"Urbano",2]
[{"$f":"IF(C377=base!$AC$2,ROW()+1,\"\")","v":{"$error":"#REF!"}},{"$f":"IF(C377=base!$W$2,ROW()+1,\"\")","v":{"$error":"#REF!"}},2840,"Cobre de México","Unidad habitacional","Azcapotzalco","Distrito Federal","Ciudad de México",2601,9,2601,null,31,2,2797,"Urbano",2]
[{"$f":"IF(C378=base!$AC$2,ROW()+1,\"\")","v":{"$error":"#REF!"}},{"$f":"IF(C378=base!$W$2,ROW()+1,\"\")","v":{"$error":"#REF!"}},2840,"Obrero Popular","Colonia","Azcapotzalco","Distrito Federal","Ciudad de México",2601,9,2601,null,9,2,474,"Urbano",2]
[{"$f":"IF(C379=base!$AC$2,ROW()+1,\"\")","v":{"$error":"#REF!"}},{"$f":"IF(C379=base!$W$2,ROW()+1,\"\")","v":{"$error":"#REF!"}},2850,"Tlatilco","Unidad habitacional","Azcapotzalco","Distrito Federal","Ciudad de México",2601,9,2601,null,31,2,475,"Urbano",2]
[{"$f":"IF(C380=base!$AC$2,ROW()+1,\"\")","v":{"$error":"#REF!"}},{"$f":"IF(C380=base!$W$2,ROW()+1,\"\")","v":{"$error":"#REF!"}},2860,"Tlatilco","Colonia","Azcapotzalco","Distrito Federal","Ciudad de México",2601,9,2601,null,9,2,476,"Urbano",2]
[{"$f":"IF(C381=base!$AC$2,ROW()+1,\"\")","v":{"$error":"#REF!"}},{"$f":"IF(C381=base!$W$2,ROW()+1,\"\")","v":{"$error":"#REF!"}},2870,"San Salvador Xochimanca","Colonia","Azcapotzalco","Distrito Federal","Ciudad de México",2601,9,2601,null,9,2,477,"Urbano",2]
[{"$f":"IF(C382=base!$AC$2,ROW()+1,\"\")","v":{"$error":"#REF!"}},{"$f":"IF(C382=base!$W$2,ROW()+1,\"\")","v":{"$error":"#REF!"}},2900,"Aguilera","Colonia","Azcapotzalco","Distrito Federal","Ciudad de México",2601,9,2601,null,9,2,478,"Urbano",2]
[{"$f":"IF(C383=base!$AC$2,ROW()+1,\"\")","v":{"$error":"#REF!"}},{"$f":"IF(C383=base!$W$2,ROW()+1,\"\")","v":{"$error":"#REF!"}},2910,"Aldana","Colonia","Azcapotzalco","Distrito Federal","Ciudad de México",2601,9,2601,null,9,2,479,"Urbano",2]
[{"$f":"IF(C384=base!$AC$2,ROW()+1,\"\")","v":{"$error":"#REF!"}},{"$f":"IF(C384=base!$W$2,ROW()+1,\"\")","v":{"$error":"#REF!"}},2920,"Ampliación Cosmopolita","Colonia","Azcapotzalco","Distrito Federal","Ciudad de México",2601,9,2601,null,9,2,480,"Urbano",2]
[{"$f":"IF(C385=base!$AC$2,ROW()+1,\"\")","v":{"$error":"#REF!"}},{"$f":"IF(C385=base!$W$2,ROW()+1,\"\")","v":{"$error":"#REF!"}},2930,"Liberación","Colonia","Azcapotzalco","Distrito Federal","Ciudad de México",2601,9,2601,null,9,2,481,"Urbano",2]
[{"$f":"IF(C386=base!$AC$2,ROW()+1,\"\")","v":{"$error":"#REF!"}},{"$f":"IF(C386=base!$W$2,ROW()+1,\"\")","v":{"$error":"#REF!"}},2940,"Porvenir","Colonia","Azcapotzalco","Distrito Federal","Ciudad de México",2601,9,2601,null,9,2,482,"Urbano",2]
[{"$f":"IF(C387=base!$AC$2,ROW()+1,\"\")","v":{"$error":"#REF!"}},{"$f":"IF(C387=base!$W$2,ROW()+1,\"\")","v":{"$error":"#REF!"}},2950,"Del Gas","Colonia","Azcapotzalco","Distrito Federal","Ciudad de México",2601,9,2601,null,9,2,483,"Urbano",2]
[{"$f":"IF(C388=base!$AC$2,ROW()+1,\"\")","v":{"$error":"#REF!"}},{"$f":"IF(C388=base!$W$2,ROW()+1,\"\")","v":{"$error":"#REF!"}},2960,"San Francisco Xocotitla","Pueblo","Azcapotzalco","Distrito Federal","Ciudad de México",2601,9,2601,null,28,2,484,"Urbano",2]
[{"$f":"IF(C389=base!$AC$2,ROW()+1,\"\")","v":{"$error":"#REF!"}},{"$f":"IF(C389=base!$W$2,ROW()+1,\"\")","v":{"$error":"#REF!"}},2970,"Ampliación Del Gas","Colonia","Azcapotzalco","Distrito Federal","Ciudad de México",2601,9,2601,null,9,2,485,"Urbano",2]
[{"$f":"IF(C390=base!$AC$2,ROW()+1,\"\")","v":{"$error":"#REF!"}},{"$f":"IF(C390=base!$W$2,ROW()+1,\"\")","v":{"$error":"#REF!"}},2980,"Arenal","Colonia","Azcapotzalco","Distrito Federal","Ciudad de México",2601,9,2601,null,9,2,486,"Urbano",2]
[{"$f":"IF(C391=base!$AC$2,ROW()+1,\"\")","v":{"$error":"#REF!"}},{"$f":"IF(C391=base!$W$2,ROW()+1,\"\")","v":{"$error":"#REF!"}},2980,"Patrimonio Familiar","Colonia","Azcapotzalco","Distrito Federal","Ciudad de México",2601,9,2601,null,9,2,487,"Urbano",2]
[{"$f":"IF(C392=base!$AC$2,ROW()+1,\"\")","v":{"$error":"#REF!"}},{"$f":"IF(C392=base!$W$2,ROW()+1,\"\")","v":{"$error":"#REF!"}},2990,"La Raza","Colonia","Azcapotzalco","Distrito Federal","Ciudad de México",2601,9,2601,null,9,2,488,"Urbano",2]
[{"$f":"IF(C393=base!$AC$2,ROW()+1,\"\")","v":{"$error":"#REF!"}},{"$f":"IF(C393=base!$W$2,ROW()+1,\"\")","v":{"$error":"#REF!"}},3000,"Piedad Narvarte","Colonia","Benito Juárez","Distrito Federal","Ciudad de México",3001,9,3001,null,9,14,489,"Urbano",3]
[{"$f":"IF(C394=base!$AC$2,ROW()+1,\"\")","v":{"$error":"#REF!"}},{"$f":"IF(C394=base!$W$2,ROW()+1,\"\")","v":{"$error":"#REF!"}},3010,"Atenor Salas","Colonia","Benito Juárez","Distrito Federal","Ciudad de México",3001,9,3001,null,9,14,491,"Urbano",3]
[{"$f":"IF(C395=base!$AC$2,ROW()+1,\"\")","v":{"$error":"#REF!"}},{"$f":"IF(C395=base!$W$2,ROW()+1,\"\")","v":{"$error":"#REF!"}},3020,"Esperanza","Unidad habitacional","Benito Juárez","Distrito Federal","Ciudad de México",3001,9,3001,null,31,14,492,"Urbano",3]
[{"$f":"IF(C396=base!$AC$2,ROW()+1,\"\")","v":{"$error":"#REF!"}},{"$f":"IF(C396=base!$W$2,ROW()+1,\"\")","v":{"$error":"#REF!"}},3020,"Narvarte Poniente","Colonia","Benito Juárez","Distrito Federal","Ciudad de México",3001,9,3001,null,9,14,493,"Urbano",3]
[{"$f":"IF(C397=base!$AC$2,ROW()+1,\"\")","v":{"$error":"#REF!"}},{"$f":"IF(C397=base!$W$2,ROW()+1,\"\")","v":{"$error":"#REF!"}},3023,"Narvarte Oriente","Colonia","Benito Juárez","Distrito Federal","Ciudad de México",3001,9,3001,null,9,14,2623,"Urbano",3]
[{"$f":"IF(C398=base!$AC$2,ROW()+1,\"\")","v":{"$error":"#REF!"}},{"$f":"IF(C398=base!$W$2,ROW()+1,\"\")","v":{"$error":"#REF!"}},3023,"Unidad Narvarte IMSS","Conjunto habitacional","Benito Juárez","Distrito Federal","Ciudad de México",3001,9,3001,null,12,14,2626,"Urbano",3]
[{"$f":"IF(C399=base!$AC$2,ROW()+1,\"\")","v":{"$error":"#REF!"}},{"$f":"IF(C399=base!$W$2,ROW()+1,\"\")","v":{"$error":"#REF!"}},3027,"Unidad de Pagos de La SCT","Gran usuario","Benito Juárez","Distrito Federal","Ciudad de México",3001,9,3001,null,22,14,494,"Urbano",3]
[{"$f":"IF(C400=base!$AC$2,ROW()+1,\"\")","v":{"$error":"#REF!"}},{"$f":"IF(C400=base!$W$2,ROW()+1,\"\")","v":{"$error":"#REF!"}},3028,"Secretaria de Comunicaciones y Transportes","Gran usuario","Benito Juárez","Distrito Federal","Ciudad de México",3001,9,3001,null,22,14,495,"Urbano",3]
[{"$f":"IF(C401=base!$AC$2,ROW()+1,\"\")","v":{"$error":"#REF!"}},{"$f":"IF(C401=base!$W$2,ROW()+1,\"\")","v":{"$error":"#REF!"}},3100,"Del Valle Centro","Colonia","Benito Juárez","Distrito Federal","Ciudad de México",3001,9,3001,null,9,14,496,"Urbano",3]
[{"$f":"IF(C402=base!$AC$2,ROW()+1,\"\")","v":{"$error":"#REF!"}},{"$f":"IF(C402=base!$W$2,ROW()+1,\"\")","v":{"$error":"#REF!"}},3100,"Insurgentes San Borja","Colonia","Benito Juárez","Distrito Federal","Ciudad de México",3001,9,3001,null,9,14,2624,"Urbano",3]
[{"$f":"IF(C403=base!$AC$2,ROW()+1,\"\")","v":{"$error":"#REF!"}},{"$f":"IF(C403=base!$W$2,ROW()+1,\"\")","v":{"$error":"#REF!"}},3103,"Del Valle Norte","Colonia","Benito Juárez","Distrito Federal","Ciudad de México",3001,9,3001,null,9,14,2621,"Urbano",3]
[{"$f":"IF(C404=base!$AC$2,ROW()+1,\"\")","v":{"$error":"#REF!"}},{"$f":"IF(C404=base!$W$2,ROW()+1,\"\")","v":{"$error":"#REF!"}},3104,"Del Valle Sur","Colonia","Benito Juárez","Distrito Federal","Ciudad de México",3001,9,3001,null,9,14,2622,"Urbano",3]
[{"$f":"IF(C405=base!$AC$2,ROW()+1,\"\")","v":{"$error":"#REF!"}},{"$f":"IF(C405=base!$W$2,ROW()+1,\"\")","v":{"$error":"#REF!"}},3109,"Partido Acción Nacional","Gran usuario","Benito Juárez","Distrito Federal","Ciudad de México",3001,9,3001,null,22,14,499,"Urbano",3]
[{"$f":"IF(C406=base!$AC$2,ROW()+1,\"\")","v":{"$error":"#REF!"}},{"$f":"IF(C406=base!$W$2,ROW()+1,\"\")","v":{"$error":"#REF!"}},3199,"Cámara Nacional de la Industria del Hierro y Acero","Gran usuario","Benito Juárez","Distrito Federal","Ciudad de México",3001,9,3001,null,22,14,500,"Urbano",3]
[{"$f":"IF(C407=base!$AC$2,ROW()+1,\"\")","v":{"$error":"#REF!"}},{"$f":"IF(C407=base!$W$2,ROW()+1,\"\")","v":{"$error":"#REF!"}},3200,"Tlacoquemécatl","Colonia","Benito Juárez","Distrito Federal","Ciudad de México",3001,9,3001,null,9,14,501,"Urbano",3]
[{"$f":"IF(C408=base!$AC$2,ROW()+1,\"\")","v":{"$error":"#REF!"}},{"$f":"IF(C408=base!$W$2,ROW()+1,\"\")","v":{"$error":"#REF!"}},3219,"La Interamericana Compañía de Seguros S.A.","Gran usuario","Benito Juárez","Distrito Federal","Ciudad de México",3001,9,3001,null,22,14,502,"Urbano",3]
[{"$f":"IF(C409=base!$AC$2,ROW()+1,\"\")","v":{"$error":"#REF!"}},{"$f":"IF(C409=base!$W$2,ROW()+1,\"\")","v":{"$error":"#REF!"}},3220,"Centro Urbano Presidente Miguel Alemán","Unidad habitacional","Benito Juárez","Distrito Federal","Ciudad de México",3001,9,3001,null,31,14,503,"Urbano",3]
[{"$f":"IF(C410=base!$AC$2,ROW()+1,\"\")","v":{"$error":"#REF!"}},{"$f":"IF(C410=base!$W$2,ROW()+1,\"\")","v":{"$error":"#REF!"}},3229,"Centro Hospitalario 20 de Noviembre","Gran usuario","Benito Juárez","Distrito Federal","Ciudad de México",3001,9,3001,null,22,14,504,"Urbano",3]
[{"$f":"IF(C411=base!$AC$2,ROW()+1,\"\")","v":{"$error":"#REF!"}},{"$f":"IF(C411=base!$W$2,ROW()+1,\"\")","v":{"$error":"#REF!"}},3230,"Actipan","Colonia","Benito Juárez","Distrito Federal","Ciudad de México",3001,9,3001,null,9,14,505,"Urbano",3]
[{"$f":"IF(C412=base!$AC$2,ROW()+1,\"\")","v":{"$error":"#REF!"}},{"$f":"IF(C412=base!$W$2,ROW()+1,\"\")","v":{"$error":"#REF!"}},3240,"Acacias","Colonia","Benito Juárez","Distrito Federal","Ciudad de México",3001,9,3001,null,9,14,506,"Urbano",3]
[{"$f":"IF(C413=base!$AC$2,ROW()+1,\"\")","v":{"$error":"#REF!"}},{"$f":"IF(C413=base!$W$2,ROW()+1,\"\")","v":{"$error":"#REF!"}},3300,"Portales Sur","Colonia","Benito Juárez","Distrito Federal","Ciudad de México",3501,9,3501,null,9,14,507,"Urbano",3]
[{"$f":"IF(C414=base!$AC$2,ROW()+1,\"\")","v":{"$error":"#REF!"}},{"$f":"IF(C414=base!$W$2,ROW()+1,\"\")","v":{"$error":"#REF!"}},3303,"Portales Norte","Colonia","Benito Juárez","Distrito Federal","Ciudad de México",3501,9,3501,null,9,14,2625,"Urbano",3]
[{"$f":"IF(C415=base!$AC$2,ROW()+1,\"\")","v":{"$error":"#REF!"}},{"$f":"IF(C415=base!$W$2,ROW()+1,\"\")","v":{"$error":"#REF!"}},3310,"Santa Cruz Atoyac","Colonia","Benito Juárez","Distrito Federal","Ciudad de México",3501,9,3501,null,9,14,509,"Urbano",3]
[{"$f":"IF(C416=base!$AC$2,ROW()+1,\"\")","v":{"$error":"#REF!"}},{"$f":"IF(C416=base!$W$2,ROW()+1,\"\")","v":{"$error":"#REF!"}},3313,"Modulo Social las Flores","Unidad habitacional","Benito Juárez","Distrito Federal","Ciudad de México",3501,9,3501,null,31,14,2705,"Urbano",3]
[{"$f":"IF(C417=base!$AC$2,ROW()+1,\"\")","v":{"$error":"#REF!"}},{"$f":"IF(C417=base!$W$2,ROW()+1,\"\")","v":{"$error":"#REF!"}},3319,"Delegación Política Benito Juárez","Gran usuario","Benito Juárez","Distrito Federal","Ciudad de México",3501,9,3501,null,22,14,511,"Urbano",3]
[{"$f":"IF(C418=base!$AC$2,ROW()+1,\"\")","v":{"$error":"#REF!"}},{"$f":"IF(C418=base!$W$2,ROW()+1,\"\")","v":{"$error":"#REF!"}},3320,"Residencial Emperadores","Colonia","Benito Juárez","Distrito Federal","Ciudad de México",3501,9,3501,null,9,14,512,"Urbano",3]
[{"$f":"IF(C419=base!$AC$2,ROW()+1,\"\")","v":{"$error":"#REF!"}},{"$f":"IF(C419=base!$W$2,ROW()+1,\"\")","v":{"$error":"#REF!"}},3330,"Xoco","Colonia","Benito Juárez","Distrito Federal","Ciudad de México",3501,9,3501,null,9,14,513,"Urbano",3]
[{"$f":"IF(C420=base!$AC$2,ROW()+1,\"\")","v":{"$error":"#REF!"}},{"$f":"IF(C420=base!$W$2,ROW()+1,\"\")","v":{"$error":"#REF!"}},3339,"Bancomer S.A.","Gran usuario","Benito Juárez","Distrito Federal","Ciudad de México",3501,9,3501,null,22,14,514,"Urbano",3]
[{"$f":"IF(C421=base!$AC$2,ROW()+1,\"\")","v":{"$error":"#REF!"}},{"$f":"IF(C421=base!$W$2,ROW()+1,\"\")","v":{"$error":"#REF!"}},3340,"General Pedro María Anaya","Colonia","Benito Juárez","Distrito Federal","Ciudad de México",3501,9,3501,null,9,14,515,"Urbano",3]
[{"$f":"IF(C422=base!$AC$2,ROW()+1,\"\")","v":{"$error":"#REF!"}},{"$f":"IF(C422=base!$W$2,ROW()+1,\"\")","v":{"$error":"#REF!"}},3400,"Álamos","Colonia","Benito Juárez","Distrito Federal","Ciudad de México",3501,9,3501,null,9,14,516,"Urbano",3]
[{"$f":"IF(C423=base!$AC$2,ROW()+1,\"\")","v":{"$error":"#REF!"}},{"$f":"IF(C423=base!$W$2,ROW()+1,\"\")","v":{"$error":"#REF!"}},3410,"Postal","Colonia","Benito Juárez","Distrito Federal","Ciudad de México",3501,9,3501,null,9,14,518,"Urbano",3]
[{"$f":"IF(C424=base!$AC$2,ROW()+1,\"\")","v":{"$error":"#REF!"}},{"$f":"IF(C424=base!$W$2,ROW()+1,\"\")","v":{"$error":"#REF!"}},3420,"Miguel Alemán","Colonia","Benito Juárez","Distrito Federal","Ciudad de México",3501,9,3501,null,9,14,519,"Urbano",3]
[{"$f":"IF(C425=base!$AC$2,ROW()+1,\"\")","v":{"$error":"#REF!"}},{"$f":"IF(C425=base!$W$2,ROW()+1,\"\")","v":{"$error":"#REF!"}},3430,"Josefa Ortiz de Domínguez","Colonia","Benito Juárez","Distrito Federal","Ciudad de México",3501,9,3501,null,9,14,521,"Urbano",3]
[{"$f":"IF(C426=base!$AC$2,ROW()+1,\"\")","v":{"$error":"#REF!"}},{"$f":"IF(C426=base!$W$2,ROW()+1,\"\")","v":{"$error":"#REF!"}},3440,"Niños Héroes","Colonia","Benito Juárez","Distrito Federal","Ciudad de México",3501,9,3501,null,9,14,522,"Urbano",3]
[{"$f":"IF(C427=base!$AC$2,ROW()+1,\"\")","v":{"$error":"#REF!"}},{"$f":"IF(C427=base!$W$2,ROW()+1,\"\")","v":{"$error":"#REF!"}},3500,"Nativitas","Colonia","Benito Juárez","Distrito Federal","Ciudad de México",3501,9,3501,null,9,14,523,"Urbano",3]
[{"$f":"IF(C428=base!$AC$2,ROW()+1,\"\")","v":{"$error":"#REF!"}},{"$f":"IF(C428=base!$W$2,ROW()+1,\"\")","v":{"$error":"#REF!"}},3510,"Moderna","Colonia","Benito Juárez","Distrito Federal","Ciudad de México",3501,9,3501,null,9,14,525,"Urbano",3]
[{"$f":"IF(C429=base!$AC$2,ROW()+1,\"\")","v":{"$error":"#REF!"}},{"$f":"IF(C429=base!$W$2,ROW()+1,\"\")","v":{"$error":"#REF!"}},3520,"Iztaccihuatl","Colonia","Benito Juárez","Distrito Federal","Ciudad de México",3501,9,3501,null,9,14,526,"Urbano",3]
[{"$f":"IF(C430=base!$AC$2,ROW()+1,\"\")","v":{"$error":"#REF!"}},{"$f":"IF(C430=base!$W$2,ROW()+1,\"\")","v":{"$error":"#REF!"}},3530,"Villa de Cortes","Colonia","Benito Juárez","Distrito Federal","Ciudad de México",3501,9,3501,null,9,14,527,"Urbano",3]
[{"$f":"IF(C431=base!$AC$2,ROW()+1,\"\")","v":{"$error":"#REF!"}},{"$f":"IF(C431=base!$W$2,ROW()+1,\"\")","v":{"$error":"#REF!"}},3540,"Del Carmen","Colonia","Benito Juárez","Distrito Federal","Ciudad de México",3501,9,3501,null,9,14,528,"Urbano",3]
[{"$f":"IF(C432=base!$AC$2,ROW()+1,\"\")","v":{"$error":"#REF!"}},{"$f":"IF(C432=base!$W$2,ROW()+1,\"\")","v":{"$error":"#REF!"}},3550,"Zacahuitzco","Colonia","Benito Juárez","Distrito Federal","Ciudad de México",3501,9,3501,null,9,14,529,"Urbano",3]
[{"$f":"IF(C433=base!$AC$2,ROW()+1,\"\")","v":{"$error":"#REF!"}},{"$f":"IF(C433=base!$W$2,ROW()+1,\"\")","v":{"$error":"#REF!"}},3560,"Albert","Colonia","Benito Juárez","Distrito Federal","Ciudad de México",3501,9,3501,null,9,14,530,"Urbano",3]
[{"$f":"IF(C434=base!$AC$2,ROW()+1,\"\")","v":{"$error":"#REF!"}},{"$f":"IF(C434=base!$W$2,ROW()+1,\"\")","v":{"$error":"#REF!"}},3570,"Portales Oriente","Colonia","Benito Juárez","Distrito Federal","Ciudad de México",3501,9,3501,null,9,14,531,"Urbano",3]
[{"$f":"IF(C435=base!$AC$2,ROW()+1,\"\")","v":{"$error":"#REF!"}},{"$f":"IF(C435=base!$W$2,ROW()+1,\"\")","v":{"$error":"#REF!"}},3580,"Miravalle","Colonia","Benito Juárez","Distrito Federal","Ciudad de México",3501,9,3501,null,9,14,532,"Urbano",3]
[{"$f":"IF(C436=base!$AC$2,ROW()+1,\"\")","v":{"$error":"#REF!"}},{"$f":"IF(C436=base!$W$2,ROW()+1,\"\")","v":{"$error":"#REF!"}},3590,"Ermita","Colonia","Benito Juárez","Distrito Federal","Ciudad de México",3501,9,3501,null,9,14,533,"Urbano",3]
[{"$f":"IF(C437=base!$AC$2,ROW()+1,\"\")","v":{"$error":"#REF!"}},{"$f":"IF(C437=base!$W$2,ROW()+1,\"\")","v":{"$error":"#REF!"}},3600,"Vértiz Narvarte","Colonia","Benito Juárez","Distrito Federal","Ciudad de México",3501,9,3501,null,9,14,534,"Urbano",3]
[{"$f":"IF(C438=base!$AC$2,ROW()+1,\"\")","v":{"$error":"#REF!"}},{"$f":"IF(C438=base!$W$2,ROW()+1,\"\")","v":{"$error":"#REF!"}},3610,"Américas Unidas","Colonia","Benito Juárez","Distrito Federal","Ciudad de México",3501,9,3501,null,9,14,535,"Urbano",3]
[{"$f":"IF(C439=base!$AC$2,ROW()+1,\"\")","v":{"$error":"#REF!"}},{"$f":"IF(C439=base!$W$2,ROW()+1,\"\")","v":{"$error":"#REF!"}},3620,"Periodista","Colonia","Benito Juárez","Distrito Federal","Ciudad de México",3501,9,3501,null,9,14,536,"Urbano",3]
[{"$f":"IF(C440=base!$AC$2,ROW()+1,\"\")","v":{"$error":"#REF!"}},{"$f":"IF(C440=base!$W$2,ROW()+1,\"\")","v":{"$error":"#REF!"}},3630,"Independencia","Colonia","Benito Juárez","Distrito Federal","Ciudad de México",3501,9,3501,null,9,14,537,"Urbano",3]
[{"$f":"IF(C441=base!$AC$2,ROW()+1,\"\")","v":{"$error":"#REF!"}},{"$f":"IF(C441=base!$W$2,ROW()+1,\"\")","v":{"$error":"#REF!"}},3640,"Del Lago","Colonia","Benito Juárez","Distrito Federal","Ciudad de México",3501,9,3501,null,9,14,538,"Urbano",3]
[{"$f":"IF(C442=base!$AC$2,ROW()+1,\"\")","v":{"$error":"#REF!"}},{"$f":"IF(C442=base!$W$2,ROW()+1,\"\")","v":{"$error":"#REF!"}},3650,"Letrán Valle","Colonia","Benito Juárez","Distrito Federal","Ciudad de México",3501,9,3501,null,9,14,539,"Urbano",3]
[{"$f":"IF(C443=base!$AC$2,ROW()+1,\"\")","v":{"$error":"#REF!"}},{"$f":"IF(C443=base!$W$2,ROW()+1,\"\")","v":{"$error":"#REF!"}},3660,"San Simón Ticumac","Colonia","Benito Juárez","Distrito Federal","Ciudad de México",3501,9,3501,null,9,14,540,"Urbano",3]
[{"$f":"IF(C444=base!$AC$2,ROW()+1,\"\")","v":{"$error":"#REF!"}},{"$f":"IF(C444=base!$W$2,ROW()+1,\"\")","v":{"$error":"#REF!"}},3700,"Santa María Nonoalco","Colonia","Benito Juárez","Distrito Federal","Ciudad de México",3901,9,3901,null,9,14,541,"Urbano",3]
[{"$f":"IF(C445=base!$AC$2,ROW()+1,\"\")","v":{"$error":"#REF!"}},{"$f":"IF(C445=base!$W$2,ROW()+1,\"\")","v":{"$error":"#REF!"}},3710,"Ciudad de los Deportes","Colonia","Benito Juárez","Distrito Federal","Ciudad de México",3901,9,3901,null,9,14,542,"Urbano",3]
[{"$f":"IF(C446=base!$AC$2,ROW()+1,\"\")","v":{"$error":"#REF!"}},{"$f":"IF(C446=base!$W$2,ROW()+1,\"\")","v":{"$error":"#REF!"}},3720,"Nochebuena","Colonia","Benito Juárez","Distrito Federal","Ciudad de México",3901,9,3901,null,9,14,543,"Urbano",3]
[{"$f":"IF(C447=base!$AC$2,ROW()+1,\"\")","v":{"$error":"#REF!"}},{"$f":"IF(C447=base!$W$2,ROW()+1,\"\")","v":{"$error":"#REF!"}},3730,"San Juan","Colonia","Benito Juárez","Distrito Federal","Ciudad de México",3901,9,3901,null,9,14,544,"Urbano",3]
[{"$f":"IF(C448=base!$AC$2,ROW()+1,\"\")","v":{"$error":"#REF!"}},{"$f":"IF(C448=base!$W$2,ROW()+1,\"\")","v":{"$error":"#REF!"}},3740,"Extremadura Insurgentes","Colonia","Benito Juárez","Distrito Federal","Ciudad de México",3901,9,3901,null,9,14,545,"Urbano",3]
[{"$f":"IF(C449=base!$AC$2,ROW()+1,\"\")","v":{"$error":"#REF!"}},{"$f":"IF(C449=base!$W$2,ROW()+1,\"\")","v":{"$error":"#REF!"}},3800,"San Pedro de los Pinos","Colonia","Benito Juárez","Distrito Federal","Ciudad de México",3901,9,3901,null,9,14,546,"Urbano",3]
[{"$f":"IF(C450=base!$AC$2,ROW()+1,\"\")","v":{"$error":"#REF!"}},{"$f":"IF(C450=base!$W$2,ROW()+1,\"\")","v":{"$error":"#REF!"}},3809,"Procuraduría Federal Fiscal","Gran usuario","Benito Juárez","Distrito Federal","Ciudad de México",3901,9,3901,null,22,14,2787,"Urbano",3]
[{"$f":"IF(C451=base!$AC$2,ROW()+1,\"\")","v":{"$error":"#REF!"}},{"$f":"IF(C451=base!$W$2,ROW()+1,\"\")","v":{"$error":"#REF!"}},3810,"Nápoles","Colonia","Benito Juárez","Distrito Federal","Ciudad de México",3901,9,3901,null,9,14,548,"Urbano",3]
[{"$f":"IF(C452=base!$AC$2,ROW()+1,\"\")","v":{"$error":"#REF!"}},{"$f":"IF(C452=base!$W$2,ROW()+1,\"\")","v":{"$error":"#REF!"}},3818,"The Sidney Ross Co S.A.","Gran usuario","Benito Juárez","Distrito Federal","Ciudad de México",3901,9,3901,null,22,14,550,"Urbano",3]
[{"$f":"IF(C453=base!$AC$2,ROW()+1,\"\")","v":{"$error":"#REF!"}},{"$f":"IF(C453=base!$W$2,ROW()+1,\"\")","v":{"$error":"#REF!"}},3819,"World Trade Center Ciudad de México","Gran usuario","Benito Juárez","Distrito Federal","Ciudad de México",3901,9,3901,null,22,14,551,"Urbano",3]
[{"$f":"IF(C454=base!$AC$2,ROW()+1,\"\")","v":{"$error":"#REF!"}},{"$f":"IF(C454=base!$W$2,ROW()+1,\"\")","v":{"$error":"#REF!"}},3820,"8 de Agosto","Colonia","Benito Juárez","Distrito Federal","Ciudad de México",3901,9,3901,null,9,14,552,"Urbano",3]
[{"$f":"IF(C455=base!$AC$2,ROW()+1,\"\")","v":{"$error":"#REF!"}},{"$f":"IF(C455=base!$W$2,ROW()+1,\"\")","v":{"$error":"#REF!"}},3840,"Ampliación Napoles","Colonia","Benito Juárez","Distrito Federal","Ciudad de México",3901,9,3901,null,9,14,554,"Urbano",3]
[{"$f":"IF(C456=base!$AC$2,ROW()+1,\"\")","v":{"$error":"#REF!"}},{"$f":"IF(C456=base!$W$2,ROW()+1,\"\")","v":{"$error":"#REF!"}},3849,"Cámara Nacional de la Industria de Transformación","Gran usuario","Benito Juárez","Distrito Federal","Ciudad de México",3901,9,3901,null,22,14,555,"Urbano",3]
[{"$f":"IF(C457=base!$AC$2,ROW()+1,\"\")","v":{"$error":"#REF!"}},{"$f":"IF(C457=base!$W$2,ROW()+1,\"\")","v":{"$error":"#REF!"}},3900,"San José Insurgentes","Colonia","Benito Juárez","Distrito Federal","Ciudad de México",3901,9,3901,null,9,14,556,"Urbano",3]
[{"$f":"IF(C458=base!$AC$2,ROW()+1,\"\")","v":{"$error":"#REF!"}},{"$f":"IF(C458=base!$W$2,ROW()+1,\"\")","v":{"$error":"#REF!"}},3910,"Mixcoac","Colonia","Benito Juárez","Distrito Federal","Ciudad de México",3901,9,3901,null,9,14,558,"Urbano",3]
[{"$f":"IF(C459=base!$AC$2,ROW()+1,\"\")","v":{"$error":"#REF!"}},{"$f":"IF(C459=base!$W$2,ROW()+1,\"\")","v":{"$error":"#REF!"}},3920,"Insurgentes Mixcoac","Colonia","Benito Juárez","Distrito Federal","Ciudad de México",3901,9,3901,null,9,14,559,"Urbano",3]
[{"$f":"IF(C460=base!$AC$2,ROW()+1,\"\")","v":{"$error":"#REF!"}},{"$f":"IF(C460=base!$W$2,ROW()+1,\"\")","v":{"$error":"#REF!"}},3930,"Merced Gómez","Colonia","Benito Juárez","Distrito Federal","Ciudad de México",3901,9,3901,null,9,14,561,"Urbano",3]
[{"$f":"IF(C461=base!$AC$2,ROW()+1,\"\")","v":{"$error":"#REF!"}},{"$f":"IF(C461=base!$W$2,ROW()+1,\"\")","v":{"$error":"#REF!"}},3940,"Crédito Constructor","Colonia","Benito Juárez","Distrito Federal","Ciudad de México",3901,9,3901,null,9,14,562,"Urbano",3]
[{"$f":"IF(C462=base!$AC$2,ROW()+1,\"\")","v":{"$error":"#REF!"}},{"$f":"IF(C462=base!$W$2,ROW()+1,\"\")","v":{"$error":"#REF!"}},3949,"Consejo Nacional de La Ciencia y Tecnología","Gran usuario","Benito Juárez","Distrito Federal","Ciudad de México",3901,9,3901,null,22,14,2788,"Urbano",3]
[{"$f":"IF(C463=base!$AC$2,ROW()+1,\"\")","v":{"$error":"#REF!"}},{"$f":"IF(C463=base!$W$2,ROW()+1,\"\")","v":{"$error":"#REF!"}},4000,"Villa Coyoacán","Colonia","Coyoacán","Distrito Federal","Ciudad de México",4331,9,4331,null,9,3,563,"Urbano",4]
[{"$f":"IF(C464=base!$AC$2,ROW()+1,\"\")","v":{"$error":"#REF!"}},{"$f":"IF(C464=base!$W$2,ROW()+1,\"\")","v":{"$error":"#REF!"}},4009,"Delegación Política Coyoacán","Gran usuario","Coyoacán","Distrito Federal","Ciudad de México",4331,9,4331,null,22,3,565,"Urbano",4]
[{"$f":"IF(C465=base!$AC$2,ROW()+1,\"\")","v":{"$error":"#REF!"}},{"$f":"IF(C465=base!$W$2,ROW()+1,\"\")","v":{"$error":"#REF!"}},4010,"Barrio Santa Catarina","Barrio","Coyoacán","Distrito Federal","Ciudad de México",4331,9,4331,null,2,3,566,"Urbano",4]
[{"$f":"IF(C466=base!$AC$2,ROW()+1,\"\")","v":{"$error":"#REF!"}},{"$f":"IF(C466=base!$W$2,ROW()+1,\"\")","v":{"$error":"#REF!"}},4020,"Barrio La Concepción","Barrio","Coyoacán","Distrito Federal","Ciudad de México",4331,9,4331,null,2,3,567,"Urbano",4]
[{"$f":"IF(C467=base!$AC$2,ROW()+1,\"\")","v":{"$error":"#REF!"}},{"$f":"IF(C467=base!$W$2,ROW()+1,\"\")","v":{"$error":"#REF!"}},4030,"Barrio San Lucas","Barrio","Coyoacán","Distrito Federal","Ciudad de México",4331,9,4331,null,2,3,569,"Urbano",4]
[{"$f":"IF(C468=base!$AC$2,ROW()+1,\"\")","v":{"$error":"#REF!"}},{"$f":"IF(C468=base!$W$2,ROW()+1,\"\")","v":{"$error":"#REF!"}},4040,"Parque San Andrés","Colonia","Coyoacán","Distrito Federal","Ciudad de México",4331,9,4331,null,9,3,570,"Urbano",4]
[{"$f":"IF(C469=base!$AC$2,ROW()+1,\"\")","v":{"$error":"#REF!"}},{"$f":"IF(C469=base!$W$2,ROW()+1,\"\")","v":{"$error":"#REF!"}},4100,"Del Carmen","Colonia","Coyoacán","Distrito Federal","Ciudad de México",4331,9,4331,null,9,3,571,"Urbano",4]
[{"$f":"IF(C470=base!$AC$2,ROW()+1,\"\")","v":{"$error":"#REF!"}},{"$f":"IF(C470=base!$W$2,ROW()+1,\"\")","v":{"$error":"#REF!"}},4110,"Viveros de Coyoacán","Unidad habitacional","Coyoacán","Distrito Federal","Ciudad de México",4331,9,4331,null,31,3,575,"Urbano",4]
[{"$f":"IF(C471=base!$AC$2,ROW()+1,\"\")","v":{"$error":"#REF!"}},{"$f":"IF(C471=base!$W$2,ROW()+1,\"\")","v":{"$error":"#REF!"}},4120,"San Mateo","Colonia","Coyoacán","Distrito Federal","Ciudad de México",4331,9,4331,null,9,3,578,"Urbano",4]
[{"$f":"IF(C472=base!$AC$2,ROW()+1,\"\")","v":{"$error":"#REF!"}},{"$f":"IF(C472=base!$W$2,ROW()+1,\"\")","v":{"$error":"#REF!"}},4120,"San Diego Churubusco","Colonia","Coyoacán","Distrito Federal","Ciudad de México",4331,9,4331,null,9,3,577,"Urbano",4]
[{"$f":"IF(C473=base!$AC$2,ROW()+1,\"\")","v":{"$error":"#REF!"}},{"$f":"IF(C473=base!$W$2,ROW()+1,\"\")","v":{"$error":"#REF!"}},4129,"Cámara Nacional de la Industria Editorial","Gran usuario","Coyoacán","Distrito Federal","Ciudad de México",4331,9,4331,null,22,3,579,"Urbano",4]
[{"$f":"IF(C474=base!$AC$2,ROW()+1,\"\")","v":{"$error":"#REF!"}},{"$f":"IF(C474=base!$W$2,ROW()+1,\"\")","v":{"$error":"#REF!"}},4200,"Campestre Churubusco","Colonia","Coyoacán","Distrito Federal","Ciudad de México",4831,9,4831,null,9,3,580,"Urbano",4]
[{"$f":"IF(C475=base!$AC$2,ROW()+1,\"\")","v":{"$error":"#REF!"}},{"$f":"IF(C475=base!$W$2,ROW()+1,\"\")","v":{"$error":"#REF!"}},4210,"Churubusco Country Club","Colonia","Coyoacán","Distrito Federal","Ciudad de México",4831,9,4831,null,9,3,582,"Urbano",4]
[{"$f":"IF(C476=base!$AC$2,ROW()+1,\"\")","v":{"$error":"#REF!"}},{"$f":"IF(C476=base!$W$2,ROW()+1,\"\")","v":{"$error":"#REF!"}},4230,"Prado Churubusco","Colonia","Coyoacán","Distrito Federal","Ciudad de México",4831,9,4831,null,9,3,584,"Urbano",4]
[{"$f":"IF(C477=base!$AC$2,ROW()+1,\"\")","v":{"$error":"#REF!"}},{"$f":"IF(C477=base!$W$2,ROW()+1,\"\")","v":{"$error":"#REF!"}},4239,"Ermita Churubusco","Unidad habitacional","Coyoacán","Distrito Federal","Ciudad de México",4831,9,4831,null,31,3,585,"Urbano",4]
[{"$f":"IF(C478=base!$AC$2,ROW()+1,\"\")","v":{"$error":"#REF!"}},{"$f":"IF(C478=base!$W$2,ROW()+1,\"\")","v":{"$error":"#REF!"}},4240,"Hermosillo","Colonia","Coyoacán","Distrito Federal","Ciudad de México",4831,9,4831,null,9,3,586,"Urbano",4]
[{"$f":"IF(C479=base!$AC$2,ROW()+1,\"\")","v":{"$error":"#REF!"}},{"$f":"IF(C479=base!$W$2,ROW()+1,\"\")","v":{"$error":"#REF!"}},4250,"Paseos de Taxqueña","Colonia","Coyoacán","Distrito Federal","Ciudad de México",4831,9,4831,null,9,3,587,"Urbano",4]
[{"$f":"IF(C480=base!$AC$2,ROW()+1,\"\")","v":{"$error":"#REF!"}},{"$f":"IF(C480=base!$W$2,ROW()+1,\"\")","v":{"$error":"#REF!"}},4259,"20 de Agosto","Unidad habitacional","Coyoacán","Distrito Federal","Ciudad de México",4831,9,4831,null,31,3,588,"Urbano",4]
[{"$f":"IF(C481=base!$AC$2,ROW()+1,\"\")","v":{"$error":"#REF!"}},{"$f":"IF(C481=base!$W$2,ROW()+1,\"\")","v":{"$error":"#REF!"}},4260,"San Francisco Culhuacán Barrio de San Juan","Barrio","Coyoacán","Distrito Federal","Ciudad de México",4831,9,4831,null,2,3,2831,"Urbano",4]
[{"$f":"IF(C482=base!$AC$2,ROW()+1,\"\")","v":{"$error":"#REF!"}},{"$f":"IF(C482=base!$W$2,ROW()+1,\"\")","v":{"$error":"#REF!"}},4260,"San Francisco Culhuacán Barrio de San Francisco","Barrio","Coyoacán","Distrito Federal","Ciudad de México",4831,9,4831,null,2,3,590,"Urbano",4]
[{"$f":"IF(C483=base!$AC$2,ROW()+1,\"\")","v":{"$error":"#REF!"}},{"$f":"IF(C483=base!$W$2,ROW()+1,\"\")","v":{"$error":"#REF!"}},4260,"San Francisco Culhuacán Barrio de La Magdalena","Barrio","Coyoacán","Distrito Federal","Ciudad de México",4831,9,4831,null,2,3,2807,"Urbano",4]
[{"$f":"IF(C484=base!$AC$2,ROW()+1,\"\")","v":{"$error":"#REF!"}},{"$f":"IF(C484=base!$W$2,ROW()+1,\"\")","v":{"$error":"#REF!"}},4260,"San Francisco Culhuacán Barrio de Santa Ana","Barrio","Coyoacán","Distrito Federal","Ciudad de México",4831,9,4831,null,2,3,2808,"Urbano",4]
[{"$f":"IF(C485=base!$AC$2,ROW()+1,\"\")","v":{"$error":"#REF!"}},{"$f":"IF(C485=base!$W$2,ROW()+1,\"\")","v":{"$error":"#REF!"}},4270,"Santa Martha del Sur Quetzalcoatl","Unidad habitacional","Coyoacán","Distrito Federal","Ciudad de México",4831,9,4831,null,31,3,594,"Urbano",4]
[{"$f":"IF(C486=base!$AC$2,ROW()+1,\"\")","v":{"$error":"#REF!"}},{"$f":"IF(C486=base!$W$2,ROW()+1,\"\")","v":{"$error":"#REF!"}},4280,"Taxqueña","Unidad habitacional","Coyoacán","Distrito Federal","Ciudad de México",4831,9,4831,null,31,3,595,"Urbano",4]
[{"$f":"IF(C487=base!$AC$2,ROW()+1,\"\")","v":{"$error":"#REF!"}},{"$f":"IF(C487=base!$W$2,ROW()+1,\"\")","v":{"$error":"#REF!"}},4300,"Ajusco","Colonia","Coyoacán","Distrito Federal","Ciudad de México",4331,9,4331,null,9,3,596,"Urbano",4]
[{"$f":"IF(C488=base!$AC$2,ROW()+1,\"\")","v":{"$error":"#REF!"}},{"$f":"IF(C488=base!$W$2,ROW()+1,\"\")","v":{"$error":"#REF!"}},4307,"Ajusco Montserrat","Unidad habitacional","Coyoacán","Distrito Federal","Ciudad de México",4331,9,4331,null,31,3,598,"Urbano",4]
[{"$f":"IF(C489=base!$AC$2,ROW()+1,\"\")","v":{"$error":"#REF!"}},{"$f":"IF(C489=base!$W$2,ROW()+1,\"\")","v":{"$error":"#REF!"}},4309,"Pedregal de Monserrat","Fraccionamiento","Coyoacán","Distrito Federal","Ciudad de México",4331,9,4331,null,21,3,599,"Urbano",4]
[{"$f":"IF(C490=base!$AC$2,ROW()+1,\"\")","v":{"$error":"#REF!"}},{"$f":"IF(C490=base!$W$2,ROW()+1,\"\")","v":{"$error":"#REF!"}},4310,"Romero de Terreros","Colonia","Coyoacán","Distrito Federal","Ciudad de México",4331,9,4331,null,9,3,601,"Urbano",4]
[{"$f":"IF(C491=base!$AC$2,ROW()+1,\"\")","v":{"$error":"#REF!"}},{"$f":"IF(C491=base!$W$2,ROW()+1,\"\")","v":{"$error":"#REF!"}},4310,"Monte de Piedad","Unidad habitacional","Coyoacán","Distrito Federal","Ciudad de México",4331,9,4331,null,31,3,600,"Urbano",4]
[{"$f":"IF(C492=base!$AC$2,ROW()+1,\"\")","v":{"$error":"#REF!"}},{"$f":"IF(C492=base!$W$2,ROW()+1,\"\")","v":{"$error":"#REF!"}},4317,"ISSSTE","Unidad habitacional","Coyoacán","Distrito Federal","Ciudad de México",4331,9,4331,null,31,3,602,"Urbano",4]
[{"$f":"IF(C493=base!$AC$2,ROW()+1,\"\")","v":{"$error":"#REF!"}},{"$f":"IF(C493=base!$W$2,ROW()+1,\"\")","v":{"$error":"#REF!"}},4318,"Barrio Oxtopulco Universidad","Barrio","Coyoacán","Distrito Federal","Ciudad de México",4331,9,4331,null,2,3,603,"Urbano",4]
[{"$f":"IF(C494=base!$AC$2,ROW()+1,\"\")","v":{"$error":"#REF!"}},{"$f":"IF(C494=base!$W$2,ROW()+1,\"\")","v":{"$error":"#REF!"}},4319,"Torres de Chimalistac","Conjunto habitacional","Coyoacán","Distrito Federal","Ciudad de México",4331,9,4331,null,12,3,605,"Urbano",4]
[{"$f":"IF(C495=base!$AC$2,ROW()+1,\"\")","v":{"$error":"#REF!"}},{"$f":"IF(C495=base!$W$2,ROW()+1,\"\")","v":{"$error":"#REF!"}},4319,"Fortín de Chimalistac","Fraccionamiento","Coyoacán","Distrito Federal","Ciudad de México",4331,9,4331,null,21,3,604,"Urbano",4]
[{"$f":"IF(C496=base!$AC$2,ROW()+1,\"\")","v":{"$error":"#REF!"}},{"$f":"IF(C496=base!$W$2,ROW()+1,\"\")","v":{"$error":"#REF!"}},4320,"Cuadrante de San Francisco","Colonia","Coyoacán","Distrito Federal","Ciudad de México",4331,9,4331,null,9,3,606,"Urbano",4]
[{"$f":"IF(C497=base!$AC$2,ROW()+1,\"\")","v":{"$error":"#REF!"}},{"$f":"IF(C497=base!$W$2,ROW()+1,\"\")","v":{"$error":"#REF!"}},4320,"Romero de Terreros","Fraccionamiento","Coyoacán","Distrito Federal","Ciudad de México",4331,9,4331,null,21,3,609,"Urbano",4]
[{"$f":"IF(C498=base!$AC$2,ROW()+1,\"\")","v":{"$error":"#REF!"}},{"$f":"IF(C498=base!$W$2,ROW()+1,\"\")","v":{"$error":"#REF!"}},4320,"Pedregal de San Francisco","Colonia","Coyoacán","Distrito Federal","Ciudad de México",4331,9,4331,null,9,3,608,"Urbano",4]
[{"$f":"IF(C499=base!$AC$2,ROW()+1,\"\")","v":{"$error":"#REF!"}},{"$f":"IF(C499=base!$W$2,ROW()+1,\"\")","v":{"$error":"#REF!"}},4326,"Villa de San Francisco","Fraccionamiento","Coyoacán","Distrito Federal","Ciudad de México",4331,9,4331,null,21,3,610,"Urbano",4]
[{"$f":"IF(C500=base!$AC$2,ROW()+1,\"\")","v":{"$error":"#REF!"}},{"$f":"IF(C500=base!$W$2,ROW()+1,\"\")","v":{"$error":"#REF!"}},4327,"Rincón de Guanajuato","Unidad habitacional","Coyoacán","Distrito Federal","Ciudad de México",4331,9,4331,null,31,3,611,"Urbano",4]
[{"$f":"IF(C501=base!$AC$2,ROW()+1,\"\")","v":{"$error":"#REF!"}},{"$f":"IF(C501=base!$W$2,ROW()+1,\"\")","v":{"$error":"#REF!"}},4330,"Rinconada de los Reyes","Unidad habitacional","Coyoacán","Distrito Federal","Ciudad de México",4331,9,4331,null,31,3,2754,"Urbano",4]
[{"$f":"IF(C502=base!$AC$2,ROW()+1,\"\")","v":{"$error":"#REF!"}},{"$f":"IF(C502=base!$W$2,ROW()+1,\"\")","v":{"$error":"#REF!"}},4330,"Pacifico","Unidad habitacional","Coyoacán","Distrito Federal","Ciudad de México",4331,9,4331,null,31,3,615,"Urbano",4]
[{"$f":"IF(C503=base!$AC$2,ROW()+1,\"\")","v":{"$error":"#REF!"}},{"$f":"IF(C503=base!$W$2,ROW()+1,\"\")","v":{"$error":"#REF!"}},4330,"Barrio del Niño Jesús","Barrio","Coyoacán","Distrito Federal","Ciudad de México",4331,9,4331,null,2,3,614,"Urbano",4]
[{"$f":"IF(C504=base!$AC$2,ROW()+1,\"\")","v":{"$error":"#REF!"}},{"$f":"IF(C504=base!$W$2,ROW()+1,\"\")","v":{"$error":"#REF!"}},4330,"Rosedal","Unidad habitacional","Coyoacán","Distrito Federal","Ciudad de México",4331,9,4331,null,31,3,616,"Urbano",4]
[{"$f":"IF(C505=base!$AC$2,ROW()+1,\"\")","v":{"$error":"#REF!"}},{"$f":"IF(C505=base!$W$2,ROW()+1,\"\")","v":{"$error":"#REF!"}},4330,"Pedregal de Coyoacán","Unidad habitacional","Coyoacán","Distrito Federal","Ciudad de México",4331,9,4331,null,31,3,2646,"Urbano",4]
[{"$f":"IF(C506=base!$AC$2,ROW()+1,\"\")","v":{"$error":"#REF!"}},{"$f":"IF(C506=base!$W$2,ROW()+1,\"\")","v":{"$error":"#REF!"}},4330,"El Rosedal","Colonia","Coyoacán","Distrito Federal","Ciudad de México",4331,9,4331,null,9,3,612,"Urbano",4]
[{"$f":"IF(C507=base!$AC$2,ROW()+1,\"\")","v":{"$error":"#REF!"}},{"$f":"IF(C507=base!$W$2,ROW()+1,\"\")","v":{"$error":"#REF!"}},4330,"Pueblo de los Reyes","Pueblo","Coyoacán","Distrito Federal","Ciudad de México",4331,9,4331,null,28,3,613,"Urbano",4]
[{"$f":"IF(C508=base!$AC$2,ROW()+1,\"\")","v":{"$error":"#REF!"}},{"$f":"IF(C508=base!$W$2,ROW()+1,\"\")","v":{"$error":"#REF!"}},4336,"Zapata","Unidad habitacional","Coyoacán","Distrito Federal","Ciudad de México",4331,9,4331,null,31,3,618,"Urbano",4]
[{"$f":"IF(C509=base!$AC$2,ROW()+1,\"\")","v":{"$error":"#REF!"}},{"$f":"IF(C509=base!$W$2,ROW()+1,\"\")","v":{"$error":"#REF!"}},4337,"Montserrat","Unidad habitacional","Coyoacán","Distrito Federal","Ciudad de México",4331,9,4331,null,31,3,619,"Urbano",4]
[{"$f":"IF(C510=base!$AC$2,ROW()+1,\"\")","v":{"$error":"#REF!"}},{"$f":"IF(C510=base!$W$2,ROW()+1,\"\")","v":{"$error":"#REF!"}},4338,"Mariana","Conjunto habitacional","Coyoacán","Distrito Federal","Ciudad de México",4331,9,4331,null,12,3,620,"Urbano",4]
[{"$f":"IF(C511=base!$AC$2,ROW()+1,\"\")","v":{"$error":"#REF!"}},{"$f":"IF(C511=base!$W$2,ROW()+1,\"\")","v":{"$error":"#REF!"}},4340,"Insurgentes San Angel","Conjunto habitacional","Coyoacán","Distrito Federal","Ciudad de México",4331,9,4331,null,12,3,624,"Urbano",4]
[{"$f":"IF(C512=base!$AC$2,ROW()+1,\"\")","v":{"$error":"#REF!"}},{"$f":"IF(C512=base!$W$2,ROW()+1,\"\")","v":{"$error":"#REF!"}},4340,"Copilco Universidad ISSSTE","Unidad habitacional","Coyoacán","Distrito Federal","Ciudad de México",4331,9,4331,null,31,3,623,"Urbano",4]
[{"$f":"IF(C513=base!$AC$2,ROW()+1,\"\")","v":{"$error":"#REF!"}},{"$f":"IF(C513=base!$W$2,ROW()+1,\"\")","v":{"$error":"#REF!"}},4340,"Copilco El Bajo","Colonia","Coyoacán","Distrito Federal","Ciudad de México",4331,9,4331,null,9,3,622,"Urbano",4]
[{"$f":"IF(C514=base!$AC$2,ROW()+1,\"\")","v":{"$error":"#REF!"}},{"$f":"IF(C514=base!$W$2,ROW()+1,\"\")","v":{"$error":"#REF!"}},4350,"Copilco","Unidad habitacional","Coyoacán","Distrito Federal","Ciudad de México",4331,9,4331,null,31,3,627,"Urbano",4]
[{"$f":"IF(C515=base!$AC$2,ROW()+1,\"\")","v":{"$error":"#REF!"}},{"$f":"IF(C515=base!$W$2,ROW()+1,\"\")","v":{"$error":"#REF!"}},4350,"Altillo Universidad","Unidad habitacional","Coyoacán","Distrito Federal","Ciudad de México",4331,9,4331,null,31,3,626,"Urbano",4]
[{"$f":"IF(C516=base!$AC$2,ROW()+1,\"\")","v":{"$error":"#REF!"}},{"$f":"IF(C516=base!$W$2,ROW()+1,\"\")","v":{"$error":"#REF!"}},4350,"Villas Copilco","Conjunto habitacional","Coyoacán","Distrito Federal","Ciudad de México",4331,9,4331,null,12,3,630,"Urbano",4]
[{"$f":"IF(C517=base!$AC$2,ROW()+1,\"\")","v":{"$error":"#REF!"}},{"$f":"IF(C517=base!$W$2,ROW()+1,\"\")","v":{"$error":"#REF!"}},4350,"Acasulco","Unidad habitacional","Coyoacán","Distrito Federal","Ciudad de México",4331,9,4331,null,31,3,625,"Urbano",4]
[{"$f":"IF(C518=base!$AC$2,ROW()+1,\"\")","v":{"$error":"#REF!"}},{"$f":"IF(C518=base!$W$2,ROW()+1,\"\")","v":{"$error":"#REF!"}},4350,"Integración Latinoamericana","Unidad habitacional","Coyoacán","Distrito Federal","Ciudad de México",4331,9,4331,null,31,3,628,"Urbano",4]
[{"$f":"IF(C519=base!$AC$2,ROW()+1,\"\")","v":{"$error":"#REF!"}},{"$f":"IF(C519=base!$W$2,ROW()+1,\"\")","v":{"$error":"#REF!"}},4359,"Empleados Federales","Condominio","Coyoacán","Distrito Federal","Ciudad de México",4331,9,4331,null,10,3,631,"Urbano",4]
[{"$f":"IF(C520=base!$AC$2,ROW()+1,\"\")","v":{"$error":"#REF!"}},{"$f":"IF(C520=base!$W$2,ROW()+1,\"\")","v":{"$error":"#REF!"}},4360,"Copilco El Alto","Colonia","Coyoacán","Distrito Federal","Ciudad de México",4331,9,4331,null,9,3,632,"Urbano",4]
[{"$f":"IF(C521=base!$AC$2,ROW()+1,\"\")","v":{"$error":"#REF!"}},{"$f":"IF(C521=base!$W$2,ROW()+1,\"\")","v":{"$error":"#REF!"}},4360,"Copilco Universidad","Colonia","Coyoacán","Distrito Federal","Ciudad de México",4331,9,4331,null,9,3,633,"Urbano",4]
[{"$f":"IF(C522=base!$AC$2,ROW()+1,\"\")","v":{"$error":"#REF!"}},{"$f":"IF(C522=base!$W$2,ROW()+1,\"\")","v":{"$error":"#REF!"}},4368,"Residencial la Cantera","Unidad habitacional","Coyoacán","Distrito Federal","Ciudad de México",4331,9,4331,null,31,3,635,"Urbano",4]
[{"$f":"IF(C523=base!$AC$2,ROW()+1,\"\")","v":{"$error":"#REF!"}},{"$f":"IF(C523=base!$W$2,ROW()+1,\"\")","v":{"$error":"#REF!"}},4369,"Pedregal de Santo Domingo","Colonia","Coyoacán","Distrito Federal","Ciudad de México",4331,9,4331,null,9,3,636,"Urbano",4]
[{"$f":"IF(C524=base!$AC$2,ROW()+1,\"\")","v":{"$error":"#REF!"}},{"$f":"IF(C524=base!$W$2,ROW()+1,\"\")","v":{"$error":"#REF!"}},4370,"Ciudad Jardín","Colonia","Coyoacán","Distrito Federal","Ciudad de México",4331,9,4331,null,9,3,638,"Urbano",4]
[{"$f":"IF(C525=base!$AC$2,ROW()+1,\"\")","v":{"$error":"#REF!"}},{"$f":"IF(C525=base!$W$2,ROW()+1,\"\")","v":{"$error":"#REF!"}},4370,"Xotepingo 101","Unidad habitacional","Coyoacán","Distrito Federal","Ciudad de México",4331,9,4331,null,31,3,639,"Urbano",4]
[{"$f":"IF(C526=base!$AC$2,ROW()+1,\"\")","v":{"$error":"#REF!"}},{"$f":"IF(C526=base!$W$2,ROW()+1,\"\")","v":{"$error":"#REF!"}},4370,"Atlántida","Colonia","Coyoacán","Distrito Federal","Ciudad de México",4331,9,4331,null,9,3,637,"Urbano",4]
[{"$f":"IF(C527=base!$AC$2,ROW()+1,\"\")","v":{"$error":"#REF!"}},{"$f":"IF(C527=base!$W$2,ROW()+1,\"\")","v":{"$error":"#REF!"}},4380,"Pueblo La Candelaria","Pueblo","Coyoacán","Distrito Federal","Ciudad de México",4331,9,4331,null,28,3,641,"Urbano",4]
[{"$f":"IF(C528=base!$AC$2,ROW()+1,\"\")","v":{"$error":"#REF!"}},{"$f":"IF(C528=base!$W$2,ROW()+1,\"\")","v":{"$error":"#REF!"}},4380,"El Rosario","Colonia","Coyoacán","Distrito Federal","Ciudad de México",4331,9,4331,null,9,3,640,"Urbano",4]
[{"$f":"IF(C529=base!$AC$2,ROW()+1,\"\")","v":{"$error":"#REF!"}},{"$f":"IF(C529=base!$W$2,ROW()+1,\"\")","v":{"$error":"#REF!"}},4390,"Huayamilpas","Colonia","Coyoacán","Distrito Federal","Ciudad de México",4331,9,4331,null,9,3,643,"Urbano",4]
[{"$f":"IF(C530=base!$AC$2,ROW()+1,\"\")","v":{"$error":"#REF!"}},{"$f":"IF(C530=base!$W$2,ROW()+1,\"\")","v":{"$error":"#REF!"}},4390,"Nueva Díaz Ordaz","Colonia","Coyoacán","Distrito Federal","Ciudad de México",4331,9,4331,null,9,3,644,"Urbano",4]
[{"$f":"IF(C531=base!$AC$2,ROW()+1,\"\")","v":{"$error":"#REF!"}},{"$f":"IF(C531=base!$W$2,ROW()+1,\"\")","v":{"$error":"#REF!"}},4400,"Educación","Colonia","Coyoacán","Distrito Federal","Ciudad de México",4831,9,4831,null,9,3,645,"Urbano",4]
[{"$f":"IF(C532=base!$AC$2,ROW()+1,\"\")","v":{"$error":"#REF!"}},{"$f":"IF(C532=base!$W$2,ROW()+1,\"\")","v":{"$error":"#REF!"}},4410,"Petrolera Taxqueña","Colonia","Coyoacán","Distrito Federal","Ciudad de México",4831,9,4831,null,9,3,646,"Urbano",4]
[{"$f":"IF(C533=base!$AC$2,ROW()+1,\"\")","v":{"$error":"#REF!"}},{"$f":"IF(C533=base!$W$2,ROW()+1,\"\")","v":{"$error":"#REF!"}},4410,"Tlalpan FOVISSSTE","Unidad habitacional","Coyoacán","Distrito Federal","Ciudad de México",4831,9,4831,null,31,3,648,"Urbano",4]
[{"$f":"IF(C534=base!$AC$2,ROW()+1,\"\")","v":{"$error":"#REF!"}},{"$f":"IF(C534=base!$W$2,ROW()+1,\"\")","v":{"$error":"#REF!"}},4420,"Ex-Ejido de San Francisco Culhuacán","Colonia","Coyoacán","Distrito Federal","Ciudad de México",4831,9,4831,null,9,3,649,"Urbano",4]
[{"$f":"IF(C535=base!$AC$2,ROW()+1,\"\")","v":{"$error":"#REF!"}},{"$f":"IF(C535=base!$W$2,ROW()+1,\"\")","v":{"$error":"#REF!"}},4440,"Culhuacán CTM Sección II","Colonia","Coyoacán","Distrito Federal","Ciudad de México",4831,9,4831,null,9,3,2810,"Urbano",4]
[{"$f":"IF(C536=base!$AC$2,ROW()+1,\"\")","v":{"$error":"#REF!"}},{"$f":"IF(C536=base!$W$2,ROW()+1,\"\")","v":{"$error":"#REF!"}},4440,"Culhuacán CTM Sección I","Colonia","Coyoacán","Distrito Federal","Ciudad de México",4831,9,4831,null,9,3,2811,"Urbano",4]
[{"$f":"IF(C537=base!$AC$2,ROW()+1,\"\")","v":{"$error":"#REF!"}},{"$f":"IF(C537=base!$W$2,ROW()+1,\"\")","v":{"$error":"#REF!"}},4440,"Culhuacán CTM Sección V","Colonia","Coyoacán","Distrito Federal","Ciudad de México",4831,9,4831,null,9,3,651,"Urbano",4]
[{"$f":"IF(C538=base!$AC$2,ROW()+1,\"\")","v":{"$error":"#REF!"}},{"$f":"IF(C538=base!$W$2,ROW()+1,\"\")","v":{"$error":"#REF!"}},4450,"El Centinela","Colonia","Coyoacán","Distrito Federal","Ciudad de México",4831,9,4831,null,9,3,652,"Urbano",4]
[{"$f":"IF(C539=base!$AC$2,ROW()+1,\"\")","v":{"$error":"#REF!"}},{"$f":"IF(C539=base!$W$2,ROW()+1,\"\")","v":{"$error":"#REF!"}},4460,"Avante","Colonia","Coyoacán","Distrito Federal","Ciudad de México",4831,9,4831,null,9,3,653,"Urbano",4]
[{"$f":"IF(C540=base!$AC$2,ROW()+1,\"\")","v":{"$error":"#REF!"}},{"$f":"IF(C540=base!$W$2,ROW()+1,\"\")","v":{"$error":"#REF!"}},4470,"Presidentes Ejidales 1a Sección","Colonia","Coyoacán","Distrito Federal","Ciudad de México",4831,9,4831,null,9,3,655,"Urbano",4]
[{"$f":"IF(C541=base!$AC$2,ROW()+1,\"\")","v":{"$error":"#REF!"}},{"$f":"IF(C541=base!$W$2,ROW()+1,\"\")","v":{"$error":"#REF!"}},4470,"Presidentes Ejidales 2a Sección","Colonia","Coyoacán","Distrito Federal","Ciudad de México",4831,9,4831,null,9,3,2805,"Urbano",4]
[{"$f":"IF(C542=base!$AC$2,ROW()+1,\"\")","v":{"$error":"#REF!"}},{"$f":"IF(C542=base!$W$2,ROW()+1,\"\")","v":{"$error":"#REF!"}},4480,"Culhuacán CTM Sección X-A","Colonia","Coyoacán","Distrito Federal","Ciudad de México",4831,9,4831,null,9,3,2815,"Urbano",4]
[{"$f":"IF(C543=base!$AC$2,ROW()+1,\"\")","v":{"$error":"#REF!"}},{"$f":"IF(C543=base!$W$2,ROW()+1,\"\")","v":{"$error":"#REF!"}},4480,"Culhuacán CTM Sección VI","Colonia","Coyoacán","Distrito Federal","Ciudad de México",4831,9,4831,null,9,3,657,"Urbano",4]
[{"$f":"IF(C544=base!$AC$2,ROW()+1,\"\")","v":{"$error":"#REF!"}},{"$f":"IF(C544=base!$W$2,ROW()+1,\"\")","v":{"$error":"#REF!"}},4480,"Culhuacán CTM Sección III","Colonia","Coyoacán","Distrito Federal","Ciudad de México",4831,9,4831,null,9,3,2809,"Urbano",4]
[{"$f":"IF(C545=base!$AC$2,ROW()+1,\"\")","v":{"$error":"#REF!"}},{"$f":"IF(C545=base!$W$2,ROW()+1,\"\")","v":{"$error":"#REF!"}},4480,"Culhuacán CTM CROC","Colonia","Coyoacán","Distrito Federal","Ciudad de México",4831,9,4831,null,9,3,2812,"Urbano",4]
[{"$f":"IF(C546=base!$AC$2,ROW()+1,\"\")","v":{"$error":"#REF!"}},{"$f":"IF(C546=base!$W$2,ROW()+1,\"\")","v":{"$error":"#REF!"}},4489,"Culhuacán CTM Sección VII","Colonia","Coyoacán","Distrito Federal","Ciudad de México",4831,9,4831,null,9,3,658,"Urbano",4]
[{"$f":"IF(C547=base!$AC$2,ROW()+1,\"\")","v":{"$error":"#REF!"}},{"$f":"IF(C547=base!$W$2,ROW()+1,\"\")","v":{"$error":"#REF!"}},4490,"Culhuacán CTM Canal Nacional","Colonia","Coyoacán","Distrito Federal","Ciudad de México",4831,9,4831,null,9,3,2813,"Urbano",4]
[{"$f":"IF(C548=base!$AC$2,ROW()+1,\"\")","v":{"$error":"#REF!"}},{"$f":"IF(C548=base!$W$2,ROW()+1,\"\")","v":{"$error":"#REF!"}},4490,"Culhuacán CTM Sección Piloto","Colonia","Coyoacán","Distrito Federal","Ciudad de México",4831,9,4831,null,9,3,659,"Urbano",4]
[{"$f":"IF(C549=base!$AC$2,ROW()+1,\"\")","v":{"$error":"#REF!"}},{"$f":"IF(C549=base!$W$2,ROW()+1,\"\")","v":{"$error":"#REF!"}},4500,"Jardines del Pedregal de San Ángel","Colonia","Coyoacán","Distrito Federal","Ciudad de México",4331,9,4331,null,9,3,660,"Urbano",4]
[{"$f":"IF(C550=base!$AC$2,ROW()+1,\"\")","v":{"$error":"#REF!"}},{"$f":"IF(C550=base!$W$2,ROW()+1,\"\")","v":{"$error":"#REF!"}},4510,"Universidad Nacional Autónoma de México","Gran usuario","Coyoacán","Distrito Federal","Ciudad de México",4331,9,4331,null,22,3,661,"Urbano",4]
[{"$f":"IF(C551=base!$AC$2,ROW()+1,\"\")","v":{"$error":"#REF!"}},{"$f":"IF(C551=base!$W$2,ROW()+1,\"\")","v":{"$error":"#REF!"}},4513,"Universidad Nacional Autónoma de México","Equipamiento","Coyoacán","Distrito Federal","Ciudad de México",4331,9,4331,null,17,3,2793,"Urbano",4]
[{"$f":"IF(C552=base!$AC$2,ROW()+1,\"\")","v":{"$error":"#REF!"}},{"$f":"IF(C552=base!$W$2,ROW()+1,\"\")","v":{"$error":"#REF!"}},4513,"Multifamiliar Para Maestros","Unidad habitacional","Coyoacán","Distrito Federal","Ciudad de México",4331,9,4331,null,31,3,2758,"Urbano",4]
[{"$f":"IF(C553=base!$AC$2,ROW()+1,\"\")","v":{"$error":"#REF!"}},{"$f":"IF(C553=base!$W$2,ROW()+1,\"\")","v":{"$error":"#REF!"}},4519,"La Otra Banda","Colonia","Coyoacán","Distrito Federal","Ciudad de México",4331,9,4331,null,9,3,664,"Urbano",4]
[{"$f":"IF(C554=base!$AC$2,ROW()+1,\"\")","v":{"$error":"#REF!"}},{"$f":"IF(C554=base!$W$2,ROW()+1,\"\")","v":{"$error":"#REF!"}},4530,"Insurgentes Cuicuilco","Colonia","Coyoacán","Distrito Federal","Ciudad de México",4331,9,4331,null,9,3,665,"Urbano",4]
[{"$f":"IF(C555=base!$AC$2,ROW()+1,\"\")","v":{"$error":"#REF!"}},{"$f":"IF(C555=base!$W$2,ROW()+1,\"\")","v":{"$error":"#REF!"}},4535,"Torres del Maurel","Fraccionamiento","Coyoacán","Distrito Federal","Ciudad de México",4331,9,4331,null,21,3,667,"Urbano",4]
[{"$f":"IF(C556=base!$AC$2,ROW()+1,\"\")","v":{"$error":"#REF!"}},{"$f":"IF(C556=base!$W$2,ROW()+1,\"\")","v":{"$error":"#REF!"}},4600,"Pedregal de Santa Úrsula","Colonia","Coyoacán","Distrito Federal","Ciudad de México",4331,9,4331,null,9,3,669,"Urbano",4]
[{"$f":"IF(C557=base!$AC$2,ROW()+1,\"\")","v":{"$error":"#REF!"}},{"$f":"IF(C557=base!$W$2,ROW()+1,\"\")","v":{"$error":"#REF!"}},4610,"Xotepingo","Colonia","Coyoacán","Distrito Federal","Ciudad de México",4331,9,4331,null,9,3,670,"Urbano",4]
[{"$f":"IF(C558=base!$AC$2,ROW()+1,\"\")","v":{"$error":"#REF!"}},{"$f":"IF(C558=base!$W$2,ROW()+1,\"\")","v":{"$error":"#REF!"}},4620,"Pueblo de San Pablo Tepetlapa","Pueblo","Coyoacán","Distrito Federal","Ciudad de México",4331,9,4331,null,28,3,671,"Urbano",4]
[{"$f":"IF(C559=base!$AC$2,ROW()+1,\"\")","v":{"$error":"#REF!"}},{"$f":"IF(C559=base!$W$2,ROW()+1,\"\")","v":{"$error":"#REF!"}},4630,"Adolfo Ruiz Cortínes","Colonia","Coyoacán","Distrito Federal","Ciudad de México",4331,9,4331,null,9,3,672,"Urbano",4]
[{"$f":"IF(C560=base!$AC$2,ROW()+1,\"\")","v":{"$error":"#REF!"}},{"$f":"IF(C560=base!$W$2,ROW()+1,\"\")","v":{"$error":"#REF!"}},4640,"El Reloj","Colonia","Coyoacán","Distrito Federal","Ciudad de México",4331,9,4331,null,9,3,673,"Urbano",4]
[{"$f":"IF(C561=base!$AC$2,ROW()+1,\"\")","v":{"$error":"#REF!"}},{"$f":"IF(C561=base!$W$2,ROW()+1,\"\")","v":{"$error":"#REF!"}},4650,"Pueblo de Santa Úrsula Coapa","Pueblo","Coyoacán","Distrito Federal","Ciudad de México",4331,9,4331,null,28,3,676,"Urbano",4]
[{"$f":"IF(C562=base!$AC$2,ROW()+1,\"\")","v":{"$error":"#REF!"}},{"$f":"IF(C562=base!$W$2,ROW()+1,\"\")","v":{"$error":"#REF!"}},4650,"Los Fresnos","Condominio","Coyoacán","Distrito Federal","Ciudad de México",4331,9,4331,null,10,3,675,"Urbano",4]
[{"$f":"IF(C563=base!$AC$2,ROW()+1,\"\")","v":{"$error":"#REF!"}},{"$f":"IF(C563=base!$W$2,ROW()+1,\"\")","v":{"$error":"#REF!"}},4660,"Joyas del Pedregal","Colonia","Coyoacán","Distrito Federal","Ciudad de México",4331,9,4331,null,9,3,677,"Urbano",4]
[{"$f":"IF(C564=base!$AC$2,ROW()+1,\"\")","v":{"$error":"#REF!"}},{"$f":"IF(C564=base!$W$2,ROW()+1,\"\")","v":{"$error":"#REF!"}},4660,"Pedregal de La Zorra","Unidad habitacional","Coyoacán","Distrito Federal","Ciudad de México",4331,9,4331,null,31,3,2686,"Urbano",4]
[{"$f":"IF(C565=base!$AC$2,ROW()+1,\"\")","v":{"$error":"#REF!"}},{"$f":"IF(C565=base!$W$2,ROW()+1,\"\")","v":{"$error":"#REF!"}},4700,"Pedregal de Carrasco","Colonia","Coyoacán","Distrito Federal","Ciudad de México",4331,9,4331,null,9,3,678,"Urbano",4]
[{"$f":"IF(C566=base!$AC$2,ROW()+1,\"\")","v":{"$error":"#REF!"}},{"$f":"IF(C566=base!$W$2,ROW()+1,\"\")","v":{"$error":"#REF!"}},4700,"Villa Panamericana","Unidad habitacional","Coyoacán","Distrito Federal","Ciudad de México",4331,9,4331,null,31,3,679,"Urbano",4]
[{"$f":"IF(C567=base!$AC$2,ROW()+1,\"\")","v":{"$error":"#REF!"}},{"$f":"IF(C567=base!$W$2,ROW()+1,\"\")","v":{"$error":"#REF!"}},4710,"Olímpica","Colonia","Coyoacán","Distrito Federal","Ciudad de México",4331,9,4331,null,9,3,680,"Urbano",4]
[{"$f":"IF(C568=base!$AC$2,ROW()+1,\"\")","v":{"$error":"#REF!"}},{"$f":"IF(C568=base!$W$2,ROW()+1,\"\")","v":{"$error":"#REF!"}},4718,"Vistas del Maurel","Fraccionamiento","Coyoacán","Distrito Federal","Ciudad de México",4331,9,4331,null,21,3,681,"Urbano",4]
[{"$f":"IF(C569=base!$AC$2,ROW()+1,\"\")","v":{"$error":"#REF!"}},{"$f":"IF(C569=base!$W$2,ROW()+1,\"\")","v":{"$error":"#REF!"}},4719,"Pedregal del Sur","Fraccionamiento","Coyoacán","Distrito Federal","Ciudad de México",4331,9,4331,null,21,3,682,"Urbano",4]
[{"$f":"IF(C570=base!$AC$2,ROW()+1,\"\")","v":{"$error":"#REF!"}},{"$f":"IF(C570=base!$W$2,ROW()+1,\"\")","v":{"$error":"#REF!"}},4719,"Villas del Pedregal","Unidad habitacional","Coyoacán","Distrito Federal","Ciudad de México",4331,9,4331,null,31,3,683,"Urbano",4]
[{"$f":"IF(C571=base!$AC$2,ROW()+1,\"\")","v":{"$error":"#REF!"}},{"$f":"IF(C571=base!$W$2,ROW()+1,\"\")","v":{"$error":"#REF!"}},4720,"Pedregal del Maurel","Unidad habitacional","Coyoacán","Distrito Federal","Ciudad de México",4331,9,4331,null,31,3,684,"Urbano",4]
[{"$f":"IF(C572=base!$AC$2,ROW()+1,\"\")","v":{"$error":"#REF!"}},{"$f":"IF(C572=base!$W$2,ROW()+1,\"\")","v":{"$error":"#REF!"}},4729,"Rinconada las Playas INFONAVIT","Unidad habitacional","Coyoacán","Distrito Federal","Ciudad de México",4331,9,4331,null,31,3,685,"Urbano",4]
[{"$f":"IF(C573=base!$AC$2,ROW()+1,\"\")","v":{"$error":"#REF!"}},{"$f":"IF(C573=base!$W$2,ROW()+1,\"\")","v":{"$error":"#REF!"}},4730,"Bosques de Tetlameya","Colonia","Coyoacán","Distrito Federal","Ciudad de México",4331,9,4331,null,9,3,687,"Urbano",4]
[{"$f":"IF(C574=base!$AC$2,ROW()+1,\"\")","v":{"$error":"#REF!"}},{"$f":"IF(C574=base!$W$2,ROW()+1,\"\")","v":{"$error":"#REF!"}},4730,"Cantil del Pedregal","Colonia","Coyoacán","Distrito Federal","Ciudad de México",4331,9,4331,null,9,3,686,"Urbano",4]
[{"$f":"IF(C575=base!$AC$2,ROW()+1,\"\")","v":{"$error":"#REF!"}},{"$f":"IF(C575=base!$W$2,ROW()+1,\"\")","v":{"$error":"#REF!"}},4738,"Villas del Imán","Residencial","Coyoacán","Distrito Federal","Ciudad de México",4331,9,4331,null,30,3,2837,"Urbano",4]
[{"$f":"IF(C576=base!$AC$2,ROW()+1,\"\")","v":{"$error":"#REF!"}},{"$f":"IF(C576=base!$W$2,ROW()+1,\"\")","v":{"$error":"#REF!"}},4738,"Modulo Social Imán","Condominio","Coyoacán","Distrito Federal","Ciudad de México",4331,9,4331,null,10,3,689,"Urbano",4]
[{"$f":"IF(C577=base!$AC$2,ROW()+1,\"\")","v":{"$error":"#REF!"}},{"$f":"IF(C577=base!$W$2,ROW()+1,\"\")","v":{"$error":"#REF!"}},4739,"El Caracol","Colonia","Coyoacán","Distrito Federal","Ciudad de México",4331,9,4331,null,9,3,690,"Urbano",4]
[{"$f":"IF(C578=base!$AC$2,ROW()+1,\"\")","v":{"$error":"#REF!"}},{"$f":"IF(C578=base!$W$2,ROW()+1,\"\")","v":{"$error":"#REF!"}},4800,"Alianza Popular Revolucionaria","Colonia","Coyoacán","Distrito Federal","Ciudad de México",4831,9,4831,null,9,3,691,"Urbano",4]
[{"$f":"IF(C579=base!$AC$2,ROW()+1,\"\")","v":{"$error":"#REF!"}},{"$f":"IF(C579=base!$W$2,ROW()+1,\"\")","v":{"$error":"#REF!"}},4800,"Los Cedros","Colonia","Coyoacán","Distrito Federal","Ciudad de México",4831,9,4831,null,9,3,692,"Urbano",4]
[{"$f":"IF(C580=base!$AC$2,ROW()+1,\"\")","v":{"$error":"#REF!"}},{"$f":"IF(C580=base!$W$2,ROW()+1,\"\")","v":{"$error":"#REF!"}},4810,"Prados de Coyoacán","Colonia","Coyoacán","Distrito Federal","Ciudad de México",4831,9,4831,null,9,3,695,"Urbano",4]
[{"$f":"IF(C581=base!$AC$2,ROW()+1,\"\")","v":{"$error":"#REF!"}},{"$f":"IF(C581=base!$W$2,ROW()+1,\"\")","v":{"$error":"#REF!"}},4815,"Emiliano Zapata","Colonia","Coyoacán","Distrito Federal","Ciudad de México",4831,9,4831,null,9,3,696,"Urbano",4]
[{"$f":"IF(C582=base!$AC$2,ROW()+1,\"\")","v":{"$error":"#REF!"}},{"$f":"IF(C582=base!$W$2,ROW()+1,\"\")","v":{"$error":"#REF!"}},4830,"Los Cipreses","Colonia","Coyoacán","Distrito Federal","Ciudad de México",4831,9,4831,null,9,3,697,"Urbano",4]
[{"$f":"IF(C583=base!$AC$2,ROW()+1,\"\")","v":{"$error":"#REF!"}},{"$f":"IF(C583=base!$W$2,ROW()+1,\"\")","v":{"$error":"#REF!"}},4830,"Los Ciruelos","Fraccionamiento","Coyoacán","Distrito Federal","Ciudad de México",4831,9,4831,null,21,3,698,"Urbano",4]
[{"$f":"IF(C584=base!$AC$2,ROW()+1,\"\")","v":{"$error":"#REF!"}},{"$f":"IF(C584=base!$W$2,ROW()+1,\"\")","v":{"$error":"#REF!"}},4840,"Ex-Ejido de San Pablo Tepetlapa","Colonia","Coyoacán","Distrito Federal","Ciudad de México",4831,9,4831,null,9,3,2806,"Urbano",4]
[{"$f":"IF(C585=base!$AC$2,ROW()+1,\"\")","v":{"$error":"#REF!"}},{"$f":"IF(C585=base!$W$2,ROW()+1,\"\")","v":{"$error":"#REF!"}},4843,"Secretaria de Marina Armada de México","Gran usuario","Coyoacán","Distrito Federal","Ciudad de México",4831,9,4831,null,22,3,700,"Urbano",4]
[{"$f":"IF(C586=base!$AC$2,ROW()+1,\"\")","v":{"$error":"#REF!"}},{"$f":"IF(C586=base!$W$2,ROW()+1,\"\")","v":{"$error":"#REF!"}},4849,"Sector Marina","Unidad habitacional","Coyoacán","Distrito Federal","Ciudad de México",4831,9,4831,null,31,3,701,"Urbano",4]
[{"$f":"IF(C587=base!$AC$2,ROW()+1,\"\")","v":{"$error":"#REF!"}},{"$f":"IF(C587=base!$W$2,ROW()+1,\"\")","v":{"$error":"#REF!"}},4850,"Fuentes de Coyoacán","Fraccionamiento","Coyoacán","Distrito Federal","Ciudad de México",4831,9,4831,null,21,3,2753,"Urbano",4]
[{"$f":"IF(C588=base!$AC$2,ROW()+1,\"\")","v":{"$error":"#REF!"}},{"$f":"IF(C588=base!$W$2,ROW()+1,\"\")","v":{"$error":"#REF!"}},4859,"El Hueso INFONAVIT","Unidad habitacional","Coyoacán","Distrito Federal","Ciudad de México",4831,9,4831,null,31,3,705,"Urbano",4]
[{"$f":"IF(C589=base!$AC$2,ROW()+1,\"\")","v":{"$error":"#REF!"}},{"$f":"IF(C589=base!$W$2,ROW()+1,\"\")","v":{"$error":"#REF!"}},4870,"Espartaco","Colonia","Coyoacán","Distrito Federal","Ciudad de México",4831,9,4831,null,9,3,706,"Urbano",4]
[{"$f":"IF(C590=base!$AC$2,ROW()+1,\"\")","v":{"$error":"#REF!"}},{"$f":"IF(C590=base!$W$2,ROW()+1,\"\")","v":{"$error":"#REF!"}},4870,"Los Robles","Fraccionamiento","Coyoacán","Distrito Federal","Ciudad de México",4831,9,4831,null,21,3,707,"Urbano",4]
[{"$f":"IF(C591=base!$AC$2,ROW()+1,\"\")","v":{"$error":"#REF!"}},{"$f":"IF(C591=base!$W$2,ROW()+1,\"\")","v":{"$error":"#REF!"}},4890,"Los Olivos","Unidad habitacional","Coyoacán","Distrito Federal","Ciudad de México",4831,9,4831,null,31,3,710,"Urbano",4]
[{"$f":"IF(C592=base!$AC$2,ROW()+1,\"\")","v":{"$error":"#REF!"}},{"$f":"IF(C592=base!$W$2,ROW()+1,\"\")","v":{"$error":"#REF!"}},4890,"Los Olivos","Colonia","Coyoacán","Distrito Federal","Ciudad de México",4831,9,4831,null,9,3,709,"Urbano",4]
[{"$f":"IF(C593=base!$AC$2,ROW()+1,\"\")","v":{"$error":"#REF!"}},{"$f":"IF(C593=base!$W$2,ROW()+1,\"\")","v":{"$error":"#REF!"}},4890,"Jardines de Coyoacán","Colonia","Coyoacán","Distrito Federal","Ciudad de México",4831,9,4831,null,9,3,708,"Urbano",4]
[{"$f":"IF(C594=base!$AC$2,ROW()+1,\"\")","v":{"$error":"#REF!"}},{"$f":"IF(C594=base!$W$2,ROW()+1,\"\")","v":{"$error":"#REF!"}},4899,"El Parque de Coyoacán","Colonia","Coyoacán","Distrito Federal","Ciudad de México",4831,9,4831,null,9,3,711,"Urbano",4]
[{"$f":"IF(C595=base!$AC$2,ROW()+1,\"\")","v":{"$error":"#REF!"}},{"$f":"IF(C595=base!$W$2,ROW()+1,\"\")","v":{"$error":"#REF!"}},4908,"La Virgen","Unidad habitacional","Coyoacán","Distrito Federal","Ciudad de México",4831,9,4831,null,31,3,2790,"Urbano",4]
[{"$f":"IF(C596=base!$AC$2,ROW()+1,\"\")","v":{"$error":"#REF!"}},{"$f":"IF(C596=base!$W$2,ROW()+1,\"\")","v":{"$error":"#REF!"}},4909,"Culhuacán CTM Sección IX-A","Colonia","Coyoacán","Distrito Federal","Ciudad de México",4831,9,4831,null,9,3,715,"Urbano",4]
[{"$f":"IF(C597=base!$AC$2,ROW()+1,\"\")","v":{"$error":"#REF!"}},{"$f":"IF(C597=base!$W$2,ROW()+1,\"\")","v":{"$error":"#REF!"}},4909,"Culhuacán CTM Sección VIII","Colonia","Coyoacán","Distrito Federal","Ciudad de México",4831,9,4831,null,9,3,714,"Urbano",4]
[{"$f":"IF(C598=base!$AC$2,ROW()+1,\"\")","v":{"$error":"#REF!"}},{"$f":"IF(C598=base!$W$2,ROW()+1,\"\")","v":{"$error":"#REF!"}},4909,"Culhuacán CTM Sección IX-B","Colonia","Coyoacán","Distrito Federal","Ciudad de México",4831,9,4831,null,9,3,2814,"Urbano",4]
[{"$f":"IF(C599=base!$AC$2,ROW()+1,\"\")","v":{"$error":"#REF!"}},{"$f":"IF(C599=base!$W$2,ROW()+1,\"\")","v":{"$error":"#REF!"}},4910,"Carmen Serdán","Colonia","Coyoacán","Distrito Federal","Ciudad de México",4831,9,4831,null,9,3,716,"Urbano",4]
[{"$f":"IF(C600=base!$AC$2,ROW()+1,\"\")","v":{"$error":"#REF!"}},{"$f":"IF(C600=base!$W$2,ROW()+1,\"\")","v":{"$error":"#REF!"}},4918,"Cafetales","Colonia","Coyoacán","Distrito Federal","Ciudad de México",4831,9,4831,null,9,3,717,"Urbano",4]
[{"$f":"IF(C601=base!$AC$2,ROW()+1,\"\")","v":{"$error":"#REF!"}},{"$f":"IF(C601=base!$W$2,ROW()+1,\"\")","v":{"$error":"#REF!"}},4919,"Emiliano Zapata Fraccionamiento Popular","Colonia","Coyoacán","Distrito Federal","Ciudad de México",4831,9,4831,null,9,3,718,"Urbano",4]
[{"$f":"IF(C602=base!$AC$2,ROW()+1,\"\")","v":{"$error":"#REF!"}},{"$f":"IF(C602=base!$W$2,ROW()+1,\"\")","v":{"$error":"#REF!"}},4920,"Los Girasoles","Colonia","Coyoacán","Distrito Federal","Ciudad de México",4831,9,4831,null,9,3,719,"Urbano",4]
[{"$f":"IF(C603=base!$AC$2,ROW()+1,\"\")","v":{"$error":"#REF!"}},{"$f":"IF(C603=base!$W$2,ROW()+1,\"\")","v":{"$error":"#REF!"}},4921,"Almacenes Generales de la S.C.T.","Gran usuario","Coyoacán","Distrito Federal","Ciudad de México",4831,9,4831,null,22,3,722,"Urbano",4]
[{"$f":"IF(C604=base!$AC$2,ROW()+1,\"\")","v":{"$error":"#REF!"}},{"$f":"IF(C604=base!$W$2,ROW()+1,\"\")","v":{"$error":"#REF!"}},4929,"Las Campanas","Colonia","Coyoacán","Distrito Federal","Ciudad de México",4831,9,4831,null,9,3,723,"Urbano",4]
[{"$f":"IF(C605=base!$AC$2,ROW()+1,\"\")","v":{"$error":"#REF!"}},{"$f":"IF(C605=base!$W$2,ROW()+1,\"\")","v":{"$error":"#REF!"}},4930,"Santa Cecilia","Colonia","Coyoacán","Distrito Federal","Ciudad de México",4831,9,4831,null,9,3,724,"Urbano",4]
[{"$f":"IF(C606=base!$AC$2,ROW()+1,\"\")","v":{"$error":"#REF!"}},{"$f":"IF(C606=base!$W$2,ROW()+1,\"\")","v":{"$error":"#REF!"}},4938,"Campestre Coyoacán","Colonia","Coyoacán","Distrito Federal","Ciudad de México",4831,9,4831,null,9,3,725,"Urbano",4]
[{"$f":"IF(C607=base!$AC$2,ROW()+1,\"\")","v":{"$error":"#REF!"}},{"$f":"IF(C607=base!$W$2,ROW()+1,\"\")","v":{"$error":"#REF!"}},4939,"Culhuacán CTM Sección X","Colonia","Coyoacán","Distrito Federal","Ciudad de México",4831,9,4831,null,9,3,726,"Urbano",4]
[{"$f":"IF(C608=base!$AC$2,ROW()+1,\"\")","v":{"$error":"#REF!"}},{"$f":"IF(C608=base!$W$2,ROW()+1,\"\")","v":{"$error":"#REF!"}},4940,"Los Sauces","Colonia","Coyoacán","Distrito Federal","Ciudad de México",4831,9,4831,null,9,3,727,"Urbano",4]
[{"$f":"IF(C609=base!$AC$2,ROW()+1,\"\")","v":{"$error":"#REF!"}},{"$f":"IF(C609=base!$W$2,ROW()+1,\"\")","v":{"$error":"#REF!"}},4950,"El Mirador","Colonia","Coyoacán","Distrito Federal","Ciudad de México",4831,9,4831,null,9,3,728,"Urbano",4]
[{"$f":"IF(C610=base!$AC$2,ROW()+1,\"\")","v":{"$error":"#REF!"}},{"$f":"IF(C610=base!$W$2,ROW()+1,\"\")","v":{"$error":"#REF!"}},4960,"Villa Quietud","Colonia","Coyoacán","Distrito Federal","Ciudad de México",4831,9,4831,null,9,3,729,"Urbano",4]
[{"$f":"IF(C611=base!$AC$2,ROW()+1,\"\")","v":{"$error":"#REF!"}},{"$f":"IF(C611=base!$W$2,ROW()+1,\"\")","v":{"$error":"#REF!"}},4970,"Haciendas de Coyoacán","Colonia","Coyoacán","Distrito Federal","Ciudad de México",4831,9,4831,null,9,3,730,"Urbano",4]
[{"$f":"IF(C612=base!$AC$2,ROW()+1,\"\")","v":{"$error":"#REF!"}},{"$f":"IF(C612=base!$W$2,ROW()+1,\"\")","v":{"$error":"#REF!"}},4980,"Ex-Ejido de Santa Úrsula Coapa","Colonia","Coyoacán","Distrito Federal","Ciudad de México",4831,9,4831,null,9,3,674,"Urbano",4]
[{"$f":"IF(C613=base!$AC$2,ROW()+1,\"\")","v":{"$error":"#REF!"}},{"$f":"IF(C613=base!$W$2,ROW()+1,\"\")","v":{"$error":"#REF!"}},4980,"Viejo Ejido de Santa Úrsula Coapa","Colonia","Coyoacán","Distrito Federal","Ciudad de México",4831,9,4831,null,9,3,2792,"Urbano",4]
[{"$f":"IF(C614=base!$AC$2,ROW()+1,\"\")","v":{"$error":"#REF!"}},{"$f":"IF(C614=base!$W$2,ROW()+1,\"\")","v":{"$error":"#REF!"}},4980,"Ex-Hacienda Coapa","Colonia","Coyoacán","Distrito Federal","Ciudad de México",4831,9,4831,null,9,3,731,"Urbano",4]
[{"$f":"IF(C615=base!$AC$2,ROW()+1,\"\")","v":{"$error":"#REF!"}},{"$f":"IF(C615=base!$W$2,ROW()+1,\"\")","v":{"$error":"#REF!"}},5000,"Cuajimalpa","Colonia","Cuajimalpa de Morelos","Distrito Federal","Ciudad de México",5501,9,5501,null,9,4,732,"Urbano",5]
[{"$f":"IF(C616=base!$AC$2,ROW()+1,\"\")","v":{"$error":"#REF!"}},{"$f":"IF(C616=base!$W$2,ROW()+1,\"\")","v":{"$error":"#REF!"}},5009,"Delegación Política Cuajimalpa de Morelos","Gran usuario","Cuajimalpa de Morelos","Distrito Federal","Ciudad de México",5501,9,5501,null,22,4,734,"Urbano",5]
[{"$f":"IF(C617=base!$AC$2,ROW()+1,\"\")","v":{"$error":"#REF!"}},{"$f":"IF(C617=base!$W$2,ROW()+1,\"\")","v":{"$error":"#REF!"}},5010,"Zentlapatl","Colonia","Cuajimalpa de Morelos","Distrito Federal","Ciudad de México",5501,9,5501,null,9,4,735,"Urbano",5]
[{"$f":"IF(C618=base!$AC$2,ROW()+1,\"\")","v":{"$error":"#REF!"}},{"$f":"IF(C618=base!$W$2,ROW()+1,\"\")","v":{"$error":"#REF!"}},5020,"Loma del Padre","Colonia","Cuajimalpa de Morelos","Distrito Federal","Ciudad de México",5501,9,5501,null,9,4,736,"Urbano",5]
[{"$f":"IF(C619=base!$AC$2,ROW()+1,\"\")","v":{"$error":"#REF!"}},{"$f":"IF(C619=base!$W$2,ROW()+1,\"\")","v":{"$error":"#REF!"}},5030,"San Pedro","Colonia","Cuajimalpa de Morelos","Distrito Federal","Ciudad de México",5501,9,5501,null,9,4,737,"Urbano",5]
[{"$f":"IF(C620=base!$AC$2,ROW()+1,\"\")","v":{"$error":"#REF!"}},{"$f":"IF(C620=base!$W$2,ROW()+1,\"\")","v":{"$error":"#REF!"}},5030,"La Manzanita","Colonia","Cuajimalpa de Morelos","Distrito Federal","Ciudad de México",5501,9,5501,null,9,4,2867,"Urbano",5]
[{"$f":"IF(C621=base!$AC$2,ROW()+1,\"\")","v":{"$error":"#REF!"}},{"$f":"IF(C621=base!$W$2,ROW()+1,\"\")","v":{"$error":"#REF!"}},5039,"Ahuatenco","Campamento","Cuajimalpa de Morelos","Distrito Federal","Ciudad de México",5501,9,5501,null,4,4,738,"Urbano",5]
[{"$f":"IF(C622=base!$AC$2,ROW()+1,\"\")","v":{"$error":"#REF!"}},{"$f":"IF(C622=base!$W$2,ROW()+1,\"\")","v":{"$error":"#REF!"}},5050,"San Pablo Chimalpa","Pueblo","Cuajimalpa de Morelos","Distrito Federal","Ciudad de México",5501,9,5501,null,28,4,740,"Urbano",5]
[{"$f":"IF(C623=base!$AC$2,ROW()+1,\"\")","v":{"$error":"#REF!"}},{"$f":"IF(C623=base!$W$2,ROW()+1,\"\")","v":{"$error":"#REF!"}},5060,"José María Castorena","Unidad habitacional","Cuajimalpa de Morelos","Distrito Federal","Ciudad de México",5501,9,5501,null,31,4,741,"Urbano",5]
[{"$f":"IF(C624=base!$AC$2,ROW()+1,\"\")","v":{"$error":"#REF!"}},{"$f":"IF(C624=base!$W$2,ROW()+1,\"\")","v":{"$error":"#REF!"}},5100,"Lomas de Vista Hermosa","Colonia","Cuajimalpa de Morelos","Distrito Federal","Ciudad de México",5501,9,5501,null,9,4,746,"Urbano",5]
[{"$f":"IF(C625=base!$AC$2,ROW()+1,\"\")","v":{"$error":"#REF!"}},{"$f":"IF(C625=base!$W$2,ROW()+1,\"\")","v":{"$error":"#REF!"}},5110,"Cooperativa Palo Alto","Colonia","Cuajimalpa de Morelos","Distrito Federal","Ciudad de México",5501,9,5501,null,9,4,748,"Urbano",5]
[{"$f":"IF(C626=base!$AC$2,ROW()+1,\"\")","v":{"$error":"#REF!"}},{"$f":"IF(C626=base!$W$2,ROW()+1,\"\")","v":{"$error":"#REF!"}},5118,"Granjas Palo Alto","Colonia","Cuajimalpa de Morelos","Distrito Federal","Ciudad de México",5501,9,5501,null,9,4,751,"Urbano",5]
[{"$f":"IF(C627=base!$AC$2,ROW()+1,\"\")","v":{"$error":"#REF!"}},{"$f":"IF(C627=base!$W$2,ROW()+1,\"\")","v":{"$error":"#REF!"}},5119,"Campestre Palo Alto","Colonia","Cuajimalpa de Morelos","Distrito Federal","Ciudad de México",5501,9,5501,null,9,4,752,"Urbano",5]
[{"$f":"IF(C628=base!$AC$2,ROW()+1,\"\")","v":{"$error":"#REF!"}},{"$f":"IF(C628=base!$W$2,ROW()+1,\"\")","v":{"$error":"#REF!"}},5120,"Bosques de las Lomas","Colonia","Cuajimalpa de Morelos","Distrito Federal","Ciudad de México",5501,9,5501,null,9,4,753,"Urbano",5]
[{"$f":"IF(C629=base!$AC$2,ROW()+1,\"\")","v":{"$error":"#REF!"}},{"$f":"IF(C629=base!$W$2,ROW()+1,\"\")","v":{"$error":"#REF!"}},5126,"Villas Marbella","Conjunto habitacional","Cuajimalpa de Morelos","Distrito Federal","Ciudad de México",5501,9,5501,null,12,4,755,"Urbano",5]
[{"$f":"IF(C630=base!$AC$2,ROW()+1,\"\")","v":{"$error":"#REF!"}},{"$f":"IF(C630=base!$W$2,ROW()+1,\"\")","v":{"$error":"#REF!"}},5128,"Cumbres Reforma","Fraccionamiento","Cuajimalpa de Morelos","Distrito Federal","Ciudad de México",5501,9,5501,null,21,4,757,"Urbano",5]
[{"$f":"IF(C631=base!$AC$2,ROW()+1,\"\")","v":{"$error":"#REF!"}},{"$f":"IF(C631=base!$W$2,ROW()+1,\"\")","v":{"$error":"#REF!"}},5129,"Lomas del Chamizal","Colonia","Cuajimalpa de Morelos","Distrito Federal","Ciudad de México",5501,9,5501,null,9,4,758,"Urbano",5]
[{"$f":"IF(C632=base!$AC$2,ROW()+1,\"\")","v":{"$error":"#REF!"}},{"$f":"IF(C632=base!$W$2,ROW()+1,\"\")","v":{"$error":"#REF!"}},5130,"Rincón de las Lomas","Fraccionamiento","Cuajimalpa de Morelos","Distrito Federal","Ciudad de México",5501,9,5501,null,21,4,763,"Urbano",5]
[{"$f":"IF(C633=base!$AC$2,ROW()+1,\"\")","v":{"$error":"#REF!"}},{"$f":"IF(C633=base!$W$2,ROW()+1,\"\")","v":{"$error":"#REF!"}},5200,"San José de los Cedros","Colonia","Cuajimalpa de Morelos","Distrito Federal","Ciudad de México",5501,9,5501,null,9,4,766,"Urbano",5]
[{"$f":"IF(C634=base!$AC$2,ROW()+1,\"\")","v":{"$error":"#REF!"}},{"$f":"IF(C634=base!$W$2,ROW()+1,\"\")","v":{"$error":"#REF!"}},5214,"Club de Golf Bosques","Residencial","Cuajimalpa de Morelos","Distrito Federal","Ciudad de México",5501,9,5501,null,30,4,2616,"Urbano",5]
[{"$f":"IF(C635=base!$AC$2,ROW()+1,\"\")","v":{"$error":"#REF!"}},{"$f":"IF(C635=base!$W$2,ROW()+1,\"\")","v":{"$error":"#REF!"}},5219,"Granjas Navidad","Colonia","Cuajimalpa de Morelos","Distrito Federal","Ciudad de México",5501,9,5501,null,9,4,768,"Urbano",5]
[{"$f":"IF(C636=base!$AC$2,ROW()+1,\"\")","v":{"$error":"#REF!"}},{"$f":"IF(C636=base!$W$2,ROW()+1,\"\")","v":{"$error":"#REF!"}},5220,"Tepetongo","Colonia","Cuajimalpa de Morelos","Distrito Federal","Ciudad de México",5501,9,5501,null,9,4,769,"Urbano",5]
[{"$f":"IF(C637=base!$AC$2,ROW()+1,\"\")","v":{"$error":"#REF!"}},{"$f":"IF(C637=base!$W$2,ROW()+1,\"\")","v":{"$error":"#REF!"}},5230,"El Ébano","Colonia","Cuajimalpa de Morelos","Distrito Federal","Ciudad de México",5501,9,5501,null,9,4,770,"Urbano",5]
[{"$f":"IF(C638=base!$AC$2,ROW()+1,\"\")","v":{"$error":"#REF!"}},{"$f":"IF(C638=base!$W$2,ROW()+1,\"\")","v":{"$error":"#REF!"}},5238,"Nueva Rosita","Unidad habitacional","Cuajimalpa de Morelos","Distrito Federal","Ciudad de México",5501,9,5501,null,31,4,772,"Urbano",5]
[{"$f":"IF(C639=base!$AC$2,ROW()+1,\"\")","v":{"$error":"#REF!"}},{"$f":"IF(C639=base!$W$2,ROW()+1,\"\")","v":{"$error":"#REF!"}},5240,"El Molino","Colonia","Cuajimalpa de Morelos","Distrito Federal","Ciudad de México",5501,9,5501,null,9,4,774,"Urbano",5]
[{"$f":"IF(C640=base!$AC$2,ROW()+1,\"\")","v":{"$error":"#REF!"}},{"$f":"IF(C640=base!$W$2,ROW()+1,\"\")","v":{"$error":"#REF!"}},5249,"Jardines de la Palma","Fraccionamiento","Cuajimalpa de Morelos","Distrito Federal","Ciudad de México",5501,9,5501,null,21,4,776,"Urbano",5]
[{"$f":"IF(C641=base!$AC$2,ROW()+1,\"\")","v":{"$error":"#REF!"}},{"$f":"IF(C641=base!$W$2,ROW()+1,\"\")","v":{"$error":"#REF!"}},5260,"Jesús del Monte","Colonia","Cuajimalpa de Morelos","Distrito Federal","Ciudad de México",5501,9,5501,null,9,4,777,"Urbano",5]
[{"$f":"IF(C642=base!$AC$2,ROW()+1,\"\")","v":{"$error":"#REF!"}},{"$f":"IF(C642=base!$W$2,ROW()+1,\"\")","v":{"$error":"#REF!"}},5268,"Villas de Cuajimalpa","Unidad habitacional","Cuajimalpa de Morelos","Distrito Federal","Ciudad de México",5501,9,5501,null,31,4,779,"Urbano",5]
[{"$f":"IF(C643=base!$AC$2,ROW()+1,\"\")","v":{"$error":"#REF!"}},{"$f":"IF(C643=base!$W$2,ROW()+1,\"\")","v":{"$error":"#REF!"}},5269,"Amado Nervo","Colonia","Cuajimalpa de Morelos","Distrito Federal","Ciudad de México",5501,9,5501,null,9,4,780,"Urbano",5]
[{"$f":"IF(C644=base!$AC$2,ROW()+1,\"\")","v":{"$error":"#REF!"}},{"$f":"IF(C644=base!$W$2,ROW()+1,\"\")","v":{"$error":"#REF!"}},5270,"Manzanastitla","Colonia","Cuajimalpa de Morelos","Distrito Federal","Ciudad de México",5501,9,5501,null,9,4,782,"Urbano",5]
[{"$f":"IF(C645=base!$AC$2,ROW()+1,\"\")","v":{"$error":"#REF!"}},{"$f":"IF(C645=base!$W$2,ROW()+1,\"\")","v":{"$error":"#REF!"}},5280,"Adolfo López Mateos","Colonia","Cuajimalpa de Morelos","Distrito Federal","Ciudad de México",5501,9,5501,null,9,4,783,"Urbano",5]
[{"$f":"IF(C646=base!$AC$2,ROW()+1,\"\")","v":{"$error":"#REF!"}},{"$f":"IF(C646=base!$W$2,ROW()+1,\"\")","v":{"$error":"#REF!"}},5310,"El Molinito","Colonia","Cuajimalpa de Morelos","Distrito Federal","Ciudad de México",5501,9,5501,null,9,4,785,"Urbano",5]
[{"$f":"IF(C647=base!$AC$2,ROW()+1,\"\")","v":{"$error":"#REF!"}},{"$f":"IF(C647=base!$W$2,ROW()+1,\"\")","v":{"$error":"#REF!"}},5320,"El Yaqui","Colonia","Cuajimalpa de Morelos","Distrito Federal","Ciudad de México",5501,9,5501,null,9,4,786,"Urbano",5]
[{"$f":"IF(C648=base!$AC$2,ROW()+1,\"\")","v":{"$error":"#REF!"}},{"$f":"IF(C648=base!$W$2,ROW()+1,\"\")","v":{"$error":"#REF!"}},5330,"Memetla","Colonia","Cuajimalpa de Morelos","Distrito Federal","Ciudad de México",5501,9,5501,null,9,4,788,"Urbano",5]
[{"$f":"IF(C649=base!$AC$2,ROW()+1,\"\")","v":{"$error":"#REF!"}},{"$f":"IF(C649=base!$W$2,ROW()+1,\"\")","v":{"$error":"#REF!"}},5330,"Ampliación Memetla","Colonia","Cuajimalpa de Morelos","Distrito Federal","Ciudad de México",5501,9,5501,null,9,4,789,"Urbano",5]
[{"$f":"IF(C650=base!$AC$2,ROW()+1,\"\")","v":{"$error":"#REF!"}},{"$f":"IF(C650=base!$W$2,ROW()+1,\"\")","v":{"$error":"#REF!"}},5330,"Lomas de Memetla","Colonia","Cuajimalpa de Morelos","Distrito Federal","Ciudad de México",5501,9,5501,null,9,4,787,"Urbano",5]
[{"$f":"IF(C651=base!$AC$2,ROW()+1,\"\")","v":{"$error":"#REF!"}},{"$f":"IF(C651=base!$W$2,ROW()+1,\"\")","v":{"$error":"#REF!"}},5330,"Ampliación el Yaqui","Colonia","Cuajimalpa de Morelos","Distrito Federal","Ciudad de México",5501,9,5501,null,9,4,2869,"Urbano",5]
[{"$f":"IF(C652=base!$AC$2,ROW()+1,\"\")","v":{"$error":"#REF!"}},{"$f":"IF(C652=base!$W$2,ROW()+1,\"\")","v":{"$error":"#REF!"}},5348,"Santa Fe Cuajimalpa","Colonia","Cuajimalpa de Morelos","Distrito Federal","Ciudad de México",5501,9,5501,null,9,4,792,"Urbano",5]
[{"$f":"IF(C653=base!$AC$2,ROW()+1,\"\")","v":{"$error":"#REF!"}},{"$f":"IF(C653=base!$W$2,ROW()+1,\"\")","v":{"$error":"#REF!"}},5349,"Cruz Manca","Unidad habitacional","Cuajimalpa de Morelos","Distrito Federal","Ciudad de México",5501,9,5501,null,31,4,793,"Urbano",5]
[{"$f":"IF(C654=base!$AC$2,ROW()+1,\"\")","v":{"$error":"#REF!"}},{"$f":"IF(C654=base!$W$2,ROW()+1,\"\")","v":{"$error":"#REF!"}},5360,"Locaxco","Colonia","Cuajimalpa de Morelos","Distrito Federal","Ciudad de México",5501,9,5501,null,9,4,794,"Urbano",5]
[{"$f":"IF(C655=base!$AC$2,ROW()+1,\"\")","v":{"$error":"#REF!"}},{"$f":"IF(C655=base!$W$2,ROW()+1,\"\")","v":{"$error":"#REF!"}},5370,"Las Tinajas","Colonia","Cuajimalpa de Morelos","Distrito Federal","Ciudad de México",5501,9,5501,null,9,4,797,"Urbano",5]
[{"$f":"IF(C656=base!$AC$2,ROW()+1,\"\")","v":{"$error":"#REF!"}},{"$f":"IF(C656=base!$W$2,ROW()+1,\"\")","v":{"$error":"#REF!"}},5379,"Lomas de San Pedro","Colonia","Cuajimalpa de Morelos","Distrito Federal","Ciudad de México",5501,9,5501,null,9,4,799,"Urbano",5]
[{"$f":"IF(C657=base!$AC$2,ROW()+1,\"\")","v":{"$error":"#REF!"}},{"$f":"IF(C657=base!$W$2,ROW()+1,\"\")","v":{"$error":"#REF!"}},5400,"El Tianguillo","Colonia","Cuajimalpa de Morelos","Distrito Federal","Ciudad de México",5501,9,5501,null,9,4,800,"Urbano",5]
[{"$f":"IF(C658=base!$AC$2,ROW()+1,\"\")","v":{"$error":"#REF!"}},{"$f":"IF(C658=base!$W$2,ROW()+1,\"\")","v":{"$error":"#REF!"}},5410,"San Lorenzo Acopilco","Pueblo","Cuajimalpa de Morelos","Distrito Federal","Ciudad de México",5501,9,5501,null,28,4,801,"Urbano",5]
[{"$f":"IF(C659=base!$AC$2,ROW()+1,\"\")","v":{"$error":"#REF!"}},{"$f":"IF(C659=base!$W$2,ROW()+1,\"\")","v":{"$error":"#REF!"}},5410,"1° de Mayo","Colonia","Cuajimalpa de Morelos","Distrito Federal","Ciudad de México",5501,9,5501,null,9,4,2866,"Urbano",5]
[{"$f":"IF(C660=base!$AC$2,ROW()+1,\"\")","v":{"$error":"#REF!"}},{"$f":"IF(C660=base!$W$2,ROW()+1,\"\")","v":{"$error":"#REF!"}},5500,"Contadero","Colonia","Cuajimalpa de Morelos","Distrito Federal","Ciudad de México",5501,9,5501,null,9,4,803,"Urbano",5]
[{"$f":"IF(C661=base!$AC$2,ROW()+1,\"\")","v":{"$error":"#REF!"}},{"$f":"IF(C661=base!$W$2,ROW()+1,\"\")","v":{"$error":"#REF!"}},5520,"La Venta","Colonia","Cuajimalpa de Morelos","Distrito Federal","Ciudad de México",5501,9,5501,null,9,4,808,"Urbano",5]
[{"$f":"IF(C662=base!$AC$2,ROW()+1,\"\")","v":{"$error":"#REF!"}},{"$f":"IF(C662=base!$W$2,ROW()+1,\"\")","v":{"$error":"#REF!"}},5530,"Abdías García Soto","Colonia","Cuajimalpa de Morelos","Distrito Federal","Ciudad de México",5501,9,5501,null,9,4,809,"Urbano",5]
[{"$f":"IF(C663=base!$AC$2,ROW()+1,\"\")","v":{"$error":"#REF!"}},{"$f":"IF(C663=base!$W$2,ROW()+1,\"\")","v":{"$error":"#REF!"}},5600,"San Mateo Tlaltenango","Pueblo","Cuajimalpa de Morelos","Distrito Federal","Ciudad de México",5501,9,5501,null,28,4,810,"Urbano",5]
[{"$f":"IF(C664=base!$AC$2,ROW()+1,\"\")","v":{"$error":"#REF!"}},{"$f":"IF(C664=base!$W$2,ROW()+1,\"\")","v":{"$error":"#REF!"}},5610,"Santa Rosa Xochiac","Pueblo","Cuajimalpa de Morelos","Distrito Federal","Ciudad de México",5501,9,5501,null,28,4,2868,"Urbano",5]
[{"$f":"IF(C665=base!$AC$2,ROW()+1,\"\")","v":{"$error":"#REF!"}},{"$f":"IF(C665=base!$W$2,ROW()+1,\"\")","v":{"$error":"#REF!"}},5619,"Prados de la Montaña","Fraccionamiento","Cuajimalpa de Morelos","Distrito Federal","Ciudad de México",5501,9,5501,null,21,4,813,"Urbano",5]
[{"$f":"IF(C666=base!$AC$2,ROW()+1,\"\")","v":{"$error":"#REF!"}},{"$f":"IF(C666=base!$W$2,ROW()+1,\"\")","v":{"$error":"#REF!"}},5620,"Prados de la Montaña","Club de golf","Cuajimalpa de Morelos","Distrito Federal","Ciudad de México",5501,9,5501,null,39,4,214,"Urbano",5]
[{"$f":"IF(C667=base!$AC$2,ROW()+1,\"\")","v":{"$error":"#REF!"}},{"$f":"IF(C667=base!$W$2,ROW()+1,\"\")","v":{"$error":"#REF!"}},5700,"Cruz Blanca","Colonia","Cuajimalpa de Morelos","Distrito Federal","Ciudad de México",5501,9,5501,null,9,4,819,"Urbano",5]
[{"$f":"IF(C668=base!$AC$2,ROW()+1,\"\")","v":{"$error":"#REF!"}},{"$f":"IF(C668=base!$W$2,ROW()+1,\"\")","v":{"$error":"#REF!"}},5710,"Las Maromas","Colonia","Cuajimalpa de Morelos","Distrito Federal","Ciudad de México",5501,9,5501,null,9,4,820,"Urbano",5]
[{"$f":"IF(C669=base!$AC$2,ROW()+1,\"\")","v":{"$error":"#REF!"}},{"$f":"IF(C669=base!$W$2,ROW()+1,\"\")","v":{"$error":"#REF!"}},5730,"Xalpa","Colonia","Cuajimalpa de Morelos","Distrito Federal","Ciudad de México",5501,9,5501,null,9,4,825,"Urbano",5]
[{"$f":"IF(C670=base!$AC$2,ROW()+1,\"\")","v":{"$error":"#REF!"}},{"$f":"IF(C670=base!$W$2,ROW()+1,\"\")","v":{"$error":"#REF!"}},5750,"La Pila","Colonia","Cuajimalpa de Morelos","Distrito Federal","Ciudad de México",5501,9,5501,null,9,4,827,"Urbano",5]
[{"$f":"IF(C671=base!$AC$2,ROW()+1,\"\")","v":{"$error":"#REF!"}},{"$f":"IF(C671=base!$W$2,ROW()+1,\"\")","v":{"$error":"#REF!"}},5760,"Las Lajas","Colonia","Cuajimalpa de Morelos","Distrito Federal","Ciudad de México",5501,9,5501,null,9,4,829,"Urbano",5]
[{"$f":"IF(C672=base!$AC$2,ROW()+1,\"\")","v":{"$error":"#REF!"}},{"$f":"IF(C672=base!$W$2,ROW()+1,\"\")","v":{"$error":"#REF!"}},5780,"Agua Bendita","Colonia","Cuajimalpa de Morelos","Distrito Federal","Ciudad de México",5501,9,5501,null,9,4,833,"Urbano",5]
[{"$f":"IF(C673=base!$AC$2,ROW()+1,\"\")","v":{"$error":"#REF!"}},{"$f":"IF(C673=base!$W$2,ROW()+1,\"\")","v":{"$error":"#REF!"}},6000,"Centro (Área 1)","Colonia","Cuauhtémoc","Distrito Federal","Ciudad de México",6002,9,6002,null,9,15,838,"Urbano",6]
[{"$f":"IF(C674=base!$AC$2,ROW()+1,\"\")","v":{"$error":"#REF!"}},{"$f":"IF(C674=base!$W$2,ROW()+1,\"\")","v":{"$error":"#REF!"}},6010,"Centro (Área 2)","Colonia","Cuauhtémoc","Distrito Federal","Ciudad de México",6002,9,6002,null,9,15,847,"Urbano",6]
[{"$f":"IF(C675=base!$AC$2,ROW()+1,\"\")","v":{"$error":"#REF!"}},{"$f":"IF(C675=base!$W$2,ROW()+1,\"\")","v":{"$error":"#REF!"}},6018,"H Cámara de Senadores","Gran usuario","Cuauhtémoc","Distrito Federal","Ciudad de México",6002,9,6002,null,22,15,849,"Urbano",6]
[{"$f":"IF(C676=base!$AC$2,ROW()+1,\"\")","v":{"$error":"#REF!"}},{"$f":"IF(C676=base!$W$2,ROW()+1,\"\")","v":{"$error":"#REF!"}},6020,"Centro (Área 3)","Colonia","Cuauhtémoc","Distrito Federal","Ciudad de México",6002,9,6002,null,9,15,850,"Urbano",6]
[{"$f":"IF(C677=base!$AC$2,ROW()+1,\"\")","v":{"$error":"#REF!"}},{"$f":"IF(C677=base!$W$2,ROW()+1,\"\")","v":{"$error":"#REF!"}},6030,"Tabacalera","Colonia","Cuauhtémoc","Distrito Federal","Ciudad de México",6002,9,6002,null,9,15,853,"Urbano",6]
[{"$f":"IF(C678=base!$AC$2,ROW()+1,\"\")","v":{"$error":"#REF!"}},{"$f":"IF(C678=base!$W$2,ROW()+1,\"\")","v":{"$error":"#REF!"}},6038,"Banorte","Gran usuario","Cuauhtémoc","Distrito Federal","Ciudad de México",6002,9,6002,null,22,15,2748,"Urbano",6]
[{"$f":"IF(C679=base!$AC$2,ROW()+1,\"\")","v":{"$error":"#REF!"}},{"$f":"IF(C679=base!$W$2,ROW()+1,\"\")","v":{"$error":"#REF!"}},6039,"ISSSTE","Gran usuario","Cuauhtémoc","Distrito Federal","Ciudad de México",6002,9,6002,null,22,15,859,"Urbano",6]
[{"$f":"IF(C680=base!$AC$2,ROW()+1,\"\")","v":{"$error":"#REF!"}},{"$f":"IF(C680=base!$W$2,ROW()+1,\"\")","v":{"$error":"#REF!"}},6040,"Centro (Área 4)","Colonia","Cuauhtémoc","Distrito Federal","Ciudad de México",6002,9,6002,null,9,15,860,"Urbano",6]
[{"$f":"IF(C681=base!$AC$2,ROW()+1,\"\")","v":{"$error":"#REF!"}},{"$f":"IF(C681=base!$W$2,ROW()+1,\"\")","v":{"$error":"#REF!"}},6050,"Centro (Área 5)","Colonia","Cuauhtémoc","Distrito Federal","Ciudad de México",6002,9,6002,null,9,15,863,"Urbano",6]
[{"$f":"IF(C682=base!$AC$2,ROW()+1,\"\")","v":{"$error":"#REF!"}},{"$f":"IF(C682=base!$W$2,ROW()+1,\"\")","v":{"$error":"#REF!"}},6057,"Instituto Maurer","Gran usuario","Cuauhtémoc","Distrito Federal","Ciudad de México",6002,9,6002,null,22,15,864,"Urbano",6]
[{"$f":"IF(C683=base!$AC$2,ROW()+1,\"\")","v":{"$error":"#REF!"}},{"$f":"IF(C683=base!$W$2,ROW()+1,\"\")","v":{"$error":"#REF!"}},6058,"Procuraduría General de La República","Gran usuario","Cuauhtémoc","Distrito Federal","Ciudad de México",6002,9,6002,null,22,15,865,"Urbano",6]
[{"$f":"IF(C684=base!$AC$2,ROW()+1,\"\")","v":{"$error":"#REF!"}},{"$f":"IF(C684=base!$W$2,ROW()+1,\"\")","v":{"$error":"#REF!"}},6060,"Centro (Área 6)","Colonia","Cuauhtémoc","Distrito Federal","Ciudad de México",6002,9,6002,null,9,15,867,"Urbano",6]
[{"$f":"IF(C685=base!$AC$2,ROW()+1,\"\")","v":{"$error":"#REF!"}},{"$f":"IF(C685=base!$W$2,ROW()+1,\"\")","v":{"$error":"#REF!"}},6065,"Suprema Corte de Justicia","Gran usuario","Cuauhtémoc","Distrito Federal","Ciudad de México",6002,9,6002,null,22,15,869,"Urbano",6]
[{"$f":"IF(C686=base!$AC$2,ROW()+1,\"\")","v":{"$error":"#REF!"}},{"$f":"IF(C686=base!$W$2,ROW()+1,\"\")","v":{"$error":"#REF!"}},6066,"Secretaria de Hacienda y Crédito Publico","Gran usuario","Cuauhtémoc","Distrito Federal","Ciudad de México",6002,9,6002,null,22,15,870,"Urbano",6]
[{"$f":"IF(C687=base!$AC$2,ROW()+1,\"\")","v":{"$error":"#REF!"}},{"$f":"IF(C687=base!$W$2,ROW()+1,\"\")","v":{"$error":"#REF!"}},6067,"Presidencia de La República","Gran usuario","Cuauhtémoc","Distrito Federal","Ciudad de México",6002,9,6002,null,22,15,871,"Urbano",6]
[{"$f":"IF(C688=base!$AC$2,ROW()+1,\"\")","v":{"$error":"#REF!"}},{"$f":"IF(C688=base!$W$2,ROW()+1,\"\")","v":{"$error":"#REF!"}},6068,"Departamento del Distrito Federal","Gran usuario","Cuauhtémoc","Distrito Federal","Ciudad de México",6002,9,6002,null,22,15,872,"Urbano",6]
[{"$f":"IF(C689=base!$AC$2,ROW()+1,\"\")","v":{"$error":"#REF!"}},{"$f":"IF(C689=base!$W$2,ROW()+1,\"\")","v":{"$error":"#REF!"}},6070,"Centro (Área 7)","Colonia","Cuauhtémoc","Distrito Federal","Ciudad de México",6002,9,6002,null,9,15,873,"Urbano",6]
[{"$f":"IF(C690=base!$AC$2,ROW()+1,\"\")","v":{"$error":"#REF!"}},{"$f":"IF(C690=base!$W$2,ROW()+1,\"\")","v":{"$error":"#REF!"}},6079,"Confederación de Cámaras Nacionales de Comercio","Gran usuario","Cuauhtémoc","Distrito Federal","Ciudad de México",6002,9,6002,null,22,15,874,"Urbano",6]
[{"$f":"IF(C691=base!$AC$2,ROW()+1,\"\")","v":{"$error":"#REF!"}},{"$f":"IF(C691=base!$W$2,ROW()+1,\"\")","v":{"$error":"#REF!"}},6080,"Centro (Área 8)","Colonia","Cuauhtémoc","Distrito Federal","Ciudad de México",6002,9,6002,null,9,15,875,"Urbano",6]
[{"$f":"IF(C692=base!$AC$2,ROW()+1,\"\")","v":{"$error":"#REF!"}},{"$f":"IF(C692=base!$W$2,ROW()+1,\"\")","v":{"$error":"#REF!"}},6090,"Centro (Área 9)","Colonia","Cuauhtémoc","Distrito Federal","Ciudad de México",6002,9,6002,null,9,15,879,"Urbano",6]
[{"$f":"IF(C693=base!$AC$2,ROW()+1,\"\")","v":{"$error":"#REF!"}},{"$f":"IF(C693=base!$W$2,ROW()+1,\"\")","v":{"$error":"#REF!"}},6100,"Hipódromo","Colonia","Cuauhtémoc","Distrito Federal","Ciudad de México",6721,9,6721,null,9,15,882,"Urbano",6]
[{"$f":"IF(C694=base!$AC$2,ROW()+1,\"\")","v":{"$error":"#REF!"}},{"$f":"IF(C694=base!$W$2,ROW()+1,\"\")","v":{"$error":"#REF!"}},6140,"Condesa","Colonia","Cuauhtémoc","Distrito Federal","Ciudad de México",6721,9,6721,null,9,15,884,"Urbano",6]
[{"$f":"IF(C695=base!$AC$2,ROW()+1,\"\")","v":{"$error":"#REF!"}},{"$f":"IF(C695=base!$W$2,ROW()+1,\"\")","v":{"$error":"#REF!"}},6170,"Hipódromo Condesa","Colonia","Cuauhtémoc","Distrito Federal","Ciudad de México",6721,9,6721,null,9,15,886,"Urbano",6]
[{"$f":"IF(C696=base!$AC$2,ROW()+1,\"\")","v":{"$error":"#REF!"}},{"$f":"IF(C696=base!$W$2,ROW()+1,\"\")","v":{"$error":"#REF!"}},6171,"Instituto Mexicano de Comercio Exterior","Gran usuario","Cuauhtémoc","Distrito Federal","Ciudad de México",6721,9,6721,null,22,15,887,"Urbano",6]
[{"$f":"IF(C697=base!$AC$2,ROW()+1,\"\")","v":{"$error":"#REF!"}},{"$f":"IF(C697=base!$W$2,ROW()+1,\"\")","v":{"$error":"#REF!"}},6179,"Secretaria de Economía","Gran usuario","Cuauhtémoc","Distrito Federal","Ciudad de México",6721,9,6721,null,22,15,889,"Urbano",6]
[{"$f":"IF(C698=base!$AC$2,ROW()+1,\"\")","v":{"$error":"#REF!"}},{"$f":"IF(C698=base!$W$2,ROW()+1,\"\")","v":{"$error":"#REF!"}},6199,"Partido Socialista de los Trabajadores","Gran usuario","Cuauhtémoc","Distrito Federal","Ciudad de México",6721,9,6721,null,22,15,890,"Urbano",6]
[{"$f":"IF(C699=base!$AC$2,ROW()+1,\"\")","v":{"$error":"#REF!"}},{"$f":"IF(C699=base!$W$2,ROW()+1,\"\")","v":{"$error":"#REF!"}},6200,"Plan Tepito","Conjunto habitacional","Cuauhtémoc","Distrito Federal","Ciudad de México",6401,9,6401,null,12,15,892,"Urbano",6]
[{"$f":"IF(C700=base!$AC$2,ROW()+1,\"\")","v":{"$error":"#REF!"}},{"$f":"IF(C700=base!$W$2,ROW()+1,\"\")","v":{"$error":"#REF!"}},6200,"Morelos","Colonia","Cuauhtémoc","Distrito Federal","Ciudad de México",6401,9,6401,null,9,15,891,"Urbano",6]
[{"$f":"IF(C701=base!$AC$2,ROW()+1,\"\")","v":{"$error":"#REF!"}},{"$f":"IF(C701=base!$W$2,ROW()+1,\"\")","v":{"$error":"#REF!"}},6220,"Peralvillo","Colonia","Cuauhtémoc","Distrito Federal","Ciudad de México",6401,9,6401,null,9,15,894,"Urbano",6]
[{"$f":"IF(C702=base!$AC$2,ROW()+1,\"\")","v":{"$error":"#REF!"}},{"$f":"IF(C702=base!$W$2,ROW()+1,\"\")","v":{"$error":"#REF!"}},6240,"Valle Gómez","Colonia","Cuauhtémoc","Distrito Federal","Ciudad de México",6401,9,6401,null,9,15,895,"Urbano",6]
[{"$f":"IF(C703=base!$AC$2,ROW()+1,\"\")","v":{"$error":"#REF!"}},{"$f":"IF(C703=base!$W$2,ROW()+1,\"\")","v":{"$error":"#REF!"}},6250,"Ex-Hipódromo de Peralvillo","Colonia","Cuauhtémoc","Distrito Federal","Ciudad de México",6401,9,6401,null,9,15,896,"Urbano",6]
[{"$f":"IF(C704=base!$AC$2,ROW()+1,\"\")","v":{"$error":"#REF!"}},{"$f":"IF(C704=base!$W$2,ROW()+1,\"\")","v":{"$error":"#REF!"}},6270,"Maza","Colonia","Cuauhtémoc","Distrito Federal","Ciudad de México",6401,9,6401,null,9,15,898,"Urbano",6]
[{"$f":"IF(C705=base!$AC$2,ROW()+1,\"\")","v":{"$error":"#REF!"}},{"$f":"IF(C705=base!$W$2,ROW()+1,\"\")","v":{"$error":"#REF!"}},6280,"Felipe Pescador","Colonia","Cuauhtémoc","Distrito Federal","Ciudad de México",6401,9,6401,null,9,15,899,"Urbano",6]
[{"$f":"IF(C706=base!$AC$2,ROW()+1,\"\")","v":{"$error":"#REF!"}},{"$f":"IF(C706=base!$W$2,ROW()+1,\"\")","v":{"$error":"#REF!"}},6300,"Guerrero","Colonia","Cuauhtémoc","Distrito Federal","Ciudad de México",6401,9,6401,null,9,15,900,"Urbano",6]
[{"$f":"IF(C707=base!$AC$2,ROW()+1,\"\")","v":{"$error":"#REF!"}},{"$f":"IF(C707=base!$W$2,ROW()+1,\"\")","v":{"$error":"#REF!"}},6309,"Dirección General de Recaudación de la SHCP","Gran usuario","Cuauhtémoc","Distrito Federal","Ciudad de México",6401,9,6401,null,22,15,905,"Urbano",6]
[{"$f":"IF(C708=base!$AC$2,ROW()+1,\"\")","v":{"$error":"#REF!"}},{"$f":"IF(C708=base!$W$2,ROW()+1,\"\")","v":{"$error":"#REF!"}},6350,"Buenavista","Colonia","Cuauhtémoc","Distrito Federal","Ciudad de México",6401,9,6401,null,9,15,906,"Urbano",6]
[{"$f":"IF(C709=base!$AC$2,ROW()+1,\"\")","v":{"$error":"#REF!"}},{"$f":"IF(C709=base!$W$2,ROW()+1,\"\")","v":{"$error":"#REF!"}},6357,"Delegación Política Cuauhtémoc","Gran usuario","Cuauhtémoc","Distrito Federal","Ciudad de México",6401,9,6401,null,22,15,907,"Urbano",6]
[{"$f":"IF(C710=base!$AC$2,ROW()+1,\"\")","v":{"$error":"#REF!"}},{"$f":"IF(C710=base!$W$2,ROW()+1,\"\")","v":{"$error":"#REF!"}},6400,"Santa María la Ribera","Colonia","Cuauhtémoc","Distrito Federal","Ciudad de México",6401,9,6401,null,9,15,911,"Urbano",6]
[{"$f":"IF(C711=base!$AC$2,ROW()+1,\"\")","v":{"$error":"#REF!"}},{"$f":"IF(C711=base!$W$2,ROW()+1,\"\")","v":{"$error":"#REF!"}},6430,"Santa María Insurgentes","Colonia","Cuauhtémoc","Distrito Federal","Ciudad de México",6401,9,6401,null,9,15,913,"Urbano",6]
[{"$f":"IF(C712=base!$AC$2,ROW()+1,\"\")","v":{"$error":"#REF!"}},{"$f":"IF(C712=base!$W$2,ROW()+1,\"\")","v":{"$error":"#REF!"}},6450,"Atlampa","Colonia","Cuauhtémoc","Distrito Federal","Ciudad de México",6401,9,6401,null,9,15,914,"Urbano",6]
[{"$f":"IF(C713=base!$AC$2,ROW()+1,\"\")","v":{"$error":"#REF!"}},{"$f":"IF(C713=base!$W$2,ROW()+1,\"\")","v":{"$error":"#REF!"}},6470,"San Rafael","Colonia","Cuauhtémoc","Distrito Federal","Ciudad de México",6401,9,6401,null,9,15,915,"Urbano",6]
[{"$f":"IF(C714=base!$AC$2,ROW()+1,\"\")","v":{"$error":"#REF!"}},{"$f":"IF(C714=base!$W$2,ROW()+1,\"\")","v":{"$error":"#REF!"}},6479,"Hemphill Schools","Gran usuario","Cuauhtémoc","Distrito Federal","Ciudad de México",6401,9,6401,null,22,15,918,"Urbano",6]
[{"$f":"IF(C715=base!$AC$2,ROW()+1,\"\")","v":{"$error":"#REF!"}},{"$f":"IF(C715=base!$W$2,ROW()+1,\"\")","v":{"$error":"#REF!"}},6500,"Cuauhtémoc","Colonia","Cuauhtémoc","Distrito Federal","Ciudad de México",6401,9,6401,null,9,15,919,"Urbano",6]
[{"$f":"IF(C716=base!$AC$2,ROW()+1,\"\")","v":{"$error":"#REF!"}},{"$f":"IF(C716=base!$W$2,ROW()+1,\"\")","v":{"$error":"#REF!"}},6589,"Cámara Nacional de Aerotransportes","Gran usuario","Cuauhtémoc","Distrito Federal","Ciudad de México",6401,9,6401,null,22,15,925,"Urbano",6]
[{"$f":"IF(C717=base!$AC$2,ROW()+1,\"\")","v":{"$error":"#REF!"}},{"$f":"IF(C717=base!$W$2,ROW()+1,\"\")","v":{"$error":"#REF!"}},6597,"Confederación de Cámaras Industriales de los EUM","Gran usuario","Cuauhtémoc","Distrito Federal","Ciudad de México",6401,9,6401,null,22,15,927,"Urbano",6]
[{"$f":"IF(C718=base!$AC$2,ROW()+1,\"\")","v":{"$error":"#REF!"}},{"$f":"IF(C718=base!$W$2,ROW()+1,\"\")","v":{"$error":"#REF!"}},6598,"Comisión Federal de Electricidad","Gran usuario","Cuauhtémoc","Distrito Federal","Ciudad de México",6401,9,6401,null,22,15,928,"Urbano",6]
[{"$f":"IF(C719=base!$AC$2,ROW()+1,\"\")","v":{"$error":"#REF!"}},{"$f":"IF(C719=base!$W$2,ROW()+1,\"\")","v":{"$error":"#REF!"}},6599,"Teléfonos de México S.A. de CV","Gran usuario","Cuauhtémoc","Distrito Federal","Ciudad de México",6401,9,6401,null,22,15,929,"Urbano",6]
[{"$f":"IF(C720=base!$AC$2,ROW()+1,\"\")","v":{"$error":"#REF!"}},{"$f":"IF(C720=base!$W$2,ROW()+1,\"\")","v":{"$error":"#REF!"}},6600,"Juárez","Colonia","Cuauhtémoc","Distrito Federal","Ciudad de México",6721,9,6721,null,9,15,930,"Urbano",6]
[{"$f":"IF(C721=base!$AC$2,ROW()+1,\"\")","v":{"$error":"#REF!"}},{"$f":"IF(C721=base!$W$2,ROW()+1,\"\")","v":{"$error":"#REF!"}},6606,"Banco Internacional S.A. de CV","Gran usuario","Cuauhtémoc","Distrito Federal","Ciudad de México",6721,9,6721,null,22,15,935,"Urbano",6]
[{"$f":"IF(C722=base!$AC$2,ROW()+1,\"\")","v":{"$error":"#REF!"}},{"$f":"IF(C722=base!$W$2,ROW()+1,\"\")","v":{"$error":"#REF!"}},6609,"Cámara Nacional de Comercio de la Ciudad de México","Gran usuario","Cuauhtémoc","Distrito Federal","Ciudad de México",6721,9,6721,null,22,15,861,"Urbano",6]
[{"$f":"IF(C723=base!$AC$2,ROW()+1,\"\")","v":{"$error":"#REF!"}},{"$f":"IF(C723=base!$W$2,ROW()+1,\"\")","v":{"$error":"#REF!"}},6691,"Cámara Nacional de La Industria de La Televisión Por Cable","Gran usuario","Cuauhtémoc","Distrito Federal","Ciudad de México",6721,9,6721,null,22,15,936,"Urbano",6]
[{"$f":"IF(C724=base!$AC$2,ROW()+1,\"\")","v":{"$error":"#REF!"}},{"$f":"IF(C724=base!$W$2,ROW()+1,\"\")","v":{"$error":"#REF!"}},6692,"National Schools","Gran usuario","Cuauhtémoc","Distrito Federal","Ciudad de México",6721,9,6721,null,22,15,937,"Urbano",6]
[{"$f":"IF(C725=base!$AC$2,ROW()+1,\"\")","v":{"$error":"#REF!"}},{"$f":"IF(C725=base!$W$2,ROW()+1,\"\")","v":{"$error":"#REF!"}},6693,"Cámara Nacional de Transportes y Comunicación","Gran usuario","Cuauhtémoc","Distrito Federal","Ciudad de México",6721,9,6721,null,22,15,938,"Urbano",6]
[{"$f":"IF(C726=base!$AC$2,ROW()+1,\"\")","v":{"$error":"#REF!"}},{"$f":"IF(C726=base!$W$2,ROW()+1,\"\")","v":{"$error":"#REF!"}},6694,"Inverlat","Gran usuario","Cuauhtémoc","Distrito Federal","Ciudad de México",6721,9,6721,null,22,15,939,"Urbano",6]
[{"$f":"IF(C727=base!$AC$2,ROW()+1,\"\")","v":{"$error":"#REF!"}},{"$f":"IF(C727=base!$W$2,ROW()+1,\"\")","v":{"$error":"#REF!"}},6695,"Citibank S.A.","Gran usuario","Cuauhtémoc","Distrito Federal","Ciudad de México",6721,9,6721,null,22,15,940,"Urbano",6]
[{"$f":"IF(C728=base!$AC$2,ROW()+1,\"\")","v":{"$error":"#REF!"}},{"$f":"IF(C728=base!$W$2,ROW()+1,\"\")","v":{"$error":"#REF!"}},6696,"Secretaria de Salud","Gran usuario","Cuauhtémoc","Distrito Federal","Ciudad de México",6721,9,6721,null,22,15,941,"Urbano",6]
[{"$f":"IF(C729=base!$AC$2,ROW()+1,\"\")","v":{"$error":"#REF!"}},{"$f":"IF(C729=base!$W$2,ROW()+1,\"\")","v":{"$error":"#REF!"}},6698,"IMSS","Gran usuario","Cuauhtémoc","Distrito Federal","Ciudad de México",6721,9,6721,null,22,15,944,"Urbano",6]
[{"$f":"IF(C730=base!$AC$2,ROW()+1,\"\")","v":{"$error":"#REF!"}},{"$f":"IF(C730=base!$W$2,ROW()+1,\"\")","v":{"$error":"#REF!"}},6699,"Secretaria de Gobernación","Gran usuario","Cuauhtémoc","Distrito Federal","Ciudad de México",6721,9,6721,null,22,15,946,"Urbano",6]
[{"$f":"IF(C731=base!$AC$2,ROW()+1,\"\")","v":{"$error":"#REF!"}},{"$f":"IF(C731=base!$W$2,ROW()+1,\"\")","v":{"$error":"#REF!"}},6700,"Roma Norte","Colonia","Cuauhtémoc","Distrito Federal","Ciudad de México",6721,9,6721,null,9,15,947,"Urbano",6]
[{"$f":"IF(C732=base!$AC$2,ROW()+1,\"\")","v":{"$error":"#REF!"}},{"$f":"IF(C732=base!$W$2,ROW()+1,\"\")","v":{"$error":"#REF!"}},6704,"Carnet Promoción y Operación S.A. de CV","Gran usuario","Cuauhtémoc","Distrito Federal","Ciudad de México",6721,9,6721,null,22,15,951,"Urbano",6]
[{"$f":"IF(C733=base!$AC$2,ROW()+1,\"\")","v":{"$error":"#REF!"}},{"$f":"IF(C733=base!$W$2,ROW()+1,\"\")","v":{"$error":"#REF!"}},6707,"Secretaria de Transportes y Vialidad","Gran usuario","Cuauhtémoc","Distrito Federal","Ciudad de México",6721,9,6721,null,22,15,2670,"Urbano",6]
[{"$f":"IF(C734=base!$AC$2,ROW()+1,\"\")","v":{"$error":"#REF!"}},{"$f":"IF(C734=base!$W$2,ROW()+1,\"\")","v":{"$error":"#REF!"}},6720,"Doctores","Colonia","Cuauhtémoc","Distrito Federal","Ciudad de México",6721,9,6721,null,9,15,955,"Urbano",6]
[{"$f":"IF(C735=base!$AC$2,ROW()+1,\"\")","v":{"$error":"#REF!"}},{"$f":"IF(C735=base!$W$2,ROW()+1,\"\")","v":{"$error":"#REF!"}},6724,"Televisa S.A.","Gran usuario","Cuauhtémoc","Distrito Federal","Ciudad de México",6721,9,6721,null,22,15,958,"Urbano",6]
[{"$f":"IF(C736=base!$AC$2,ROW()+1,\"\")","v":{"$error":"#REF!"}},{"$f":"IF(C736=base!$W$2,ROW()+1,\"\")","v":{"$error":"#REF!"}},6725,"Centro Medico Siglo XXI","Gran usuario","Cuauhtémoc","Distrito Federal","Ciudad de México",6721,9,6721,null,22,15,959,"Urbano",6]
[{"$f":"IF(C737=base!$AC$2,ROW()+1,\"\")","v":{"$error":"#REF!"}},{"$f":"IF(C737=base!$W$2,ROW()+1,\"\")","v":{"$error":"#REF!"}},6727,"Tesorería del Distrito Federal","Gran usuario","Cuauhtémoc","Distrito Federal","Ciudad de México",6721,9,6721,null,22,15,962,"Urbano",6]
[{"$f":"IF(C738=base!$AC$2,ROW()+1,\"\")","v":{"$error":"#REF!"}},{"$f":"IF(C738=base!$W$2,ROW()+1,\"\")","v":{"$error":"#REF!"}},6728,"Unidad Soldominio","Conjunto habitacional","Cuauhtémoc","Distrito Federal","Ciudad de México",6721,9,6721,null,12,15,963,"Urbano",6]
[{"$f":"IF(C739=base!$AC$2,ROW()+1,\"\")","v":{"$error":"#REF!"}},{"$f":"IF(C739=base!$W$2,ROW()+1,\"\")","v":{"$error":"#REF!"}},6729,"Hospital General de México","Gran usuario","Cuauhtémoc","Distrito Federal","Ciudad de México",6721,9,6721,null,22,15,961,"Urbano",6]
[{"$f":"IF(C740=base!$AC$2,ROW()+1,\"\")","v":{"$error":"#REF!"}},{"$f":"IF(C740=base!$W$2,ROW()+1,\"\")","v":{"$error":"#REF!"}},6740,"Centro Urbano Benito Juárez","Unidad habitacional","Cuauhtémoc","Distrito Federal","Ciudad de México",6721,9,6721,null,31,15,965,"Urbano",6]
[{"$f":"IF(C741=base!$AC$2,ROW()+1,\"\")","v":{"$error":"#REF!"}},{"$f":"IF(C741=base!$W$2,ROW()+1,\"\")","v":{"$error":"#REF!"}},6760,"Roma Sur","Colonia","Cuauhtémoc","Distrito Federal","Ciudad de México",6721,9,6721,null,9,15,966,"Urbano",6]
[{"$f":"IF(C742=base!$AC$2,ROW()+1,\"\")","v":{"$error":"#REF!"}},{"$f":"IF(C742=base!$W$2,ROW()+1,\"\")","v":{"$error":"#REF!"}},6780,"Buenos Aires","Colonia","Cuauhtémoc","Distrito Federal","Ciudad de México",6721,9,6721,null,9,15,970,"Urbano",6]
[{"$f":"IF(C743=base!$AC$2,ROW()+1,\"\")","v":{"$error":"#REF!"}},{"$f":"IF(C743=base!$W$2,ROW()+1,\"\")","v":{"$error":"#REF!"}},6796,"Cámara Nacional de la Industria Cinematográfica","Gran usuario","Cuauhtémoc","Distrito Federal","Ciudad de México",6721,9,6721,null,22,15,971,"Urbano",6]
[{"$f":"IF(C744=base!$AC$2,ROW()+1,\"\")","v":{"$error":"#REF!"}},{"$f":"IF(C744=base!$W$2,ROW()+1,\"\")","v":{"$error":"#REF!"}},6797,"Partido Popular Socialista","Gran usuario","Cuauhtémoc","Distrito Federal","Ciudad de México",6721,9,6721,null,22,15,972,"Urbano",6]
[{"$f":"IF(C745=base!$AC$2,ROW()+1,\"\")","v":{"$error":"#REF!"}},{"$f":"IF(C745=base!$W$2,ROW()+1,\"\")","v":{"$error":"#REF!"}},6798,"Partido de La Revolución Democrática","Gran usuario","Cuauhtémoc","Distrito Federal","Ciudad de México",6721,9,6721,null,22,15,973,"Urbano",6]
[{"$f":"IF(C746=base!$AC$2,ROW()+1,\"\")","v":{"$error":"#REF!"}},{"$f":"IF(C746=base!$W$2,ROW()+1,\"\")","v":{"$error":"#REF!"}},6800,"Obrera","Colonia","Cuauhtémoc","Distrito Federal","Ciudad de México",6721,9,6721,null,9,15,974,"Urbano",6]
[{"$f":"IF(C747=base!$AC$2,ROW()+1,\"\")","v":{"$error":"#REF!"}},{"$f":"IF(C747=base!$W$2,ROW()+1,\"\")","v":{"$error":"#REF!"}},6820,"Tránsito","Colonia","Cuauhtémoc","Distrito Federal","Ciudad de México",6721,9,6721,null,9,15,978,"Urbano",6]
[{"$f":"IF(C748=base!$AC$2,ROW()+1,\"\")","v":{"$error":"#REF!"}},{"$f":"IF(C748=base!$W$2,ROW()+1,\"\")","v":{"$error":"#REF!"}},6840,"Esperanza","Colonia","Cuauhtémoc","Distrito Federal","Ciudad de México",6721,9,6721,null,9,15,980,"Urbano",6]
[{"$f":"IF(C749=base!$AC$2,ROW()+1,\"\")","v":{"$error":"#REF!"}},{"$f":"IF(C749=base!$W$2,ROW()+1,\"\")","v":{"$error":"#REF!"}},6850,"Asturias","Colonia","Cuauhtémoc","Distrito Federal","Ciudad de México",6721,9,6721,null,9,15,981,"Urbano",6]
[{"$f":"IF(C750=base!$AC$2,ROW()+1,\"\")","v":{"$error":"#REF!"}},{"$f":"IF(C750=base!$W$2,ROW()+1,\"\")","v":{"$error":"#REF!"}},6860,"Vista Alegre","Colonia","Cuauhtémoc","Distrito Federal","Ciudad de México",6721,9,6721,null,9,15,982,"Urbano",6]
[{"$f":"IF(C751=base!$AC$2,ROW()+1,\"\")","v":{"$error":"#REF!"}},{"$f":"IF(C751=base!$W$2,ROW()+1,\"\")","v":{"$error":"#REF!"}},6870,"Paulino Navarro","Colonia","Cuauhtémoc","Distrito Federal","Ciudad de México",6721,9,6721,null,9,15,983,"Urbano",6]
[{"$f":"IF(C752=base!$AC$2,ROW()+1,\"\")","v":{"$error":"#REF!"}},{"$f":"IF(C752=base!$W$2,ROW()+1,\"\")","v":{"$error":"#REF!"}},6880,"Algarin","Colonia","Cuauhtémoc","Distrito Federal","Ciudad de México",6721,9,6721,null,9,15,984,"Urbano",6]
[{"$f":"IF(C753=base!$AC$2,ROW()+1,\"\")","v":{"$error":"#REF!"}},{"$f":"IF(C753=base!$W$2,ROW()+1,\"\")","v":{"$error":"#REF!"}},6890,"Ampliación Asturias","Colonia","Cuauhtémoc","Distrito Federal","Ciudad de México",6721,9,6721,null,9,15,986,"Urbano",6]
[{"$f":"IF(C754=base!$AC$2,ROW()+1,\"\")","v":{"$error":"#REF!"}},{"$f":"IF(C754=base!$W$2,ROW()+1,\"\")","v":{"$error":"#REF!"}},6900,"Nonoalco Tlatelolco","Colonia","Cuauhtémoc","Distrito Federal","Ciudad de México",6401,9,6401,null,9,15,988,"Urbano",6]
[{"$f":"IF(C755=base!$AC$2,ROW()+1,\"\")","v":{"$error":"#REF!"}},{"$f":"IF(C755=base!$W$2,ROW()+1,\"\")","v":{"$error":"#REF!"}},6920,"San Simón Tolnáhuac","Colonia","Cuauhtémoc","Distrito Federal","Ciudad de México",6401,9,6401,null,9,15,989,"Urbano",6]
[{"$f":"IF(C756=base!$AC$2,ROW()+1,\"\")","v":{"$error":"#REF!"}},{"$f":"IF(C756=base!$W$2,ROW()+1,\"\")","v":{"$error":"#REF!"}},6995,"Secretaria de Relaciones Exteriores","Gran usuario","Cuauhtémoc","Distrito Federal","Ciudad de México",6401,9,6401,null,22,15,990,"Urbano",6]
[{"$f":"IF(C757=base!$AC$2,ROW()+1,\"\")","v":{"$error":"#REF!"}},{"$f":"IF(C757=base!$W$2,ROW()+1,\"\")","v":{"$error":"#REF!"}},7000,"Aragón la Villa","Colonia","Gustavo A. Madero","Distrito Federal","Ciudad de México",7001,9,7001,null,9,5,991,"Urbano",7]
[{"$f":"IF(C758=base!$AC$2,ROW()+1,\"\")","v":{"$error":"#REF!"}},{"$f":"IF(C758=base!$W$2,ROW()+1,\"\")","v":{"$error":"#REF!"}},7010,"Rosas del Tepeyac","Colonia","Gustavo A. Madero","Distrito Federal","Ciudad de México",7001,9,7001,null,9,5,994,"Urbano",7]
[{"$f":"IF(C759=base!$AC$2,ROW()+1,\"\")","v":{"$error":"#REF!"}},{"$f":"IF(C759=base!$W$2,ROW()+1,\"\")","v":{"$error":"#REF!"}},7010,"Tepetates","Colonia","Gustavo A. Madero","Distrito Federal","Ciudad de México",7001,9,7001,null,9,5,996,"Urbano",7]
[{"$f":"IF(C760=base!$AC$2,ROW()+1,\"\")","v":{"$error":"#REF!"}},{"$f":"IF(C760=base!$W$2,ROW()+1,\"\")","v":{"$error":"#REF!"}},7010,"Santa Isabel Tola","Colonia","Gustavo A. Madero","Distrito Federal","Ciudad de México",7001,9,7001,null,9,5,995,"Urbano",7]
[{"$f":"IF(C761=base!$AC$2,ROW()+1,\"\")","v":{"$error":"#REF!"}},{"$f":"IF(C761=base!$W$2,ROW()+1,\"\")","v":{"$error":"#REF!"}},7020,"Tepeyac Insurgentes","Colonia","Gustavo A. Madero","Distrito Federal","Ciudad de México",7001,9,7001,null,9,5,997,"Urbano",7]
[{"$f":"IF(C762=base!$AC$2,ROW()+1,\"\")","v":{"$error":"#REF!"}},{"$f":"IF(C762=base!$W$2,ROW()+1,\"\")","v":{"$error":"#REF!"}},7040,"Santiago Atzacoalco","Pueblo","Gustavo A. Madero","Distrito Federal","Ciudad de México",7001,9,7001,null,28,5,998,"Urbano",7]
[{"$f":"IF(C763=base!$AC$2,ROW()+1,\"\")","v":{"$error":"#REF!"}},{"$f":"IF(C763=base!$W$2,ROW()+1,\"\")","v":{"$error":"#REF!"}},7050,"Villa Gustavo A. Madero","Colonia","Gustavo A. Madero","Distrito Federal","Ciudad de México",7001,9,7001,null,9,5,1001,"Urbano",7]
[{"$f":"IF(C764=base!$AC$2,ROW()+1,\"\")","v":{"$error":"#REF!"}},{"$f":"IF(C764=base!$W$2,ROW()+1,\"\")","v":{"$error":"#REF!"}},7058,"15 de Agosto","Colonia","Gustavo A. Madero","Distrito Federal","Ciudad de México",7001,9,7001,null,9,5,1003,"Urbano",7]
[{"$f":"IF(C765=base!$AC$2,ROW()+1,\"\")","v":{"$error":"#REF!"}},{"$f":"IF(C765=base!$W$2,ROW()+1,\"\")","v":{"$error":"#REF!"}},7059,"Delegación Política Gustavo A Madero","Gran usuario","Gustavo A. Madero","Distrito Federal","Ciudad de México",7001,9,7001,null,22,5,1004,"Urbano",7]
[{"$f":"IF(C766=base!$AC$2,ROW()+1,\"\")","v":{"$error":"#REF!"}},{"$f":"IF(C766=base!$W$2,ROW()+1,\"\")","v":{"$error":"#REF!"}},7060,"Estanzuela","Colonia","Gustavo A. Madero","Distrito Federal","Ciudad de México",7001,9,7001,null,9,5,1005,"Urbano",7]
[{"$f":"IF(C767=base!$AC$2,ROW()+1,\"\")","v":{"$error":"#REF!"}},{"$f":"IF(C767=base!$W$2,ROW()+1,\"\")","v":{"$error":"#REF!"}},7069,"Triunfo de La República","Colonia","Gustavo A. Madero","Distrito Federal","Ciudad de México",7001,9,7001,null,9,5,1006,"Urbano",7]
[{"$f":"IF(C768=base!$AC$2,ROW()+1,\"\")","v":{"$error":"#REF!"}},{"$f":"IF(C768=base!$W$2,ROW()+1,\"\")","v":{"$error":"#REF!"}},7070,"La Cruz","Colonia","Gustavo A. Madero","Distrito Federal","Ciudad de México",7001,9,7001,null,9,5,1007,"Urbano",7]
[{"$f":"IF(C769=base!$AC$2,ROW()+1,\"\")","v":{"$error":"#REF!"}},{"$f":"IF(C769=base!$W$2,ROW()+1,\"\")","v":{"$error":"#REF!"}},7070,"Dinamita","Colonia","Gustavo A. Madero","Distrito Federal","Ciudad de México",7001,9,7001,null,9,5,1008,"Urbano",7]
[{"$f":"IF(C770=base!$AC$2,ROW()+1,\"\")","v":{"$error":"#REF!"}},{"$f":"IF(C770=base!$W$2,ROW()+1,\"\")","v":{"$error":"#REF!"}},7070,"Martín Carrera","Colonia","Gustavo A. Madero","Distrito Federal","Ciudad de México",7001,9,7001,null,9,5,1010,"Urbano",7]
[{"$f":"IF(C771=base!$AC$2,ROW()+1,\"\")","v":{"$error":"#REF!"}},{"$f":"IF(C771=base!$W$2,ROW()+1,\"\")","v":{"$error":"#REF!"}},7080,"Gabriel Hernández","Colonia","Gustavo A. Madero","Distrito Federal","Ciudad de México",7001,9,7001,null,9,5,1011,"Urbano",7]
[{"$f":"IF(C772=base!$AC$2,ROW()+1,\"\")","v":{"$error":"#REF!"}},{"$f":"IF(C772=base!$W$2,ROW()+1,\"\")","v":{"$error":"#REF!"}},7089,"Ampliación Gabriel Hernández","Colonia","Gustavo A. Madero","Distrito Federal","Ciudad de México",7001,9,7001,null,9,5,1012,"Urbano",7]
[{"$f":"IF(C773=base!$AC$2,ROW()+1,\"\")","v":{"$error":"#REF!"}},{"$f":"IF(C773=base!$W$2,ROW()+1,\"\")","v":{"$error":"#REF!"}},7090,"C.T.M. Atzacoalco","Colonia","Gustavo A. Madero","Distrito Federal","Ciudad de México",7001,9,7001,null,9,5,1013,"Urbano",7]
[{"$f":"IF(C774=base!$AC$2,ROW()+1,\"\")","v":{"$error":"#REF!"}},{"$f":"IF(C774=base!$W$2,ROW()+1,\"\")","v":{"$error":"#REF!"}},7090,"C.T.M. El Risco","Colonia","Gustavo A. Madero","Distrito Federal","Ciudad de México",7001,9,7001,null,9,5,1014,"Urbano",7]
[{"$f":"IF(C775=base!$AC$2,ROW()+1,\"\")","v":{"$error":"#REF!"}},{"$f":"IF(C775=base!$W$2,ROW()+1,\"\")","v":{"$error":"#REF!"}},7100,"San Miguel","Colonia","Gustavo A. Madero","Distrito Federal","Ciudad de México",7201,9,7201,null,9,5,1017,"Urbano",7]
[{"$f":"IF(C776=base!$AC$2,ROW()+1,\"\")","v":{"$error":"#REF!"}},{"$f":"IF(C776=base!$W$2,ROW()+1,\"\")","v":{"$error":"#REF!"}},7100,"Cuautepec Barrio Alto","Colonia","Gustavo A. Madero","Distrito Federal","Ciudad de México",7201,9,7201,null,9,5,1016,"Urbano",7]
[{"$f":"IF(C777=base!$AC$2,ROW()+1,\"\")","v":{"$error":"#REF!"}},{"$f":"IF(C777=base!$W$2,ROW()+1,\"\")","v":{"$error":"#REF!"}},7109,"San Antonio","Colonia","Gustavo A. Madero","Distrito Federal","Ciudad de México",7201,9,7201,null,9,5,1019,"Urbano",7]
[{"$f":"IF(C778=base!$AC$2,ROW()+1,\"\")","v":{"$error":"#REF!"}},{"$f":"IF(C778=base!$W$2,ROW()+1,\"\")","v":{"$error":"#REF!"}},7110,"Lomas de Cuautepec","Colonia","Gustavo A. Madero","Distrito Federal","Ciudad de México",7201,9,7201,null,9,5,1021,"Urbano",7]
[{"$f":"IF(C779=base!$AC$2,ROW()+1,\"\")","v":{"$error":"#REF!"}},{"$f":"IF(C779=base!$W$2,ROW()+1,\"\")","v":{"$error":"#REF!"}},7119,"Malacates","Colonia","Gustavo A. Madero","Distrito Federal","Ciudad de México",7201,9,7201,null,9,5,1022,"Urbano",7]
[{"$f":"IF(C780=base!$AC$2,ROW()+1,\"\")","v":{"$error":"#REF!"}},{"$f":"IF(C780=base!$W$2,ROW()+1,\"\")","v":{"$error":"#REF!"}},7119,"Ampliación Malacates","Colonia","Gustavo A. Madero","Distrito Federal","Ciudad de México",7201,9,7201,null,9,5,1227,"Urbano",7]
[{"$f":"IF(C781=base!$AC$2,ROW()+1,\"\")","v":{"$error":"#REF!"}},{"$f":"IF(C781=base!$W$2,ROW()+1,\"\")","v":{"$error":"#REF!"}},7130,"El Tepetatal","Colonia","Gustavo A. Madero","Distrito Federal","Ciudad de México",7201,9,7201,null,9,5,1024,"Urbano",7]
[{"$f":"IF(C782=base!$AC$2,ROW()+1,\"\")","v":{"$error":"#REF!"}},{"$f":"IF(C782=base!$W$2,ROW()+1,\"\")","v":{"$error":"#REF!"}},7130,"Compositores Mexicanos","Colonia","Gustavo A. Madero","Distrito Federal","Ciudad de México",7201,9,7201,null,9,5,1023,"Urbano",7]
[{"$f":"IF(C783=base!$AC$2,ROW()+1,\"\")","v":{"$error":"#REF!"}},{"$f":"IF(C783=base!$W$2,ROW()+1,\"\")","v":{"$error":"#REF!"}},7140,"Forestal","Colonia","Gustavo A. Madero","Distrito Federal","Ciudad de México",7201,9,7201,null,9,5,1028,"Urbano",7]
[{"$f":"IF(C784=base!$AC$2,ROW()+1,\"\")","v":{"$error":"#REF!"}},{"$f":"IF(C784=base!$W$2,ROW()+1,\"\")","v":{"$error":"#REF!"}},7140,"Forestal I","Colonia","Gustavo A. Madero","Distrito Federal","Ciudad de México",7201,9,7201,null,9,5,1029,"Urbano",7]
[{"$f":"IF(C785=base!$AC$2,ROW()+1,\"\")","v":{"$error":"#REF!"}},{"$f":"IF(C785=base!$W$2,ROW()+1,\"\")","v":{"$error":"#REF!"}},7140,"Ampliación Arboledas","Colonia","Gustavo A. Madero","Distrito Federal","Ciudad de México",7201,9,7201,null,9,5,1027,"Urbano",7]
[{"$f":"IF(C786=base!$AC$2,ROW()+1,\"\")","v":{"$error":"#REF!"}},{"$f":"IF(C786=base!$W$2,ROW()+1,\"\")","v":{"$error":"#REF!"}},7140,"Arboledas","Colonia","Gustavo A. Madero","Distrito Federal","Ciudad de México",7201,9,7201,null,9,5,1026,"Urbano",7]
[{"$f":"IF(C787=base!$AC$2,ROW()+1,\"\")","v":{"$error":"#REF!"}},{"$f":"IF(C787=base!$W$2,ROW()+1,\"\")","v":{"$error":"#REF!"}},7144,"La Lengüeta","Colonia","Gustavo A. Madero","Distrito Federal","Ciudad de México",7201,9,7201,null,9,5,2887,"Urbano",7]
[{"$f":"IF(C788=base!$AC$2,ROW()+1,\"\")","v":{"$error":"#REF!"}},{"$f":"IF(C788=base!$W$2,ROW()+1,\"\")","v":{"$error":"#REF!"}},7144,"Forestal II","Colonia","Gustavo A. Madero","Distrito Federal","Ciudad de México",7201,9,7201,null,9,5,2885,"Urbano",7]
[{"$f":"IF(C789=base!$AC$2,ROW()+1,\"\")","v":{"$error":"#REF!"}},{"$f":"IF(C789=base!$W$2,ROW()+1,\"\")","v":{"$error":"#REF!"}},7149,"Parque Metropolitano","Colonia","Gustavo A. Madero","Distrito Federal","Ciudad de México",7201,9,7201,null,9,5,1031,"Urbano",7]
[{"$f":"IF(C790=base!$AC$2,ROW()+1,\"\")","v":{"$error":"#REF!"}},{"$f":"IF(C790=base!$W$2,ROW()+1,\"\")","v":{"$error":"#REF!"}},7150,"Juventino Rosas","Colonia","Gustavo A. Madero","Distrito Federal","Ciudad de México",7201,9,7201,null,9,5,1032,"Urbano",7]
[{"$f":"IF(C791=base!$AC$2,ROW()+1,\"\")","v":{"$error":"#REF!"}},{"$f":"IF(C791=base!$W$2,ROW()+1,\"\")","v":{"$error":"#REF!"}},7150,"La Casilda","Colonia","Gustavo A. Madero","Distrito Federal","Ciudad de México",7201,9,7201,null,9,5,1033,"Urbano",7]
[{"$f":"IF(C792=base!$AC$2,ROW()+1,\"\")","v":{"$error":"#REF!"}},{"$f":"IF(C792=base!$W$2,ROW()+1,\"\")","v":{"$error":"#REF!"}},7160,"Loma La Palma","Colonia","Gustavo A. Madero","Distrito Federal","Ciudad de México",7201,9,7201,null,9,5,1034,"Urbano",7]
[{"$f":"IF(C793=base!$AC$2,ROW()+1,\"\")","v":{"$error":"#REF!"}},{"$f":"IF(C793=base!$W$2,ROW()+1,\"\")","v":{"$error":"#REF!"}},7164,"Luis Donaldo Colosio","Colonia","Gustavo A. Madero","Distrito Federal","Ciudad de México",7201,9,7201,null,9,5,2548,"Urbano",7]
[{"$f":"IF(C794=base!$AC$2,ROW()+1,\"\")","v":{"$error":"#REF!"}},{"$f":"IF(C794=base!$W$2,ROW()+1,\"\")","v":{"$error":"#REF!"}},7164,"Tlacaélel","Colonia","Gustavo A. Madero","Distrito Federal","Ciudad de México",7201,9,7201,null,9,5,2549,"Urbano",7]
[{"$f":"IF(C795=base!$AC$2,ROW()+1,\"\")","v":{"$error":"#REF!"}},{"$f":"IF(C795=base!$W$2,ROW()+1,\"\")","v":{"$error":"#REF!"}},7164,"Prados de Cuautepec","Colonia","Gustavo A. Madero","Distrito Federal","Ciudad de México",7201,9,7201,null,9,5,2718,"Urbano",7]
[{"$f":"IF(C796=base!$AC$2,ROW()+1,\"\")","v":{"$error":"#REF!"}},{"$f":"IF(C796=base!$W$2,ROW()+1,\"\")","v":{"$error":"#REF!"}},7164,"Graciano Sánchez","Colonia","Gustavo A. Madero","Distrito Federal","Ciudad de México",7201,9,7201,null,9,5,2717,"Urbano",7]
[{"$f":"IF(C797=base!$AC$2,ROW()+1,\"\")","v":{"$error":"#REF!"}},{"$f":"IF(C797=base!$W$2,ROW()+1,\"\")","v":{"$error":"#REF!"}},7170,"Palmatitla","Colonia","Gustavo A. Madero","Distrito Federal","Ciudad de México",7201,9,7201,null,9,5,1035,"Urbano",7]
[{"$f":"IF(C798=base!$AC$2,ROW()+1,\"\")","v":{"$error":"#REF!"}},{"$f":"IF(C798=base!$W$2,ROW()+1,\"\")","v":{"$error":"#REF!"}},7180,"Cocoyotes","Colonia","Gustavo A. Madero","Distrito Federal","Ciudad de México",7201,9,7201,null,9,5,1036,"Urbano",7]
[{"$f":"IF(C799=base!$AC$2,ROW()+1,\"\")","v":{"$error":"#REF!"}},{"$f":"IF(C799=base!$W$2,ROW()+1,\"\")","v":{"$error":"#REF!"}},7180,"General Felipe Berriozabal","Colonia","Gustavo A. Madero","Distrito Federal","Ciudad de México",7201,9,7201,null,9,5,1037,"Urbano",7]
[{"$f":"IF(C800=base!$AC$2,ROW()+1,\"\")","v":{"$error":"#REF!"}},{"$f":"IF(C800=base!$W$2,ROW()+1,\"\")","v":{"$error":"#REF!"}},7180,"Ampliación Cocoyotes","Colonia","Gustavo A. Madero","Distrito Federal","Ciudad de México",7201,9,7201,null,9,5,2687,"Urbano",7]
[{"$f":"IF(C801=base!$AC$2,ROW()+1,\"\")","v":{"$error":"#REF!"}},{"$f":"IF(C801=base!$W$2,ROW()+1,\"\")","v":{"$error":"#REF!"}},7183,"6 de Junio","Colonia","Gustavo A. Madero","Distrito Federal","Ciudad de México",7201,9,7201,null,9,5,2688,"Urbano",7]
[{"$f":"IF(C802=base!$AC$2,ROW()+1,\"\")","v":{"$error":"#REF!"}},{"$f":"IF(C802=base!$W$2,ROW()+1,\"\")","v":{"$error":"#REF!"}},7187,"Vista Hermosa","Colonia","Gustavo A. Madero","Distrito Federal","Ciudad de México",7201,9,7201,null,9,5,1038,"Urbano",7]
[{"$f":"IF(C803=base!$AC$2,ROW()+1,\"\")","v":{"$error":"#REF!"}},{"$f":"IF(C803=base!$W$2,ROW()+1,\"\")","v":{"$error":"#REF!"}},7188,"Tlalpexco","Colonia","Gustavo A. Madero","Distrito Federal","Ciudad de México",7201,9,7201,null,9,5,1039,"Urbano",7]
[{"$f":"IF(C804=base!$AC$2,ROW()+1,\"\")","v":{"$error":"#REF!"}},{"$f":"IF(C804=base!$W$2,ROW()+1,\"\")","v":{"$error":"#REF!"}},7189,"Ahuehuetes","Colonia","Gustavo A. Madero","Distrito Federal","Ciudad de México",7201,9,7201,null,9,5,1040,"Urbano",7]
[{"$f":"IF(C805=base!$AC$2,ROW()+1,\"\")","v":{"$error":"#REF!"}},{"$f":"IF(C805=base!$W$2,ROW()+1,\"\")","v":{"$error":"#REF!"}},7190,"Valle de Madero","Colonia","Gustavo A. Madero","Distrito Federal","Ciudad de México",7201,9,7201,null,9,5,1041,"Urbano",7]
[{"$f":"IF(C806=base!$AC$2,ROW()+1,\"\")","v":{"$error":"#REF!"}},{"$f":"IF(C806=base!$W$2,ROW()+1,\"\")","v":{"$error":"#REF!"}},7199,"Del Carmen","Colonia","Gustavo A. Madero","Distrito Federal","Ciudad de México",7201,9,7201,null,9,5,1042,"Urbano",7]
[{"$f":"IF(C807=base!$AC$2,ROW()+1,\"\")","v":{"$error":"#REF!"}},{"$f":"IF(C807=base!$W$2,ROW()+1,\"\")","v":{"$error":"#REF!"}},7200,"Cuautepec de Madero","Colonia","Gustavo A. Madero","Distrito Federal","Ciudad de México",7201,9,7201,null,9,5,1043,"Urbano",7]
[{"$f":"IF(C808=base!$AC$2,ROW()+1,\"\")","v":{"$error":"#REF!"}},{"$f":"IF(C808=base!$W$2,ROW()+1,\"\")","v":{"$error":"#REF!"}},7207,"Del Bosque","Colonia","Gustavo A. Madero","Distrito Federal","Ciudad de México",7201,9,7201,null,9,5,1046,"Urbano",7]
[{"$f":"IF(C809=base!$AC$2,ROW()+1,\"\")","v":{"$error":"#REF!"}},{"$f":"IF(C809=base!$W$2,ROW()+1,\"\")","v":{"$error":"#REF!"}},7208,"Reclusorio Norte","Gran usuario","Gustavo A. Madero","Distrito Federal","Ciudad de México",7201,9,7201,null,22,5,1047,"Urbano",7]
[{"$f":"IF(C810=base!$AC$2,ROW()+1,\"\")","v":{"$error":"#REF!"}},{"$f":"IF(C810=base!$W$2,ROW()+1,\"\")","v":{"$error":"#REF!"}},7209,"Guadalupe Victoria Cuautepec","Colonia","Gustavo A. Madero","Distrito Federal","Ciudad de México",7201,9,7201,null,9,5,1048,"Urbano",7]
[{"$f":"IF(C811=base!$AC$2,ROW()+1,\"\")","v":{"$error":"#REF!"}},{"$f":"IF(C811=base!$W$2,ROW()+1,\"\")","v":{"$error":"#REF!"}},7210,"Chalma de Guadalupe","Colonia","Gustavo A. Madero","Distrito Federal","Ciudad de México",7201,9,7201,null,9,5,1049,"Urbano",7]
[{"$f":"IF(C812=base!$AC$2,ROW()+1,\"\")","v":{"$error":"#REF!"}},{"$f":"IF(C812=base!$W$2,ROW()+1,\"\")","v":{"$error":"#REF!"}},7214,"Ampliación Chalma de Guadalupe","Colonia","Gustavo A. Madero","Distrito Federal","Ciudad de México",7201,9,7201,null,9,5,2884,"Urbano",7]
[{"$f":"IF(C813=base!$AC$2,ROW()+1,\"\")","v":{"$error":"#REF!"}},{"$f":"IF(C813=base!$W$2,ROW()+1,\"\")","v":{"$error":"#REF!"}},7220,"Castillo Grande","Colonia","Gustavo A. Madero","Distrito Federal","Ciudad de México",7201,9,7201,null,9,5,1052,"Urbano",7]
[{"$f":"IF(C814=base!$AC$2,ROW()+1,\"\")","v":{"$error":"#REF!"}},{"$f":"IF(C814=base!$W$2,ROW()+1,\"\")","v":{"$error":"#REF!"}},7220,"Castillo Chico","Colonia","Gustavo A. Madero","Distrito Federal","Ciudad de México",7201,9,7201,null,9,5,1051,"Urbano",7]
[{"$f":"IF(C815=base!$AC$2,ROW()+1,\"\")","v":{"$error":"#REF!"}},{"$f":"IF(C815=base!$W$2,ROW()+1,\"\")","v":{"$error":"#REF!"}},7224,"Ampliación Castillo Grande","Colonia","Gustavo A. Madero","Distrito Federal","Ciudad de México",7201,9,7201,null,9,5,2883,"Urbano",7]
[{"$f":"IF(C816=base!$AC$2,ROW()+1,\"\")","v":{"$error":"#REF!"}},{"$f":"IF(C816=base!$W$2,ROW()+1,\"\")","v":{"$error":"#REF!"}},7230,"Zona Escolar","Colonia","Gustavo A. Madero","Distrito Federal","Ciudad de México",7201,9,7201,null,9,5,1053,"Urbano",7]
[{"$f":"IF(C817=base!$AC$2,ROW()+1,\"\")","v":{"$error":"#REF!"}},{"$f":"IF(C817=base!$W$2,ROW()+1,\"\")","v":{"$error":"#REF!"}},7239,"Zona Escolar Oriente","Colonia","Gustavo A. Madero","Distrito Federal","Ciudad de México",7201,9,7201,null,9,5,1054,"Urbano",7]
[{"$f":"IF(C818=base!$AC$2,ROW()+1,\"\")","v":{"$error":"#REF!"}},{"$f":"IF(C818=base!$W$2,ROW()+1,\"\")","v":{"$error":"#REF!"}},7240,"El Arbolillo","Colonia","Gustavo A. Madero","Distrito Federal","Ciudad de México",7201,9,7201,null,9,5,1056,"Urbano",7]
[{"$f":"IF(C819=base!$AC$2,ROW()+1,\"\")","v":{"$error":"#REF!"}},{"$f":"IF(C819=base!$W$2,ROW()+1,\"\")","v":{"$error":"#REF!"}},7248,"Tablas de Santa Teresa","Unidad habitacional","Gustavo A. Madero","Distrito Federal","Ciudad de México",7201,9,7201,null,31,5,2680,"Urbano",7]
[{"$f":"IF(C820=base!$AC$2,ROW()+1,\"\")","v":{"$error":"#REF!"}},{"$f":"IF(C820=base!$W$2,ROW()+1,\"\")","v":{"$error":"#REF!"}},7248,"Matías Romero","Unidad habitacional","Gustavo A. Madero","Distrito Federal","Ciudad de México",7201,9,7201,null,31,5,1058,"Urbano",7]
[{"$f":"IF(C821=base!$AC$2,ROW()+1,\"\")","v":{"$error":"#REF!"}},{"$f":"IF(C821=base!$W$2,ROW()+1,\"\")","v":{"$error":"#REF!"}},7248,"Tonaca Coutitlán","Unidad habitacional","Gustavo A. Madero","Distrito Federal","Ciudad de México",7201,9,7201,null,31,5,2679,"Urbano",7]
[{"$f":"IF(C822=base!$AC$2,ROW()+1,\"\")","v":{"$error":"#REF!"}},{"$f":"IF(C822=base!$W$2,ROW()+1,\"\")","v":{"$error":"#REF!"}},7248,"Hayde Solís C","Unidad habitacional","Gustavo A. Madero","Distrito Federal","Ciudad de México",7201,9,7201,null,31,5,1057,"Urbano",7]
[{"$f":"IF(C823=base!$AC$2,ROW()+1,\"\")","v":{"$error":"#REF!"}},{"$f":"IF(C823=base!$W$2,ROW()+1,\"\")","v":{"$error":"#REF!"}},7248,"México Ixapan","Unidad habitacional","Gustavo A. Madero","Distrito Federal","Ciudad de México",7201,9,7201,null,31,5,2678,"Urbano",7]
[{"$f":"IF(C824=base!$AC$2,ROW()+1,\"\")","v":{"$error":"#REF!"}},{"$f":"IF(C824=base!$W$2,ROW()+1,\"\")","v":{"$error":"#REF!"}},7249,"El Arbolillo II CROC","Unidad habitacional","Gustavo A. Madero","Distrito Federal","Ciudad de México",7201,9,7201,null,31,5,1059,"Urbano",7]
[{"$f":"IF(C825=base!$AC$2,ROW()+1,\"\")","v":{"$error":"#REF!"}},{"$f":"IF(C825=base!$W$2,ROW()+1,\"\")","v":{"$error":"#REF!"}},7249,"El Arbolillo III CROC","Unidad habitacional","Gustavo A. Madero","Distrito Federal","Ciudad de México",7201,9,7201,null,31,5,1060,"Urbano",7]
[{"$f":"IF(C826=base!$AC$2,ROW()+1,\"\")","v":{"$error":"#REF!"}},{"$f":"IF(C826=base!$W$2,ROW()+1,\"\")","v":{"$error":"#REF!"}},7250,"Benito Juárez","Colonia","Gustavo A. Madero","Distrito Federal","Ciudad de México",7201,9,7201,null,9,5,1061,"Urbano",7]
[{"$f":"IF(C827=base!$AC$2,ROW()+1,\"\")","v":{"$error":"#REF!"}},{"$f":"IF(C827=base!$W$2,ROW()+1,\"\")","v":{"$error":"#REF!"}},7259,"Ampliación Benito Juárez","Colonia","Gustavo A. Madero","Distrito Federal","Ciudad de México",7201,9,7201,null,9,5,1063,"Urbano",7]
[{"$f":"IF(C828=base!$AC$2,ROW()+1,\"\")","v":{"$error":"#REF!"}},{"$f":"IF(C828=base!$W$2,ROW()+1,\"\")","v":{"$error":"#REF!"}},7268,"Solidaridad Nacional","Colonia","Gustavo A. Madero","Distrito Federal","Ciudad de México",7201,9,7201,null,9,5,1065,"Urbano",7]
[{"$f":"IF(C829=base!$AC$2,ROW()+1,\"\")","v":{"$error":"#REF!"}},{"$f":"IF(C829=base!$W$2,ROW()+1,\"\")","v":{"$error":"#REF!"}},7269,"El Arbolillo CTM","Unidad habitacional","Gustavo A. Madero","Distrito Federal","Ciudad de México",7201,9,7201,null,31,5,1066,"Urbano",7]
[{"$f":"IF(C830=base!$AC$2,ROW()+1,\"\")","v":{"$error":"#REF!"}},{"$f":"IF(C830=base!$W$2,ROW()+1,\"\")","v":{"$error":"#REF!"}},7270,"Residencial Acueducto de Guadalupe","Colonia","Gustavo A. Madero","Distrito Federal","Ciudad de México",7201,9,7201,null,9,5,1067,"Urbano",7]
[{"$f":"IF(C831=base!$AC$2,ROW()+1,\"\")","v":{"$error":"#REF!"}},{"$f":"IF(C831=base!$W$2,ROW()+1,\"\")","v":{"$error":"#REF!"}},7279,"Acueducto de Guadalupe","Colonia","Gustavo A. Madero","Distrito Federal","Ciudad de México",7201,9,7201,null,9,5,1069,"Urbano",7]
[{"$f":"IF(C832=base!$AC$2,ROW()+1,\"\")","v":{"$error":"#REF!"}},{"$f":"IF(C832=base!$W$2,ROW()+1,\"\")","v":{"$error":"#REF!"}},7280,"Zona Militar","Unidad habitacional","Gustavo A. Madero","Distrito Federal","Ciudad de México",7201,9,7201,null,31,5,1232,"Urbano",7]
[{"$f":"IF(C833=base!$AC$2,ROW()+1,\"\")","v":{"$error":"#REF!"}},{"$f":"IF(C833=base!$W$2,ROW()+1,\"\")","v":{"$error":"#REF!"}},7280,"Jorge Negrete","Colonia","Gustavo A. Madero","Distrito Federal","Ciudad de México",7201,9,7201,null,9,5,1070,"Urbano",7]
[{"$f":"IF(C834=base!$AC$2,ROW()+1,\"\")","v":{"$error":"#REF!"}},{"$f":"IF(C834=base!$W$2,ROW()+1,\"\")","v":{"$error":"#REF!"}},7290,"La Pastora","Colonia","Gustavo A. Madero","Distrito Federal","Ciudad de México",7201,9,7201,null,9,5,1071,"Urbano",7]
[{"$f":"IF(C835=base!$AC$2,ROW()+1,\"\")","v":{"$error":"#REF!"}},{"$f":"IF(C835=base!$W$2,ROW()+1,\"\")","v":{"$error":"#REF!"}},7300,"Lindavista Sur","Colonia","Gustavo A. Madero","Distrito Federal","Ciudad de México",7051,9,7051,null,9,5,2888,"Urbano",7]
[{"$f":"IF(C836=base!$AC$2,ROW()+1,\"\")","v":{"$error":"#REF!"}},{"$f":"IF(C836=base!$W$2,ROW()+1,\"\")","v":{"$error":"#REF!"}},7300,"Lindavista Norte","Colonia","Gustavo A. Madero","Distrito Federal","Ciudad de México",7051,9,7051,null,9,5,1072,"Urbano",7]
[{"$f":"IF(C837=base!$AC$2,ROW()+1,\"\")","v":{"$error":"#REF!"}},{"$f":"IF(C837=base!$W$2,ROW()+1,\"\")","v":{"$error":"#REF!"}},7309,"Revolución IMSS","Unidad habitacional","Gustavo A. Madero","Distrito Federal","Ciudad de México",2301,9,2301,null,31,5,1074,"Urbano",7]
[{"$f":"IF(C838=base!$AC$2,ROW()+1,\"\")","v":{"$error":"#REF!"}},{"$f":"IF(C838=base!$W$2,ROW()+1,\"\")","v":{"$error":"#REF!"}},7310,"Barrio Candelaria Ticomán","Barrio","Gustavo A. Madero","Distrito Federal","Ciudad de México",7311,9,7311,null,2,5,1075,"Urbano",7]
[{"$f":"IF(C839=base!$AC$2,ROW()+1,\"\")","v":{"$error":"#REF!"}},{"$f":"IF(C839=base!$W$2,ROW()+1,\"\")","v":{"$error":"#REF!"}},7320,"La Escalera","Conjunto habitacional","Gustavo A. Madero","Distrito Federal","Ciudad de México",7311,9,7311,null,12,5,1078,"Urbano",7]
[{"$f":"IF(C840=base!$AC$2,ROW()+1,\"\")","v":{"$error":"#REF!"}},{"$f":"IF(C840=base!$W$2,ROW()+1,\"\")","v":{"$error":"#REF!"}},7320,"La Purísima Ticomán","Barrio","Gustavo A. Madero","Distrito Federal","Ciudad de México",7311,9,7311,null,2,5,1079,"Urbano",7]
[{"$f":"IF(C841=base!$AC$2,ROW()+1,\"\")","v":{"$error":"#REF!"}},{"$f":"IF(C841=base!$W$2,ROW()+1,\"\")","v":{"$error":"#REF!"}},7320,"FOVISSSTE","Unidad habitacional","Gustavo A. Madero","Distrito Federal","Ciudad de México",7311,9,7311,null,31,5,2647,"Urbano",7]
[{"$f":"IF(C842=base!$AC$2,ROW()+1,\"\")","v":{"$error":"#REF!"}},{"$f":"IF(C842=base!$W$2,ROW()+1,\"\")","v":{"$error":"#REF!"}},7320,"Residencial la Escalera","Colonia","Gustavo A. Madero","Distrito Federal","Ciudad de México",7311,9,7311,null,9,5,1080,"Urbano",7]
[{"$f":"IF(C843=base!$AC$2,ROW()+1,\"\")","v":{"$error":"#REF!"}},{"$f":"IF(C843=base!$W$2,ROW()+1,\"\")","v":{"$error":"#REF!"}},7323,"PEMEX Lindavista","Unidad habitacional","Gustavo A. Madero","Distrito Federal","Ciudad de México",7311,9,7311,null,31,5,2697,"Urbano",7]
[{"$f":"IF(C844=base!$AC$2,ROW()+1,\"\")","v":{"$error":"#REF!"}},{"$f":"IF(C844=base!$W$2,ROW()+1,\"\")","v":{"$error":"#REF!"}},7326,"Arroyo de Guadalupe","Conjunto habitacional","Gustavo A. Madero","Distrito Federal","Ciudad de México",7311,9,7311,null,12,5,1081,"Urbano",7]
[{"$f":"IF(C845=base!$AC$2,ROW()+1,\"\")","v":{"$error":"#REF!"}},{"$f":"IF(C845=base!$W$2,ROW()+1,\"\")","v":{"$error":"#REF!"}},7327,"Sutic Vallejo","Unidad habitacional","Gustavo A. Madero","Distrito Federal","Ciudad de México",7311,9,7311,null,31,5,1082,"Urbano",7]
[{"$f":"IF(C846=base!$AC$2,ROW()+1,\"\")","v":{"$error":"#REF!"}},{"$f":"IF(C846=base!$W$2,ROW()+1,\"\")","v":{"$error":"#REF!"}},7328,"Escuadrón 201 INFONAVIT","Unidad habitacional","Gustavo A. Madero","Distrito Federal","Ciudad de México",7311,9,7311,null,31,5,1083,"Urbano",7]
[{"$f":"IF(C847=base!$AC$2,ROW()+1,\"\")","v":{"$error":"#REF!"}},{"$f":"IF(C847=base!$W$2,ROW()+1,\"\")","v":{"$error":"#REF!"}},7329,"Ticoman","Conjunto habitacional","Gustavo A. Madero","Distrito Federal","Ciudad de México",7311,9,7311,null,12,5,1084,"Urbano",7]
[{"$f":"IF(C848=base!$AC$2,ROW()+1,\"\")","v":{"$error":"#REF!"}},{"$f":"IF(C848=base!$W$2,ROW()+1,\"\")","v":{"$error":"#REF!"}},7330,"Santa María Ticomán","Colonia","Gustavo A. Madero","Distrito Federal","Ciudad de México",7311,9,7311,null,9,5,1085,"Urbano",7]
[{"$f":"IF(C849=base!$AC$2,ROW()+1,\"\")","v":{"$error":"#REF!"}},{"$f":"IF(C849=base!$W$2,ROW()+1,\"\")","v":{"$error":"#REF!"}},7340,"La Laguna Ticomán","Barrio","Gustavo A. Madero","Distrito Federal","Ciudad de México",7311,9,7311,null,2,5,1087,"Urbano",7]
[{"$f":"IF(C850=base!$AC$2,ROW()+1,\"\")","v":{"$error":"#REF!"}},{"$f":"IF(C850=base!$W$2,ROW()+1,\"\")","v":{"$error":"#REF!"}},7340,"San José Ticomán","Colonia","Gustavo A. Madero","Distrito Federal","Ciudad de México",7311,9,7311,null,9,5,1088,"Urbano",7]
[{"$f":"IF(C851=base!$AC$2,ROW()+1,\"\")","v":{"$error":"#REF!"}},{"$f":"IF(C851=base!$W$2,ROW()+1,\"\")","v":{"$error":"#REF!"}},7349,"Acueducto de Ticoman 1044","Unidad habitacional","Gustavo A. Madero","Distrito Federal","Ciudad de México",7311,9,7311,null,31,5,1090,"Urbano",7]
[{"$f":"IF(C852=base!$AC$2,ROW()+1,\"\")","v":{"$error":"#REF!"}},{"$f":"IF(C852=base!$W$2,ROW()+1,\"\")","v":{"$error":"#REF!"}},7350,"San Juan y Guadalupe Ticomán","Barrio","Gustavo A. Madero","Distrito Federal","Ciudad de México",7311,9,7311,null,2,5,1092,"Urbano",7]
[{"$f":"IF(C853=base!$AC$2,ROW()+1,\"\")","v":{"$error":"#REF!"}},{"$f":"IF(C853=base!$W$2,ROW()+1,\"\")","v":{"$error":"#REF!"}},7350,"Guadalupe Ticomán","Barrio","Gustavo A. Madero","Distrito Federal","Ciudad de México",7311,9,7311,null,2,5,1091,"Urbano",7]
[{"$f":"IF(C854=base!$AC$2,ROW()+1,\"\")","v":{"$error":"#REF!"}},{"$f":"IF(C854=base!$W$2,ROW()+1,\"\")","v":{"$error":"#REF!"}},7359,"San Rafael Ticomán","Barrio","Gustavo A. Madero","Distrito Federal","Ciudad de México",7311,9,7311,null,2,5,1093,"Urbano",7]
[{"$f":"IF(C855=base!$AC$2,ROW()+1,\"\")","v":{"$error":"#REF!"}},{"$f":"IF(C855=base!$W$2,ROW()+1,\"\")","v":{"$error":"#REF!"}},7360,"Juan de Dios Bátiz","Unidad habitacional","Gustavo A. Madero","Distrito Federal","Ciudad de México",7051,9,7051,null,31,5,1094,"Urbano",7]
[{"$f":"IF(C856=base!$AC$2,ROW()+1,\"\")","v":{"$error":"#REF!"}},{"$f":"IF(C856=base!$W$2,ROW()+1,\"\")","v":{"$error":"#REF!"}},7360,"San Pedro Zacatenco","Colonia","Gustavo A. Madero","Distrito Federal","Ciudad de México",7051,9,7051,null,9,5,1095,"Urbano",7]
[{"$f":"IF(C857=base!$AC$2,ROW()+1,\"\")","v":{"$error":"#REF!"}},{"$f":"IF(C857=base!$W$2,ROW()+1,\"\")","v":{"$error":"#REF!"}},7363,"Lomas de San Juan Ixhuatepec 2a Sección","Campamento","Gustavo A. Madero","Distrito Federal","Ciudad de México",7051,9,7051,null,4,5,2744,"Urbano",7]
[{"$f":"IF(C858=base!$AC$2,ROW()+1,\"\")","v":{"$error":"#REF!"}},{"$f":"IF(C858=base!$W$2,ROW()+1,\"\")","v":{"$error":"#REF!"}},7369,"Residencial Zacatenco","Colonia","Gustavo A. Madero","Distrito Federal","Ciudad de México",7051,9,7051,null,9,5,1097,"Urbano",7]
[{"$f":"IF(C859=base!$AC$2,ROW()+1,\"\")","v":{"$error":"#REF!"}},{"$f":"IF(C859=base!$W$2,ROW()+1,\"\")","v":{"$error":"#REF!"}},7370,"Capultitlan","Colonia","Gustavo A. Madero","Distrito Federal","Ciudad de México",2301,9,2301,null,9,5,1098,"Urbano",7]
[{"$f":"IF(C860=base!$AC$2,ROW()+1,\"\")","v":{"$error":"#REF!"}},{"$f":"IF(C860=base!$W$2,ROW()+1,\"\")","v":{"$error":"#REF!"}},7380,"Tlacamaca","Colonia","Gustavo A. Madero","Distrito Federal","Ciudad de México",2301,9,2301,null,9,5,1100,"Urbano",7]
[{"$f":"IF(C861=base!$AC$2,ROW()+1,\"\")","v":{"$error":"#REF!"}},{"$f":"IF(C861=base!$W$2,ROW()+1,\"\")","v":{"$error":"#REF!"}},7380,"Maximino Ávila Camacho","Colonia","Gustavo A. Madero","Distrito Federal","Ciudad de México",2301,9,2301,null,9,5,1099,"Urbano",7]
[{"$f":"IF(C862=base!$AC$2,ROW()+1,\"\")","v":{"$error":"#REF!"}},{"$f":"IF(C862=base!$W$2,ROW()+1,\"\")","v":{"$error":"#REF!"}},7400,"Salvador Díaz Mirón","Colonia","Gustavo A. Madero","Distrito Federal","Ciudad de México",7001,9,7001,null,9,5,1101,"Urbano",7]
[{"$f":"IF(C863=base!$AC$2,ROW()+1,\"\")","v":{"$error":"#REF!"}},{"$f":"IF(C863=base!$W$2,ROW()+1,\"\")","v":{"$error":"#REF!"}},7410,"Juan González Romero","Colonia","Gustavo A. Madero","Distrito Federal","Ciudad de México",7001,9,7001,null,9,5,1102,"Urbano",7]
[{"$f":"IF(C864=base!$AC$2,ROW()+1,\"\")","v":{"$error":"#REF!"}},{"$f":"IF(C864=base!$W$2,ROW()+1,\"\")","v":{"$error":"#REF!"}},7410,"Villa Hermosa","Colonia","Gustavo A. Madero","Distrito Federal","Ciudad de México",7001,9,7001,null,9,5,1103,"Urbano",7]
[{"$f":"IF(C865=base!$AC$2,ROW()+1,\"\")","v":{"$error":"#REF!"}},{"$f":"IF(C865=base!$W$2,ROW()+1,\"\")","v":{"$error":"#REF!"}},7420,"Nueva Atzacoalco","Colonia","Gustavo A. Madero","Distrito Federal","Ciudad de México",7001,9,7001,null,9,5,1106,"Urbano",7]
[{"$f":"IF(C866=base!$AC$2,ROW()+1,\"\")","v":{"$error":"#REF!"}},{"$f":"IF(C866=base!$W$2,ROW()+1,\"\")","v":{"$error":"#REF!"}},7420,"El Coyol","Colonia","Gustavo A. Madero","Distrito Federal","Ciudad de México",7001,9,7001,null,9,5,1105,"Urbano",7]
[{"$f":"IF(C867=base!$AC$2,ROW()+1,\"\")","v":{"$error":"#REF!"}},{"$f":"IF(C867=base!$W$2,ROW()+1,\"\")","v":{"$error":"#REF!"}},7430,"Del Obrero","Colonia","Gustavo A. Madero","Distrito Federal","Ciudad de México",7001,9,7001,null,9,5,1108,"Urbano",7]
[{"$f":"IF(C868=base!$AC$2,ROW()+1,\"\")","v":{"$error":"#REF!"}},{"$f":"IF(C868=base!$W$2,ROW()+1,\"\")","v":{"$error":"#REF!"}},7440,"Vasco de Quiroga","Colonia","Gustavo A. Madero","Distrito Federal","Ciudad de México",7001,9,7001,null,9,5,1109,"Urbano",7]
[{"$f":"IF(C869=base!$AC$2,ROW()+1,\"\")","v":{"$error":"#REF!"}},{"$f":"IF(C869=base!$W$2,ROW()+1,\"\")","v":{"$error":"#REF!"}},7450,"DM Nacional","Colonia","Gustavo A. Madero","Distrito Federal","Ciudad de México",7001,9,7001,null,9,5,1110,"Urbano",7]
[{"$f":"IF(C870=base!$AC$2,ROW()+1,\"\")","v":{"$error":"#REF!"}},{"$f":"IF(C870=base!$W$2,ROW()+1,\"\")","v":{"$error":"#REF!"}},7455,"Ferrocarrilera","Colonia","Gustavo A. Madero","Distrito Federal","Ciudad de México",7001,9,7001,null,9,5,1111,"Urbano",7]
[{"$f":"IF(C871=base!$AC$2,ROW()+1,\"\")","v":{"$error":"#REF!"}},{"$f":"IF(C871=base!$W$2,ROW()+1,\"\")","v":{"$error":"#REF!"}},7456,"Residencial Oriente","Conjunto habitacional","Gustavo A. Madero","Distrito Federal","Ciudad de México",7001,9,7001,null,12,5,2698,"Urbano",7]
[{"$f":"IF(C872=base!$AC$2,ROW()+1,\"\")","v":{"$error":"#REF!"}},{"$f":"IF(C872=base!$W$2,ROW()+1,\"\")","v":{"$error":"#REF!"}},7456,"LI Legislatura","Colonia","Gustavo A. Madero","Distrito Federal","Ciudad de México",7001,9,7001,null,9,5,1112,"Urbano",7]
[{"$f":"IF(C873=base!$AC$2,ROW()+1,\"\")","v":{"$error":"#REF!"}},{"$f":"IF(C873=base!$W$2,ROW()+1,\"\")","v":{"$error":"#REF!"}},7457,"El Coyol 2","Unidad habitacional","Gustavo A. Madero","Distrito Federal","Ciudad de México",7001,9,7001,null,31,5,1113,"Urbano",7]
[{"$f":"IF(C874=base!$AC$2,ROW()+1,\"\")","v":{"$error":"#REF!"}},{"$f":"IF(C874=base!$W$2,ROW()+1,\"\")","v":{"$error":"#REF!"}},7457,"José Maria Morelos y Pavón 2","Unidad habitacional","Gustavo A. Madero","Distrito Federal","Ciudad de México",7001,9,7001,null,31,5,1114,"Urbano",7]
[{"$f":"IF(C875=base!$AC$2,ROW()+1,\"\")","v":{"$error":"#REF!"}},{"$f":"IF(C875=base!$W$2,ROW()+1,\"\")","v":{"$error":"#REF!"}},7458,"Eduardo Molina","Unidad habitacional","Gustavo A. Madero","Distrito Federal","Ciudad de México",7001,9,7001,null,31,5,1115,"Urbano",7]
[{"$f":"IF(C876=base!$AC$2,ROW()+1,\"\")","v":{"$error":"#REF!"}},{"$f":"IF(C876=base!$W$2,ROW()+1,\"\")","v":{"$error":"#REF!"}},7459,"José Maria Morelos y Pavón 1","Unidad habitacional","Gustavo A. Madero","Distrito Federal","Ciudad de México",7001,9,7001,null,31,5,1116,"Urbano",7]
[{"$f":"IF(C877=base!$AC$2,ROW()+1,\"\")","v":{"$error":"#REF!"}},{"$f":"IF(C877=base!$W$2,ROW()+1,\"\")","v":{"$error":"#REF!"}},7460,"Granjas Modernas","Colonia","Gustavo A. Madero","Distrito Federal","Ciudad de México",7001,9,7001,null,9,5,1117,"Urbano",7]
[{"$f":"IF(C878=base!$AC$2,ROW()+1,\"\")","v":{"$error":"#REF!"}},{"$f":"IF(C878=base!$W$2,ROW()+1,\"\")","v":{"$error":"#REF!"}},7469,"Constitución de La República","Colonia","Gustavo A. Madero","Distrito Federal","Ciudad de México",7001,9,7001,null,9,5,1118,"Urbano",7]
[{"$f":"IF(C879=base!$AC$2,ROW()+1,\"\")","v":{"$error":"#REF!"}},{"$f":"IF(C879=base!$W$2,ROW()+1,\"\")","v":{"$error":"#REF!"}},7470,"Ampliación San Juan de Aragón","Colonia","Gustavo A. Madero","Distrito Federal","Ciudad de México",7001,9,7001,null,9,5,1119,"Urbano",7]
[{"$f":"IF(C880=base!$AC$2,ROW()+1,\"\")","v":{"$error":"#REF!"}},{"$f":"IF(C880=base!$W$2,ROW()+1,\"\")","v":{"$error":"#REF!"}},7480,"San Pedro El Chico","Colonia","Gustavo A. Madero","Distrito Federal","Ciudad de México",7001,9,7001,null,9,5,1120,"Urbano",7]
[{"$f":"IF(C881=base!$AC$2,ROW()+1,\"\")","v":{"$error":"#REF!"}},{"$f":"IF(C881=base!$W$2,ROW()+1,\"\")","v":{"$error":"#REF!"}},7500,"La Pradera","Colonia","Gustavo A. Madero","Distrito Federal","Ciudad de México",7501,9,7501,null,9,5,1122,"Urbano",7]
[{"$f":"IF(C882=base!$AC$2,ROW()+1,\"\")","v":{"$error":"#REF!"}},{"$f":"IF(C882=base!$W$2,ROW()+1,\"\")","v":{"$error":"#REF!"}},7509,"La Pradera 1a Sección","Conjunto habitacional","Gustavo A. Madero","Distrito Federal","Ciudad de México",7501,9,7501,null,12,5,1124,"Urbano",7]
[{"$f":"IF(C883=base!$AC$2,ROW()+1,\"\")","v":{"$error":"#REF!"}},{"$f":"IF(C883=base!$W$2,ROW()+1,\"\")","v":{"$error":"#REF!"}},7509,"Pradera II Sección","Colonia","Gustavo A. Madero","Distrito Federal","Ciudad de México",7501,9,7501,null,9,5,1125,"Urbano",7]
[{"$f":"IF(C884=base!$AC$2,ROW()+1,\"\")","v":{"$error":"#REF!"}},{"$f":"IF(C884=base!$W$2,ROW()+1,\"\")","v":{"$error":"#REF!"}},7510,"San Felipe de Jesús","Colonia","Gustavo A. Madero","Distrito Federal","Ciudad de México",7501,9,7501,null,9,5,1126,"Urbano",7]
[{"$f":"IF(C885=base!$AC$2,ROW()+1,\"\")","v":{"$error":"#REF!"}},{"$f":"IF(C885=base!$W$2,ROW()+1,\"\")","v":{"$error":"#REF!"}},7520,"25 de Julio","Colonia","Gustavo A. Madero","Distrito Federal","Ciudad de México",7501,9,7501,null,9,5,1128,"Urbano",7]
[{"$f":"IF(C886=base!$AC$2,ROW()+1,\"\")","v":{"$error":"#REF!"}},{"$f":"IF(C886=base!$W$2,ROW()+1,\"\")","v":{"$error":"#REF!"}},7530,"Éxito Enseñanza y Triunfo","Unidad habitacional","Gustavo A. Madero","Distrito Federal","Ciudad de México",7501,9,7501,null,31,5,1130,"Urbano",7]
[{"$f":"IF(C887=base!$AC$2,ROW()+1,\"\")","v":{"$error":"#REF!"}},{"$f":"IF(C887=base!$W$2,ROW()+1,\"\")","v":{"$error":"#REF!"}},7530,"Campestre Aragón","Colonia","Gustavo A. Madero","Distrito Federal","Ciudad de México",7501,9,7501,null,9,5,1129,"Urbano",7]
[{"$f":"IF(C888=base!$AC$2,ROW()+1,\"\")","v":{"$error":"#REF!"}},{"$f":"IF(C888=base!$W$2,ROW()+1,\"\")","v":{"$error":"#REF!"}},7540,"La Esmeralda","Colonia","Gustavo A. Madero","Distrito Federal","Ciudad de México",7501,9,7501,null,9,5,1131,"Urbano",7]
[{"$f":"IF(C889=base!$AC$2,ROW()+1,\"\")","v":{"$error":"#REF!"}},{"$f":"IF(C889=base!$W$2,ROW()+1,\"\")","v":{"$error":"#REF!"}},7548,"El Milagro","Unidad habitacional","Gustavo A. Madero","Distrito Federal","Ciudad de México",7501,9,7501,null,31,5,1132,"Urbano",7]
[{"$f":"IF(C890=base!$AC$2,ROW()+1,\"\")","v":{"$error":"#REF!"}},{"$f":"IF(C890=base!$W$2,ROW()+1,\"\")","v":{"$error":"#REF!"}},7549,"La Esmeralda 2a Sección","Unidad habitacional","Gustavo A. Madero","Distrito Federal","Ciudad de México",7501,9,7501,null,31,5,1134,"Urbano",7]
[{"$f":"IF(C891=base!$AC$2,ROW()+1,\"\")","v":{"$error":"#REF!"}},{"$f":"IF(C891=base!$W$2,ROW()+1,\"\")","v":{"$error":"#REF!"}},7549,"La Esmeralda 1a Sección","Unidad habitacional","Gustavo A. Madero","Distrito Federal","Ciudad de México",7501,9,7501,null,31,5,1133,"Urbano",7]
[{"$f":"IF(C892=base!$AC$2,ROW()+1,\"\")","v":{"$error":"#REF!"}},{"$f":"IF(C892=base!$W$2,ROW()+1,\"\")","v":{"$error":"#REF!"}},7550,"Providencia","Colonia","Gustavo A. Madero","Distrito Federal","Ciudad de México",7501,9,7501,null,9,5,1135,"Urbano",7]
[{"$f":"IF(C893=base!$AC$2,ROW()+1,\"\")","v":{"$error":"#REF!"}},{"$f":"IF(C893=base!$W$2,ROW()+1,\"\")","v":{"$error":"#REF!"}},7560,"Ampliación Providencia","Colonia","Gustavo A. Madero","Distrito Federal","Ciudad de México",7501,9,7501,null,9,5,1136,"Urbano",7]
[{"$f":"IF(C894=base!$AC$2,ROW()+1,\"\")","v":{"$error":"#REF!"}},{"$f":"IF(C894=base!$W$2,ROW()+1,\"\")","v":{"$error":"#REF!"}},7570,"Villa de Aragón","Colonia","Gustavo A. Madero","Distrito Federal","Ciudad de México",7501,9,7501,null,9,5,1137,"Urbano",7]
[{"$f":"IF(C895=base!$AC$2,ROW()+1,\"\")","v":{"$error":"#REF!"}},{"$f":"IF(C895=base!$W$2,ROW()+1,\"\")","v":{"$error":"#REF!"}},7580,"Ampliación Casas Alemán","Colonia","Gustavo A. Madero","Distrito Federal","Ciudad de México",7501,9,7501,null,9,5,1138,"Urbano",7]
[{"$f":"IF(C896=base!$AC$2,ROW()+1,\"\")","v":{"$error":"#REF!"}},{"$f":"IF(C896=base!$W$2,ROW()+1,\"\")","v":{"$error":"#REF!"}},7600,"Progreso Nacional","Colonia","Gustavo A. Madero","Distrito Federal","Ciudad de México",7601,9,7601,null,9,5,1139,"Urbano",7]
[{"$f":"IF(C897=base!$AC$2,ROW()+1,\"\")","v":{"$error":"#REF!"}},{"$f":"IF(C897=base!$W$2,ROW()+1,\"\")","v":{"$error":"#REF!"}},7620,"Santa Rosa","Colonia","Gustavo A. Madero","Distrito Federal","Ciudad de México",7601,9,7601,null,9,5,1141,"Urbano",7]
[{"$f":"IF(C898=base!$AC$2,ROW()+1,\"\")","v":{"$error":"#REF!"}},{"$f":"IF(C898=base!$W$2,ROW()+1,\"\")","v":{"$error":"#REF!"}},7630,"San José de la Escalera","Colonia","Gustavo A. Madero","Distrito Federal","Ciudad de México",7601,9,7601,null,9,5,1142,"Urbano",7]
[{"$f":"IF(C899=base!$AC$2,ROW()+1,\"\")","v":{"$error":"#REF!"}},{"$f":"IF(C899=base!$W$2,ROW()+1,\"\")","v":{"$error":"#REF!"}},7640,"Santiago Atepetlac","Colonia","Gustavo A. Madero","Distrito Federal","Ciudad de México",7601,9,7601,null,9,5,1143,"Urbano",7]
[{"$f":"IF(C900=base!$AC$2,ROW()+1,\"\")","v":{"$error":"#REF!"}},{"$f":"IF(C900=base!$W$2,ROW()+1,\"\")","v":{"$error":"#REF!"}},7650,"Ampliación Progreso Nacional","Colonia","Gustavo A. Madero","Distrito Federal","Ciudad de México",7601,9,7601,null,9,5,1144,"Urbano",7]
[{"$f":"IF(C901=base!$AC$2,ROW()+1,\"\")","v":{"$error":"#REF!"}},{"$f":"IF(C901=base!$W$2,ROW()+1,\"\")","v":{"$error":"#REF!"}},7660,"Guadalupe","Fraccionamiento","Gustavo A. Madero","Distrito Federal","Ciudad de México",7601,9,7601,null,21,5,1145,"Urbano",7]
[{"$f":"IF(C902=base!$AC$2,ROW()+1,\"\")","v":{"$error":"#REF!"}},{"$f":"IF(C902=base!$W$2,ROW()+1,\"\")","v":{"$error":"#REF!"}},7670,"Guadalupe Proletaria","Colonia","Gustavo A. Madero","Distrito Federal","Ciudad de México",7601,9,7601,null,9,5,1146,"Urbano",7]
[{"$f":"IF(C903=base!$AC$2,ROW()+1,\"\")","v":{"$error":"#REF!"}},{"$f":"IF(C903=base!$W$2,ROW()+1,\"\")","v":{"$error":"#REF!"}},7680,"Ampliación Guadalupe Proletaria","Colonia","Gustavo A. Madero","Distrito Federal","Ciudad de México",7601,9,7601,null,9,5,1147,"Urbano",7]
[{"$f":"IF(C904=base!$AC$2,ROW()+1,\"\")","v":{"$error":"#REF!"}},{"$f":"IF(C904=base!$W$2,ROW()+1,\"\")","v":{"$error":"#REF!"}},7700,"S C T Vallejo","Unidad habitacional","Gustavo A. Madero","Distrito Federal","Ciudad de México",2301,9,2301,null,31,5,2631,"Urbano",7]
[{"$f":"IF(C905=base!$AC$2,ROW()+1,\"\")","v":{"$error":"#REF!"}},{"$f":"IF(C905=base!$W$2,ROW()+1,\"\")","v":{"$error":"#REF!"}},7700,"Nueva Industrial Vallejo","Colonia","Gustavo A. Madero","Distrito Federal","Ciudad de México",2301,9,2301,null,9,5,1148,"Urbano",7]
[{"$f":"IF(C906=base!$AC$2,ROW()+1,\"\")","v":{"$error":"#REF!"}},{"$f":"IF(C906=base!$W$2,ROW()+1,\"\")","v":{"$error":"#REF!"}},7700,"Cien Metros","Unidad habitacional","Gustavo A. Madero","Distrito Federal","Ciudad de México",2301,9,2301,null,31,5,2918,"Urbano",7]
[{"$f":"IF(C907=base!$AC$2,ROW()+1,\"\")","v":{"$error":"#REF!"}},{"$f":"IF(C907=base!$W$2,ROW()+1,\"\")","v":{"$error":"#REF!"}},7707,"Siete Maravillas","Colonia","Gustavo A. Madero","Distrito Federal","Ciudad de México",2301,9,2301,null,9,5,1149,"Urbano",7]
[{"$f":"IF(C908=base!$AC$2,ROW()+1,\"\")","v":{"$error":"#REF!"}},{"$f":"IF(C908=base!$W$2,ROW()+1,\"\")","v":{"$error":"#REF!"}},7708,"Torres Lindavista","Colonia","Gustavo A. Madero","Distrito Federal","Ciudad de México",2301,9,2301,null,9,5,1150,"Urbano",7]
[{"$f":"IF(C909=base!$AC$2,ROW()+1,\"\")","v":{"$error":"#REF!"}},{"$f":"IF(C909=base!$W$2,ROW()+1,\"\")","v":{"$error":"#REF!"}},7709,"Lasalle","Unidad habitacional","Gustavo A. Madero","Distrito Federal","Ciudad de México",2301,9,2301,null,31,5,1151,"Urbano",7]
[{"$f":"IF(C910=base!$AC$2,ROW()+1,\"\")","v":{"$error":"#REF!"}},{"$f":"IF(C910=base!$W$2,ROW()+1,\"\")","v":{"$error":"#REF!"}},7710,"La Patera Vallejo","Unidad habitacional","Gustavo A. Madero","Distrito Federal","Ciudad de México",2301,9,2301,null,31,5,1152,"Urbano",7]
[{"$f":"IF(C911=base!$AC$2,ROW()+1,\"\")","v":{"$error":"#REF!"}},{"$f":"IF(C911=base!$W$2,ROW()+1,\"\")","v":{"$error":"#REF!"}},7720,"Lindavista Vallejo I Sección","Colonia","Gustavo A. Madero","Distrito Federal","Ciudad de México",2301,9,2301,null,9,5,1153,"Urbano",7]
[{"$f":"IF(C912=base!$AC$2,ROW()+1,\"\")","v":{"$error":"#REF!"}},{"$f":"IF(C912=base!$W$2,ROW()+1,\"\")","v":{"$error":"#REF!"}},7730,"Montevideo","Colonia","Gustavo A. Madero","Distrito Federal","Ciudad de México",7051,9,7051,null,9,5,1156,"Urbano",7]
[{"$f":"IF(C913=base!$AC$2,ROW()+1,\"\")","v":{"$error":"#REF!"}},{"$f":"IF(C913=base!$W$2,ROW()+1,\"\")","v":{"$error":"#REF!"}},7730,"San Bartolo Atepehuacan","Colonia","Gustavo A. Madero","Distrito Federal","Ciudad de México",7051,9,7051,null,9,5,1157,"Urbano",7]
[{"$f":"IF(C914=base!$AC$2,ROW()+1,\"\")","v":{"$error":"#REF!"}},{"$f":"IF(C914=base!$W$2,ROW()+1,\"\")","v":{"$error":"#REF!"}},7730,"Churubusco Tepeyac","Colonia","Gustavo A. Madero","Distrito Federal","Ciudad de México",7051,9,7051,null,9,5,1155,"Urbano",7]
[{"$f":"IF(C915=base!$AC$2,ROW()+1,\"\")","v":{"$error":"#REF!"}},{"$f":"IF(C915=base!$W$2,ROW()+1,\"\")","v":{"$error":"#REF!"}},7738,"Instituto Politécnico Nacional","Gran usuario","Gustavo A. Madero","Distrito Federal","Ciudad de México",7051,9,7051,null,22,5,1158,"Urbano",7]
[{"$f":"IF(C916=base!$AC$2,ROW()+1,\"\")","v":{"$error":"#REF!"}},{"$f":"IF(C916=base!$W$2,ROW()+1,\"\")","v":{"$error":"#REF!"}},7739,"Planetario Lindavista","Colonia","Gustavo A. Madero","Distrito Federal","Ciudad de México",7051,9,7051,null,9,5,1159,"Urbano",7]
[{"$f":"IF(C917=base!$AC$2,ROW()+1,\"\")","v":{"$error":"#REF!"}},{"$f":"IF(C917=base!$W$2,ROW()+1,\"\")","v":{"$error":"#REF!"}},7740,"Valle del Tepeyac","Colonia","Gustavo A. Madero","Distrito Federal","Ciudad de México",7051,9,7051,null,9,5,1160,"Urbano",7]
[{"$f":"IF(C918=base!$AC$2,ROW()+1,\"\")","v":{"$error":"#REF!"}},{"$f":"IF(C918=base!$W$2,ROW()+1,\"\")","v":{"$error":"#REF!"}},7750,"Nueva Vallejo","Colonia","Gustavo A. Madero","Distrito Federal","Ciudad de México",2301,9,2301,null,9,5,1161,"Urbano",7]
[{"$f":"IF(C919=base!$AC$2,ROW()+1,\"\")","v":{"$error":"#REF!"}},{"$f":"IF(C919=base!$W$2,ROW()+1,\"\")","v":{"$error":"#REF!"}},7754,"Lindavista Vallejo III Sección","Colonia","Gustavo A. Madero","Distrito Federal","Ciudad de México",2301,9,2301,null,9,5,2890,"Urbano",7]
[{"$f":"IF(C920=base!$AC$2,ROW()+1,\"\")","v":{"$error":"#REF!"}},{"$f":"IF(C920=base!$W$2,ROW()+1,\"\")","v":{"$error":"#REF!"}},7755,"Lindavista Vallejo II Sección","Colonia","Gustavo A. Madero","Distrito Federal","Ciudad de México",2301,9,2301,null,9,5,2889,"Urbano",7]
[{"$f":"IF(C921=base!$AC$2,ROW()+1,\"\")","v":{"$error":"#REF!"}},{"$f":"IF(C921=base!$W$2,ROW()+1,\"\")","v":{"$error":"#REF!"}},7760,"Magdalena de las Salinas","Colonia","Gustavo A. Madero","Distrito Federal","Ciudad de México",2301,9,2301,null,9,5,1162,"Urbano",7]
[{"$f":"IF(C922=base!$AC$2,ROW()+1,\"\")","v":{"$error":"#REF!"}},{"$f":"IF(C922=base!$W$2,ROW()+1,\"\")","v":{"$error":"#REF!"}},7770,"Panamericana","Colonia","Gustavo A. Madero","Distrito Federal","Ciudad de México",2301,9,2301,null,9,5,1163,"Urbano",7]
[{"$f":"IF(C923=base!$AC$2,ROW()+1,\"\")","v":{"$error":"#REF!"}},{"$f":"IF(C923=base!$W$2,ROW()+1,\"\")","v":{"$error":"#REF!"}},7770,"Ampliación Panamericana","Colonia","Gustavo A. Madero","Distrito Federal","Ciudad de México",2301,9,2301,null,9,5,1164,"Urbano",7]
[{"$f":"IF(C924=base!$AC$2,ROW()+1,\"\")","v":{"$error":"#REF!"}},{"$f":"IF(C924=base!$W$2,ROW()+1,\"\")","v":{"$error":"#REF!"}},7780,"Defensores de La República","Colonia","Gustavo A. Madero","Distrito Federal","Ciudad de México",2301,9,2301,null,9,5,1166,"Urbano",7]
[{"$f":"IF(C925=base!$AC$2,ROW()+1,\"\")","v":{"$error":"#REF!"}},{"$f":"IF(C925=base!$W$2,ROW()+1,\"\")","v":{"$error":"#REF!"}},7780,"Héroe de Nacozari","Colonia","Gustavo A. Madero","Distrito Federal","Ciudad de México",2301,9,2301,null,9,5,1167,"Urbano",7]
[{"$f":"IF(C926=base!$AC$2,ROW()+1,\"\")","v":{"$error":"#REF!"}},{"$f":"IF(C926=base!$W$2,ROW()+1,\"\")","v":{"$error":"#REF!"}},7790,"Vallejo Poniente","Colonia","Gustavo A. Madero","Distrito Federal","Ciudad de México",2301,9,2301,null,9,5,1169,"Urbano",7]
[{"$f":"IF(C927=base!$AC$2,ROW()+1,\"\")","v":{"$error":"#REF!"}},{"$f":"IF(C927=base!$W$2,ROW()+1,\"\")","v":{"$error":"#REF!"}},7790,"Guadalupe Victoria","Colonia","Gustavo A. Madero","Distrito Federal","Ciudad de México",2301,9,2301,null,9,5,1168,"Urbano",7]
[{"$f":"IF(C928=base!$AC$2,ROW()+1,\"\")","v":{"$error":"#REF!"}},{"$f":"IF(C928=base!$W$2,ROW()+1,\"\")","v":{"$error":"#REF!"}},7800,"Industrial","Colonia","Gustavo A. Madero","Distrito Federal","Ciudad de México",7001,9,7001,null,9,5,1170,"Urbano",7]
[{"$f":"IF(C929=base!$AC$2,ROW()+1,\"\")","v":{"$error":"#REF!"}},{"$f":"IF(C929=base!$W$2,ROW()+1,\"\")","v":{"$error":"#REF!"}},7810,"Estrella","Colonia","Gustavo A. Madero","Distrito Federal","Ciudad de México",7001,9,7001,null,9,5,1172,"Urbano",7]
[{"$f":"IF(C930=base!$AC$2,ROW()+1,\"\")","v":{"$error":"#REF!"}},{"$f":"IF(C930=base!$W$2,ROW()+1,\"\")","v":{"$error":"#REF!"}},7820,"Tres Estrellas","Colonia","Gustavo A. Madero","Distrito Federal","Ciudad de México",7001,9,7001,null,9,5,1175,"Urbano",7]
[{"$f":"IF(C931=base!$AC$2,ROW()+1,\"\")","v":{"$error":"#REF!"}},{"$f":"IF(C931=base!$W$2,ROW()+1,\"\")","v":{"$error":"#REF!"}},7820,"Aragón Inguarán","Colonia","Gustavo A. Madero","Distrito Federal","Ciudad de México",7001,9,7001,null,9,5,1174,"Urbano",7]
[{"$f":"IF(C932=base!$AC$2,ROW()+1,\"\")","v":{"$error":"#REF!"}},{"$f":"IF(C932=base!$W$2,ROW()+1,\"\")","v":{"$error":"#REF!"}},7830,"Gertrudis Sánchez 1a Sección","Colonia","Gustavo A. Madero","Distrito Federal","Ciudad de México",7001,9,7001,null,9,5,1176,"Urbano",7]
[{"$f":"IF(C933=base!$AC$2,ROW()+1,\"\")","v":{"$error":"#REF!"}},{"$f":"IF(C933=base!$W$2,ROW()+1,\"\")","v":{"$error":"#REF!"}},7838,"Gertrudis Sánchez 3a Sección","Colonia","Gustavo A. Madero","Distrito Federal","Ciudad de México",7001,9,7001,null,9,5,2886,"Urbano",7]
[{"$f":"IF(C934=base!$AC$2,ROW()+1,\"\")","v":{"$error":"#REF!"}},{"$f":"IF(C934=base!$W$2,ROW()+1,\"\")","v":{"$error":"#REF!"}},7839,"Gertrudis Sánchez 2a Sección","Colonia","Gustavo A. Madero","Distrito Federal","Ciudad de México",7001,9,7001,null,9,5,1178,"Urbano",7]
[{"$f":"IF(C935=base!$AC$2,ROW()+1,\"\")","v":{"$error":"#REF!"}},{"$f":"IF(C935=base!$W$2,ROW()+1,\"\")","v":{"$error":"#REF!"}},7840,"7 de Noviembre","Colonia","Gustavo A. Madero","Distrito Federal","Ciudad de México",7001,9,7001,null,9,5,1180,"Urbano",7]
[{"$f":"IF(C936=base!$AC$2,ROW()+1,\"\")","v":{"$error":"#REF!"}},{"$f":"IF(C936=base!$W$2,ROW()+1,\"\")","v":{"$error":"#REF!"}},7840,"Guadalupe Tepeyac","Colonia","Gustavo A. Madero","Distrito Federal","Ciudad de México",7001,9,7001,null,9,5,1179,"Urbano",7]
[{"$f":"IF(C937=base!$AC$2,ROW()+1,\"\")","v":{"$error":"#REF!"}},{"$f":"IF(C937=base!$W$2,ROW()+1,\"\")","v":{"$error":"#REF!"}},7850,"Bondojito","Colonia","Gustavo A. Madero","Distrito Federal","Ciudad de México",7001,9,7001,null,9,5,1181,"Urbano",7]
[{"$f":"IF(C938=base!$AC$2,ROW()+1,\"\")","v":{"$error":"#REF!"}},{"$f":"IF(C938=base!$W$2,ROW()+1,\"\")","v":{"$error":"#REF!"}},7850,"Faja de Oro","Colonia","Gustavo A. Madero","Distrito Federal","Ciudad de México",7001,9,7001,null,9,5,1182,"Urbano",7]
[{"$f":"IF(C939=base!$AC$2,ROW()+1,\"\")","v":{"$error":"#REF!"}},{"$f":"IF(C939=base!$W$2,ROW()+1,\"\")","v":{"$error":"#REF!"}},7858,"Ampliación Emiliano Zapata","Colonia","Gustavo A. Madero","Distrito Federal","Ciudad de México",7001,9,7001,null,9,5,1183,"Urbano",7]
[{"$f":"IF(C940=base!$AC$2,ROW()+1,\"\")","v":{"$error":"#REF!"}},{"$f":"IF(C940=base!$W$2,ROW()+1,\"\")","v":{"$error":"#REF!"}},7859,"Ampliación Mártires de Río Blanco","Colonia","Gustavo A. Madero","Distrito Federal","Ciudad de México",7001,9,7001,null,9,5,1184,"Urbano",7]
[{"$f":"IF(C941=base!$AC$2,ROW()+1,\"\")","v":{"$error":"#REF!"}},{"$f":"IF(C941=base!$W$2,ROW()+1,\"\")","v":{"$error":"#REF!"}},7860,"La Joyita","Colonia","Gustavo A. Madero","Distrito Federal","Ciudad de México",7001,9,7001,null,9,5,1185,"Urbano",7]
[{"$f":"IF(C942=base!$AC$2,ROW()+1,\"\")","v":{"$error":"#REF!"}},{"$f":"IF(C942=base!$W$2,ROW()+1,\"\")","v":{"$error":"#REF!"}},7860,"Tablas de San Agustín","Colonia","Gustavo A. Madero","Distrito Federal","Ciudad de México",7001,9,7001,null,9,5,1187,"Urbano",7]
[{"$f":"IF(C943=base!$AC$2,ROW()+1,\"\")","v":{"$error":"#REF!"}},{"$f":"IF(C943=base!$W$2,ROW()+1,\"\")","v":{"$error":"#REF!"}},7869,"Belisario Domínguez","Colonia","Gustavo A. Madero","Distrito Federal","Ciudad de México",7001,9,7001,null,9,5,1188,"Urbano",7]
[{"$f":"IF(C944=base!$AC$2,ROW()+1,\"\")","v":{"$error":"#REF!"}},{"$f":"IF(C944=base!$W$2,ROW()+1,\"\")","v":{"$error":"#REF!"}},7870,"Vallejo","Colonia","Gustavo A. Madero","Distrito Federal","Ciudad de México",7001,9,7001,null,9,5,1190,"Urbano",7]
[{"$f":"IF(C945=base!$AC$2,ROW()+1,\"\")","v":{"$error":"#REF!"}},{"$f":"IF(C945=base!$W$2,ROW()+1,\"\")","v":{"$error":"#REF!"}},7870,"Guadalupe Insurgentes","Colonia","Gustavo A. Madero","Distrito Federal","Ciudad de México",7001,9,7001,null,9,5,1189,"Urbano",7]
[{"$f":"IF(C946=base!$AC$2,ROW()+1,\"\")","v":{"$error":"#REF!"}},{"$f":"IF(C946=base!$W$2,ROW()+1,\"\")","v":{"$error":"#REF!"}},7880,"Mártires de Río Blanco","Colonia","Gustavo A. Madero","Distrito Federal","Ciudad de México",7001,9,7001,null,9,5,1191,"Urbano",7]
[{"$f":"IF(C947=base!$AC$2,ROW()+1,\"\")","v":{"$error":"#REF!"}},{"$f":"IF(C947=base!$W$2,ROW()+1,\"\")","v":{"$error":"#REF!"}},7889,"Emiliano Zapata","Colonia","Gustavo A. Madero","Distrito Federal","Ciudad de México",7001,9,7001,null,9,5,1192,"Urbano",7]
[{"$f":"IF(C948=base!$AC$2,ROW()+1,\"\")","v":{"$error":"#REF!"}},{"$f":"IF(C948=base!$W$2,ROW()+1,\"\")","v":{"$error":"#REF!"}},7890,"Cuchilla la Joya","Colonia","Gustavo A. Madero","Distrito Federal","Ciudad de México",7001,9,7001,null,9,5,1193,"Urbano",7]
[{"$f":"IF(C949=base!$AC$2,ROW()+1,\"\")","v":{"$error":"#REF!"}},{"$f":"IF(C949=base!$W$2,ROW()+1,\"\")","v":{"$error":"#REF!"}},7890,"Nueva Tenochtitlan","Colonia","Gustavo A. Madero","Distrito Federal","Ciudad de México",7001,9,7001,null,9,5,1195,"Urbano",7]
[{"$f":"IF(C950=base!$AC$2,ROW()+1,\"\")","v":{"$error":"#REF!"}},{"$f":"IF(C950=base!$W$2,ROW()+1,\"\")","v":{"$error":"#REF!"}},7890,"La Joya","Colonia","Gustavo A. Madero","Distrito Federal","Ciudad de México",7001,9,7001,null,9,5,1194,"Urbano",7]
[{"$f":"IF(C951=base!$AC$2,ROW()+1,\"\")","v":{"$error":"#REF!"}},{"$f":"IF(C951=base!$W$2,ROW()+1,\"\")","v":{"$error":"#REF!"}},7899,"La Malinche","Colonia","Gustavo A. Madero","Distrito Federal","Ciudad de México",7001,9,7001,null,9,5,1196,"Urbano",7]
[{"$f":"IF(C952=base!$AC$2,ROW()+1,\"\")","v":{"$error":"#REF!"}},{"$f":"IF(C952=base!$W$2,ROW()+1,\"\")","v":{"$error":"#REF!"}},7900,"Cuchilla del Tesoro","Colonia","Gustavo A. Madero","Distrito Federal","Ciudad de México",7981,9,7981,null,9,5,1197,"Urbano",7]
[{"$f":"IF(C953=base!$AC$2,ROW()+1,\"\")","v":{"$error":"#REF!"}},{"$f":"IF(C953=base!$W$2,ROW()+1,\"\")","v":{"$error":"#REF!"}},7909,"Frente Cuchilla del Tesoro","Unidad habitacional","Gustavo A. Madero","Distrito Federal","Ciudad de México",7981,9,7981,null,31,5,1198,"Urbano",7]
[{"$f":"IF(C954=base!$AC$2,ROW()+1,\"\")","v":{"$error":"#REF!"}},{"$f":"IF(C954=base!$W$2,ROW()+1,\"\")","v":{"$error":"#REF!"}},7910,"San Juan de Aragón VII Sección","Colonia","Gustavo A. Madero","Distrito Federal","Ciudad de México",7981,9,7981,null,9,5,1199,"Urbano",7]
[{"$f":"IF(C955=base!$AC$2,ROW()+1,\"\")","v":{"$error":"#REF!"}},{"$f":"IF(C955=base!$W$2,ROW()+1,\"\")","v":{"$error":"#REF!"}},7918,"San Juan de Aragón VI Sección","Colonia","Gustavo A. Madero","Distrito Federal","Ciudad de México",7981,9,7981,null,9,5,1200,"Urbano",7]
[{"$f":"IF(C956=base!$AC$2,ROW()+1,\"\")","v":{"$error":"#REF!"}},{"$f":"IF(C956=base!$W$2,ROW()+1,\"\")","v":{"$error":"#REF!"}},7919,"Ex Ejido San Juan de Aragón Sector 32","Colonia","Gustavo A. Madero","Distrito Federal","Ciudad de México",7981,9,7981,null,9,5,1201,"Urbano",7]
[{"$f":"IF(C957=base!$AC$2,ROW()+1,\"\")","v":{"$error":"#REF!"}},{"$f":"IF(C957=base!$W$2,ROW()+1,\"\")","v":{"$error":"#REF!"}},7920,"San Juan de Aragón","Colonia","Gustavo A. Madero","Distrito Federal","Ciudad de México",7981,9,7981,null,9,5,1203,"Urbano",7]
[{"$f":"IF(C958=base!$AC$2,ROW()+1,\"\")","v":{"$error":"#REF!"}},{"$f":"IF(C958=base!$W$2,ROW()+1,\"\")","v":{"$error":"#REF!"}},7920,"El Olivo","Colonia","Gustavo A. Madero","Distrito Federal","Ciudad de México",7981,9,7981,null,9,5,1202,"Urbano",7]
[{"$f":"IF(C959=base!$AC$2,ROW()+1,\"\")","v":{"$error":"#REF!"}},{"$f":"IF(C959=base!$W$2,ROW()+1,\"\")","v":{"$error":"#REF!"}},7930,"Indeco","Colonia","Gustavo A. Madero","Distrito Federal","Ciudad de México",7981,9,7981,null,9,5,1204,"Urbano",7]
[{"$f":"IF(C960=base!$AC$2,ROW()+1,\"\")","v":{"$error":"#REF!"}},{"$f":"IF(C960=base!$W$2,ROW()+1,\"\")","v":{"$error":"#REF!"}},7939,"Héroes de Chapultepec","Colonia","Gustavo A. Madero","Distrito Federal","Ciudad de México",7981,9,7981,null,9,5,1205,"Urbano",7]
[{"$f":"IF(C961=base!$AC$2,ROW()+1,\"\")","v":{"$error":"#REF!"}},{"$f":"IF(C961=base!$W$2,ROW()+1,\"\")","v":{"$error":"#REF!"}},7940,"Ex Ejido San Juan de Aragón Sector 33","Colonia","Gustavo A. Madero","Distrito Federal","Ciudad de México",7981,9,7981,null,9,5,1206,"Urbano",7]
[{"$f":"IF(C962=base!$AC$2,ROW()+1,\"\")","v":{"$error":"#REF!"}},{"$f":"IF(C962=base!$W$2,ROW()+1,\"\")","v":{"$error":"#REF!"}},7950,"San Juan de Aragón","Pueblo","Gustavo A. Madero","Distrito Federal","Ciudad de México",7981,9,7981,null,28,5,1207,"Urbano",7]
[{"$f":"IF(C963=base!$AC$2,ROW()+1,\"\")","v":{"$error":"#REF!"}},{"$f":"IF(C963=base!$W$2,ROW()+1,\"\")","v":{"$error":"#REF!"}},7958,"La Cuchilla","Unidad habitacional","Gustavo A. Madero","Distrito Federal","Ciudad de México",7981,9,7981,null,31,5,1208,"Urbano",7]
[{"$f":"IF(C964=base!$AC$2,ROW()+1,\"\")","v":{"$error":"#REF!"}},{"$f":"IF(C964=base!$W$2,ROW()+1,\"\")","v":{"$error":"#REF!"}},7959,"Aragón FOVISSSTE","Unidad habitacional","Gustavo A. Madero","Distrito Federal","Ciudad de México",7981,9,7981,null,31,5,1209,"Urbano",7]
[{"$f":"IF(C965=base!$AC$2,ROW()+1,\"\")","v":{"$error":"#REF!"}},{"$f":"IF(C965=base!$W$2,ROW()+1,\"\")","v":{"$error":"#REF!"}},7960,"Ex Escuela de Tiro","Colonia","Gustavo A. Madero","Distrito Federal","Ciudad de México",7981,9,7981,null,9,5,1212,"Urbano",7]
[{"$f":"IF(C966=base!$AC$2,ROW()+1,\"\")","v":{"$error":"#REF!"}},{"$f":"IF(C966=base!$W$2,ROW()+1,\"\")","v":{"$error":"#REF!"}},7960,"Fernando Casas Alemán","Colonia","Gustavo A. Madero","Distrito Federal","Ciudad de México",7981,9,7981,null,9,5,1213,"Urbano",7]
[{"$f":"IF(C967=base!$AC$2,ROW()+1,\"\")","v":{"$error":"#REF!"}},{"$f":"IF(C967=base!$W$2,ROW()+1,\"\")","v":{"$error":"#REF!"}},7960,"Héroes de Cerro Prieto","Colonia","Gustavo A. Madero","Distrito Federal","Ciudad de México",7981,9,7981,null,9,5,1211,"Urbano",7]
[{"$f":"IF(C968=base!$AC$2,ROW()+1,\"\")","v":{"$error":"#REF!"}},{"$f":"IF(C968=base!$W$2,ROW()+1,\"\")","v":{"$error":"#REF!"}},7969,"San Juan de Aragón I Sección","Colonia","Gustavo A. Madero","Distrito Federal","Ciudad de México",7981,9,7981,null,9,5,1215,"Urbano",7]
[{"$f":"IF(C969=base!$AC$2,ROW()+1,\"\")","v":{"$error":"#REF!"}},{"$f":"IF(C969=base!$W$2,ROW()+1,\"\")","v":{"$error":"#REF!"}},7969,"San Juan de Aragón II Sección","Colonia","Gustavo A. Madero","Distrito Federal","Ciudad de México",7981,9,7981,null,9,5,1216,"Urbano",7]
[{"$f":"IF(C970=base!$AC$2,ROW()+1,\"\")","v":{"$error":"#REF!"}},{"$f":"IF(C970=base!$W$2,ROW()+1,\"\")","v":{"$error":"#REF!"}},7970,"San Juan de Aragón III Sección","Colonia","Gustavo A. Madero","Distrito Federal","Ciudad de México",7981,9,7981,null,9,5,1217,"Urbano",7]
[{"$f":"IF(C971=base!$AC$2,ROW()+1,\"\")","v":{"$error":"#REF!"}},{"$f":"IF(C971=base!$W$2,ROW()+1,\"\")","v":{"$error":"#REF!"}},7979,"San Juan de Aragón IV Sección","Colonia","Gustavo A. Madero","Distrito Federal","Ciudad de México",7981,9,7981,null,9,5,1218,"Urbano",7]
[{"$f":"IF(C972=base!$AC$2,ROW()+1,\"\")","v":{"$error":"#REF!"}},{"$f":"IF(C972=base!$W$2,ROW()+1,\"\")","v":{"$error":"#REF!"}},7979,"San Juan de Aragón V Sección","Colonia","Gustavo A. Madero","Distrito Federal","Ciudad de México",7981,9,7981,null,9,5,1219,"Urbano",7]
[{"$f":"IF(C973=base!$AC$2,ROW()+1,\"\")","v":{"$error":"#REF!"}},{"$f":"IF(C973=base!$W$2,ROW()+1,\"\")","v":{"$error":"#REF!"}},7980,"Modulo Social FOVISSSTE","Unidad habitacional","Gustavo A. Madero","Distrito Federal","Ciudad de México",7981,9,7981,null,31,5,1228,"Urbano",7]
[{"$f":"IF(C974=base!$AC$2,ROW()+1,\"\")","v":{"$error":"#REF!"}},{"$f":"IF(C974=base!$W$2,ROW()+1,\"\")","v":{"$error":"#REF!"}},7980,"Narciso Bassols","Colonia","Gustavo A. Madero","Distrito Federal","Ciudad de México",7981,9,7981,null,9,5,1220,"Urbano",7]
[{"$f":"IF(C975=base!$AC$2,ROW()+1,\"\")","v":{"$error":"#REF!"}},{"$f":"IF(C975=base!$W$2,ROW()+1,\"\")","v":{"$error":"#REF!"}},7990,"C.T.M. Aragón","Colonia","Gustavo A. Madero","Distrito Federal","Ciudad de México",7981,9,7981,null,9,5,1222,"Urbano",7]
[{"$f":"IF(C976=base!$AC$2,ROW()+1,\"\")","v":{"$error":"#REF!"}},{"$f":"IF(C976=base!$W$2,ROW()+1,\"\")","v":{"$error":"#REF!"}},8000,"Gabriel Ramos Millán Sección Bramadero","Colonia","Iztacalco","Distrito Federal","Ciudad de México",8231,9,8231,null,9,6,1233,"Urbano",8]
[{"$f":"IF(C977=base!$AC$2,ROW()+1,\"\")","v":{"$error":"#REF!"}},{"$f":"IF(C977=base!$W$2,ROW()+1,\"\")","v":{"$error":"#REF!"}},8009,"Delegación Política Iztacalco","Gran usuario","Iztacalco","Distrito Federal","Ciudad de México",8231,9,8231,null,22,6,1235,"Urbano",8]
[{"$f":"IF(C978=base!$AC$2,ROW()+1,\"\")","v":{"$error":"#REF!"}},{"$f":"IF(C978=base!$W$2,ROW()+1,\"\")","v":{"$error":"#REF!"}},8010,"Ex-Ejido de La Magdalena Mixiuhca","Colonia","Iztacalco","Distrito Federal","Ciudad de México",8231,9,8231,null,9,6,1237,"Urbano",8]
[{"$f":"IF(C979=base!$AC$2,ROW()+1,\"\")","v":{"$error":"#REF!"}},{"$f":"IF(C979=base!$W$2,ROW()+1,\"\")","v":{"$error":"#REF!"}},8020,"Ampliación Gabriel Ramos Millán","Colonia","Iztacalco","Distrito Federal","Ciudad de México",8231,9,8231,null,9,6,1238,"Urbano",8]
[{"$f":"IF(C980=base!$AC$2,ROW()+1,\"\")","v":{"$error":"#REF!"}},{"$f":"IF(C980=base!$W$2,ROW()+1,\"\")","v":{"$error":"#REF!"}},8029,"Mujeres Ilustres","Unidad habitacional","Iztacalco","Distrito Federal","Ciudad de México",8231,9,8231,null,31,6,1240,"Urbano",8]
[{"$f":"IF(C981=base!$AC$2,ROW()+1,\"\")","v":{"$error":"#REF!"}},{"$f":"IF(C981=base!$W$2,ROW()+1,\"\")","v":{"$error":"#REF!"}},8030,"Gabriel Ramos Millán Sección Cuchilla","Colonia","Iztacalco","Distrito Federal","Ciudad de México",8231,9,8231,null,9,6,1241,"Urbano",8]
[{"$f":"IF(C982=base!$AC$2,ROW()+1,\"\")","v":{"$error":"#REF!"}},{"$f":"IF(C982=base!$W$2,ROW()+1,\"\")","v":{"$error":"#REF!"}},8040,"Talleres","Unidad habitacional","Iztacalco","Distrito Federal","Ciudad de México",8231,9,8231,null,31,6,2689,"Urbano",8]
[{"$f":"IF(C983=base!$AC$2,ROW()+1,\"\")","v":{"$error":"#REF!"}},{"$f":"IF(C983=base!$W$2,ROW()+1,\"\")","v":{"$error":"#REF!"}},8040,"Carlos Zapata Vela","Colonia","Iztacalco","Distrito Federal","Ciudad de México",8231,9,8231,null,9,6,1242,"Urbano",8]
[{"$f":"IF(C984=base!$AC$2,ROW()+1,\"\")","v":{"$error":"#REF!"}},{"$f":"IF(C984=base!$W$2,ROW()+1,\"\")","v":{"$error":"#REF!"}},8100,"Agrícola Pantitlán","Colonia","Iztacalco","Distrito Federal","Ciudad de México",8231,9,8231,null,9,6,1244,"Urbano",8]
[{"$f":"IF(C985=base!$AC$2,ROW()+1,\"\")","v":{"$error":"#REF!"}},{"$f":"IF(C985=base!$W$2,ROW()+1,\"\")","v":{"$error":"#REF!"}},8160,"Agua Caliente","Unidad habitacional","Iztacalco","Distrito Federal","Ciudad de México",8231,9,8231,null,31,6,1245,"Urbano",8]
[{"$f":"IF(C986=base!$AC$2,ROW()+1,\"\")","v":{"$error":"#REF!"}},{"$f":"IF(C986=base!$W$2,ROW()+1,\"\")","v":{"$error":"#REF!"}},8170,"Las Rosas","Conjunto habitacional","Iztacalco","Distrito Federal","Ciudad de México",8231,9,8231,null,12,6,1246,"Urbano",8]
[{"$f":"IF(C987=base!$AC$2,ROW()+1,\"\")","v":{"$error":"#REF!"}},{"$f":"IF(C987=base!$W$2,ROW()+1,\"\")","v":{"$error":"#REF!"}},8180,"Residencial Zaragoza","Conjunto habitacional","Iztacalco","Distrito Federal","Ciudad de México",8231,9,8231,null,12,6,1247,"Urbano",8]
[{"$f":"IF(C988=base!$AC$2,ROW()+1,\"\")","v":{"$error":"#REF!"}},{"$f":"IF(C988=base!$W$2,ROW()+1,\"\")","v":{"$error":"#REF!"}},8188,"Belisario Domínguez INFONAVIT","Unidad habitacional","Iztacalco","Distrito Federal","Ciudad de México",8231,9,8231,null,31,6,1248,"Urbano",8]
[{"$f":"IF(C989=base!$AC$2,ROW()+1,\"\")","v":{"$error":"#REF!"}},{"$f":"IF(C989=base!$W$2,ROW()+1,\"\")","v":{"$error":"#REF!"}},8189,"Flores Magón INFONAVIT","Unidad habitacional","Iztacalco","Distrito Federal","Ciudad de México",8231,9,8231,null,31,6,1249,"Urbano",8]
[{"$f":"IF(C990=base!$AC$2,ROW()+1,\"\")","v":{"$error":"#REF!"}},{"$f":"IF(C990=base!$W$2,ROW()+1,\"\")","v":{"$error":"#REF!"}},8200,"Viaducto Piedad","Colonia","Iztacalco","Distrito Federal","Ciudad de México",8231,9,8231,null,9,6,1250,"Urbano",8]
[{"$f":"IF(C991=base!$AC$2,ROW()+1,\"\")","v":{"$error":"#REF!"}},{"$f":"IF(C991=base!$W$2,ROW()+1,\"\")","v":{"$error":"#REF!"}},8210,"Nueva Santa Anita","Colonia","Iztacalco","Distrito Federal","Ciudad de México",8231,9,8231,null,9,6,1251,"Urbano",8]
[{"$f":"IF(C992=base!$AC$2,ROW()+1,\"\")","v":{"$error":"#REF!"}},{"$f":"IF(C992=base!$W$2,ROW()+1,\"\")","v":{"$error":"#REF!"}},8220,"San Pedro","Barrio","Iztacalco","Distrito Federal","Ciudad de México",8231,9,8231,null,2,6,1252,"Urbano",8]
[{"$f":"IF(C993=base!$AC$2,ROW()+1,\"\")","v":{"$error":"#REF!"}},{"$f":"IF(C993=base!$W$2,ROW()+1,\"\")","v":{"$error":"#REF!"}},8230,"San Francisco Xicaltongo","Barrio","Iztacalco","Distrito Federal","Ciudad de México",8231,9,8231,null,2,6,1253,"Urbano",8]
[{"$f":"IF(C994=base!$AC$2,ROW()+1,\"\")","v":{"$error":"#REF!"}},{"$f":"IF(C994=base!$W$2,ROW()+1,\"\")","v":{"$error":"#REF!"}},8240,"Santiago Norte","Barrio","Iztacalco","Distrito Federal","Ciudad de México",8231,9,8231,null,2,6,1254,"Urbano",8]
[{"$f":"IF(C995=base!$AC$2,ROW()+1,\"\")","v":{"$error":"#REF!"}},{"$f":"IF(C995=base!$W$2,ROW()+1,\"\")","v":{"$error":"#REF!"}},8300,"Santa Anita","Colonia","Iztacalco","Distrito Federal","Ciudad de México",8231,9,8231,null,9,6,1255,"Urbano",8]
[{"$f":"IF(C996=base!$AC$2,ROW()+1,\"\")","v":{"$error":"#REF!"}},{"$f":"IF(C996=base!$W$2,ROW()+1,\"\")","v":{"$error":"#REF!"}},8310,"La Cruz","Colonia","Iztacalco","Distrito Federal","Ciudad de México",8231,9,8231,null,9,6,1256,"Urbano",8]
[{"$f":"IF(C997=base!$AC$2,ROW()+1,\"\")","v":{"$error":"#REF!"}},{"$f":"IF(C997=base!$W$2,ROW()+1,\"\")","v":{"$error":"#REF!"}},8320,"Fraccionamiento Coyuya","Colonia","Iztacalco","Distrito Federal","Ciudad de México",8231,9,8231,null,9,6,1257,"Urbano",8]
[{"$f":"IF(C998=base!$AC$2,ROW()+1,\"\")","v":{"$error":"#REF!"}},{"$f":"IF(C998=base!$W$2,ROW()+1,\"\")","v":{"$error":"#REF!"}},8400,"Granjas Princess","Condominio","Iztacalco","Distrito Federal","Ciudad de México",8231,9,8231,null,10,6,1259,"Urbano",8]
[{"$f":"IF(C999=base!$AC$2,ROW()+1,\"\")","v":{"$error":"#REF!"}},{"$f":"IF(C999=base!$W$2,ROW()+1,\"\")","v":{"$error":"#REF!"}},8400,"Granjas México","Colonia","Iztacalco","Distrito Federal","Ciudad de México",8231,9,8231,null,9,6,1258,"Urbano",8]
[{"$f":"IF(C1000=base!$AC$2,ROW()+1,\"\")","v":{"$error":"#REF!"}},{"$f":"IF(C1000=base!$W$2,ROW()+1,\"\")","v":{"$error":"#REF!"}},8400,"Mario Moreno","Condominio","Iztacalco","Distrito Federal","Ciudad de México",8231,9,8231,null,10,6,1260,"Urbano",8]
[{"$f":"IF(C1001=base!$AC$2,ROW()+1,\"\")","v":{"$error":"#REF!"}},{"$f":"IF(C1001=base!$W$2,ROW()+1,\"\")","v":{"$error":"#REF!"}},8420,"Cuchilla Agrícola Oriental","Colonia","Iztacalco","Distrito Federal","Ciudad de México",8231,9,8231,null,9,6,1262,"Urbano",8]
[{"$f":"IF(C1002=base!$AC$2,ROW()+1,\"\")","v":{"$error":"#REF!"}},{"$f":"IF(C1002=base!$W$2,ROW()+1,\"\")","v":{"$error":"#REF!"}},8500,"Agrícola Oriental","Colonia","Iztacalco","Distrito Federal","Ciudad de México",8231,9,8231,null,9,6,1263,"Urbano",8]
[{"$f":"IF(C1003=base!$AC$2,ROW()+1,\"\")","v":{"$error":"#REF!"}},{"$f":"IF(C1003=base!$W$2,ROW()+1,\"\")","v":{"$error":"#REF!"}},8510,"El Rodeo","Colonia","Iztacalco","Distrito Federal","Ciudad de México",8231,9,8231,null,9,6,1265,"Urbano",8]
[{"$f":"IF(C1004=base!$AC$2,ROW()+1,\"\")","v":{"$error":"#REF!"}},{"$f":"IF(C1004=base!$W$2,ROW()+1,\"\")","v":{"$error":"#REF!"}},8520,"Hermanos Blancas","Unidad habitacional","Iztacalco","Distrito Federal","Ciudad de México",8231,9,8231,null,31,6,1266,"Urbano",8]
[{"$f":"IF(C1005=base!$AC$2,ROW()+1,\"\")","v":{"$error":"#REF!"}},{"$f":"IF(C1005=base!$W$2,ROW()+1,\"\")","v":{"$error":"#REF!"}},8560,"Sur 12C FOVISSSTE","Unidad habitacional","Iztacalco","Distrito Federal","Ciudad de México",8231,9,8231,null,31,6,1267,"Urbano",8]
[{"$f":"IF(C1006=base!$AC$2,ROW()+1,\"\")","v":{"$error":"#REF!"}},{"$f":"IF(C1006=base!$W$2,ROW()+1,\"\")","v":{"$error":"#REF!"}},8580,"Sur 20 INFONAVIT","Unidad habitacional","Iztacalco","Distrito Federal","Ciudad de México",8231,9,8231,null,31,6,1268,"Urbano",8]
[{"$f":"IF(C1007=base!$AC$2,ROW()+1,\"\")","v":{"$error":"#REF!"}},{"$f":"IF(C1007=base!$W$2,ROW()+1,\"\")","v":{"$error":"#REF!"}},8600,"La Asunción","Barrio","Iztacalco","Distrito Federal","Ciudad de México",8231,9,8231,null,2,6,1269,"Urbano",8]
[{"$f":"IF(C1008=base!$AC$2,ROW()+1,\"\")","v":{"$error":"#REF!"}},{"$f":"IF(C1008=base!$W$2,ROW()+1,\"\")","v":{"$error":"#REF!"}},8610,"Zapotla","Barrio","Iztacalco","Distrito Federal","Ciudad de México",8231,9,8231,null,2,6,1270,"Urbano",8]
[{"$f":"IF(C1009=base!$AC$2,ROW()+1,\"\")","v":{"$error":"#REF!"}},{"$f":"IF(C1009=base!$W$2,ROW()+1,\"\")","v":{"$error":"#REF!"}},8619,"5 de Diciembre FOVISSSTE","Unidad habitacional","Iztacalco","Distrito Federal","Ciudad de México",8231,9,8231,null,31,6,1271,"Urbano",8]
[{"$f":"IF(C1010=base!$AC$2,ROW()+1,\"\")","v":{"$error":"#REF!"}},{"$f":"IF(C1010=base!$W$2,ROW()+1,\"\")","v":{"$error":"#REF!"}},8620,"Los Reyes","Barrio","Iztacalco","Distrito Federal","Ciudad de México",8231,9,8231,null,2,6,1272,"Urbano",8]
[{"$f":"IF(C1011=base!$AC$2,ROW()+1,\"\")","v":{"$error":"#REF!"}},{"$f":"IF(C1011=base!$W$2,ROW()+1,\"\")","v":{"$error":"#REF!"}},8620,"Mercados 1","Unidad habitacional","Iztacalco","Distrito Federal","Ciudad de México",8231,9,8231,null,31,6,1273,"Urbano",8]
[{"$f":"IF(C1012=base!$AC$2,ROW()+1,\"\")","v":{"$error":"#REF!"}},{"$f":"IF(C1012=base!$W$2,ROW()+1,\"\")","v":{"$error":"#REF!"}},8620,"Mercados 2","Unidad habitacional","Iztacalco","Distrito Federal","Ciudad de México",8231,9,8231,null,31,6,1274,"Urbano",8]
[{"$f":"IF(C1013=base!$AC$2,ROW()+1,\"\")","v":{"$error":"#REF!"}},{"$f":"IF(C1013=base!$W$2,ROW()+1,\"\")","v":{"$error":"#REF!"}},8650,"San Miguel","Barrio","Iztacalco","Distrito Federal","Ciudad de México",8231,9,8231,null,2,6,1277,"Urbano",8]
[{"$f":"IF(C1014=base!$AC$2,ROW()+1,\"\")","v":{"$error":"#REF!"}},{"$f":"IF(C1014=base!$W$2,ROW()+1,\"\")","v":{"$error":"#REF!"}},8700,"Juventino Rosas","Colonia","Iztacalco","Distrito Federal","Ciudad de México",8231,9,8231,null,9,6,1278,"Urbano",8]
[{"$f":"IF(C1015=base!$AC$2,ROW()+1,\"\")","v":{"$error":"#REF!"}},{"$f":"IF(C1015=base!$W$2,ROW()+1,\"\")","v":{"$error":"#REF!"}},8710,"Tlazintla","Colonia","Iztacalco","Distrito Federal","Ciudad de México",8231,9,8231,null,9,6,1279,"Urbano",8]
[{"$f":"IF(C1016=base!$AC$2,ROW()+1,\"\")","v":{"$error":"#REF!"}},{"$f":"IF(C1016=base!$W$2,ROW()+1,\"\")","v":{"$error":"#REF!"}},8720,"Gabriel Ramos Millán Sección Tlacotal","Colonia","Iztacalco","Distrito Federal","Ciudad de México",8231,9,8231,null,9,6,1280,"Urbano",8]
[{"$f":"IF(C1017=base!$AC$2,ROW()+1,\"\")","v":{"$error":"#REF!"}},{"$f":"IF(C1017=base!$W$2,ROW()+1,\"\")","v":{"$error":"#REF!"}},8730,"Gabriel Ramos Millán","Colonia","Iztacalco","Distrito Federal","Ciudad de México",8231,9,8231,null,9,6,1281,"Urbano",8]
[{"$f":"IF(C1018=base!$AC$2,ROW()+1,\"\")","v":{"$error":"#REF!"}},{"$f":"IF(C1018=base!$W$2,ROW()+1,\"\")","v":{"$error":"#REF!"}},8760,"INPI Picos","Colonia","Iztacalco","Distrito Federal","Ciudad de México",8231,9,8231,null,9,6,1284,"Urbano",8]
[{"$f":"IF(C1019=base!$AC$2,ROW()+1,\"\")","v":{"$error":"#REF!"}},{"$f":"IF(C1019=base!$W$2,ROW()+1,\"\")","v":{"$error":"#REF!"}},8760,"Los Picos de Iztacalco Sección 2a","Colonia","Iztacalco","Distrito Federal","Ciudad de México",8231,9,8231,null,9,6,2795,"Urbano",8]
[{"$f":"IF(C1020=base!$AC$2,ROW()+1,\"\")","v":{"$error":"#REF!"}},{"$f":"IF(C1020=base!$W$2,ROW()+1,\"\")","v":{"$error":"#REF!"}},8760,"Los Picos de Iztacalco Sección 1b","Colonia","Iztacalco","Distrito Federal","Ciudad de México",8231,9,8231,null,9,6,2796,"Urbano",8]
[{"$f":"IF(C1021=base!$AC$2,ROW()+1,\"\")","v":{"$error":"#REF!"}},{"$f":"IF(C1021=base!$W$2,ROW()+1,\"\")","v":{"$error":"#REF!"}},8770,"Los Picos de Iztacalco Sección 1a","Colonia","Iztacalco","Distrito Federal","Ciudad de México",8231,9,8231,null,9,6,1285,"Urbano",8]
[{"$f":"IF(C1022=base!$AC$2,ROW()+1,\"\")","v":{"$error":"#REF!"}},{"$f":"IF(C1022=base!$W$2,ROW()+1,\"\")","v":{"$error":"#REF!"}},8800,"Santiago Sur","Barrio","Iztacalco","Distrito Federal","Ciudad de México",8231,9,8231,null,2,6,1286,"Urbano",8]
[{"$f":"IF(C1023=base!$AC$2,ROW()+1,\"\")","v":{"$error":"#REF!"}},{"$f":"IF(C1023=base!$W$2,ROW()+1,\"\")","v":{"$error":"#REF!"}},8810,"Reforma Iztaccíhuatl Norte","Colonia","Iztacalco","Distrito Federal","Ciudad de México",8231,9,8231,null,9,6,1288,"Urbano",8]
[{"$f":"IF(C1024=base!$AC$2,ROW()+1,\"\")","v":{"$error":"#REF!"}},{"$f":"IF(C1024=base!$W$2,ROW()+1,\"\")","v":{"$error":"#REF!"}},8820,"Maestros de Iztacalco","Unidad habitacional","Iztacalco","Distrito Federal","Ciudad de México",8231,9,8231,null,31,6,1289,"Urbano",8]
[{"$f":"IF(C1025=base!$AC$2,ROW()+1,\"\")","v":{"$error":"#REF!"}},{"$f":"IF(C1025=base!$W$2,ROW()+1,\"\")","v":{"$error":"#REF!"}},8820,"Santiago","Unidad habitacional","Iztacalco","Distrito Federal","Ciudad de México",8231,9,8231,null,31,6,1290,"Urbano",8]
[{"$f":"IF(C1026=base!$AC$2,ROW()+1,\"\")","v":{"$error":"#REF!"}},{"$f":"IF(C1026=base!$W$2,ROW()+1,\"\")","v":{"$error":"#REF!"}},8830,"Militar Marte","Colonia","Iztacalco","Distrito Federal","Ciudad de México",8231,9,8231,null,9,6,1291,"Urbano",8]
[{"$f":"IF(C1027=base!$AC$2,ROW()+1,\"\")","v":{"$error":"#REF!"}},{"$f":"IF(C1027=base!$W$2,ROW()+1,\"\")","v":{"$error":"#REF!"}},8840,"Reforma Iztaccíhuatl Sur","Colonia","Iztacalco","Distrito Federal","Ciudad de México",8231,9,8231,null,9,6,1292,"Urbano",8]
[{"$f":"IF(C1028=base!$AC$2,ROW()+1,\"\")","v":{"$error":"#REF!"}},{"$f":"IF(C1028=base!$W$2,ROW()+1,\"\")","v":{"$error":"#REF!"}},8900,"INFONAVIT Iztacalco","Colonia","Iztacalco","Distrito Federal","Ciudad de México",8231,9,8231,null,9,6,1293,"Urbano",8]
[{"$f":"IF(C1029=base!$AC$2,ROW()+1,\"\")","v":{"$error":"#REF!"}},{"$f":"IF(C1029=base!$W$2,ROW()+1,\"\")","v":{"$error":"#REF!"}},8910,"Santa Cruz","Barrio","Iztacalco","Distrito Federal","Ciudad de México",8231,9,8231,null,2,6,1294,"Urbano",8]
[{"$f":"IF(C1030=base!$AC$2,ROW()+1,\"\")","v":{"$error":"#REF!"}},{"$f":"IF(C1030=base!$W$2,ROW()+1,\"\")","v":{"$error":"#REF!"}},8920,"Jardines Tecma","Colonia","Iztacalco","Distrito Federal","Ciudad de México",8231,9,8231,null,9,6,1295,"Urbano",8]
[{"$f":"IF(C1031=base!$AC$2,ROW()+1,\"\")","v":{"$error":"#REF!"}},{"$f":"IF(C1031=base!$W$2,ROW()+1,\"\")","v":{"$error":"#REF!"}},8930,"Campamento 2 de Octubre","Colonia","Iztacalco","Distrito Federal","Ciudad de México",8231,9,8231,null,9,6,1296,"Urbano",8]
[{"$f":"IF(C1032=base!$AC$2,ROW()+1,\"\")","v":{"$error":"#REF!"}},{"$f":"IF(C1032=base!$W$2,ROW()+1,\"\")","v":{"$error":"#REF!"}},8930,"Mártires de Tlatelolco","Unidad habitacional","Iztacalco","Distrito Federal","Ciudad de México",8231,9,8231,null,31,6,2690,"Urbano",8]
[{"$f":"IF(C1033=base!$AC$2,ROW()+1,\"\")","v":{"$error":"#REF!"}},{"$f":"IF(C1033=base!$W$2,ROW()+1,\"\")","v":{"$error":"#REF!"}},9000,"San José","Barrio","Iztapalapa","Distrito Federal","Ciudad de México",9081,9,9081,null,2,7,1301,"Urbano",9]
[{"$f":"IF(C1034=base!$AC$2,ROW()+1,\"\")","v":{"$error":"#REF!"}},{"$f":"IF(C1034=base!$W$2,ROW()+1,\"\")","v":{"$error":"#REF!"}},9000,"Santa Bárbara","Barrio","Iztapalapa","Distrito Federal","Ciudad de México",9081,9,9081,null,2,7,1305,"Urbano",9]
[{"$f":"IF(C1035=base!$AC$2,ROW()+1,\"\")","v":{"$error":"#REF!"}},{"$f":"IF(C1035=base!$W$2,ROW()+1,\"\")","v":{"$error":"#REF!"}},9000,"San Pablo","Barrio","Iztapalapa","Distrito Federal","Ciudad de México",9081,9,9081,null,2,7,1303,"Urbano",9]
[{"$f":"IF(C1036=base!$AC$2,ROW()+1,\"\")","v":{"$error":"#REF!"}},{"$f":"IF(C1036=base!$W$2,ROW()+1,\"\")","v":{"$error":"#REF!"}},9000,"San Pedro","Barrio","Iztapalapa","Distrito Federal","Ciudad de México",9081,9,9081,null,2,7,1304,"Urbano",9]
[{"$f":"IF(C1037=base!$AC$2,ROW()+1,\"\")","v":{"$error":"#REF!"}},{"$f":"IF(C1037=base!$W$2,ROW()+1,\"\")","v":{"$error":"#REF!"}},9000,"San Lucas","Barrio","Iztapalapa","Distrito Federal","Ciudad de México",9081,9,9081,null,2,7,1302,"Urbano",9]
[{"$f":"IF(C1038=base!$AC$2,ROW()+1,\"\")","v":{"$error":"#REF!"}},{"$f":"IF(C1038=base!$W$2,ROW()+1,\"\")","v":{"$error":"#REF!"}},9000,"La Asunción","Barrio","Iztapalapa","Distrito Federal","Ciudad de México",9081,9,9081,null,2,7,1299,"Urbano",9]
[{"$f":"IF(C1039=base!$AC$2,ROW()+1,\"\")","v":{"$error":"#REF!"}},{"$f":"IF(C1039=base!$W$2,ROW()+1,\"\")","v":{"$error":"#REF!"}},9000,"San Ignacio","Barrio","Iztapalapa","Distrito Federal","Ciudad de México",9081,9,9081,null,2,7,1300,"Urbano",9]
[{"$f":"IF(C1040=base!$AC$2,ROW()+1,\"\")","v":{"$error":"#REF!"}},{"$f":"IF(C1040=base!$W$2,ROW()+1,\"\")","v":{"$error":"#REF!"}},9009,"Delegación Política Iztapalapa","Gran usuario","Iztapalapa","Distrito Federal","Ciudad de México",9081,9,9081,null,22,7,1307,"Urbano",9]
[{"$f":"IF(C1041=base!$AC$2,ROW()+1,\"\")","v":{"$error":"#REF!"}},{"$f":"IF(C1041=base!$W$2,ROW()+1,\"\")","v":{"$error":"#REF!"}},9010,"Real del Moral","Colonia","Iztapalapa","Distrito Federal","Ciudad de México",9081,9,9081,null,9,7,1308,"Urbano",9]
[{"$f":"IF(C1042=base!$AC$2,ROW()+1,\"\")","v":{"$error":"#REF!"}},{"$f":"IF(C1042=base!$W$2,ROW()+1,\"\")","v":{"$error":"#REF!"}},9020,"Dr. Alfonso Ortiz Tirado","Colonia","Iztapalapa","Distrito Federal","Ciudad de México",9081,9,9081,null,9,7,1310,"Urbano",9]
[{"$f":"IF(C1043=base!$AC$2,ROW()+1,\"\")","v":{"$error":"#REF!"}},{"$f":"IF(C1043=base!$W$2,ROW()+1,\"\")","v":{"$error":"#REF!"}},9030,"Paseos de Churubusco","Colonia","Iztapalapa","Distrito Federal","Ciudad de México",9081,9,9081,null,9,7,1314,"Urbano",9]
[{"$f":"IF(C1044=base!$AC$2,ROW()+1,\"\")","v":{"$error":"#REF!"}},{"$f":"IF(C1044=base!$W$2,ROW()+1,\"\")","v":{"$error":"#REF!"}},9040,"Central de Abasto","Colonia","Iztapalapa","Distrito Federal","Ciudad de México",9081,9,9081,null,9,7,1316,"Urbano",9]
[{"$f":"IF(C1045=base!$AC$2,ROW()+1,\"\")","v":{"$error":"#REF!"}},{"$f":"IF(C1045=base!$W$2,ROW()+1,\"\")","v":{"$error":"#REF!"}},9040,"Paseos de Churubusco FOVISSSTE","Unidad habitacional","Iztapalapa","Distrito Federal","Ciudad de México",9081,9,9081,null,31,7,1317,"Urbano",9]
[{"$f":"IF(C1046=base!$AC$2,ROW()+1,\"\")","v":{"$error":"#REF!"}},{"$f":"IF(C1046=base!$W$2,ROW()+1,\"\")","v":{"$error":"#REF!"}},9060,"Escuadrón 201","Colonia","Iztapalapa","Distrito Federal","Ciudad de México",9081,9,9081,null,9,7,1320,"Urbano",9]
[{"$f":"IF(C1047=base!$AC$2,ROW()+1,\"\")","v":{"$error":"#REF!"}},{"$f":"IF(C1047=base!$W$2,ROW()+1,\"\")","v":{"$error":"#REF!"}},9060,"Sector Popular","Colonia","Iztapalapa","Distrito Federal","Ciudad de México",9081,9,9081,null,9,7,1321,"Urbano",9]
[{"$f":"IF(C1048=base!$AC$2,ROW()+1,\"\")","v":{"$error":"#REF!"}},{"$f":"IF(C1048=base!$W$2,ROW()+1,\"\")","v":{"$error":"#REF!"}},9070,"Granjas de San Antonio","Colonia","Iztapalapa","Distrito Federal","Ciudad de México",9081,9,9081,null,9,7,1322,"Urbano",9]
[{"$f":"IF(C1049=base!$AC$2,ROW()+1,\"\")","v":{"$error":"#REF!"}},{"$f":"IF(C1049=base!$W$2,ROW()+1,\"\")","v":{"$error":"#REF!"}},9080,"Xopa","Unidad habitacional","Iztapalapa","Distrito Federal","Ciudad de México",9081,9,9081,null,31,7,1326,"Urbano",9]
[{"$f":"IF(C1050=base!$AC$2,ROW()+1,\"\")","v":{"$error":"#REF!"}},{"$f":"IF(C1050=base!$W$2,ROW()+1,\"\")","v":{"$error":"#REF!"}},9080,"Cacama","Colonia","Iztapalapa","Distrito Federal","Ciudad de México",9081,9,9081,null,9,7,1325,"Urbano",9]
[{"$f":"IF(C1051=base!$AC$2,ROW()+1,\"\")","v":{"$error":"#REF!"}},{"$f":"IF(C1051=base!$W$2,ROW()+1,\"\")","v":{"$error":"#REF!"}},9089,"Unidad Modelo","Colonia","Iztapalapa","Distrito Federal","Ciudad de México",9081,9,9081,null,9,7,1328,"Urbano",9]
[{"$f":"IF(C1052=base!$AC$2,ROW()+1,\"\")","v":{"$error":"#REF!"}},{"$f":"IF(C1052=base!$W$2,ROW()+1,\"\")","v":{"$error":"#REF!"}},9090,"Héroes de Churubusco","Colonia","Iztapalapa","Distrito Federal","Ciudad de México",9081,9,9081,null,9,7,1329,"Urbano",9]
[{"$f":"IF(C1053=base!$AC$2,ROW()+1,\"\")","v":{"$error":"#REF!"}},{"$f":"IF(C1053=base!$W$2,ROW()+1,\"\")","v":{"$error":"#REF!"}},9099,"Mexicaltzingo","Pueblo","Iztapalapa","Distrito Federal","Ciudad de México",9081,9,9081,null,28,7,1330,"Urbano",9]
[{"$f":"IF(C1054=base!$AC$2,ROW()+1,\"\")","v":{"$error":"#REF!"}},{"$f":"IF(C1054=base!$W$2,ROW()+1,\"\")","v":{"$error":"#REF!"}},9100,"Juan Escutia","Colonia","Iztapalapa","Distrito Federal","Ciudad de México",9181,9,9181,null,9,7,1331,"Urbano",9]
[{"$f":"IF(C1055=base!$AC$2,ROW()+1,\"\")","v":{"$error":"#REF!"}},{"$f":"IF(C1055=base!$W$2,ROW()+1,\"\")","v":{"$error":"#REF!"}},9110,"La Valenciana","Unidad habitacional","Iztapalapa","Distrito Federal","Ciudad de México",9181,9,9181,null,31,7,1332,"Urbano",9]
[{"$f":"IF(C1056=base!$AC$2,ROW()+1,\"\")","v":{"$error":"#REF!"}},{"$f":"IF(C1056=base!$W$2,ROW()+1,\"\")","v":{"$error":"#REF!"}},9120,"Voceadores de México","Unidad habitacional","Iztapalapa","Distrito Federal","Ciudad de México",9181,9,9181,null,31,7,1333,"Urbano",9]
[{"$f":"IF(C1057=base!$AC$2,ROW()+1,\"\")","v":{"$error":"#REF!"}},{"$f":"IF(C1057=base!$W$2,ROW()+1,\"\")","v":{"$error":"#REF!"}},9130,"San Lorenzo Xicotencatl","Pueblo","Iztapalapa","Distrito Federal","Ciudad de México",9181,9,9181,null,28,7,1334,"Urbano",9]
[{"$f":"IF(C1058=base!$AC$2,ROW()+1,\"\")","v":{"$error":"#REF!"}},{"$f":"IF(C1058=base!$W$2,ROW()+1,\"\")","v":{"$error":"#REF!"}},9140,"Santa Martha Acatitla Norte","Colonia","Iztapalapa","Distrito Federal","Ciudad de México",9181,9,9181,null,9,7,1335,"Urbano",9]
[{"$f":"IF(C1059=base!$AC$2,ROW()+1,\"\")","v":{"$error":"#REF!"}},{"$f":"IF(C1059=base!$W$2,ROW()+1,\"\")","v":{"$error":"#REF!"}},9150,"Fuentes de Zaragoza","Unidad habitacional","Iztapalapa","Distrito Federal","Ciudad de México",9181,9,9181,null,31,7,1336,"Urbano",9]
[{"$f":"IF(C1060=base!$AC$2,ROW()+1,\"\")","v":{"$error":"#REF!"}},{"$f":"IF(C1060=base!$W$2,ROW()+1,\"\")","v":{"$error":"#REF!"}},9150,"La Concordia","Unidad habitacional","Iztapalapa","Distrito Federal","Ciudad de México",9181,9,9181,null,31,7,2650,"Urbano",9]
[{"$f":"IF(C1061=base!$AC$2,ROW()+1,\"\")","v":{"$error":"#REF!"}},{"$f":"IF(C1061=base!$W$2,ROW()+1,\"\")","v":{"$error":"#REF!"}},9160,"Predio el Brillante","Unidad habitacional","Iztapalapa","Distrito Federal","Ciudad de México",9181,9,9181,null,31,7,2651,"Urbano",9]
[{"$f":"IF(C1062=base!$AC$2,ROW()+1,\"\")","v":{"$error":"#REF!"}},{"$f":"IF(C1062=base!$W$2,ROW()+1,\"\")","v":{"$error":"#REF!"}},9160,"Solidaridad","Unidad habitacional","Iztapalapa","Distrito Federal","Ciudad de México",9181,9,9181,null,31,7,1337,"Urbano",9]
[{"$f":"IF(C1063=base!$AC$2,ROW()+1,\"\")","v":{"$error":"#REF!"}},{"$f":"IF(C1063=base!$W$2,ROW()+1,\"\")","v":{"$error":"#REF!"}},9170,"La Colmena","Unidad habitacional","Iztapalapa","Distrito Federal","Ciudad de México",9181,9,9181,null,31,7,1338,"Urbano",9]
[{"$f":"IF(C1064=base!$AC$2,ROW()+1,\"\")","v":{"$error":"#REF!"}},{"$f":"IF(C1064=base!$W$2,ROW()+1,\"\")","v":{"$error":"#REF!"}},9180,"Ermita Zaragoza","Colonia","Iztapalapa","Distrito Federal","Ciudad de México",9181,9,9181,null,9,7,1339,"Urbano",9]
[{"$f":"IF(C1065=base!$AC$2,ROW()+1,\"\")","v":{"$error":"#REF!"}},{"$f":"IF(C1065=base!$W$2,ROW()+1,\"\")","v":{"$error":"#REF!"}},9200,"Unidad Vicente Guerrero","Colonia","Iztapalapa","Distrito Federal","Ciudad de México",9201,9,9201,null,9,7,1341,"Urbano",9]
[{"$f":"IF(C1066=base!$AC$2,ROW()+1,\"\")","v":{"$error":"#REF!"}},{"$f":"IF(C1066=base!$W$2,ROW()+1,\"\")","v":{"$error":"#REF!"}},9207,"Complejo Industrial Ecológico","Fraccionamiento","Iztapalapa","Distrito Federal","Ciudad de México",9201,9,9201,null,21,7,1344,"Urbano",9]
[{"$f":"IF(C1067=base!$AC$2,ROW()+1,\"\")","v":{"$error":"#REF!"}},{"$f":"IF(C1067=base!$W$2,ROW()+1,\"\")","v":{"$error":"#REF!"}},9208,"Chinampac de Juárez","Colonia","Iztapalapa","Distrito Federal","Ciudad de México",9201,9,9201,null,9,7,1345,"Urbano",9]
[{"$f":"IF(C1068=base!$AC$2,ROW()+1,\"\")","v":{"$error":"#REF!"}},{"$f":"IF(C1068=base!$W$2,ROW()+1,\"\")","v":{"$error":"#REF!"}},9208,"Chinampac de Juárez Frente IX","Unidad habitacional","Iztapalapa","Distrito Federal","Ciudad de México",9201,9,9201,null,31,7,1346,"Urbano",9]
[{"$f":"IF(C1069=base!$AC$2,ROW()+1,\"\")","v":{"$error":"#REF!"}},{"$f":"IF(C1069=base!$W$2,ROW()+1,\"\")","v":{"$error":"#REF!"}},9208,"Hacienda de las Flores","Unidad habitacional","Iztapalapa","Distrito Federal","Ciudad de México",9201,9,9201,null,31,7,2676,"Urbano",9]
[{"$f":"IF(C1070=base!$AC$2,ROW()+1,\"\")","v":{"$error":"#REF!"}},{"$f":"IF(C1070=base!$W$2,ROW()+1,\"\")","v":{"$error":"#REF!"}},9208,"Chinampac de Juárez Frente X","Unidad habitacional","Iztapalapa","Distrito Federal","Ciudad de México",9201,9,9201,null,31,7,1349,"Urbano",9]
[{"$f":"IF(C1071=base!$AC$2,ROW()+1,\"\")","v":{"$error":"#REF!"}},{"$f":"IF(C1071=base!$W$2,ROW()+1,\"\")","v":{"$error":"#REF!"}},9208,"6 de Octubre","Unidad habitacional","Iztapalapa","Distrito Federal","Ciudad de México",9201,9,9201,null,31,7,2743,"Urbano",9]
[{"$f":"IF(C1072=base!$AC$2,ROW()+1,\"\")","v":{"$error":"#REF!"}},{"$f":"IF(C1072=base!$W$2,ROW()+1,\"\")","v":{"$error":"#REF!"}},9208,"Chinampac de Juárez Frente VII","Unidad habitacional","Iztapalapa","Distrito Federal","Ciudad de México",9201,9,9201,null,31,7,1347,"Urbano",9]
[{"$f":"IF(C1073=base!$AC$2,ROW()+1,\"\")","v":{"$error":"#REF!"}},{"$f":"IF(C1073=base!$W$2,ROW()+1,\"\")","v":{"$error":"#REF!"}},9208,"Chinampac de Juárez Frente VIII","Unidad habitacional","Iztapalapa","Distrito Federal","Ciudad de México",9201,9,9201,null,31,7,1348,"Urbano",9]
[{"$f":"IF(C1074=base!$AC$2,ROW()+1,\"\")","v":{"$error":"#REF!"}},{"$f":"IF(C1074=base!$W$2,ROW()+1,\"\")","v":{"$error":"#REF!"}},9208,"Chinampac de Juárez Frente VI","Unidad habitacional","Iztapalapa","Distrito Federal","Ciudad de México",9201,9,9201,null,31,7,2917,"Urbano",9]
[{"$f":"IF(C1075=base!$AC$2,ROW()+1,\"\")","v":{"$error":"#REF!"}},{"$f":"IF(C1075=base!$W$2,ROW()+1,\"\")","v":{"$error":"#REF!"}},9208,"Los Cedros","Unidad habitacional","Iztapalapa","Distrito Federal","Ciudad de México",9201,9,9201,null,31,7,2674,"Urbano",9]
[{"$f":"IF(C1076=base!$AC$2,ROW()+1,\"\")","v":{"$error":"#REF!"}},{"$f":"IF(C1076=base!$W$2,ROW()+1,\"\")","v":{"$error":"#REF!"}},9208,"Chinampac de Juárez Frente XI","Unidad habitacional","Iztapalapa","Distrito Federal","Ciudad de México",9201,9,9201,null,31,7,1350,"Urbano",9]
[{"$f":"IF(C1077=base!$AC$2,ROW()+1,\"\")","v":{"$error":"#REF!"}},{"$f":"IF(C1077=base!$W$2,ROW()+1,\"\")","v":{"$error":"#REF!"}},9209,"Renovación","Colonia","Iztapalapa","Distrito Federal","Ciudad de México",9201,9,9201,null,9,7,1352,"Urbano",9]
[{"$f":"IF(C1078=base!$AC$2,ROW()+1,\"\")","v":{"$error":"#REF!"}},{"$f":"IF(C1078=base!$W$2,ROW()+1,\"\")","v":{"$error":"#REF!"}},9209,"Purísima","Unidad habitacional","Iztapalapa","Distrito Federal","Ciudad de México",9201,9,9201,null,31,7,1351,"Urbano",9]
[{"$f":"IF(C1079=base!$AC$2,ROW()+1,\"\")","v":{"$error":"#REF!"}},{"$f":"IF(C1079=base!$W$2,ROW()+1,\"\")","v":{"$error":"#REF!"}},9210,"Tepalcates I","Unidad habitacional","Iztapalapa","Distrito Federal","Ciudad de México",9201,9,9201,null,31,7,1354,"Urbano",9]
[{"$f":"IF(C1080=base!$AC$2,ROW()+1,\"\")","v":{"$error":"#REF!"}},{"$f":"IF(C1080=base!$W$2,ROW()+1,\"\")","v":{"$error":"#REF!"}},9210,"Tepalcates","Colonia","Iztapalapa","Distrito Federal","Ciudad de México",9201,9,9201,null,9,7,1355,"Urbano",9]
[{"$f":"IF(C1081=base!$AC$2,ROW()+1,\"\")","v":{"$error":"#REF!"}},{"$f":"IF(C1081=base!$W$2,ROW()+1,\"\")","v":{"$error":"#REF!"}},9210,"Moras Primavera","Unidad habitacional","Iztapalapa","Distrito Federal","Ciudad de México",9201,9,9201,null,31,7,1353,"Urbano",9]
[{"$f":"IF(C1082=base!$AC$2,ROW()+1,\"\")","v":{"$error":"#REF!"}},{"$f":"IF(C1082=base!$W$2,ROW()+1,\"\")","v":{"$error":"#REF!"}},9219,"Reforma Educativa","Unidad habitacional","Iztapalapa","Distrito Federal","Ciudad de México",9201,9,9201,null,31,7,1356,"Urbano",9]
[{"$f":"IF(C1083=base!$AC$2,ROW()+1,\"\")","v":{"$error":"#REF!"}},{"$f":"IF(C1083=base!$W$2,ROW()+1,\"\")","v":{"$error":"#REF!"}},9220,"Unidad Ejército Constitucionalista","Colonia","Iztapalapa","Distrito Federal","Ciudad de México",9201,9,9201,null,9,7,1357,"Urbano",9]
[{"$f":"IF(C1084=base!$AC$2,ROW()+1,\"\")","v":{"$error":"#REF!"}},{"$f":"IF(C1084=base!$W$2,ROW()+1,\"\")","v":{"$error":"#REF!"}},9226,"Rotaria","Unidad habitacional","Iztapalapa","Distrito Federal","Ciudad de México",9201,9,9201,null,31,7,1360,"Urbano",9]
[{"$f":"IF(C1085=base!$AC$2,ROW()+1,\"\")","v":{"$error":"#REF!"}},{"$f":"IF(C1085=base!$W$2,ROW()+1,\"\")","v":{"$error":"#REF!"}},9227,"Cabeza de Juárez","Unidad habitacional","Iztapalapa","Distrito Federal","Ciudad de México",9201,9,9201,null,31,7,1361,"Urbano",9]
[{"$f":"IF(C1086=base!$AC$2,ROW()+1,\"\")","v":{"$error":"#REF!"}},{"$f":"IF(C1086=base!$W$2,ROW()+1,\"\")","v":{"$error":"#REF!"}},9227,"Lienzo Charro","Unidad habitacional","Iztapalapa","Distrito Federal","Ciudad de México",9201,9,9201,null,31,7,2671,"Urbano",9]
[{"$f":"IF(C1087=base!$AC$2,ROW()+1,\"\")","v":{"$error":"#REF!"}},{"$f":"IF(C1087=base!$W$2,ROW()+1,\"\")","v":{"$error":"#REF!"}},9228,"Ignacio Zaragoza","Unidad habitacional","Iztapalapa","Distrito Federal","Ciudad de México",9201,9,9201,null,31,7,1362,"Urbano",9]
[{"$f":"IF(C1088=base!$AC$2,ROW()+1,\"\")","v":{"$error":"#REF!"}},{"$f":"IF(C1088=base!$W$2,ROW()+1,\"\")","v":{"$error":"#REF!"}},9229,"Guelatao Benito Juárez","Unidad habitacional","Iztapalapa","Distrito Federal","Ciudad de México",9201,9,9201,null,31,7,1363,"Urbano",9]
[{"$f":"IF(C1089=base!$AC$2,ROW()+1,\"\")","v":{"$error":"#REF!"}},{"$f":"IF(C1089=base!$W$2,ROW()+1,\"\")","v":{"$error":"#REF!"}},9230,"Álvaro Obregón","Colonia","Iztapalapa","Distrito Federal","Ciudad de México",9201,9,9201,null,9,7,1364,"Urbano",9]
[{"$f":"IF(C1090=base!$AC$2,ROW()+1,\"\")","v":{"$error":"#REF!"}},{"$f":"IF(C1090=base!$W$2,ROW()+1,\"\")","v":{"$error":"#REF!"}},9230,"Ejército de Oriente","Colonia","Iztapalapa","Distrito Federal","Ciudad de México",9201,9,9201,null,9,7,1365,"Urbano",9]
[{"$f":"IF(C1091=base!$AC$2,ROW()+1,\"\")","v":{"$error":"#REF!"}},{"$f":"IF(C1091=base!$W$2,ROW()+1,\"\")","v":{"$error":"#REF!"}},9230,"El Paraíso","Colonia","Iztapalapa","Distrito Federal","Ciudad de México",9201,9,9201,null,9,7,1368,"Urbano",9]
[{"$f":"IF(C1092=base!$AC$2,ROW()+1,\"\")","v":{"$error":"#REF!"}},{"$f":"IF(C1092=base!$W$2,ROW()+1,\"\")","v":{"$error":"#REF!"}},9230,"José María Morelos y Pavón","Colonia","Iztapalapa","Distrito Federal","Ciudad de México",9201,9,9201,null,9,7,1369,"Urbano",9]
[{"$f":"IF(C1093=base!$AC$2,ROW()+1,\"\")","v":{"$error":"#REF!"}},{"$f":"IF(C1093=base!$W$2,ROW()+1,\"\")","v":{"$error":"#REF!"}},9233,"Peñón Viejo","Unidad habitacional","Iztapalapa","Distrito Federal","Ciudad de México",9201,9,9201,null,31,7,2915,"Urbano",9]
[{"$f":"IF(C1094=base!$AC$2,ROW()+1,\"\")","v":{"$error":"#REF!"}},{"$f":"IF(C1094=base!$W$2,ROW()+1,\"\")","v":{"$error":"#REF!"}},9239,"Ejército de Oriente Zona Peñon","Colonia","Iztapalapa","Distrito Federal","Ciudad de México",9201,9,9201,null,9,7,1370,"Urbano",9]
[{"$f":"IF(C1095=base!$AC$2,ROW()+1,\"\")","v":{"$error":"#REF!"}},{"$f":"IF(C1095=base!$W$2,ROW()+1,\"\")","v":{"$error":"#REF!"}},9240,"Progresista","Colonia","Iztapalapa","Distrito Federal","Ciudad de México",9201,9,9201,null,9,7,1371,"Urbano",9]
[{"$f":"IF(C1096=base!$AC$2,ROW()+1,\"\")","v":{"$error":"#REF!"}},{"$f":"IF(C1096=base!$W$2,ROW()+1,\"\")","v":{"$error":"#REF!"}},9249,"Albarrada","Unidad habitacional","Iztapalapa","Distrito Federal","Ciudad de México",9201,9,9201,null,31,7,1372,"Urbano",9]
[{"$f":"IF(C1097=base!$AC$2,ROW()+1,\"\")","v":{"$error":"#REF!"}},{"$f":"IF(C1097=base!$W$2,ROW()+1,\"\")","v":{"$error":"#REF!"}},9250,"Las Américas","Unidad habitacional","Iztapalapa","Distrito Federal","Ciudad de México",9201,9,9201,null,31,7,2677,"Urbano",9]
[{"$f":"IF(C1098=base!$AC$2,ROW()+1,\"\")","v":{"$error":"#REF!"}},{"$f":"IF(C1098=base!$W$2,ROW()+1,\"\")","v":{"$error":"#REF!"}},9250,"La Regadera","Colonia","Iztapalapa","Distrito Federal","Ciudad de México",9201,9,9201,null,9,7,1373,"Urbano",9]
[{"$f":"IF(C1099=base!$AC$2,ROW()+1,\"\")","v":{"$error":"#REF!"}},{"$f":"IF(C1099=base!$W$2,ROW()+1,\"\")","v":{"$error":"#REF!"}},9250,"Plutarco Elías Calles","Unidad habitacional","Iztapalapa","Distrito Federal","Ciudad de México",9201,9,9201,null,31,7,1374,"Urbano",9]
[{"$f":"IF(C1100=base!$AC$2,ROW()+1,\"\")","v":{"$error":"#REF!"}},{"$f":"IF(C1100=base!$W$2,ROW()+1,\"\")","v":{"$error":"#REF!"}},9260,"Constitución de 1917","Colonia","Iztapalapa","Distrito Federal","Ciudad de México",9201,9,9201,null,9,7,1375,"Urbano",9]
[{"$f":"IF(C1101=base!$AC$2,ROW()+1,\"\")","v":{"$error":"#REF!"}},{"$f":"IF(C1101=base!$W$2,ROW()+1,\"\")","v":{"$error":"#REF!"}},9270,"Colonial Iztapalapa","Colonia","Iztapalapa","Distrito Federal","Ciudad de México",9201,9,9201,null,9,7,1376,"Urbano",9]
[{"$f":"IF(C1102=base!$AC$2,ROW()+1,\"\")","v":{"$error":"#REF!"}},{"$f":"IF(C1102=base!$W$2,ROW()+1,\"\")","v":{"$error":"#REF!"}},9280,"Jacarandas","Colonia","Iztapalapa","Distrito Federal","Ciudad de México",9201,9,9201,null,9,7,1377,"Urbano",9]
[{"$f":"IF(C1103=base!$AC$2,ROW()+1,\"\")","v":{"$error":"#REF!"}},{"$f":"IF(C1103=base!$W$2,ROW()+1,\"\")","v":{"$error":"#REF!"}},9290,"Santa Cruz Meyehualco","Colonia","Iztapalapa","Distrito Federal","Ciudad de México",9201,9,9201,null,9,7,1378,"Urbano",9]
[{"$f":"IF(C1104=base!$AC$2,ROW()+1,\"\")","v":{"$error":"#REF!"}},{"$f":"IF(C1104=base!$W$2,ROW()+1,\"\")","v":{"$error":"#REF!"}},9290,"Cuartos de Tlatelolco","Unidad habitacional","Iztapalapa","Distrito Federal","Ciudad de México",9201,9,9201,null,31,7,2767,"Urbano",9]
[{"$f":"IF(C1105=base!$AC$2,ROW()+1,\"\")","v":{"$error":"#REF!"}},{"$f":"IF(C1105=base!$W$2,ROW()+1,\"\")","v":{"$error":"#REF!"}},9290,"Luis Donaldo Colosio","Unidad habitacional","Iztapalapa","Distrito Federal","Ciudad de México",9201,9,9201,null,31,7,2675,"Urbano",9]
[{"$f":"IF(C1106=base!$AC$2,ROW()+1,\"\")","v":{"$error":"#REF!"}},{"$f":"IF(C1106=base!$W$2,ROW()+1,\"\")","v":{"$error":"#REF!"}},9300,"Guadalupe del Moral","Colonia","Iztapalapa","Distrito Federal","Ciudad de México",9201,9,9201,null,9,7,1380,"Urbano",9]
[{"$f":"IF(C1107=base!$AC$2,ROW()+1,\"\")","v":{"$error":"#REF!"}},{"$f":"IF(C1107=base!$W$2,ROW()+1,\"\")","v":{"$error":"#REF!"}},9310,"Leyes de Reforma 2a Sección","Colonia","Iztapalapa","Distrito Federal","Ciudad de México",9201,9,9201,null,9,7,1383,"Urbano",9]
[{"$f":"IF(C1108=base!$AC$2,ROW()+1,\"\")","v":{"$error":"#REF!"}},{"$f":"IF(C1108=base!$W$2,ROW()+1,\"\")","v":{"$error":"#REF!"}},9310,"Leyes de Reforma 3a Sección","Colonia","Iztapalapa","Distrito Federal","Ciudad de México",9201,9,9201,null,9,7,2839,"Urbano",9]
[{"$f":"IF(C1109=base!$AC$2,ROW()+1,\"\")","v":{"$error":"#REF!"}},{"$f":"IF(C1109=base!$W$2,ROW()+1,\"\")","v":{"$error":"#REF!"}},9310,"Leyes de Reforma 1a Sección","Colonia","Iztapalapa","Distrito Federal","Ciudad de México",9201,9,9201,null,9,7,1382,"Urbano",9]
[{"$f":"IF(C1110=base!$AC$2,ROW()+1,\"\")","v":{"$error":"#REF!"}},{"$f":"IF(C1110=base!$W$2,ROW()+1,\"\")","v":{"$error":"#REF!"}},9319,"Cuchilla del Moral","Colonia","Iztapalapa","Distrito Federal","Ciudad de México",9201,9,9201,null,9,7,1384,"Urbano",9]
[{"$f":"IF(C1111=base!$AC$2,ROW()+1,\"\")","v":{"$error":"#REF!"}},{"$f":"IF(C1111=base!$W$2,ROW()+1,\"\")","v":{"$error":"#REF!"}},9320,"Sideral","Colonia","Iztapalapa","Distrito Federal","Ciudad de México",9201,9,9201,null,9,7,1388,"Urbano",9]
[{"$f":"IF(C1112=base!$AC$2,ROW()+1,\"\")","v":{"$error":"#REF!"}},{"$f":"IF(C1112=base!$W$2,ROW()+1,\"\")","v":{"$error":"#REF!"}},9330,"Margarita Maza de Juárez","Unidad habitacional","Iztapalapa","Distrito Federal","Ciudad de México",9201,9,9201,null,31,7,1389,"Urbano",9]
[{"$f":"IF(C1113=base!$AC$2,ROW()+1,\"\")","v":{"$error":"#REF!"}},{"$f":"IF(C1113=base!$W$2,ROW()+1,\"\")","v":{"$error":"#REF!"}},9350,"Albarrada","Colonia","Iztapalapa","Distrito Federal","Ciudad de México",9201,9,9201,null,9,7,1392,"Urbano",9]
[{"$f":"IF(C1114=base!$AC$2,ROW()+1,\"\")","v":{"$error":"#REF!"}},{"$f":"IF(C1114=base!$W$2,ROW()+1,\"\")","v":{"$error":"#REF!"}},9359,"Eva Sámano de López Mateos","Colonia","Iztapalapa","Distrito Federal","Ciudad de México",9201,9,9201,null,9,7,1393,"Urbano",9]
[{"$f":"IF(C1115=base!$AC$2,ROW()+1,\"\")","v":{"$error":"#REF!"}},{"$f":"IF(C1115=base!$W$2,ROW()+1,\"\")","v":{"$error":"#REF!"}},9360,"Ermita Iztapalapa","Unidad habitacional","Iztapalapa","Distrito Federal","Ciudad de México",9201,9,9201,null,31,7,1395,"Urbano",9]
[{"$f":"IF(C1116=base!$AC$2,ROW()+1,\"\")","v":{"$error":"#REF!"}},{"$f":"IF(C1116=base!$W$2,ROW()+1,\"\")","v":{"$error":"#REF!"}},9360,"Ampliación San Miguel","Colonia","Iztapalapa","Distrito Federal","Ciudad de México",9201,9,9201,null,9,7,1399,"Urbano",9]
[{"$f":"IF(C1117=base!$AC$2,ROW()+1,\"\")","v":{"$error":"#REF!"}},{"$f":"IF(C1117=base!$W$2,ROW()+1,\"\")","v":{"$error":"#REF!"}},9360,"Hidalgo y Mina","Unidad habitacional","Iztapalapa","Distrito Federal","Ciudad de México",9201,9,9201,null,31,7,1396,"Urbano",9]
[{"$f":"IF(C1118=base!$AC$2,ROW()+1,\"\")","v":{"$error":"#REF!"}},{"$f":"IF(C1118=base!$W$2,ROW()+1,\"\")","v":{"$error":"#REF!"}},9360,"INFONAVIT","Unidad habitacional","Iztapalapa","Distrito Federal","Ciudad de México",9201,9,9201,null,31,7,1397,"Urbano",9]
[{"$f":"IF(C1119=base!$AC$2,ROW()+1,\"\")","v":{"$error":"#REF!"}},{"$f":"IF(C1119=base!$W$2,ROW()+1,\"\")","v":{"$error":"#REF!"}},9360,"San Miguel","Barrio","Iztapalapa","Distrito Federal","Ciudad de México",9201,9,9201,null,2,7,1398,"Urbano",9]
[{"$f":"IF(C1120=base!$AC$2,ROW()+1,\"\")","v":{"$error":"#REF!"}},{"$f":"IF(C1120=base!$W$2,ROW()+1,\"\")","v":{"$error":"#REF!"}},9366,"Norma FOVISSSTE","Unidad habitacional","Iztapalapa","Distrito Federal","Ciudad de México",9201,9,9201,null,31,7,1400,"Urbano",9]
[{"$f":"IF(C1121=base!$AC$2,ROW()+1,\"\")","v":{"$error":"#REF!"}},{"$f":"IF(C1121=base!$W$2,ROW()+1,\"\")","v":{"$error":"#REF!"}},9368,"P.R.I.","Unidad habitacional","Iztapalapa","Distrito Federal","Ciudad de México",9201,9,9201,null,31,7,1402,"Urbano",9]
[{"$f":"IF(C1122=base!$AC$2,ROW()+1,\"\")","v":{"$error":"#REF!"}},{"$f":"IF(C1122=base!$W$2,ROW()+1,\"\")","v":{"$error":"#REF!"}},9369,"Gama Gavilán","Unidad habitacional","Iztapalapa","Distrito Federal","Ciudad de México",9201,9,9201,null,31,7,1405,"Urbano",9]
[{"$f":"IF(C1123=base!$AC$2,ROW()+1,\"\")","v":{"$error":"#REF!"}},{"$f":"IF(C1123=base!$W$2,ROW()+1,\"\")","v":{"$error":"#REF!"}},9369,"El Gavilán","Unidad habitacional","Iztapalapa","Distrito Federal","Ciudad de México",9201,9,9201,null,31,7,1404,"Urbano",9]
[{"$f":"IF(C1124=base!$AC$2,ROW()+1,\"\")","v":{"$error":"#REF!"}},{"$f":"IF(C1124=base!$W$2,ROW()+1,\"\")","v":{"$error":"#REF!"}},9369,"Alborada","Unidad habitacional","Iztapalapa","Distrito Federal","Ciudad de México",9201,9,9201,null,31,7,1403,"Urbano",9]
[{"$f":"IF(C1125=base!$AC$2,ROW()+1,\"\")","v":{"$error":"#REF!"}},{"$f":"IF(C1125=base!$W$2,ROW()+1,\"\")","v":{"$error":"#REF!"}},9400,"San Juanico Nextipac","Pueblo","Iztapalapa","Distrito Federal","Ciudad de México",9081,9,9081,null,28,7,1407,"Urbano",9]
[{"$f":"IF(C1126=base!$AC$2,ROW()+1,\"\")","v":{"$error":"#REF!"}},{"$f":"IF(C1126=base!$W$2,ROW()+1,\"\")","v":{"$error":"#REF!"}},9400,"La Viga","Unidad habitacional","Iztapalapa","Distrito Federal","Ciudad de México",9081,9,9081,null,31,7,1406,"Urbano",9]
[{"$f":"IF(C1127=base!$AC$2,ROW()+1,\"\")","v":{"$error":"#REF!"}},{"$f":"IF(C1127=base!$W$2,ROW()+1,\"\")","v":{"$error":"#REF!"}},9400,"El Sifón","Colonia","Iztapalapa","Distrito Federal","Ciudad de México",9081,9,9081,null,9,7,1408,"Urbano",9]
[{"$f":"IF(C1128=base!$AC$2,ROW()+1,\"\")","v":{"$error":"#REF!"}},{"$f":"IF(C1128=base!$W$2,ROW()+1,\"\")","v":{"$error":"#REF!"}},9410,"Aculco","Pueblo","Iztapalapa","Distrito Federal","Ciudad de México",9081,9,9081,null,28,7,1410,"Urbano",9]
[{"$f":"IF(C1129=base!$AC$2,ROW()+1,\"\")","v":{"$error":"#REF!"}},{"$f":"IF(C1129=base!$W$2,ROW()+1,\"\")","v":{"$error":"#REF!"}},9410,"San José Aculco","Colonia","Iztapalapa","Distrito Federal","Ciudad de México",9081,9,9081,null,9,7,1414,"Urbano",9]
[{"$f":"IF(C1130=base!$AC$2,ROW()+1,\"\")","v":{"$error":"#REF!"}},{"$f":"IF(C1130=base!$W$2,ROW()+1,\"\")","v":{"$error":"#REF!"}},9410,"Jardines de Churubusco","Colonia","Iztapalapa","Distrito Federal","Ciudad de México",9081,9,9081,null,9,7,1412,"Urbano",9]
[{"$f":"IF(C1131=base!$AC$2,ROW()+1,\"\")","v":{"$error":"#REF!"}},{"$f":"IF(C1131=base!$W$2,ROW()+1,\"\")","v":{"$error":"#REF!"}},9410,"Magdalena Atlazolpa","Pueblo","Iztapalapa","Distrito Federal","Ciudad de México",9081,9,9081,null,28,7,1413,"Urbano",9]
[{"$f":"IF(C1132=base!$AC$2,ROW()+1,\"\")","v":{"$error":"#REF!"}},{"$f":"IF(C1132=base!$W$2,ROW()+1,\"\")","v":{"$error":"#REF!"}},9420,"Los Picos VI-B","Colonia","Iztapalapa","Distrito Federal","Ciudad de México",9081,9,9081,null,9,7,1415,"Urbano",9]
[{"$f":"IF(C1133=base!$AC$2,ROW()+1,\"\")","v":{"$error":"#REF!"}},{"$f":"IF(C1133=base!$W$2,ROW()+1,\"\")","v":{"$error":"#REF!"}},9420,"Nueva Rosita","Colonia","Iztapalapa","Distrito Federal","Ciudad de México",9081,9,9081,null,9,7,1416,"Urbano",9]
[{"$f":"IF(C1134=base!$AC$2,ROW()+1,\"\")","v":{"$error":"#REF!"}},{"$f":"IF(C1134=base!$W$2,ROW()+1,\"\")","v":{"$error":"#REF!"}},9429,"Purísima Atlazolpa","Colonia","Iztapalapa","Distrito Federal","Ciudad de México",9081,9,9081,null,9,7,1417,"Urbano",9]
[{"$f":"IF(C1135=base!$AC$2,ROW()+1,\"\")","v":{"$error":"#REF!"}},{"$f":"IF(C1135=base!$W$2,ROW()+1,\"\")","v":{"$error":"#REF!"}},9430,"El Triunfo","Colonia","Iztapalapa","Distrito Federal","Ciudad de México",9081,9,9081,null,9,7,1419,"Urbano",9]
[{"$f":"IF(C1136=base!$AC$2,ROW()+1,\"\")","v":{"$error":"#REF!"}},{"$f":"IF(C1136=base!$W$2,ROW()+1,\"\")","v":{"$error":"#REF!"}},9430,"Apatlaco","Colonia","Iztapalapa","Distrito Federal","Ciudad de México",9081,9,9081,null,9,7,1418,"Urbano",9]
[{"$f":"IF(C1137=base!$AC$2,ROW()+1,\"\")","v":{"$error":"#REF!"}},{"$f":"IF(C1137=base!$W$2,ROW()+1,\"\")","v":{"$error":"#REF!"}},9437,"Secretaria de la Reforma Agraria","Gran usuario","Iztapalapa","Distrito Federal","Ciudad de México",9081,9,9081,null,22,7,1421,"Urbano",9]
[{"$f":"IF(C1138=base!$AC$2,ROW()+1,\"\")","v":{"$error":"#REF!"}},{"$f":"IF(C1138=base!$W$2,ROW()+1,\"\")","v":{"$error":"#REF!"}},9438,"Ampliación El Triunfo","Colonia","Iztapalapa","Distrito Federal","Ciudad de México",9081,9,9081,null,9,7,1422,"Urbano",9]
[{"$f":"IF(C1139=base!$AC$2,ROW()+1,\"\")","v":{"$error":"#REF!"}},{"$f":"IF(C1139=base!$W$2,ROW()+1,\"\")","v":{"$error":"#REF!"}},9440,"Zacahuitzco","Colonia","Iztapalapa","Distrito Federal","Ciudad de México",9081,9,9081,null,9,7,2840,"Urbano",9]
[{"$f":"IF(C1140=base!$AC$2,ROW()+1,\"\")","v":{"$error":"#REF!"}},{"$f":"IF(C1140=base!$W$2,ROW()+1,\"\")","v":{"$error":"#REF!"}},9440,"El Retoño","Colonia","Iztapalapa","Distrito Federal","Ciudad de México",9081,9,9081,null,9,7,1425,"Urbano",9]
[{"$f":"IF(C1141=base!$AC$2,ROW()+1,\"\")","v":{"$error":"#REF!"}},{"$f":"IF(C1141=base!$W$2,ROW()+1,\"\")","v":{"$error":"#REF!"}},9440,"San Andrés Tetepilco","Colonia","Iztapalapa","Distrito Federal","Ciudad de México",9081,9,9081,null,9,7,1426,"Urbano",9]
[{"$f":"IF(C1142=base!$AC$2,ROW()+1,\"\")","v":{"$error":"#REF!"}},{"$f":"IF(C1142=base!$W$2,ROW()+1,\"\")","v":{"$error":"#REF!"}},9450,"Banjidal","Colonia","Iztapalapa","Distrito Federal","Ciudad de México",9081,9,9081,null,9,7,1429,"Urbano",9]
[{"$f":"IF(C1143=base!$AC$2,ROW()+1,\"\")","v":{"$error":"#REF!"}},{"$f":"IF(C1143=base!$W$2,ROW()+1,\"\")","v":{"$error":"#REF!"}},9460,"Justo Sierra","Colonia","Iztapalapa","Distrito Federal","Ciudad de México",9081,9,9081,null,9,7,1430,"Urbano",9]
[{"$f":"IF(C1144=base!$AC$2,ROW()+1,\"\")","v":{"$error":"#REF!"}},{"$f":"IF(C1144=base!$W$2,ROW()+1,\"\")","v":{"$error":"#REF!"}},9470,"Sinatel","Colonia","Iztapalapa","Distrito Federal","Ciudad de México",9081,9,9081,null,9,7,1431,"Urbano",9]
[{"$f":"IF(C1145=base!$AC$2,ROW()+1,\"\")","v":{"$error":"#REF!"}},{"$f":"IF(C1145=base!$W$2,ROW()+1,\"\")","v":{"$error":"#REF!"}},9479,"Ampliación Sinatel","Colonia","Iztapalapa","Distrito Federal","Ciudad de México",9081,9,9081,null,9,7,1432,"Urbano",9]
[{"$f":"IF(C1146=base!$AC$2,ROW()+1,\"\")","v":{"$error":"#REF!"}},{"$f":"IF(C1146=base!$W$2,ROW()+1,\"\")","v":{"$error":"#REF!"}},9480,"El Prado","Colonia","Iztapalapa","Distrito Federal","Ciudad de México",9081,9,9081,null,9,7,1433,"Urbano",9]
[{"$f":"IF(C1147=base!$AC$2,ROW()+1,\"\")","v":{"$error":"#REF!"}},{"$f":"IF(C1147=base!$W$2,ROW()+1,\"\")","v":{"$error":"#REF!"}},9500,"Santa María Aztahuacán Ampliación","Colonia","Iztapalapa","Distrito Federal","Ciudad de México",9511,9,9511,null,9,7,2565,"Urbano",9]
[{"$f":"IF(C1148=base!$AC$2,ROW()+1,\"\")","v":{"$error":"#REF!"}},{"$f":"IF(C1148=base!$W$2,ROW()+1,\"\")","v":{"$error":"#REF!"}},9500,"Santa María Aztahuacán","Pueblo","Iztapalapa","Distrito Federal","Ciudad de México",9511,9,9511,null,28,7,1435,"Urbano",9]
[{"$f":"IF(C1149=base!$AC$2,ROW()+1,\"\")","v":{"$error":"#REF!"}},{"$f":"IF(C1149=base!$W$2,ROW()+1,\"\")","v":{"$error":"#REF!"}},9510,"Santa Martha Acatitla","Pueblo","Iztapalapa","Distrito Federal","Ciudad de México",9511,9,9511,null,28,7,1436,"Urbano",9]
[{"$f":"IF(C1150=base!$AC$2,ROW()+1,\"\")","v":{"$error":"#REF!"}},{"$f":"IF(C1150=base!$W$2,ROW()+1,\"\")","v":{"$error":"#REF!"}},9519,"Penitenciaria Santa Martha Acatitla","Gran usuario","Iztapalapa","Distrito Federal","Ciudad de México",9511,9,9511,null,22,7,1438,"Urbano",9]
[{"$f":"IF(C1151=base!$AC$2,ROW()+1,\"\")","v":{"$error":"#REF!"}},{"$f":"IF(C1151=base!$W$2,ROW()+1,\"\")","v":{"$error":"#REF!"}},9520,"El Edén","Colonia","Iztapalapa","Distrito Federal","Ciudad de México",9511,9,9511,null,9,7,1439,"Urbano",9]
[{"$f":"IF(C1152=base!$AC$2,ROW()+1,\"\")","v":{"$error":"#REF!"}},{"$f":"IF(C1152=base!$W$2,ROW()+1,\"\")","v":{"$error":"#REF!"}},9520,"San Sebastián Tecoloxtitla","Pueblo","Iztapalapa","Distrito Federal","Ciudad de México",9511,9,9511,null,28,7,1440,"Urbano",9]
[{"$f":"IF(C1153=base!$AC$2,ROW()+1,\"\")","v":{"$error":"#REF!"}},{"$f":"IF(C1153=base!$W$2,ROW()+1,\"\")","v":{"$error":"#REF!"}},9530,"Santa Martha Acatitla Sur","Colonia","Iztapalapa","Distrito Federal","Ciudad de México",9511,9,9511,null,9,7,1441,"Urbano",9]
[{"$f":"IF(C1154=base!$AC$2,ROW()+1,\"\")","v":{"$error":"#REF!"}},{"$f":"IF(C1154=base!$W$2,ROW()+1,\"\")","v":{"$error":"#REF!"}},9550,"Monte Alban","Colonia","Iztapalapa","Distrito Federal","Ciudad de México",9511,9,9511,null,9,7,1443,"Urbano",9]
[{"$f":"IF(C1155=base!$AC$2,ROW()+1,\"\")","v":{"$error":"#REF!"}},{"$f":"IF(C1155=base!$W$2,ROW()+1,\"\")","v":{"$error":"#REF!"}},9560,"Paraje Zacatepec","Colonia","Iztapalapa","Distrito Federal","Ciudad de México",9511,9,9511,null,9,7,1444,"Urbano",9]
[{"$f":"IF(C1156=base!$AC$2,ROW()+1,\"\")","v":{"$error":"#REF!"}},{"$f":"IF(C1156=base!$W$2,ROW()+1,\"\")","v":{"$error":"#REF!"}},9570,"Santa María Aztahuacán","Colonia","Iztapalapa","Distrito Federal","Ciudad de México",9511,9,9511,null,9,7,1445,"Urbano",9]
[{"$f":"IF(C1157=base!$AC$2,ROW()+1,\"\")","v":{"$error":"#REF!"}},{"$f":"IF(C1157=base!$W$2,ROW()+1,\"\")","v":{"$error":"#REF!"}},9577,"Artículo 4°. Constitucional","Unidad habitacional","Iztapalapa","Distrito Federal","Ciudad de México",9511,9,9511,null,31,7,1446,"Urbano",9]
[{"$f":"IF(C1158=base!$AC$2,ROW()+1,\"\")","v":{"$error":"#REF!"}},{"$f":"IF(C1158=base!$W$2,ROW()+1,\"\")","v":{"$error":"#REF!"}},9577,"Fuerte de Loreto","Unidad habitacional","Iztapalapa","Distrito Federal","Ciudad de México",9511,9,9511,null,31,7,2673,"Urbano",9]
[{"$f":"IF(C1159=base!$AC$2,ROW()+1,\"\")","v":{"$error":"#REF!"}},{"$f":"IF(C1159=base!$W$2,ROW()+1,\"\")","v":{"$error":"#REF!"}},9577,"Cabeza de Juárez 4 o Frente 4","Unidad habitacional","Iztapalapa","Distrito Federal","Ciudad de México",9511,9,9511,null,31,7,1448,"Urbano",9]
[{"$f":"IF(C1160=base!$AC$2,ROW()+1,\"\")","v":{"$error":"#REF!"}},{"$f":"IF(C1160=base!$W$2,ROW()+1,\"\")","v":{"$error":"#REF!"}},9578,"Ejército de Agua Prieta","Colonia","Iztapalapa","Distrito Federal","Ciudad de México",9511,9,9511,null,9,7,1449,"Urbano",9]
[{"$f":"IF(C1161=base!$AC$2,ROW()+1,\"\")","v":{"$error":"#REF!"}},{"$f":"IF(C1161=base!$W$2,ROW()+1,\"\")","v":{"$error":"#REF!"}},9579,"Las Rosas","Unidad habitacional","Iztapalapa","Distrito Federal","Ciudad de México",9511,9,9511,null,31,7,1452,"Urbano",9]
[{"$f":"IF(C1162=base!$AC$2,ROW()+1,\"\")","v":{"$error":"#REF!"}},{"$f":"IF(C1162=base!$W$2,ROW()+1,\"\")","v":{"$error":"#REF!"}},9579,"Cabeza de Juárez 5 o Frente 5","Unidad habitacional","Iztapalapa","Distrito Federal","Ciudad de México",9511,9,9511,null,31,7,1451,"Urbano",9]
[{"$f":"IF(C1163=base!$AC$2,ROW()+1,\"\")","v":{"$error":"#REF!"}},{"$f":"IF(C1163=base!$W$2,ROW()+1,\"\")","v":{"$error":"#REF!"}},9600,"Santiago Acahualtepec","Pueblo","Iztapalapa","Distrito Federal","Ciudad de México",9511,9,9511,null,28,7,1453,"Urbano",9]
[{"$f":"IF(C1164=base!$AC$2,ROW()+1,\"\")","v":{"$error":"#REF!"}},{"$f":"IF(C1164=base!$W$2,ROW()+1,\"\")","v":{"$error":"#REF!"}},9608,"Santiago Acahualtepec 1ra. Ampliación","Colonia","Iztapalapa","Distrito Federal","Ciudad de México",9511,9,9511,null,9,7,1454,"Urbano",9]
[{"$f":"IF(C1165=base!$AC$2,ROW()+1,\"\")","v":{"$error":"#REF!"}},{"$f":"IF(C1165=base!$W$2,ROW()+1,\"\")","v":{"$error":"#REF!"}},9609,"Santiago Acahualtepec 2a. Ampliación","Colonia","Iztapalapa","Distrito Federal","Ciudad de México",9511,9,9511,null,9,7,1455,"Urbano",9]
[{"$f":"IF(C1166=base!$AC$2,ROW()+1,\"\")","v":{"$error":"#REF!"}},{"$f":"IF(C1166=base!$W$2,ROW()+1,\"\")","v":{"$error":"#REF!"}},9620,"Lomas de Zaragoza","Colonia","Iztapalapa","Distrito Federal","Ciudad de México",9511,9,9511,null,9,7,1456,"Urbano",9]
[{"$f":"IF(C1167=base!$AC$2,ROW()+1,\"\")","v":{"$error":"#REF!"}},{"$f":"IF(C1167=base!$W$2,ROW()+1,\"\")","v":{"$error":"#REF!"}},9630,"San Miguel Teotongo Sección Guadalupe","Colonia","Iztapalapa","Distrito Federal","Ciudad de México",9511,9,9511,null,9,7,2853,"Urbano",9]
[{"$f":"IF(C1168=base!$AC$2,ROW()+1,\"\")","v":{"$error":"#REF!"}},{"$f":"IF(C1168=base!$W$2,ROW()+1,\"\")","v":{"$error":"#REF!"}},9630,"San Miguel Teotongo Sección Corrales","Colonia","Iztapalapa","Distrito Federal","Ciudad de México",9511,9,9511,null,9,7,1481,"Urbano",9]
[{"$f":"IF(C1169=base!$AC$2,ROW()+1,\"\")","v":{"$error":"#REF!"}},{"$f":"IF(C1169=base!$W$2,ROW()+1,\"\")","v":{"$error":"#REF!"}},9630,"San Miguel Teotongo Sección Iztlahuaca","Colonia","Iztapalapa","Distrito Federal","Ciudad de México",9511,9,9511,null,9,7,2854,"Urbano",9]
[{"$f":"IF(C1170=base!$AC$2,ROW()+1,\"\")","v":{"$error":"#REF!"}},{"$f":"IF(C1170=base!$W$2,ROW()+1,\"\")","v":{"$error":"#REF!"}},9630,"San Miguel Teotongo Sección La Cruz","Colonia","Iztapalapa","Distrito Federal","Ciudad de México",9511,9,9511,null,9,7,2856,"Urbano",9]
[{"$f":"IF(C1171=base!$AC$2,ROW()+1,\"\")","v":{"$error":"#REF!"}},{"$f":"IF(C1171=base!$W$2,ROW()+1,\"\")","v":{"$error":"#REF!"}},9630,"San Miguel Teotongo Sección Loma Alta","Colonia","Iztapalapa","Distrito Federal","Ciudad de México",9511,9,9511,null,9,7,2857,"Urbano",9]
[{"$f":"IF(C1172=base!$AC$2,ROW()+1,\"\")","v":{"$error":"#REF!"}},{"$f":"IF(C1172=base!$W$2,ROW()+1,\"\")","v":{"$error":"#REF!"}},9630,"San Miguel Teotongo Sección Puente","Colonia","Iztapalapa","Distrito Federal","Ciudad de México",9511,9,9511,null,9,7,2860,"Urbano",9]
[{"$f":"IF(C1173=base!$AC$2,ROW()+1,\"\")","v":{"$error":"#REF!"}},{"$f":"IF(C1173=base!$W$2,ROW()+1,\"\")","v":{"$error":"#REF!"}},9630,"San Miguel Teotongo Sección Ranchito","Colonia","Iztapalapa","Distrito Federal","Ciudad de México",9511,9,9511,null,9,7,2861,"Urbano",9]
[{"$f":"IF(C1174=base!$AC$2,ROW()+1,\"\")","v":{"$error":"#REF!"}},{"$f":"IF(C1174=base!$W$2,ROW()+1,\"\")","v":{"$error":"#REF!"}},9630,"San Miguel Teotongo Sección Torres","Colonia","Iztapalapa","Distrito Federal","Ciudad de México",9511,9,9511,null,9,7,2863,"Urbano",9]
[{"$f":"IF(C1175=base!$AC$2,ROW()+1,\"\")","v":{"$error":"#REF!"}},{"$f":"IF(C1175=base!$W$2,ROW()+1,\"\")","v":{"$error":"#REF!"}},9630,"San Miguel Teotongo Sección Palmitas","Colonia","Iztapalapa","Distrito Federal","Ciudad de México",9511,9,9511,null,9,7,2859,"Urbano",9]
[{"$f":"IF(C1176=base!$AC$2,ROW()+1,\"\")","v":{"$error":"#REF!"}},{"$f":"IF(C1176=base!$W$2,ROW()+1,\"\")","v":{"$error":"#REF!"}},9630,"San Miguel Teotongo Sección Acorralado","Colonia","Iztapalapa","Distrito Federal","Ciudad de México",9511,9,9511,null,9,7,2850,"Urbano",9]
[{"$f":"IF(C1177=base!$AC$2,ROW()+1,\"\")","v":{"$error":"#REF!"}},{"$f":"IF(C1177=base!$W$2,ROW()+1,\"\")","v":{"$error":"#REF!"}},9630,"San Miguel Teotongo Sección Capilla","Colonia","Iztapalapa","Distrito Federal","Ciudad de México",9511,9,9511,null,9,7,2852,"Urbano",9]
[{"$f":"IF(C1178=base!$AC$2,ROW()+1,\"\")","v":{"$error":"#REF!"}},{"$f":"IF(C1178=base!$W$2,ROW()+1,\"\")","v":{"$error":"#REF!"}},9630,"San Miguel Teotongo Sección Rancho Bajo","Colonia","Iztapalapa","Distrito Federal","Ciudad de México",9511,9,9511,null,9,7,2862,"Urbano",9]
[{"$f":"IF(C1179=base!$AC$2,ROW()+1,\"\")","v":{"$error":"#REF!"}},{"$f":"IF(C1179=base!$W$2,ROW()+1,\"\")","v":{"$error":"#REF!"}},9630,"San Miguel Teotongo Sección Avisadero","Colonia","Iztapalapa","Distrito Federal","Ciudad de México",9511,9,9511,null,9,7,2851,"Urbano",9]
[{"$f":"IF(C1180=base!$AC$2,ROW()+1,\"\")","v":{"$error":"#REF!"}},{"$f":"IF(C1180=base!$W$2,ROW()+1,\"\")","v":{"$error":"#REF!"}},9630,"San Miguel Teotongo Sección Mercedes","Colonia","Iztapalapa","Distrito Federal","Ciudad de México",9511,9,9511,null,9,7,2858,"Urbano",9]
[{"$f":"IF(C1181=base!$AC$2,ROW()+1,\"\")","v":{"$error":"#REF!"}},{"$f":"IF(C1181=base!$W$2,ROW()+1,\"\")","v":{"$error":"#REF!"}},9630,"San Miguel Teotongo Sección Jardines","Colonia","Iztapalapa","Distrito Federal","Ciudad de México",9511,9,9511,null,9,7,2855,"Urbano",9]
[{"$f":"IF(C1182=base!$AC$2,ROW()+1,\"\")","v":{"$error":"#REF!"}},{"$f":"IF(C1182=base!$W$2,ROW()+1,\"\")","v":{"$error":"#REF!"}},9637,"Campestre Potrero","Colonia","Iztapalapa","Distrito Federal","Ciudad de México",9511,9,9511,null,9,7,1461,"Urbano",9]
[{"$f":"IF(C1183=base!$AC$2,ROW()+1,\"\")","v":{"$error":"#REF!"}},{"$f":"IF(C1183=base!$W$2,ROW()+1,\"\")","v":{"$error":"#REF!"}},9638,"Ampliación Emiliano Zapata","Colonia","Iztapalapa","Distrito Federal","Ciudad de México",9511,9,9511,null,9,7,1462,"Urbano",9]
[{"$f":"IF(C1184=base!$AC$2,ROW()+1,\"\")","v":{"$error":"#REF!"}},{"$f":"IF(C1184=base!$W$2,ROW()+1,\"\")","v":{"$error":"#REF!"}},9640,"Xalpa","Colonia","Iztapalapa","Distrito Federal","Ciudad de México",9511,9,9511,null,9,7,1465,"Urbano",9]
[{"$f":"IF(C1185=base!$AC$2,ROW()+1,\"\")","v":{"$error":"#REF!"}},{"$f":"IF(C1185=base!$W$2,ROW()+1,\"\")","v":{"$error":"#REF!"}},9640,"Lomas de la Estancia","Colonia","Iztapalapa","Distrito Federal","Ciudad de México",9511,9,9511,null,9,7,1464,"Urbano",9]
[{"$f":"IF(C1186=base!$AC$2,ROW()+1,\"\")","v":{"$error":"#REF!"}},{"$f":"IF(C1186=base!$W$2,ROW()+1,\"\")","v":{"$error":"#REF!"}},9648,"San Pablo","Colonia","Iztapalapa","Distrito Federal","Ciudad de México",9511,9,9511,null,9,7,1467,"Urbano",9]
[{"$f":"IF(C1187=base!$AC$2,ROW()+1,\"\")","v":{"$error":"#REF!"}},{"$f":"IF(C1187=base!$W$2,ROW()+1,\"\")","v":{"$error":"#REF!"}},9660,"Citlalli","Colonia","Iztapalapa","Distrito Federal","Ciudad de México",9511,9,9511,null,9,7,1470,"Urbano",9]
[{"$f":"IF(C1188=base!$AC$2,ROW()+1,\"\")","v":{"$error":"#REF!"}},{"$f":"IF(C1188=base!$W$2,ROW()+1,\"\")","v":{"$error":"#REF!"}},9670,"Palmitas","Colonia","Iztapalapa","Distrito Federal","Ciudad de México",9511,9,9511,null,9,7,1471,"Urbano",9]
[{"$f":"IF(C1189=base!$AC$2,ROW()+1,\"\")","v":{"$error":"#REF!"}},{"$f":"IF(C1189=base!$W$2,ROW()+1,\"\")","v":{"$error":"#REF!"}},9680,"Tenorios","Colonia","Iztapalapa","Distrito Federal","Ciudad de México",9511,9,9511,null,9,7,1473,"Urbano",9]
[{"$f":"IF(C1190=base!$AC$2,ROW()+1,\"\")","v":{"$error":"#REF!"}},{"$f":"IF(C1190=base!$W$2,ROW()+1,\"\")","v":{"$error":"#REF!"}},9689,"Barranca de Guadalupe","Colonia","Iztapalapa","Distrito Federal","Ciudad de México",9511,9,9511,null,9,7,1477,"Urbano",9]
[{"$f":"IF(C1191=base!$AC$2,ROW()+1,\"\")","v":{"$error":"#REF!"}},{"$f":"IF(C1191=base!$W$2,ROW()+1,\"\")","v":{"$error":"#REF!"}},9690,"Iztlahuacán","Colonia","Iztapalapa","Distrito Federal","Ciudad de México",9511,9,9511,null,9,7,1478,"Urbano",9]
[{"$f":"IF(C1192=base!$AC$2,ROW()+1,\"\")","v":{"$error":"#REF!"}},{"$f":"IF(C1192=base!$W$2,ROW()+1,\"\")","v":{"$error":"#REF!"}},9696,"Miravalles","Colonia","Iztapalapa","Distrito Federal","Ciudad de México",9511,9,9511,null,9,7,1480,"Urbano",9]
[{"$f":"IF(C1193=base!$AC$2,ROW()+1,\"\")","v":{"$error":"#REF!"}},{"$f":"IF(C1193=base!$W$2,ROW()+1,\"\")","v":{"$error":"#REF!"}},9698,"Miguel de La Madrid Hurtado","Colonia","Iztapalapa","Distrito Federal","Ciudad de México",9511,9,9511,null,9,7,1482,"Urbano",9]
[{"$f":"IF(C1194=base!$AC$2,ROW()+1,\"\")","v":{"$error":"#REF!"}},{"$f":"IF(C1194=base!$W$2,ROW()+1,\"\")","v":{"$error":"#REF!"}},9700,"Buenavista","Colonia","Iztapalapa","Distrito Federal","Ciudad de México",9291,9,9291,null,9,7,1485,"Urbano",9]
[{"$f":"IF(C1195=base!$AC$2,ROW()+1,\"\")","v":{"$error":"#REF!"}},{"$f":"IF(C1195=base!$W$2,ROW()+1,\"\")","v":{"$error":"#REF!"}},9700,"Desarrollo Urbano Quetzalcoatl","Colonia","Iztapalapa","Distrito Federal","Ciudad de México",9291,9,9291,null,9,7,1488,"Urbano",9]
[{"$f":"IF(C1196=base!$AC$2,ROW()+1,\"\")","v":{"$error":"#REF!"}},{"$f":"IF(C1196=base!$W$2,ROW()+1,\"\")","v":{"$error":"#REF!"}},9700,"Matamoros","Unidad habitacional","Iztapalapa","Distrito Federal","Ciudad de México",9291,9,9291,null,31,7,1489,"Urbano",9]
[{"$f":"IF(C1197=base!$AC$2,ROW()+1,\"\")","v":{"$error":"#REF!"}},{"$f":"IF(C1197=base!$W$2,ROW()+1,\"\")","v":{"$error":"#REF!"}},9700,"Morelos II","Unidad habitacional","Iztapalapa","Distrito Federal","Ciudad de México",9291,9,9291,null,31,7,1490,"Urbano",9]
[{"$f":"IF(C1198=base!$AC$2,ROW()+1,\"\")","v":{"$error":"#REF!"}},{"$f":"IF(C1198=base!$W$2,ROW()+1,\"\")","v":{"$error":"#REF!"}},9700,"Carlos Hank Gonzalez","Colonia","Iztapalapa","Distrito Federal","Ciudad de México",9291,9,9291,null,9,7,1486,"Urbano",9]
[{"$f":"IF(C1199=base!$AC$2,ROW()+1,\"\")","v":{"$error":"#REF!"}},{"$f":"IF(C1199=base!$W$2,ROW()+1,\"\")","v":{"$error":"#REF!"}},9700,"Cuauhtémoc","Unidad habitacional","Iztapalapa","Distrito Federal","Ciudad de México",9291,9,9291,null,31,7,2541,"Urbano",9]
[{"$f":"IF(C1200=base!$AC$2,ROW()+1,\"\")","v":{"$error":"#REF!"}},{"$f":"IF(C1200=base!$W$2,ROW()+1,\"\")","v":{"$error":"#REF!"}},9700,"Santa Cruz Meyehualco","Pueblo","Iztapalapa","Distrito Federal","Ciudad de México",9291,9,9291,null,28,7,1491,"Urbano",9]
[{"$f":"IF(C1201=base!$AC$2,ROW()+1,\"\")","v":{"$error":"#REF!"}},{"$f":"IF(C1201=base!$W$2,ROW()+1,\"\")","v":{"$error":"#REF!"}},9704,"Arboledas Zafiro","Unidad habitacional","Iztapalapa","Distrito Federal","Ciudad de México",9291,9,9291,null,31,7,1495,"Urbano",9]
[{"$f":"IF(C1202=base!$AC$2,ROW()+1,\"\")","v":{"$error":"#REF!"}},{"$f":"IF(C1202=base!$W$2,ROW()+1,\"\")","v":{"$error":"#REF!"}},9704,"Degollado","Colonia","Iztapalapa","Distrito Federal","Ciudad de México",9291,9,9291,null,9,7,1492,"Urbano",9]
[{"$f":"IF(C1203=base!$AC$2,ROW()+1,\"\")","v":{"$error":"#REF!"}},{"$f":"IF(C1203=base!$W$2,ROW()+1,\"\")","v":{"$error":"#REF!"}},9704,"Prados","Unidad habitacional","Iztapalapa","Distrito Federal","Ciudad de México",9291,9,9291,null,31,7,2658,"Urbano",9]
[{"$f":"IF(C1204=base!$AC$2,ROW()+1,\"\")","v":{"$error":"#REF!"}},{"$f":"IF(C1204=base!$W$2,ROW()+1,\"\")","v":{"$error":"#REF!"}},9704,"Predio San Rafael","Campamento","Iztapalapa","Distrito Federal","Ciudad de México",9291,9,9291,null,4,7,2655,"Urbano",9]
[{"$f":"IF(C1205=base!$AC$2,ROW()+1,\"\")","v":{"$error":"#REF!"}},{"$f":"IF(C1205=base!$W$2,ROW()+1,\"\")","v":{"$error":"#REF!"}},9704,"La Magueyera","Unidad habitacional","Iztapalapa","Distrito Federal","Ciudad de México",9291,9,9291,null,31,7,1493,"Urbano",9]
[{"$f":"IF(C1206=base!$AC$2,ROW()+1,\"\")","v":{"$error":"#REF!"}},{"$f":"IF(C1206=base!$W$2,ROW()+1,\"\")","v":{"$error":"#REF!"}},9704,"Tejocotes","Unidad habitacional","Iztapalapa","Distrito Federal","Ciudad de México",9291,9,9291,null,31,7,1494,"Urbano",9]
[{"$f":"IF(C1207=base!$AC$2,ROW()+1,\"\")","v":{"$error":"#REF!"}},{"$f":"IF(C1207=base!$W$2,ROW()+1,\"\")","v":{"$error":"#REF!"}},9705,"Degollado - Mexicatlalli","Colonia","Iztapalapa","Distrito Federal","Ciudad de México",9291,9,9291,null,9,7,2726,"Urbano",9]
[{"$f":"IF(C1208=base!$AC$2,ROW()+1,\"\")","v":{"$error":"#REF!"}},{"$f":"IF(C1208=base!$W$2,ROW()+1,\"\")","v":{"$error":"#REF!"}},9705,"Predio Xaltepec","Campamento","Iztapalapa","Distrito Federal","Ciudad de México",9291,9,9291,null,4,7,2728,"Urbano",9]
[{"$f":"IF(C1209=base!$AC$2,ROW()+1,\"\")","v":{"$error":"#REF!"}},{"$f":"IF(C1209=base!$W$2,ROW()+1,\"\")","v":{"$error":"#REF!"}},9706,"San José Buenavista","Colonia","Iztapalapa","Distrito Federal","Ciudad de México",9291,9,9291,null,9,7,1497,"Urbano",9]
[{"$f":"IF(C1210=base!$AC$2,ROW()+1,\"\")","v":{"$error":"#REF!"}},{"$f":"IF(C1210=base!$W$2,ROW()+1,\"\")","v":{"$error":"#REF!"}},9706,"Predio San Pedro y San Pablo","Campamento","Iztapalapa","Distrito Federal","Ciudad de México",9291,9,9291,null,4,7,2732,"Urbano",9]
[{"$f":"IF(C1211=base!$AC$2,ROW()+1,\"\")","v":{"$error":"#REF!"}},{"$f":"IF(C1211=base!$W$2,ROW()+1,\"\")","v":{"$error":"#REF!"}},9708,"Violeta","Unidad habitacional","Iztapalapa","Distrito Federal","Ciudad de México",9291,9,9291,null,31,7,2564,"Urbano",9]
[{"$f":"IF(C1212=base!$AC$2,ROW()+1,\"\")","v":{"$error":"#REF!"}},{"$f":"IF(C1212=base!$W$2,ROW()+1,\"\")","v":{"$error":"#REF!"}},9708,"Mixcoatl","Colonia","Iztapalapa","Distrito Federal","Ciudad de México",9291,9,9291,null,9,7,1500,"Urbano",9]
[{"$f":"IF(C1213=base!$AC$2,ROW()+1,\"\")","v":{"$error":"#REF!"}},{"$f":"IF(C1213=base!$W$2,ROW()+1,\"\")","v":{"$error":"#REF!"}},9709,"Lomas de Santa Cruz","Colonia","Iztapalapa","Distrito Federal","Ciudad de México",9291,9,9291,null,9,7,1501,"Urbano",9]
[{"$f":"IF(C1214=base!$AC$2,ROW()+1,\"\")","v":{"$error":"#REF!"}},{"$f":"IF(C1214=base!$W$2,ROW()+1,\"\")","v":{"$error":"#REF!"}},9710,"Los Ángeles Apanoaya","Colonia","Iztapalapa","Distrito Federal","Ciudad de México",9291,9,9291,null,9,7,1502,"Urbano",9]
[{"$f":"IF(C1215=base!$AC$2,ROW()+1,\"\")","v":{"$error":"#REF!"}},{"$f":"IF(C1215=base!$W$2,ROW()+1,\"\")","v":{"$error":"#REF!"}},9719,"STUNAM","Unidad habitacional","Iztapalapa","Distrito Federal","Ciudad de México",9291,9,9291,null,31,7,1504,"Urbano",9]
[{"$f":"IF(C1216=base!$AC$2,ROW()+1,\"\")","v":{"$error":"#REF!"}},{"$f":"IF(C1216=base!$W$2,ROW()+1,\"\")","v":{"$error":"#REF!"}},9720,"Francisco Villa","Colonia","Iztapalapa","Distrito Federal","Ciudad de México",9291,9,9291,null,9,7,1505,"Urbano",9]
[{"$f":"IF(C1217=base!$AC$2,ROW()+1,\"\")","v":{"$error":"#REF!"}},{"$f":"IF(C1217=base!$W$2,ROW()+1,\"\")","v":{"$error":"#REF!"}},9720,"La Era","Colonia","Iztapalapa","Distrito Federal","Ciudad de México",9291,9,9291,null,9,7,1506,"Urbano",9]
[{"$f":"IF(C1218=base!$AC$2,ROW()+1,\"\")","v":{"$error":"#REF!"}},{"$f":"IF(C1218=base!$W$2,ROW()+1,\"\")","v":{"$error":"#REF!"}},9730,"Sierra del Valle","Unidad habitacional","Iztapalapa","Distrito Federal","Ciudad de México",9291,9,9291,null,31,7,1509,"Urbano",9]
[{"$f":"IF(C1219=base!$AC$2,ROW()+1,\"\")","v":{"$error":"#REF!"}},{"$f":"IF(C1219=base!$W$2,ROW()+1,\"\")","v":{"$error":"#REF!"}},9730,"Reforma Política","Colonia","Iztapalapa","Distrito Federal","Ciudad de México",9291,9,9291,null,9,7,1508,"Urbano",9]
[{"$f":"IF(C1220=base!$AC$2,ROW()+1,\"\")","v":{"$error":"#REF!"}},{"$f":"IF(C1220=base!$W$2,ROW()+1,\"\")","v":{"$error":"#REF!"}},9740,"Presidentes de México","Colonia","Iztapalapa","Distrito Federal","Ciudad de México",9291,9,9291,null,9,7,1511,"Urbano",9]
[{"$f":"IF(C1221=base!$AC$2,ROW()+1,\"\")","v":{"$error":"#REF!"}},{"$f":"IF(C1221=base!$W$2,ROW()+1,\"\")","v":{"$error":"#REF!"}},9740,"Anastasio Bustamante","Unidad habitacional","Iztapalapa","Distrito Federal","Ciudad de México",9291,9,9291,null,31,7,2566,"Urbano",9]
[{"$f":"IF(C1222=base!$AC$2,ROW()+1,\"\")","v":{"$error":"#REF!"}},{"$f":"IF(C1222=base!$W$2,ROW()+1,\"\")","v":{"$error":"#REF!"}},9750,"La Polvorilla","Colonia","Iztapalapa","Distrito Federal","Ciudad de México",9291,9,9291,null,9,7,1514,"Urbano",9]
[{"$f":"IF(C1223=base!$AC$2,ROW()+1,\"\")","v":{"$error":"#REF!"}},{"$f":"IF(C1223=base!$W$2,ROW()+1,\"\")","v":{"$error":"#REF!"}},9750,"Las Peñas","Colonia","Iztapalapa","Distrito Federal","Ciudad de México",9291,9,9291,null,9,7,1515,"Urbano",9]
[{"$f":"IF(C1224=base!$AC$2,ROW()+1,\"\")","v":{"$error":"#REF!"}},{"$f":"IF(C1224=base!$W$2,ROW()+1,\"\")","v":{"$error":"#REF!"}},9750,"Insurgentes","Colonia","Iztapalapa","Distrito Federal","Ciudad de México",9291,9,9291,null,9,7,1512,"Urbano",9]
[{"$f":"IF(C1225=base!$AC$2,ROW()+1,\"\")","v":{"$error":"#REF!"}},{"$f":"IF(C1225=base!$W$2,ROW()+1,\"\")","v":{"$error":"#REF!"}},9759,"Las Torres","Unidad habitacional","Iztapalapa","Distrito Federal","Ciudad de México",9291,9,9291,null,31,7,1517,"Urbano",9]
[{"$f":"IF(C1226=base!$AC$2,ROW()+1,\"\")","v":{"$error":"#REF!"}},{"$f":"IF(C1226=base!$W$2,ROW()+1,\"\")","v":{"$error":"#REF!"}},9760,"Consejo Agrarista Mexicano","Colonia","Iztapalapa","Distrito Federal","Ciudad de México",9291,9,9291,null,9,7,1518,"Urbano",9]
[{"$f":"IF(C1227=base!$AC$2,ROW()+1,\"\")","v":{"$error":"#REF!"}},{"$f":"IF(C1227=base!$W$2,ROW()+1,\"\")","v":{"$error":"#REF!"}},9760,"Presidentes y Plaza de La Constitución","Unidad habitacional","Iztapalapa","Distrito Federal","Ciudad de México",9291,9,9291,null,31,7,1520,"Urbano",9]
[{"$f":"IF(C1228=base!$AC$2,ROW()+1,\"\")","v":{"$error":"#REF!"}},{"$f":"IF(C1228=base!$W$2,ROW()+1,\"\")","v":{"$error":"#REF!"}},9767,"Residencial del Valle","Unidad habitacional","Iztapalapa","Distrito Federal","Ciudad de México",9291,9,9291,null,31,7,1521,"Urbano",9]
[{"$f":"IF(C1229=base!$AC$2,ROW()+1,\"\")","v":{"$error":"#REF!"}},{"$f":"IF(C1229=base!$W$2,ROW()+1,\"\")","v":{"$error":"#REF!"}},9768,"Opus 3","Conjunto habitacional","Iztapalapa","Distrito Federal","Ciudad de México",9291,9,9291,null,12,7,1522,"Urbano",9]
[{"$f":"IF(C1230=base!$AC$2,ROW()+1,\"\")","v":{"$error":"#REF!"}},{"$f":"IF(C1230=base!$W$2,ROW()+1,\"\")","v":{"$error":"#REF!"}},9769,"El Triángulo","Colonia","Iztapalapa","Distrito Federal","Ciudad de México",9291,9,9291,null,9,7,1523,"Urbano",9]
[{"$f":"IF(C1231=base!$AC$2,ROW()+1,\"\")","v":{"$error":"#REF!"}},{"$f":"IF(C1231=base!$W$2,ROW()+1,\"\")","v":{"$error":"#REF!"}},9770,"Puente Blanco","Colonia","Iztapalapa","Distrito Federal","Ciudad de México",9291,9,9291,null,9,7,1524,"Urbano",9]
[{"$f":"IF(C1232=base!$AC$2,ROW()+1,\"\")","v":{"$error":"#REF!"}},{"$f":"IF(C1232=base!$W$2,ROW()+1,\"\")","v":{"$error":"#REF!"}},9779,"Fase II","Unidad habitacional","Iztapalapa","Distrito Federal","Ciudad de México",9291,9,9291,null,31,7,1525,"Urbano",9]
[{"$f":"IF(C1233=base!$AC$2,ROW()+1,\"\")","v":{"$error":"#REF!"}},{"$f":"IF(C1233=base!$W$2,ROW()+1,\"\")","v":{"$error":"#REF!"}},9780,"El Árbol FOVISSSTE","Unidad habitacional","Iztapalapa","Distrito Federal","Ciudad de México",9291,9,9291,null,31,7,2567,"Urbano",9]
[{"$f":"IF(C1234=base!$AC$2,ROW()+1,\"\")","v":{"$error":"#REF!"}},{"$f":"IF(C1234=base!$W$2,ROW()+1,\"\")","v":{"$error":"#REF!"}},9780,"Fividesu Avenida 3","Unidad habitacional","Iztapalapa","Distrito Federal","Ciudad de México",9291,9,9291,null,31,7,2654,"Urbano",9]
[{"$f":"IF(C1235=base!$AC$2,ROW()+1,\"\")","v":{"$error":"#REF!"}},{"$f":"IF(C1235=base!$W$2,ROW()+1,\"\")","v":{"$error":"#REF!"}},9780,"El Tesoro","Unidad habitacional","Iztapalapa","Distrito Federal","Ciudad de México",9291,9,9291,null,31,7,2652,"Urbano",9]
[{"$f":"IF(C1236=base!$AC$2,ROW()+1,\"\")","v":{"$error":"#REF!"}},{"$f":"IF(C1236=base!$W$2,ROW()+1,\"\")","v":{"$error":"#REF!"}},9780,"Año de Juárez","Colonia","Iztapalapa","Distrito Federal","Ciudad de México",9291,9,9291,null,9,7,1527,"Urbano",9]
[{"$f":"IF(C1237=base!$AC$2,ROW()+1,\"\")","v":{"$error":"#REF!"}},{"$f":"IF(C1237=base!$W$2,ROW()+1,\"\")","v":{"$error":"#REF!"}},9780,"INFONAVIT","Unidad habitacional","Iztapalapa","Distrito Federal","Ciudad de México",9291,9,9291,null,31,7,2653,"Urbano",9]
[{"$f":"IF(C1238=base!$AC$2,ROW()+1,\"\")","v":{"$error":"#REF!"}},{"$f":"IF(C1238=base!$W$2,ROW()+1,\"\")","v":{"$error":"#REF!"}},9780,"Lomas de San Lorenzo","Colonia","Iztapalapa","Distrito Federal","Ciudad de México",9291,9,9291,null,9,7,1528,"Urbano",9]
[{"$f":"IF(C1239=base!$AC$2,ROW()+1,\"\")","v":{"$error":"#REF!"}},{"$f":"IF(C1239=base!$W$2,ROW()+1,\"\")","v":{"$error":"#REF!"}},9789,"Reclusorio Oriente","Gran usuario","Iztapalapa","Distrito Federal","Ciudad de México",9291,9,9291,null,22,7,1530,"Urbano",9]
[{"$f":"IF(C1240=base!$AC$2,ROW()+1,\"\")","v":{"$error":"#REF!"}},{"$f":"IF(C1240=base!$W$2,ROW()+1,\"\")","v":{"$error":"#REF!"}},9790,"San Lorenzo Tezonco","Pueblo","Iztapalapa","Distrito Federal","Ciudad de México",9291,9,9291,null,28,7,1531,"Urbano",9]
[{"$f":"IF(C1241=base!$AC$2,ROW()+1,\"\")","v":{"$error":"#REF!"}},{"$f":"IF(C1241=base!$W$2,ROW()+1,\"\")","v":{"$error":"#REF!"}},9800,"Fuego Nuevo","Colonia","Iztapalapa","Distrito Federal","Ciudad de México",9821,9,9821,null,9,7,1536,"Urbano",9]
[{"$f":"IF(C1242=base!$AC$2,ROW()+1,\"\")","v":{"$error":"#REF!"}},{"$f":"IF(C1242=base!$W$2,ROW()+1,\"\")","v":{"$error":"#REF!"}},9800,"Predio Maravillas","Unidad habitacional","Iztapalapa","Distrito Federal","Ciudad de México",9821,9,9821,null,31,7,2660,"Urbano",9]
[{"$f":"IF(C1243=base!$AC$2,ROW()+1,\"\")","v":{"$error":"#REF!"}},{"$f":"IF(C1243=base!$W$2,ROW()+1,\"\")","v":{"$error":"#REF!"}},9800,"Valle de Luces","Colonia","Iztapalapa","Distrito Federal","Ciudad de México",9821,9,9821,null,9,7,1542,"Urbano",9]
[{"$f":"IF(C1244=base!$AC$2,ROW()+1,\"\")","v":{"$error":"#REF!"}},{"$f":"IF(C1244=base!$W$2,ROW()+1,\"\")","v":{"$error":"#REF!"}},9800,"Pueblo Culhuacán","Pueblo","Iztapalapa","Distrito Federal","Ciudad de México",9821,9,9821,null,28,7,1532,"Urbano",9]
[{"$f":"IF(C1245=base!$AC$2,ROW()+1,\"\")","v":{"$error":"#REF!"}},{"$f":"IF(C1245=base!$W$2,ROW()+1,\"\")","v":{"$error":"#REF!"}},9800,"El Mirador","Colonia","Iztapalapa","Distrito Federal","Ciudad de México",9821,9,9821,null,9,7,1534,"Urbano",9]
[{"$f":"IF(C1246=base!$AC$2,ROW()+1,\"\")","v":{"$error":"#REF!"}},{"$f":"IF(C1246=base!$W$2,ROW()+1,\"\")","v":{"$error":"#REF!"}},9800,"Estrella Culhuacán","Colonia","Iztapalapa","Distrito Federal","Ciudad de México",9821,9,9821,null,9,7,1535,"Urbano",9]
[{"$f":"IF(C1247=base!$AC$2,ROW()+1,\"\")","v":{"$error":"#REF!"}},{"$f":"IF(C1247=base!$W$2,ROW()+1,\"\")","v":{"$error":"#REF!"}},9800,"San Antonio Culhuacán","Colonia","Iztapalapa","Distrito Federal","Ciudad de México",9821,9,9821,null,9,7,1538,"Urbano",9]
[{"$f":"IF(C1248=base!$AC$2,ROW()+1,\"\")","v":{"$error":"#REF!"}},{"$f":"IF(C1248=base!$W$2,ROW()+1,\"\")","v":{"$error":"#REF!"}},9800,"Barrio Tula","Barrio","Iztapalapa","Distrito Federal","Ciudad de México",9821,9,9821,null,2,7,1541,"Urbano",9]
[{"$f":"IF(C1249=base!$AC$2,ROW()+1,\"\")","v":{"$error":"#REF!"}},{"$f":"IF(C1249=base!$W$2,ROW()+1,\"\")","v":{"$error":"#REF!"}},9800,"San Simón Culhuacán","Barrio","Iztapalapa","Distrito Federal","Ciudad de México",9821,9,9821,null,2,7,1540,"Urbano",9]
[{"$f":"IF(C1250=base!$AC$2,ROW()+1,\"\")","v":{"$error":"#REF!"}},{"$f":"IF(C1250=base!$W$2,ROW()+1,\"\")","v":{"$error":"#REF!"}},9800,"Barrio San Antonio Culhuacán","Barrio","Iztapalapa","Distrito Federal","Ciudad de México",9821,9,9821,null,2,7,1539,"Urbano",9]
[{"$f":"IF(C1251=base!$AC$2,ROW()+1,\"\")","v":{"$error":"#REF!"}},{"$f":"IF(C1251=base!$W$2,ROW()+1,\"\")","v":{"$error":"#REF!"}},9800,"San Marcos","Unidad habitacional","Iztapalapa","Distrito Federal","Ciudad de México",9821,9,9821,null,31,7,2692,"Urbano",9]
[{"$f":"IF(C1252=base!$AC$2,ROW()+1,\"\")","v":{"$error":"#REF!"}},{"$f":"IF(C1252=base!$W$2,ROW()+1,\"\")","v":{"$error":"#REF!"}},9809,"Valle de Luces","Unidad habitacional","Iztapalapa","Distrito Federal","Ciudad de México",9821,9,9821,null,31,7,1545,"Urbano",9]
[{"$f":"IF(C1253=base!$AC$2,ROW()+1,\"\")","v":{"$error":"#REF!"}},{"$f":"IF(C1253=base!$W$2,ROW()+1,\"\")","v":{"$error":"#REF!"}},9810,"Progreso del Sur","Colonia","Iztapalapa","Distrito Federal","Ciudad de México",9821,9,9821,null,9,7,1550,"Urbano",9]
[{"$f":"IF(C1254=base!$AC$2,ROW()+1,\"\")","v":{"$error":"#REF!"}},{"$f":"IF(C1254=base!$W$2,ROW()+1,\"\")","v":{"$error":"#REF!"}},9810,"Granjas Esmeralda","Colonia","Iztapalapa","Distrito Federal","Ciudad de México",9821,9,9821,null,9,7,1547,"Urbano",9]
[{"$f":"IF(C1255=base!$AC$2,ROW()+1,\"\")","v":{"$error":"#REF!"}},{"$f":"IF(C1255=base!$W$2,ROW()+1,\"\")","v":{"$error":"#REF!"}},9810,"Los Cipreses","Colonia","Iztapalapa","Distrito Federal","Ciudad de México",9821,9,9821,null,9,7,1548,"Urbano",9]
[{"$f":"IF(C1256=base!$AC$2,ROW()+1,\"\")","v":{"$error":"#REF!"}},{"$f":"IF(C1256=base!$W$2,ROW()+1,\"\")","v":{"$error":"#REF!"}},9810,"Minerva","Colonia","Iztapalapa","Distrito Federal","Ciudad de México",9821,9,9821,null,9,7,1549,"Urbano",9]
[{"$f":"IF(C1257=base!$AC$2,ROW()+1,\"\")","v":{"$error":"#REF!"}},{"$f":"IF(C1257=base!$W$2,ROW()+1,\"\")","v":{"$error":"#REF!"}},9819,"Valle del Sur","Colonia","Iztapalapa","Distrito Federal","Ciudad de México",9821,9,9821,null,9,7,1551,"Urbano",9]
[{"$f":"IF(C1258=base!$AC$2,ROW()+1,\"\")","v":{"$error":"#REF!"}},{"$f":"IF(C1258=base!$W$2,ROW()+1,\"\")","v":{"$error":"#REF!"}},9820,"La Mora Grande","Unidad habitacional","Iztapalapa","Distrito Federal","Ciudad de México",9821,9,9821,null,31,7,1555,"Urbano",9]
[{"$f":"IF(C1259=base!$AC$2,ROW()+1,\"\")","v":{"$error":"#REF!"}},{"$f":"IF(C1259=base!$W$2,ROW()+1,\"\")","v":{"$error":"#REF!"}},9820,"El Santuario","Colonia","Iztapalapa","Distrito Federal","Ciudad de México",9821,9,9821,null,9,7,1552,"Urbano",9]
[{"$f":"IF(C1260=base!$AC$2,ROW()+1,\"\")","v":{"$error":"#REF!"}},{"$f":"IF(C1260=base!$W$2,ROW()+1,\"\")","v":{"$error":"#REF!"}},9820,"Santa Isabel Industrial","Colonia","Iztapalapa","Distrito Federal","Ciudad de México",9821,9,9821,null,9,7,1557,"Urbano",9]
[{"$f":"IF(C1261=base!$AC$2,ROW()+1,\"\")","v":{"$error":"#REF!"}},{"$f":"IF(C1261=base!$W$2,ROW()+1,\"\")","v":{"$error":"#REF!"}},9820,"Ricardo Flores Magón","Colonia","Iztapalapa","Distrito Federal","Ciudad de México",9821,9,9821,null,9,7,1556,"Urbano",9]
[{"$f":"IF(C1262=base!$AC$2,ROW()+1,\"\")","v":{"$error":"#REF!"}},{"$f":"IF(C1262=base!$W$2,ROW()+1,\"\")","v":{"$error":"#REF!"}},9820,"Estrella del Sur","Colonia","Iztapalapa","Distrito Federal","Ciudad de México",9821,9,9821,null,9,7,1553,"Urbano",9]
[{"$f":"IF(C1263=base!$AC$2,ROW()+1,\"\")","v":{"$error":"#REF!"}},{"$f":"IF(C1263=base!$W$2,ROW()+1,\"\")","v":{"$error":"#REF!"}},9828,"Ampliación Ricardo Flores Magón","Colonia","Iztapalapa","Distrito Federal","Ciudad de México",9821,9,9821,null,9,7,1559,"Urbano",9]
[{"$f":"IF(C1264=base!$AC$2,ROW()+1,\"\")","v":{"$error":"#REF!"}},{"$f":"IF(C1264=base!$W$2,ROW()+1,\"\")","v":{"$error":"#REF!"}},9829,"Ampliación El Santuario","Colonia","Iztapalapa","Distrito Federal","Ciudad de México",9821,9,9821,null,9,7,1560,"Urbano",9]
[{"$f":"IF(C1265=base!$AC$2,ROW()+1,\"\")","v":{"$error":"#REF!"}},{"$f":"IF(C1265=base!$W$2,ROW()+1,\"\")","v":{"$error":"#REF!"}},9829,"Villas San Diego","Fraccionamiento","Iztapalapa","Distrito Federal","Ciudad de México",9821,9,9821,null,21,7,1561,"Urbano",9]
[{"$f":"IF(C1266=base!$AC$2,ROW()+1,\"\")","v":{"$error":"#REF!"}},{"$f":"IF(C1266=base!$W$2,ROW()+1,\"\")","v":{"$error":"#REF!"}},9830,"Jesús Vela","Unidad habitacional","Iztapalapa","Distrito Federal","Ciudad de México",9821,9,9821,null,31,7,1564,"Urbano",9]
[{"$f":"IF(C1267=base!$AC$2,ROW()+1,\"\")","v":{"$error":"#REF!"}},{"$f":"IF(C1267=base!$W$2,ROW()+1,\"\")","v":{"$error":"#REF!"}},9830,"Lomas El Manto","Colonia","Iztapalapa","Distrito Federal","Ciudad de México",9821,9,9821,null,9,7,1565,"Urbano",9]
[{"$f":"IF(C1268=base!$AC$2,ROW()+1,\"\")","v":{"$error":"#REF!"}},{"$f":"IF(C1268=base!$W$2,ROW()+1,\"\")","v":{"$error":"#REF!"}},9830,"Paraje San Juan","Colonia","Iztapalapa","Distrito Federal","Ciudad de México",9821,9,9821,null,9,7,1568,"Urbano",9]
[{"$f":"IF(C1269=base!$AC$2,ROW()+1,\"\")","v":{"$error":"#REF!"}},{"$f":"IF(C1269=base!$W$2,ROW()+1,\"\")","v":{"$error":"#REF!"}},9830,"El Manto","Colonia","Iztapalapa","Distrito Federal","Ciudad de México",9821,9,9821,null,9,7,1562,"Urbano",9]
[{"$f":"IF(C1270=base!$AC$2,ROW()+1,\"\")","v":{"$error":"#REF!"}},{"$f":"IF(C1270=base!$W$2,ROW()+1,\"\")","v":{"$error":"#REF!"}},9830,"El Molino","Colonia","Iztapalapa","Distrito Federal","Ciudad de México",9821,9,9821,null,9,7,1563,"Urbano",9]
[{"$f":"IF(C1271=base!$AC$2,ROW()+1,\"\")","v":{"$error":"#REF!"}},{"$f":"IF(C1271=base!$W$2,ROW()+1,\"\")","v":{"$error":"#REF!"}},9830,"Los Ángeles","Colonia","Iztapalapa","Distrito Federal","Ciudad de México",9821,9,9821,null,9,7,1566,"Urbano",9]
[{"$f":"IF(C1272=base!$AC$2,ROW()+1,\"\")","v":{"$error":"#REF!"}},{"$f":"IF(C1272=base!$W$2,ROW()+1,\"\")","v":{"$error":"#REF!"}},9836,"Cuitlahuac","Unidad habitacional","Iztapalapa","Distrito Federal","Ciudad de México",9821,9,9821,null,31,7,1569,"Urbano",9]
[{"$f":"IF(C1273=base!$AC$2,ROW()+1,\"\")","v":{"$error":"#REF!"}},{"$f":"IF(C1273=base!$W$2,ROW()+1,\"\")","v":{"$error":"#REF!"}},9837,"San Miguel 8va. Ampliación","Colonia","Iztapalapa","Distrito Federal","Ciudad de México",9821,9,9821,null,9,7,1570,"Urbano",9]
[{"$f":"IF(C1274=base!$AC$2,ROW()+1,\"\")","v":{"$error":"#REF!"}},{"$f":"IF(C1274=base!$W$2,ROW()+1,\"\")","v":{"$error":"#REF!"}},9838,"Plan de Iguala","Colonia","Iztapalapa","Distrito Federal","Ciudad de México",9821,9,9821,null,9,7,1571,"Urbano",9]
[{"$f":"IF(C1275=base!$AC$2,ROW()+1,\"\")","v":{"$error":"#REF!"}},{"$f":"IF(C1275=base!$W$2,ROW()+1,\"\")","v":{"$error":"#REF!"}},9839,"San Juan Joya","Colonia","Iztapalapa","Distrito Federal","Ciudad de México",9821,9,9821,null,9,7,1576,"Urbano",9]
[{"$f":"IF(C1276=base!$AC$2,ROW()+1,\"\")","v":{"$error":"#REF!"}},{"$f":"IF(C1276=base!$W$2,ROW()+1,\"\")","v":{"$error":"#REF!"}},9839,"San Lorenzo Tezonco FOVISSSTE","Unidad habitacional","Iztapalapa","Distrito Federal","Ciudad de México",9821,9,9821,null,31,7,1577,"Urbano",9]
[{"$f":"IF(C1277=base!$AC$2,ROW()+1,\"\")","v":{"$error":"#REF!"}},{"$f":"IF(C1277=base!$W$2,ROW()+1,\"\")","v":{"$error":"#REF!"}},9839,"Alcanfores","Unidad habitacional","Iztapalapa","Distrito Federal","Ciudad de México",9821,9,9821,null,31,7,1572,"Urbano",9]
[{"$f":"IF(C1278=base!$AC$2,ROW()+1,\"\")","v":{"$error":"#REF!"}},{"$f":"IF(C1278=base!$W$2,ROW()+1,\"\")","v":{"$error":"#REF!"}},9839,"Ampliación Paraje San Juan","Colonia","Iztapalapa","Distrito Federal","Ciudad de México",9821,9,9821,null,9,7,1573,"Urbano",9]
[{"$f":"IF(C1279=base!$AC$2,ROW()+1,\"\")","v":{"$error":"#REF!"}},{"$f":"IF(C1279=base!$W$2,ROW()+1,\"\")","v":{"$error":"#REF!"}},9840,"Los Reyes Culhuacán","Pueblo","Iztapalapa","Distrito Federal","Ciudad de México",9821,9,9821,null,28,7,1578,"Urbano",9]
[{"$f":"IF(C1280=base!$AC$2,ROW()+1,\"\")","v":{"$error":"#REF!"}},{"$f":"IF(C1280=base!$W$2,ROW()+1,\"\")","v":{"$error":"#REF!"}},9849,"Ampliación Los Reyes","Colonia","Iztapalapa","Distrito Federal","Ciudad de México",9821,9,9821,null,9,7,1580,"Urbano",9]
[{"$f":"IF(C1281=base!$AC$2,ROW()+1,\"\")","v":{"$error":"#REF!"}},{"$f":"IF(C1281=base!$W$2,ROW()+1,\"\")","v":{"$error":"#REF!"}},9850,"Popular Oriente","Unidad habitacional","Iztapalapa","Distrito Federal","Ciudad de México",9821,9,9821,null,31,7,2708,"Urbano",9]
[{"$f":"IF(C1282=base!$AC$2,ROW()+1,\"\")","v":{"$error":"#REF!"}},{"$f":"IF(C1282=base!$W$2,ROW()+1,\"\")","v":{"$error":"#REF!"}},9850,"San Nicolás Tolentino","Unidad habitacional","Iztapalapa","Distrito Federal","Ciudad de México",9821,9,9821,null,31,7,1587,"Urbano",9]
[{"$f":"IF(C1283=base!$AC$2,ROW()+1,\"\")","v":{"$error":"#REF!"}},{"$f":"IF(C1283=base!$W$2,ROW()+1,\"\")","v":{"$error":"#REF!"}},9850,"Cedros","Unidad habitacional","Iztapalapa","Distrito Federal","Ciudad de México",9821,9,9821,null,31,7,1582,"Urbano",9]
[{"$f":"IF(C1284=base!$AC$2,ROW()+1,\"\")","v":{"$error":"#REF!"}},{"$f":"IF(C1284=base!$W$2,ROW()+1,\"\")","v":{"$error":"#REF!"}},9850,"San Juan Xalpa","Unidad habitacional","Iztapalapa","Distrito Federal","Ciudad de México",9821,9,9821,null,31,7,1585,"Urbano",9]
[{"$f":"IF(C1285=base!$AC$2,ROW()+1,\"\")","v":{"$error":"#REF!"}},{"$f":"IF(C1285=base!$W$2,ROW()+1,\"\")","v":{"$error":"#REF!"}},9850,"San Juan Xalpa","Colonia","Iztapalapa","Distrito Federal","Ciudad de México",9821,9,9821,null,9,7,1586,"Urbano",9]
[{"$f":"IF(C1286=base!$AC$2,ROW()+1,\"\")","v":{"$error":"#REF!"}},{"$f":"IF(C1286=base!$W$2,ROW()+1,\"\")","v":{"$error":"#REF!"}},9850,"Predio Nautla","Unidad habitacional","Iztapalapa","Distrito Federal","Ciudad de México",9821,9,9821,null,31,7,1584,"Urbano",9]
[{"$f":"IF(C1287=base!$AC$2,ROW()+1,\"\")","v":{"$error":"#REF!"}},{"$f":"IF(C1287=base!$W$2,ROW()+1,\"\")","v":{"$error":"#REF!"}},9850,"Carolinas","Unidad habitacional","Iztapalapa","Distrito Federal","Ciudad de México",9821,9,9821,null,31,7,1581,"Urbano",9]
[{"$f":"IF(C1288=base!$AC$2,ROW()+1,\"\")","v":{"$error":"#REF!"}},{"$f":"IF(C1288=base!$W$2,ROW()+1,\"\")","v":{"$error":"#REF!"}},9850,"San Nicolás Tolentino","Colonia","Iztapalapa","Distrito Federal","Ciudad de México",9821,9,9821,null,9,7,1588,"Urbano",9]
[{"$f":"IF(C1289=base!$AC$2,ROW()+1,\"\")","v":{"$error":"#REF!"}},{"$f":"IF(C1289=base!$W$2,ROW()+1,\"\")","v":{"$error":"#REF!"}},9850,"Naranjos","Unidad habitacional","Iztapalapa","Distrito Federal","Ciudad de México",9821,9,9821,null,31,7,1583,"Urbano",9]
[{"$f":"IF(C1290=base!$AC$2,ROW()+1,\"\")","v":{"$error":"#REF!"}},{"$f":"IF(C1290=base!$W$2,ROW()+1,\"\")","v":{"$error":"#REF!"}},9850,"Santa María del Monte","Colonia","Iztapalapa","Distrito Federal","Ciudad de México",9821,9,9821,null,9,7,1589,"Urbano",9]
[{"$f":"IF(C1291=base!$AC$2,ROW()+1,\"\")","v":{"$error":"#REF!"}},{"$f":"IF(C1291=base!$W$2,ROW()+1,\"\")","v":{"$error":"#REF!"}},9850,"Lirios FOVISSSTE","Unidad habitacional","Iztapalapa","Distrito Federal","Ciudad de México",9821,9,9821,null,31,7,1661,"Urbano",9]
[{"$f":"IF(C1292=base!$AC$2,ROW()+1,\"\")","v":{"$error":"#REF!"}},{"$f":"IF(C1292=base!$W$2,ROW()+1,\"\")","v":{"$error":"#REF!"}},9850,"Vikingos","Unidad habitacional","Iztapalapa","Distrito Federal","Ciudad de México",9821,9,9821,null,31,7,1670,"Urbano",9]
[{"$f":"IF(C1293=base!$AC$2,ROW()+1,\"\")","v":{"$error":"#REF!"}},{"$f":"IF(C1293=base!$W$2,ROW()+1,\"\")","v":{"$error":"#REF!"}},9856,"Estado de Veracruz","Colonia","Iztapalapa","Distrito Federal","Ciudad de México",9821,9,9821,null,9,7,1590,"Urbano",9]
[{"$f":"IF(C1294=base!$AC$2,ROW()+1,\"\")","v":{"$error":"#REF!"}},{"$f":"IF(C1294=base!$W$2,ROW()+1,\"\")","v":{"$error":"#REF!"}},9856,"Ampliación Veracruzana","Colonia","Iztapalapa","Distrito Federal","Ciudad de México",9821,9,9821,null,9,7,1591,"Urbano",9]
[{"$f":"IF(C1295=base!$AC$2,ROW()+1,\"\")","v":{"$error":"#REF!"}},{"$f":"IF(C1295=base!$W$2,ROW()+1,\"\")","v":{"$error":"#REF!"}},9857,"San Lorenzo","Unidad habitacional","Iztapalapa","Distrito Federal","Ciudad de México",9821,9,9821,null,31,7,1593,"Urbano",9]
[{"$f":"IF(C1296=base!$AC$2,ROW()+1,\"\")","v":{"$error":"#REF!"}},{"$f":"IF(C1296=base!$W$2,ROW()+1,\"\")","v":{"$error":"#REF!"}},9857,"El Tule","Unidad habitacional","Iztapalapa","Distrito Federal","Ciudad de México",9821,9,9821,null,31,7,1667,"Urbano",9]
[{"$f":"IF(C1297=base!$AC$2,ROW()+1,\"\")","v":{"$error":"#REF!"}},{"$f":"IF(C1297=base!$W$2,ROW()+1,\"\")","v":{"$error":"#REF!"}},9857,"San Francisco INFONAVIT","Unidad habitacional","Iztapalapa","Distrito Federal","Ciudad de México",9821,9,9821,null,31,7,1592,"Urbano",9]
[{"$f":"IF(C1298=base!$AC$2,ROW()+1,\"\")","v":{"$error":"#REF!"}},{"$f":"IF(C1298=base!$W$2,ROW()+1,\"\")","v":{"$error":"#REF!"}},9858,"Paraje San Juan Cerro","Colonia","Iztapalapa","Distrito Federal","Ciudad de México",9821,9,9821,null,9,7,1594,"Urbano",9]
[{"$f":"IF(C1299=base!$AC$2,ROW()+1,\"\")","v":{"$error":"#REF!"}},{"$f":"IF(C1299=base!$W$2,ROW()+1,\"\")","v":{"$error":"#REF!"}},9859,"Benito Juárez","Colonia","Iztapalapa","Distrito Federal","Ciudad de México",9821,9,9821,null,9,7,1595,"Urbano",9]
[{"$f":"IF(C1300=base!$AC$2,ROW()+1,\"\")","v":{"$error":"#REF!"}},{"$f":"IF(C1300=base!$W$2,ROW()+1,\"\")","v":{"$error":"#REF!"}},9860,"Reforma Garay INFONAVIT","Unidad habitacional","Iztapalapa","Distrito Federal","Ciudad de México",9821,9,9821,null,31,7,1604,"Urbano",9]
[{"$f":"IF(C1301=base!$AC$2,ROW()+1,\"\")","v":{"$error":"#REF!"}},{"$f":"IF(C1301=base!$W$2,ROW()+1,\"\")","v":{"$error":"#REF!"}},9860,"Parque Nacional Cerro  de la Estrella","Colonia","Iztapalapa","Distrito Federal","Ciudad de México",9821,9,9821,null,9,7,1601,"Urbano",9]
[{"$f":"IF(C1302=base!$AC$2,ROW()+1,\"\")","v":{"$error":"#REF!"}},{"$f":"IF(C1302=base!$W$2,ROW()+1,\"\")","v":{"$error":"#REF!"}},9860,"España","Unidad habitacional","Iztapalapa","Distrito Federal","Ciudad de México",9821,9,9821,null,31,7,1603,"Urbano",9]
[{"$f":"IF(C1303=base!$AC$2,ROW()+1,\"\")","v":{"$error":"#REF!"}},{"$f":"IF(C1303=base!$W$2,ROW()+1,\"\")","v":{"$error":"#REF!"}},9860,"Bellavista","Colonia","Iztapalapa","Distrito Federal","Ciudad de México",9821,9,9821,null,9,7,1596,"Urbano",9]
[{"$f":"IF(C1304=base!$AC$2,ROW()+1,\"\")","v":{"$error":"#REF!"}},{"$f":"IF(C1304=base!$W$2,ROW()+1,\"\")","v":{"$error":"#REF!"}},9860,"Cerro de La Estrella","Colonia","Iztapalapa","Distrito Federal","Ciudad de México",9821,9,9821,null,9,7,1600,"Urbano",9]
[{"$f":"IF(C1305=base!$AC$2,ROW()+1,\"\")","v":{"$error":"#REF!"}},{"$f":"IF(C1305=base!$W$2,ROW()+1,\"\")","v":{"$error":"#REF!"}},9860,"Casa Blanca","Colonia","Iztapalapa","Distrito Federal","Ciudad de México",9821,9,9821,null,9,7,1598,"Urbano",9]
[{"$f":"IF(C1306=base!$AC$2,ROW()+1,\"\")","v":{"$error":"#REF!"}},{"$f":"IF(C1306=base!$W$2,ROW()+1,\"\")","v":{"$error":"#REF!"}},9860,"El Rodeo","Colonia","Iztapalapa","Distrito Federal","Ciudad de México",9821,9,9821,null,9,7,1602,"Urbano",9]
[{"$f":"IF(C1307=base!$AC$2,ROW()+1,\"\")","v":{"$error":"#REF!"}},{"$f":"IF(C1307=base!$W$2,ROW()+1,\"\")","v":{"$error":"#REF!"}},9860,"Sabadell Bellavista","Unidad habitacional","Iztapalapa","Distrito Federal","Ciudad de México",9821,9,9821,null,31,7,1605,"Urbano",9]
[{"$f":"IF(C1308=base!$AC$2,ROW()+1,\"\")","v":{"$error":"#REF!"}},{"$f":"IF(C1308=base!$W$2,ROW()+1,\"\")","v":{"$error":"#REF!"}},9860,"Viva Sur","Unidad habitacional","Iztapalapa","Distrito Federal","Ciudad de México",9821,9,9821,null,31,7,1671,"Urbano",9]
[{"$f":"IF(C1309=base!$AC$2,ROW()+1,\"\")","v":{"$error":"#REF!"}},{"$f":"IF(C1309=base!$W$2,ROW()+1,\"\")","v":{"$error":"#REF!"}},9860,"Ampliación Bellavista","Colonia","Iztapalapa","Distrito Federal","Ciudad de México",9821,9,9821,null,9,7,1597,"Urbano",9]
[{"$f":"IF(C1310=base!$AC$2,ROW()+1,\"\")","v":{"$error":"#REF!"}},{"$f":"IF(C1310=base!$W$2,ROW()+1,\"\")","v":{"$error":"#REF!"}},9864,"Bertha Von Bloumer","Unidad habitacional","Iztapalapa","Distrito Federal","Ciudad de México",9821,9,9821,null,31,7,2570,"Urbano",9]
[{"$f":"IF(C1311=base!$AC$2,ROW()+1,\"\")","v":{"$error":"#REF!"}},{"$f":"IF(C1311=base!$W$2,ROW()+1,\"\")","v":{"$error":"#REF!"}},9868,"San Juan Estrella","Colonia","Iztapalapa","Distrito Federal","Ciudad de México",9821,9,9821,null,9,7,1607,"Urbano",9]
[{"$f":"IF(C1312=base!$AC$2,ROW()+1,\"\")","v":{"$error":"#REF!"}},{"$f":"IF(C1312=base!$W$2,ROW()+1,\"\")","v":{"$error":"#REF!"}},9868,"Plaza Estrella I","Unidad habitacional","Iztapalapa","Distrito Federal","Ciudad de México",9821,9,9821,null,31,7,1606,"Urbano",9]
[{"$f":"IF(C1313=base!$AC$2,ROW()+1,\"\")","v":{"$error":"#REF!"}},{"$f":"IF(C1313=base!$W$2,ROW()+1,\"\")","v":{"$error":"#REF!"}},9869,"Plaza Estrella II","Unidad habitacional","Iztapalapa","Distrito Federal","Ciudad de México",9821,9,9821,null,31,7,1608,"Urbano",9]
[{"$f":"IF(C1314=base!$AC$2,ROW()+1,\"\")","v":{"$error":"#REF!"}},{"$f":"IF(C1314=base!$W$2,ROW()+1,\"\")","v":{"$error":"#REF!"}},9870,"12 de Diciembre","Colonia","Iztapalapa","Distrito Federal","Ciudad de México",9821,9,9821,null,9,7,1609,"Urbano",9]
[{"$f":"IF(C1315=base!$AC$2,ROW()+1,\"\")","v":{"$error":"#REF!"}},{"$f":"IF(C1315=base!$W$2,ROW()+1,\"\")","v":{"$error":"#REF!"}},9870,"San Andrés Tomatlán","Colonia","Iztapalapa","Distrito Federal","Ciudad de México",9821,9,9821,null,9,7,1611,"Urbano",9]
[{"$f":"IF(C1316=base!$AC$2,ROW()+1,\"\")","v":{"$error":"#REF!"}},{"$f":"IF(C1316=base!$W$2,ROW()+1,\"\")","v":{"$error":"#REF!"}},9870,"Santa María Tomatlán","Pueblo","Iztapalapa","Distrito Federal","Ciudad de México",9821,9,9821,null,28,7,1616,"Urbano",9]
[{"$f":"IF(C1317=base!$AC$2,ROW()+1,\"\")","v":{"$error":"#REF!"}},{"$f":"IF(C1317=base!$W$2,ROW()+1,\"\")","v":{"$error":"#REF!"}},9870,"La Loma","Unidad habitacional","Iztapalapa","Distrito Federal","Ciudad de México",9821,9,9821,null,31,7,1658,"Urbano",9]
[{"$f":"IF(C1318=base!$AC$2,ROW()+1,\"\")","v":{"$error":"#REF!"}},{"$f":"IF(C1318=base!$W$2,ROW()+1,\"\")","v":{"$error":"#REF!"}},9870,"San Andrés Tomatlán","Pueblo","Iztapalapa","Distrito Federal","Ciudad de México",9821,9,9821,null,28,7,1613,"Urbano",9]
[{"$f":"IF(C1319=base!$AC$2,ROW()+1,\"\")","v":{"$error":"#REF!"}},{"$f":"IF(C1319=base!$W$2,ROW()+1,\"\")","v":{"$error":"#REF!"}},9880,"Cooperativa de Trabajadores Sector Pesca","Unidad habitacional","Iztapalapa","Distrito Federal","Ciudad de México",9821,9,9821,null,31,7,1619,"Urbano",9]
[{"$f":"IF(C1320=base!$AC$2,ROW()+1,\"\")","v":{"$error":"#REF!"}},{"$f":"IF(C1320=base!$W$2,ROW()+1,\"\")","v":{"$error":"#REF!"}},9880,"El Vergel","Colonia","Iztapalapa","Distrito Federal","Ciudad de México",9821,9,9821,null,9,7,1620,"Urbano",9]
[{"$f":"IF(C1321=base!$AC$2,ROW()+1,\"\")","v":{"$error":"#REF!"}},{"$f":"IF(C1321=base!$W$2,ROW()+1,\"\")","v":{"$error":"#REF!"}},9880,"Granjas Estrella","Colonia","Iztapalapa","Distrito Federal","Ciudad de México",9821,9,9821,null,9,7,1621,"Urbano",9]
[{"$f":"IF(C1322=base!$AC$2,ROW()+1,\"\")","v":{"$error":"#REF!"}},{"$f":"IF(C1322=base!$W$2,ROW()+1,\"\")","v":{"$error":"#REF!"}},9880,"Campestre Estrella","Fraccionamiento","Iztapalapa","Distrito Federal","Ciudad de México",9821,9,9821,null,21,7,1618,"Urbano",9]
[{"$f":"IF(C1323=base!$AC$2,ROW()+1,\"\")","v":{"$error":"#REF!"}},{"$f":"IF(C1323=base!$W$2,ROW()+1,\"\")","v":{"$error":"#REF!"}},9880,"Jacarandas","Unidad habitacional","Iztapalapa","Distrito Federal","Ciudad de México",9821,9,9821,null,31,7,1622,"Urbano",9]
[{"$f":"IF(C1324=base!$AC$2,ROW()+1,\"\")","v":{"$error":"#REF!"}},{"$f":"IF(C1324=base!$W$2,ROW()+1,\"\")","v":{"$error":"#REF!"}},9880,"22 CTM","Unidad habitacional","Iztapalapa","Distrito Federal","Ciudad de México",9821,9,9821,null,31,7,1624,"Urbano",9]
[{"$f":"IF(C1325=base!$AC$2,ROW()+1,\"\")","v":{"$error":"#REF!"}},{"$f":"IF(C1325=base!$W$2,ROW()+1,\"\")","v":{"$error":"#REF!"}},9885,"Triangulo de las Agujas","Unidad habitacional","Iztapalapa","Distrito Federal","Ciudad de México",9821,9,9821,null,31,7,1626,"Urbano",9]
[{"$f":"IF(C1326=base!$AC$2,ROW()+1,\"\")","v":{"$error":"#REF!"}},{"$f":"IF(C1326=base!$W$2,ROW()+1,\"\")","v":{"$error":"#REF!"}},9885,"Militar Sedena","Unidad habitacional","Iztapalapa","Distrito Federal","Ciudad de México",9821,9,9821,null,31,7,1625,"Urbano",9]
[{"$f":"IF(C1327=base!$AC$2,ROW()+1,\"\")","v":{"$error":"#REF!"}},{"$f":"IF(C1327=base!$W$2,ROW()+1,\"\")","v":{"$error":"#REF!"}},9889,"Rinconada Estrella","Unidad habitacional","Iztapalapa","Distrito Federal","Ciudad de México",9821,9,9821,null,31,7,1627,"Urbano",9]
[{"$f":"IF(C1328=base!$AC$2,ROW()+1,\"\")","v":{"$error":"#REF!"}},{"$f":"IF(C1328=base!$W$2,ROW()+1,\"\")","v":{"$error":"#REF!"}},9890,"Lomas Estrella","Colonia","Iztapalapa","Distrito Federal","Ciudad de México",9821,9,9821,null,9,7,1629,"Urbano",9]
[{"$f":"IF(C1329=base!$AC$2,ROW()+1,\"\")","v":{"$error":"#REF!"}},{"$f":"IF(C1329=base!$W$2,ROW()+1,\"\")","v":{"$error":"#REF!"}},9890,"Benito Juárez","Unidad habitacional","Iztapalapa","Distrito Federal","Ciudad de México",9821,9,9821,null,31,7,1628,"Urbano",9]
[{"$f":"IF(C1330=base!$AC$2,ROW()+1,\"\")","v":{"$error":"#REF!"}},{"$f":"IF(C1330=base!$W$2,ROW()+1,\"\")","v":{"$error":"#REF!"}},9897,"Carlos Jonguitud Barrios","Colonia","Iztapalapa","Distrito Federal","Ciudad de México",9821,9,9821,null,9,7,1633,"Urbano",9]
[{"$f":"IF(C1331=base!$AC$2,ROW()+1,\"\")","v":{"$error":"#REF!"}},{"$f":"IF(C1331=base!$W$2,ROW()+1,\"\")","v":{"$error":"#REF!"}},9897,"Residencial Venecia","Unidad habitacional","Iztapalapa","Distrito Federal","Ciudad de México",9821,9,9821,null,31,7,1669,"Urbano",9]
[{"$f":"IF(C1332=base!$AC$2,ROW()+1,\"\")","v":{"$error":"#REF!"}},{"$f":"IF(C1332=base!$W$2,ROW()+1,\"\")","v":{"$error":"#REF!"}},9898,"Villas Estrella","Unidad habitacional","Iztapalapa","Distrito Federal","Ciudad de México",9821,9,9821,null,31,7,1635,"Urbano",9]
[{"$f":"IF(C1333=base!$AC$2,ROW()+1,\"\")","v":{"$error":"#REF!"}},{"$f":"IF(C1333=base!$W$2,ROW()+1,\"\")","v":{"$error":"#REF!"}},9899,"Lomas Estrella FOVISSSTE","Unidad habitacional","Iztapalapa","Distrito Federal","Ciudad de México",9821,9,9821,null,31,7,1636,"Urbano",9]
[{"$f":"IF(C1334=base!$AC$2,ROW()+1,\"\")","v":{"$error":"#REF!"}},{"$f":"IF(C1334=base!$W$2,ROW()+1,\"\")","v":{"$error":"#REF!"}},9900,"Guadalupe","Barrio","Iztapalapa","Distrito Federal","Ciudad de México",9291,9,9291,null,2,7,1637,"Urbano",9]
[{"$f":"IF(C1335=base!$AC$2,ROW()+1,\"\")","v":{"$error":"#REF!"}},{"$f":"IF(C1335=base!$W$2,ROW()+1,\"\")","v":{"$error":"#REF!"}},9900,"San Lorenzo","Barrio","Iztapalapa","Distrito Federal","Ciudad de México",9291,9,9291,null,2,7,1639,"Urbano",9]
[{"$f":"IF(C1336=base!$AC$2,ROW()+1,\"\")","v":{"$error":"#REF!"}},{"$f":"IF(C1336=base!$W$2,ROW()+1,\"\")","v":{"$error":"#REF!"}},9900,"San Antonio","Barrio","Iztapalapa","Distrito Federal","Ciudad de México",9291,9,9291,null,2,7,1638,"Urbano",9]
[{"$f":"IF(C1337=base!$AC$2,ROW()+1,\"\")","v":{"$error":"#REF!"}},{"$f":"IF(C1337=base!$W$2,ROW()+1,\"\")","v":{"$error":"#REF!"}},9910,"Los Mirasoles","Unidad habitacional","Iztapalapa","Distrito Federal","Ciudad de México",9291,9,9291,null,31,7,1641,"Urbano",9]
[{"$f":"IF(C1338=base!$AC$2,ROW()+1,\"\")","v":{"$error":"#REF!"}},{"$f":"IF(C1338=base!$W$2,ROW()+1,\"\")","v":{"$error":"#REF!"}},9910,"La Esperanza","Colonia","Iztapalapa","Distrito Federal","Ciudad de México",9291,9,9291,null,9,7,1640,"Urbano",9]
[{"$f":"IF(C1339=base!$AC$2,ROW()+1,\"\")","v":{"$error":"#REF!"}},{"$f":"IF(C1339=base!$W$2,ROW()+1,\"\")","v":{"$error":"#REF!"}},9920,"José López Portillo","Colonia","Iztapalapa","Distrito Federal","Ciudad de México",9291,9,9291,null,9,7,1643,"Urbano",9]
[{"$f":"IF(C1340=base!$AC$2,ROW()+1,\"\")","v":{"$error":"#REF!"}},{"$f":"IF(C1340=base!$W$2,ROW()+1,\"\")","v":{"$error":"#REF!"}},9930,"El Rosario","Colonia","Iztapalapa","Distrito Federal","Ciudad de México",9291,9,9291,null,9,7,1644,"Urbano",9]
[{"$f":"IF(C1341=base!$AC$2,ROW()+1,\"\")","v":{"$error":"#REF!"}},{"$f":"IF(C1341=base!$W$2,ROW()+1,\"\")","v":{"$error":"#REF!"}},9940,"Jardines de San Lorenzo Tezonco","Colonia","Iztapalapa","Distrito Federal","Ciudad de México",9291,9,9291,null,9,7,1645,"Urbano",9]
[{"$f":"IF(C1342=base!$AC$2,ROW()+1,\"\")","v":{"$error":"#REF!"}},{"$f":"IF(C1342=base!$W$2,ROW()+1,\"\")","v":{"$error":"#REF!"}},9960,"USCOVI","Colonia","Iztapalapa","Distrito Federal","Ciudad de México",9291,9,9291,null,9,7,1647,"Urbano",9]
[{"$f":"IF(C1343=base!$AC$2,ROW()+1,\"\")","v":{"$error":"#REF!"}},{"$f":"IF(C1343=base!$W$2,ROW()+1,\"\")","v":{"$error":"#REF!"}},9960,"Allapetlalli","Colonia","Iztapalapa","Distrito Federal","Ciudad de México",9291,9,9291,null,9,7,1961,"Urbano",9]
[{"$f":"IF(C1344=base!$AC$2,ROW()+1,\"\")","v":{"$error":"#REF!"}},{"$f":"IF(C1344=base!$W$2,ROW()+1,\"\")","v":{"$error":"#REF!"}},9960,"Cooperativa Tlaltenco","Unidad habitacional","Iztapalapa","Distrito Federal","Ciudad de México",9291,9,9291,null,31,7,2569,"Urbano",9]
[{"$f":"IF(C1345=base!$AC$2,ROW()+1,\"\")","v":{"$error":"#REF!"}},{"$f":"IF(C1345=base!$W$2,ROW()+1,\"\")","v":{"$error":"#REF!"}},9960,"Nueva Generación","Unidad habitacional","Iztapalapa","Distrito Federal","Ciudad de México",9291,9,9291,null,31,7,2734,"Urbano",9]
[{"$f":"IF(C1346=base!$AC$2,ROW()+1,\"\")","v":{"$error":"#REF!"}},{"$f":"IF(C1346=base!$W$2,ROW()+1,\"\")","v":{"$error":"#REF!"}},9960,"La Planta","Colonia","Iztapalapa","Distrito Federal","Ciudad de México",9291,9,9291,null,9,7,2736,"Urbano",9]
[{"$f":"IF(C1347=base!$AC$2,ROW()+1,\"\")","v":{"$error":"#REF!"}},{"$f":"IF(C1347=base!$W$2,ROW()+1,\"\")","v":{"$error":"#REF!"}},9960,"Huasipungo","Unidad habitacional","Iztapalapa","Distrito Federal","Ciudad de México",9291,9,9291,null,31,7,2659,"Urbano",9]
[{"$f":"IF(C1348=base!$AC$2,ROW()+1,\"\")","v":{"$error":"#REF!"}},{"$f":"IF(C1348=base!$W$2,ROW()+1,\"\")","v":{"$error":"#REF!"}},9960,"Rinconada del Molino","Unidad habitacional","Iztapalapa","Distrito Federal","Ciudad de México",9291,9,9291,null,31,7,2727,"Urbano",9]
[{"$f":"IF(C1349=base!$AC$2,ROW()+1,\"\")","v":{"$error":"#REF!"}},{"$f":"IF(C1349=base!$W$2,ROW()+1,\"\")","v":{"$error":"#REF!"}},9960,"Moyocoyani","Unidad habitacional","Iztapalapa","Distrito Federal","Ciudad de México",9291,9,9291,null,31,7,2730,"Urbano",9]
[{"$f":"IF(C1350=base!$AC$2,ROW()+1,\"\")","v":{"$error":"#REF!"}},{"$f":"IF(C1350=base!$W$2,ROW()+1,\"\")","v":{"$error":"#REF!"}},9960,"Celoalliotli","Colonia","Iztapalapa","Distrito Federal","Ciudad de México",9291,9,9291,null,9,7,1646,"Urbano",9]
[{"$f":"IF(C1351=base!$AC$2,ROW()+1,\"\")","v":{"$error":"#REF!"}},{"$f":"IF(C1351=base!$W$2,ROW()+1,\"\")","v":{"$error":"#REF!"}},9960,"El Molino Tezonco","Colonia","Iztapalapa","Distrito Federal","Ciudad de México",9291,9,9291,null,9,7,1648,"Urbano",9]
[{"$f":"IF(C1352=base!$AC$2,ROW()+1,\"\")","v":{"$error":"#REF!"}},{"$f":"IF(C1352=base!$W$2,ROW()+1,\"\")","v":{"$error":"#REF!"}},9960,"Na hal ti","Unidad habitacional","Iztapalapa","Distrito Federal","Ciudad de México",9291,9,9291,null,31,7,2729,"Urbano",9]
[{"$f":"IF(C1353=base!$AC$2,ROW()+1,\"\")","v":{"$error":"#REF!"}},{"$f":"IF(C1353=base!$W$2,ROW()+1,\"\")","v":{"$error":"#REF!"}},9969,"Cananea","Colonia","Iztapalapa","Distrito Federal","Ciudad de México",9291,9,9291,null,9,7,1651,"Urbano",9]
[{"$f":"IF(C1354=base!$AC$2,ROW()+1,\"\")","v":{"$error":"#REF!"}},{"$f":"IF(C1354=base!$W$2,ROW()+1,\"\")","v":{"$error":"#REF!"}},9970,"Valle de San Lorenzo","Colonia","Iztapalapa","Distrito Federal","Ciudad de México",9291,9,9291,null,9,7,1652,"Urbano",9]
[{"$f":"IF(C1355=base!$AC$2,ROW()+1,\"\")","v":{"$error":"#REF!"}},{"$f":"IF(C1355=base!$W$2,ROW()+1,\"\")","v":{"$error":"#REF!"}},9979,"Carmen Serdán","Unidad habitacional","Iztapalapa","Distrito Federal","Ciudad de México",9291,9,9291,null,31,7,1653,"Urbano",9]
[{"$f":"IF(C1356=base!$AC$2,ROW()+1,\"\")","v":{"$error":"#REF!"}},{"$f":"IF(C1356=base!$W$2,ROW()+1,\"\")","v":{"$error":"#REF!"}},10000,"Lomas Quebradas","Colonia","La Magdalena Contreras","Distrito Federal","Ciudad de México",10021,9,10021,null,9,8,1672,"Urbano",10]
[{"$f":"IF(C1357=base!$AC$2,ROW()+1,\"\")","v":{"$error":"#REF!"}},{"$f":"IF(C1357=base!$W$2,ROW()+1,\"\")","v":{"$error":"#REF!"}},10010,"La Malinche","Colonia","La Magdalena Contreras","Distrito Federal","Ciudad de México",10021,9,10021,null,9,8,1673,"Urbano",10]
[{"$f":"IF(C1358=base!$AC$2,ROW()+1,\"\")","v":{"$error":"#REF!"}},{"$f":"IF(C1358=base!$W$2,ROW()+1,\"\")","v":{"$error":"#REF!"}},10010,"San Bartolo Ameyalco","Colonia","La Magdalena Contreras","Distrito Federal","Ciudad de México",10021,9,10021,null,9,8,1674,"Urbano",10]
[{"$f":"IF(C1359=base!$AC$2,ROW()+1,\"\")","v":{"$error":"#REF!"}},{"$f":"IF(C1359=base!$W$2,ROW()+1,\"\")","v":{"$error":"#REF!"}},10020,"Cuauhtémoc","Colonia","La Magdalena Contreras","Distrito Federal","Ciudad de México",10021,9,10021,null,9,8,1675,"Urbano",10]
[{"$f":"IF(C1360=base!$AC$2,ROW()+1,\"\")","v":{"$error":"#REF!"}},{"$f":"IF(C1360=base!$W$2,ROW()+1,\"\")","v":{"$error":"#REF!"}},10100,"Unidad Independencia IMSS","Unidad habitacional","La Magdalena Contreras","Distrito Federal","Ciudad de México",10101,9,10101,null,31,8,1677,"Urbano",10]
[{"$f":"IF(C1361=base!$AC$2,ROW()+1,\"\")","v":{"$error":"#REF!"}},{"$f":"IF(C1361=base!$W$2,ROW()+1,\"\")","v":{"$error":"#REF!"}},10110,"Puente Sierra","Fraccionamiento","La Magdalena Contreras","Distrito Federal","Ciudad de México",10701,9,10701,null,21,8,1679,"Urbano",10]
[{"$f":"IF(C1362=base!$AC$2,ROW()+1,\"\")","v":{"$error":"#REF!"}},{"$f":"IF(C1362=base!$W$2,ROW()+1,\"\")","v":{"$error":"#REF!"}},10130,"Batan Viejo","Colonia","La Magdalena Contreras","Distrito Federal","Ciudad de México",10101,9,10101,null,9,8,1681,"Urbano",10]
[{"$f":"IF(C1363=base!$AC$2,ROW()+1,\"\")","v":{"$error":"#REF!"}},{"$f":"IF(C1363=base!$W$2,ROW()+1,\"\")","v":{"$error":"#REF!"}},10200,"San Jerónimo Lídice","Colonia","La Magdalena Contreras","Distrito Federal","Ciudad de México",10701,9,10701,null,9,8,1682,"Urbano",10]
[{"$f":"IF(C1364=base!$AC$2,ROW()+1,\"\")","v":{"$error":"#REF!"}},{"$f":"IF(C1364=base!$W$2,ROW()+1,\"\")","v":{"$error":"#REF!"}},10210,"Los Capulines","Condominio","La Magdalena Contreras","Distrito Federal","Ciudad de México",10701,9,10701,null,10,8,1684,"Urbano",10]
[{"$f":"IF(C1365=base!$AC$2,ROW()+1,\"\")","v":{"$error":"#REF!"}},{"$f":"IF(C1365=base!$W$2,ROW()+1,\"\")","v":{"$error":"#REF!"}},10290,"Bosques de La Magdalena","Condominio","La Magdalena Contreras","Distrito Federal","Ciudad de México",10701,9,10701,null,10,8,1685,"Urbano",10]
[{"$f":"IF(C1366=base!$AC$2,ROW()+1,\"\")","v":{"$error":"#REF!"}},{"$f":"IF(C1366=base!$W$2,ROW()+1,\"\")","v":{"$error":"#REF!"}},10300,"San Bernabé Ocotepec","Pueblo","La Magdalena Contreras","Distrito Federal","Ciudad de México",10021,9,10021,null,28,8,1686,"Urbano",10]
[{"$f":"IF(C1367=base!$AC$2,ROW()+1,\"\")","v":{"$error":"#REF!"}},{"$f":"IF(C1367=base!$W$2,ROW()+1,\"\")","v":{"$error":"#REF!"}},10309,"El Oasis de San Bernabé","Fraccionamiento","La Magdalena Contreras","Distrito Federal","Ciudad de México",10021,9,10021,null,21,8,1687,"Urbano",10]
[{"$f":"IF(C1368=base!$AC$2,ROW()+1,\"\")","v":{"$error":"#REF!"}},{"$f":"IF(C1368=base!$W$2,ROW()+1,\"\")","v":{"$error":"#REF!"}},10320,"El Tanque","Colonia","La Magdalena Contreras","Distrito Federal","Ciudad de México",10021,9,10021,null,9,8,1690,"Urbano",10]
[{"$f":"IF(C1369=base!$AC$2,ROW()+1,\"\")","v":{"$error":"#REF!"}},{"$f":"IF(C1369=base!$W$2,ROW()+1,\"\")","v":{"$error":"#REF!"}},10330,"Las Cruces","Colonia","La Magdalena Contreras","Distrito Federal","Ciudad de México",10021,9,10021,null,9,8,1691,"Urbano",10]
[{"$f":"IF(C1370=base!$AC$2,ROW()+1,\"\")","v":{"$error":"#REF!"}},{"$f":"IF(C1370=base!$W$2,ROW()+1,\"\")","v":{"$error":"#REF!"}},10340,"Los Padres","Colonia","La Magdalena Contreras","Distrito Federal","Ciudad de México",10021,9,10021,null,9,8,1692,"Urbano",10]
[{"$f":"IF(C1371=base!$AC$2,ROW()+1,\"\")","v":{"$error":"#REF!"}},{"$f":"IF(C1371=base!$W$2,ROW()+1,\"\")","v":{"$error":"#REF!"}},10350,"Lomas de San Bernabé","Colonia","La Magdalena Contreras","Distrito Federal","Ciudad de México",10021,9,10021,null,9,8,1693,"Urbano",10]
[{"$f":"IF(C1372=base!$AC$2,ROW()+1,\"\")","v":{"$error":"#REF!"}},{"$f":"IF(C1372=base!$W$2,ROW()+1,\"\")","v":{"$error":"#REF!"}},10360,"Huayatla","Colonia","La Magdalena Contreras","Distrito Federal","Ciudad de México",10021,9,10021,null,9,8,1694,"Urbano",10]
[{"$f":"IF(C1373=base!$AC$2,ROW()+1,\"\")","v":{"$error":"#REF!"}},{"$f":"IF(C1373=base!$W$2,ROW()+1,\"\")","v":{"$error":"#REF!"}},10368,"Ampliación Potrerillo","Colonia","La Magdalena Contreras","Distrito Federal","Ciudad de México",10581,9,10581,null,9,8,1695,"Urbano",10]
[{"$f":"IF(C1374=base!$AC$2,ROW()+1,\"\")","v":{"$error":"#REF!"}},{"$f":"IF(C1374=base!$W$2,ROW()+1,\"\")","v":{"$error":"#REF!"}},10369,"Tierra Unida","Colonia","La Magdalena Contreras","Distrito Federal","Ciudad de México",10021,9,10021,null,9,8,2669,"Urbano",10]
[{"$f":"IF(C1375=base!$AC$2,ROW()+1,\"\")","v":{"$error":"#REF!"}},{"$f":"IF(C1375=base!$W$2,ROW()+1,\"\")","v":{"$error":"#REF!"}},10369,"Ampliación Lomas de San Bernabé","Colonia","La Magdalena Contreras","Distrito Federal","Ciudad de México",10021,9,10021,null,9,8,1696,"Urbano",10]
[{"$f":"IF(C1376=base!$AC$2,ROW()+1,\"\")","v":{"$error":"#REF!"}},{"$f":"IF(C1376=base!$W$2,ROW()+1,\"\")","v":{"$error":"#REF!"}},10370,"Palmas","Colonia","La Magdalena Contreras","Distrito Federal","Ciudad de México",10021,9,10021,null,9,8,1697,"Urbano",10]
[{"$f":"IF(C1377=base!$AC$2,ROW()+1,\"\")","v":{"$error":"#REF!"}},{"$f":"IF(C1377=base!$W$2,ROW()+1,\"\")","v":{"$error":"#REF!"}},10378,"Atacaxco","Colonia","La Magdalena Contreras","Distrito Federal","Ciudad de México",10021,9,10021,null,9,8,1698,"Urbano",10]
[{"$f":"IF(C1378=base!$AC$2,ROW()+1,\"\")","v":{"$error":"#REF!"}},{"$f":"IF(C1378=base!$W$2,ROW()+1,\"\")","v":{"$error":"#REF!"}},10379,"Vista Hermosa","Colonia","La Magdalena Contreras","Distrito Federal","Ciudad de México",10021,9,10021,null,9,8,1700,"Urbano",10]
[{"$f":"IF(C1379=base!$AC$2,ROW()+1,\"\")","v":{"$error":"#REF!"}},{"$f":"IF(C1379=base!$W$2,ROW()+1,\"\")","v":{"$error":"#REF!"}},10380,"Barros Sierra","Colonia","La Magdalena Contreras","Distrito Federal","Ciudad de México",10021,9,10021,null,9,8,1701,"Urbano",10]
[{"$f":"IF(C1380=base!$AC$2,ROW()+1,\"\")","v":{"$error":"#REF!"}},{"$f":"IF(C1380=base!$W$2,ROW()+1,\"\")","v":{"$error":"#REF!"}},10400,"San Jerónimo Aculco","Colonia","La Magdalena Contreras","Distrito Federal","Ciudad de México",10701,9,10701,null,9,8,1702,"Urbano",10]
[{"$f":"IF(C1381=base!$AC$2,ROW()+1,\"\")","v":{"$error":"#REF!"}},{"$f":"IF(C1381=base!$W$2,ROW()+1,\"\")","v":{"$error":"#REF!"}},10500,"Barrio San Francisco","Colonia","La Magdalena Contreras","Distrito Federal","Ciudad de México",10581,9,10581,null,9,8,1703,"Urbano",10]
[{"$f":"IF(C1382=base!$AC$2,ROW()+1,\"\")","v":{"$error":"#REF!"}},{"$f":"IF(C1382=base!$W$2,ROW()+1,\"\")","v":{"$error":"#REF!"}},10508,"La Presilla","Fraccionamiento","La Magdalena Contreras","Distrito Federal","Ciudad de México",10581,9,10581,null,21,8,1705,"Urbano",10]
[{"$f":"IF(C1383=base!$AC$2,ROW()+1,\"\")","v":{"$error":"#REF!"}},{"$f":"IF(C1383=base!$W$2,ROW()+1,\"\")","v":{"$error":"#REF!"}},10509,"Residencial San Carlos","Fraccionamiento","La Magdalena Contreras","Distrito Federal","Ciudad de México",10581,9,10581,null,21,8,1706,"Urbano",10]
[{"$f":"IF(C1384=base!$AC$2,ROW()+1,\"\")","v":{"$error":"#REF!"}},{"$f":"IF(C1384=base!$W$2,ROW()+1,\"\")","v":{"$error":"#REF!"}},10580,"Barranca Seca","Colonia","La Magdalena Contreras","Distrito Federal","Ciudad de México",10581,9,10581,null,9,8,1707,"Urbano",10]
[{"$f":"IF(C1385=base!$AC$2,ROW()+1,\"\")","v":{"$error":"#REF!"}},{"$f":"IF(C1385=base!$W$2,ROW()+1,\"\")","v":{"$error":"#REF!"}},10589,"Delegación Política Magdalena Contreras","Gran usuario","La Magdalena Contreras","Distrito Federal","Ciudad de México",10581,9,10581,null,22,8,1709,"Urbano",10]
[{"$f":"IF(C1386=base!$AC$2,ROW()+1,\"\")","v":{"$error":"#REF!"}},{"$f":"IF(C1386=base!$W$2,ROW()+1,\"\")","v":{"$error":"#REF!"}},10600,"El Rosal","Colonia","La Magdalena Contreras","Distrito Federal","Ciudad de México",10581,9,10581,null,9,8,1710,"Urbano",10]
[{"$f":"IF(C1387=base!$AC$2,ROW()+1,\"\")","v":{"$error":"#REF!"}},{"$f":"IF(C1387=base!$W$2,ROW()+1,\"\")","v":{"$error":"#REF!"}},10610,"El Toro","Colonia","La Magdalena Contreras","Distrito Federal","Ciudad de México",10581,9,10581,null,9,8,1713,"Urbano",10]
[{"$f":"IF(C1388=base!$AC$2,ROW()+1,\"\")","v":{"$error":"#REF!"}},{"$f":"IF(C1388=base!$W$2,ROW()+1,\"\")","v":{"$error":"#REF!"}},10620,"Potrerillo","Colonia","La Magdalena Contreras","Distrito Federal","Ciudad de México",10581,9,10581,null,9,8,1714,"Urbano",10]
[{"$f":"IF(C1389=base!$AC$2,ROW()+1,\"\")","v":{"$error":"#REF!"}},{"$f":"IF(C1389=base!$W$2,ROW()+1,\"\")","v":{"$error":"#REF!"}},10630,"El Ocotal","Campamento","La Magdalena Contreras","Distrito Federal","Ciudad de México",10581,9,10581,null,4,8,2706,"Urbano",10]
[{"$f":"IF(C1390=base!$AC$2,ROW()+1,\"\")","v":{"$error":"#REF!"}},{"$f":"IF(C1390=base!$W$2,ROW()+1,\"\")","v":{"$error":"#REF!"}},10640,"La Carbonera","Colonia","La Magdalena Contreras","Distrito Federal","Ciudad de México",10581,9,10581,null,9,8,1716,"Urbano",10]
[{"$f":"IF(C1391=base!$AC$2,ROW()+1,\"\")","v":{"$error":"#REF!"}},{"$f":"IF(C1391=base!$W$2,ROW()+1,\"\")","v":{"$error":"#REF!"}},10640,"Pueblo Nuevo Alto","Colonia","La Magdalena Contreras","Distrito Federal","Ciudad de México",10581,9,10581,null,9,8,1717,"Urbano",10]
[{"$f":"IF(C1392=base!$AC$2,ROW()+1,\"\")","v":{"$error":"#REF!"}},{"$f":"IF(C1392=base!$W$2,ROW()+1,\"\")","v":{"$error":"#REF!"}},10640,"Pueblo Nuevo Bajo","Colonia","La Magdalena Contreras","Distrito Federal","Ciudad de México",10581,9,10581,null,9,8,1718,"Urbano",10]
[{"$f":"IF(C1393=base!$AC$2,ROW()+1,\"\")","v":{"$error":"#REF!"}},{"$f":"IF(C1393=base!$W$2,ROW()+1,\"\")","v":{"$error":"#REF!"}},10650,"Rancho Pachita","Fraccionamiento","La Magdalena Contreras","Distrito Federal","Ciudad de México",10581,9,10581,null,21,8,1719,"Urbano",10]
[{"$f":"IF(C1394=base!$AC$2,ROW()+1,\"\")","v":{"$error":"#REF!"}},{"$f":"IF(C1394=base!$W$2,ROW()+1,\"\")","v":{"$error":"#REF!"}},10660,"El Ermitaño","Colonia","La Magdalena Contreras","Distrito Federal","Ciudad de México",10581,9,10581,null,9,8,1720,"Urbano",10]
[{"$f":"IF(C1395=base!$AC$2,ROW()+1,\"\")","v":{"$error":"#REF!"}},{"$f":"IF(C1395=base!$W$2,ROW()+1,\"\")","v":{"$error":"#REF!"}},10700,"Héroes de Padierna","Colonia","La Magdalena Contreras","Distrito Federal","Ciudad de México",10701,9,10701,null,9,8,1721,"Urbano",10]
[{"$f":"IF(C1396=base!$AC$2,ROW()+1,\"\")","v":{"$error":"#REF!"}},{"$f":"IF(C1396=base!$W$2,ROW()+1,\"\")","v":{"$error":"#REF!"}},10710,"Santa Teresa","Colonia","La Magdalena Contreras","Distrito Federal","Ciudad de México",10901,9,10901,null,9,8,1723,"Urbano",10]
[{"$f":"IF(C1397=base!$AC$2,ROW()+1,\"\")","v":{"$error":"#REF!"}},{"$f":"IF(C1397=base!$W$2,ROW()+1,\"\")","v":{"$error":"#REF!"}},10720,"Pedregal 2","Unidad habitacional","La Magdalena Contreras","Distrito Federal","Ciudad de México",10901,9,10901,null,31,8,1725,"Urbano",10]
[{"$f":"IF(C1398=base!$AC$2,ROW()+1,\"\")","v":{"$error":"#REF!"}},{"$f":"IF(C1398=base!$W$2,ROW()+1,\"\")","v":{"$error":"#REF!"}},10730,"Santa Teresa","Unidad habitacional","La Magdalena Contreras","Distrito Federal","Ciudad de México",10901,9,10901,null,31,8,1726,"Urbano",10]
[{"$f":"IF(C1399=base!$AC$2,ROW()+1,\"\")","v":{"$error":"#REF!"}},{"$f":"IF(C1399=base!$W$2,ROW()+1,\"\")","v":{"$error":"#REF!"}},10740,"Santa Teresa","Condominio","La Magdalena Contreras","Distrito Federal","Ciudad de México",10901,9,10901,null,10,8,1727,"Urbano",10]
[{"$f":"IF(C1400=base!$AC$2,ROW()+1,\"\")","v":{"$error":"#REF!"}},{"$f":"IF(C1400=base!$W$2,ROW()+1,\"\")","v":{"$error":"#REF!"}},10800,"La Cruz","Colonia","La Magdalena Contreras","Distrito Federal","Ciudad de México",10581,9,10581,null,9,8,1728,"Urbano",10]
[{"$f":"IF(C1401=base!$AC$2,ROW()+1,\"\")","v":{"$error":"#REF!"}},{"$f":"IF(C1401=base!$W$2,ROW()+1,\"\")","v":{"$error":"#REF!"}},10810,"San Francisco","Colonia","La Magdalena Contreras","Distrito Federal","Ciudad de México",10581,9,10581,null,9,8,1730,"Urbano",10]
[{"$f":"IF(C1402=base!$AC$2,ROW()+1,\"\")","v":{"$error":"#REF!"}},{"$f":"IF(C1402=base!$W$2,ROW()+1,\"\")","v":{"$error":"#REF!"}},10820,"La Guadalupe","Colonia","La Magdalena Contreras","Distrito Federal","Ciudad de México",10901,9,10901,null,9,8,1731,"Urbano",10]
[{"$f":"IF(C1403=base!$AC$2,ROW()+1,\"\")","v":{"$error":"#REF!"}},{"$f":"IF(C1403=base!$W$2,ROW()+1,\"\")","v":{"$error":"#REF!"}},10830,"La Concepción","Colonia","La Magdalena Contreras","Distrito Federal","Ciudad de México",10901,9,10901,null,9,8,1732,"Urbano",10]
[{"$f":"IF(C1404=base!$AC$2,ROW()+1,\"\")","v":{"$error":"#REF!"}},{"$f":"IF(C1404=base!$W$2,ROW()+1,\"\")","v":{"$error":"#REF!"}},10840,"Plazuela del Pedregal","Barrio","La Magdalena Contreras","Distrito Federal","Ciudad de México",10901,9,10901,null,2,8,1734,"Urbano",10]
[{"$f":"IF(C1405=base!$AC$2,ROW()+1,\"\")","v":{"$error":"#REF!"}},{"$f":"IF(C1405=base!$W$2,ROW()+1,\"\")","v":{"$error":"#REF!"}},10840,"Las Calles","Barrio","La Magdalena Contreras","Distrito Federal","Ciudad de México",10901,9,10901,null,2,8,1733,"Urbano",10]
[{"$f":"IF(C1406=base!$AC$2,ROW()+1,\"\")","v":{"$error":"#REF!"}},{"$f":"IF(C1406=base!$W$2,ROW()+1,\"\")","v":{"$error":"#REF!"}},10900,"San Nicolás Totolapan","Pueblo","La Magdalena Contreras","Distrito Federal","Ciudad de México",10901,9,10901,null,28,8,1735,"Urbano",10]
[{"$f":"IF(C1407=base!$AC$2,ROW()+1,\"\")","v":{"$error":"#REF!"}},{"$f":"IF(C1407=base!$W$2,ROW()+1,\"\")","v":{"$error":"#REF!"}},10910,"La Magdalena","Pueblo","La Magdalena Contreras","Distrito Federal","Ciudad de México",10581,9,10581,null,28,8,1737,"Urbano",10]
[{"$f":"IF(C1408=base!$AC$2,ROW()+1,\"\")","v":{"$error":"#REF!"}},{"$f":"IF(C1408=base!$W$2,ROW()+1,\"\")","v":{"$error":"#REF!"}},10920,"Las Huertas","Colonia","La Magdalena Contreras","Distrito Federal","Ciudad de México",10901,9,10901,null,9,8,1738,"Urbano",10]
[{"$f":"IF(C1409=base!$AC$2,ROW()+1,\"\")","v":{"$error":"#REF!"}},{"$f":"IF(C1409=base!$W$2,ROW()+1,\"\")","v":{"$error":"#REF!"}},10926,"Tierra Colorada","Campamento","La Magdalena Contreras","Distrito Federal","Ciudad de México",10901,9,10901,null,4,8,1739,"Urbano",10]
[{"$f":"IF(C1410=base!$AC$2,ROW()+1,\"\")","v":{"$error":"#REF!"}},{"$f":"IF(C1410=base!$W$2,ROW()+1,\"\")","v":{"$error":"#REF!"}},11000,"Lomas de Chapultepec II Sección","Colonia","Miguel Hidalgo","Distrito Federal","Ciudad de México",11002,9,11002,null,9,16,2775,"Urbano",11]
[{"$f":"IF(C1411=base!$AC$2,ROW()+1,\"\")","v":{"$error":"#REF!"}},{"$f":"IF(C1411=base!$W$2,ROW()+1,\"\")","v":{"$error":"#REF!"}},11000,"Lomas de Chapultepec IV Sección","Colonia","Miguel Hidalgo","Distrito Federal","Ciudad de México",11002,9,11002,null,9,16,2777,"Urbano",11]
[{"$f":"IF(C1412=base!$AC$2,ROW()+1,\"\")","v":{"$error":"#REF!"}},{"$f":"IF(C1412=base!$W$2,ROW()+1,\"\")","v":{"$error":"#REF!"}},11000,"Lomas de Chapultepec VI Sección","Colonia","Miguel Hidalgo","Distrito Federal","Ciudad de México",11002,9,11002,null,9,16,2779,"Urbano",11]
[{"$f":"IF(C1413=base!$AC$2,ROW()+1,\"\")","v":{"$error":"#REF!"}},{"$f":"IF(C1413=base!$W$2,ROW()+1,\"\")","v":{"$error":"#REF!"}},11000,"Lomas de Chapultepec VII Sección","Colonia","Miguel Hidalgo","Distrito Federal","Ciudad de México",11002,9,11002,null,9,16,2780,"Urbano",11]
[{"$f":"IF(C1414=base!$AC$2,ROW()+1,\"\")","v":{"$error":"#REF!"}},{"$f":"IF(C1414=base!$W$2,ROW()+1,\"\")","v":{"$error":"#REF!"}},11000,"Lomas de Chapultepec I Sección","Colonia","Miguel Hidalgo","Distrito Federal","Ciudad de México",11002,9,11002,null,9,16,1745,"Urbano",11]
[{"$f":"IF(C1415=base!$AC$2,ROW()+1,\"\")","v":{"$error":"#REF!"}},{"$f":"IF(C1415=base!$W$2,ROW()+1,\"\")","v":{"$error":"#REF!"}},11000,"Lomas de Chapultepec VIII Sección","Colonia","Miguel Hidalgo","Distrito Federal","Ciudad de México",11002,9,11002,null,9,16,2774,"Urbano",11]
[{"$f":"IF(C1416=base!$AC$2,ROW()+1,\"\")","v":{"$error":"#REF!"}},{"$f":"IF(C1416=base!$W$2,ROW()+1,\"\")","v":{"$error":"#REF!"}},11000,"Lomas de Chapultepec III Sección","Colonia","Miguel Hidalgo","Distrito Federal","Ciudad de México",11002,9,11002,null,9,16,2776,"Urbano",11]
[{"$f":"IF(C1417=base!$AC$2,ROW()+1,\"\")","v":{"$error":"#REF!"}},{"$f":"IF(C1417=base!$W$2,ROW()+1,\"\")","v":{"$error":"#REF!"}},11000,"Lomas de Chapultepec V Sección","Colonia","Miguel Hidalgo","Distrito Federal","Ciudad de México",11002,9,11002,null,9,16,2778,"Urbano",11]
[{"$f":"IF(C1418=base!$AC$2,ROW()+1,\"\")","v":{"$error":"#REF!"}},{"$f":"IF(C1418=base!$W$2,ROW()+1,\"\")","v":{"$error":"#REF!"}},11009,"Plaza Inverlat","Gran usuario","Miguel Hidalgo","Distrito Federal","Ciudad de México",11002,9,11002,null,22,16,2552,"Urbano",11]
[{"$f":"IF(C1419=base!$AC$2,ROW()+1,\"\")","v":{"$error":"#REF!"}},{"$f":"IF(C1419=base!$W$2,ROW()+1,\"\")","v":{"$error":"#REF!"}},11040,"Molino del Rey","Colonia","Miguel Hidalgo","Distrito Federal","Ciudad de México",11002,9,11002,null,9,16,1752,"Urbano",11]
[{"$f":"IF(C1420=base!$AC$2,ROW()+1,\"\")","v":{"$error":"#REF!"}},{"$f":"IF(C1420=base!$W$2,ROW()+1,\"\")","v":{"$error":"#REF!"}},11100,"Bosque de Chapultepec II Sección","Equipamiento","Miguel Hidalgo","Distrito Federal","Ciudad de México",11801,9,11801,null,17,16,1754,"Urbano",11]
[{"$f":"IF(C1421=base!$AC$2,ROW()+1,\"\")","v":{"$error":"#REF!"}},{"$f":"IF(C1421=base!$W$2,ROW()+1,\"\")","v":{"$error":"#REF!"}},11100,"Bosque de Chapultepec III Sección","Equipamiento","Miguel Hidalgo","Distrito Federal","Ciudad de México",11801,9,11801,null,17,16,2772,"Urbano",11]
[{"$f":"IF(C1422=base!$AC$2,ROW()+1,\"\")","v":{"$error":"#REF!"}},{"$f":"IF(C1422=base!$W$2,ROW()+1,\"\")","v":{"$error":"#REF!"}},11109,"Residencia Oficial de los Pinos","Gran usuario","Miguel Hidalgo","Distrito Federal","Ciudad de México",11801,9,11801,null,22,16,1755,"Urbano",11]
[{"$f":"IF(C1423=base!$AC$2,ROW()+1,\"\")","v":{"$error":"#REF!"}},{"$f":"IF(C1423=base!$W$2,ROW()+1,\"\")","v":{"$error":"#REF!"}},11200,"Lomas Hermosa","Colonia","Miguel Hidalgo","Distrito Federal","Ciudad de México",11411,9,11411,null,9,16,1757,"Urbano",11]
[{"$f":"IF(C1424=base!$AC$2,ROW()+1,\"\")","v":{"$error":"#REF!"}},{"$f":"IF(C1424=base!$W$2,ROW()+1,\"\")","v":{"$error":"#REF!"}},11200,"Lomas de Sotelo","Colonia","Miguel Hidalgo","Distrito Federal","Ciudad de México",11411,9,11411,null,9,16,1758,"Urbano",11]
[{"$f":"IF(C1425=base!$AC$2,ROW()+1,\"\")","v":{"$error":"#REF!"}},{"$f":"IF(C1425=base!$W$2,ROW()+1,\"\")","v":{"$error":"#REF!"}},11209,"Selecciones del Readers Digest de México","Gran usuario","Miguel Hidalgo","Distrito Federal","Ciudad de México",11411,9,11411,null,22,16,1760,"Urbano",11]
[{"$f":"IF(C1426=base!$AC$2,ROW()+1,\"\")","v":{"$error":"#REF!"}},{"$f":"IF(C1426=base!$W$2,ROW()+1,\"\")","v":{"$error":"#REF!"}},11210,"San Lorenzo Tlaltenango","Pueblo","Miguel Hidalgo","Distrito Federal","Ciudad de México",11411,9,11411,null,28,16,1761,"Urbano",11]
[{"$f":"IF(C1427=base!$AC$2,ROW()+1,\"\")","v":{"$error":"#REF!"}},{"$f":"IF(C1427=base!$W$2,ROW()+1,\"\")","v":{"$error":"#REF!"}},11219,"Refinería 18 de Marzo","Gran usuario","Miguel Hidalgo","Distrito Federal","Ciudad de México",11411,9,11411,null,22,16,1762,"Urbano",11]
[{"$f":"IF(C1428=base!$AC$2,ROW()+1,\"\")","v":{"$error":"#REF!"}},{"$f":"IF(C1428=base!$W$2,ROW()+1,\"\")","v":{"$error":"#REF!"}},11220,"Periodista","Colonia","Miguel Hidalgo","Distrito Federal","Ciudad de México",11411,9,11411,null,9,16,1764,"Urbano",11]
[{"$f":"IF(C1429=base!$AC$2,ROW()+1,\"\")","v":{"$error":"#REF!"}},{"$f":"IF(C1429=base!$W$2,ROW()+1,\"\")","v":{"$error":"#REF!"}},11220,"Hermanos Serdán","Unidad habitacional","Miguel Hidalgo","Distrito Federal","Ciudad de México",11411,9,11411,null,31,16,1763,"Urbano",11]
[{"$f":"IF(C1430=base!$AC$2,ROW()+1,\"\")","v":{"$error":"#REF!"}},{"$f":"IF(C1430=base!$W$2,ROW()+1,\"\")","v":{"$error":"#REF!"}},11230,"Argentina Poniente","Colonia","Miguel Hidalgo","Distrito Federal","Ciudad de México",11411,9,11411,null,9,16,1765,"Urbano",11]
[{"$f":"IF(C1431=base!$AC$2,ROW()+1,\"\")","v":{"$error":"#REF!"}},{"$f":"IF(C1431=base!$W$2,ROW()+1,\"\")","v":{"$error":"#REF!"}},11239,"México Tacuba","Unidad habitacional","Miguel Hidalgo","Distrito Federal","Ciudad de México",11411,9,11411,null,31,16,1766,"Urbano",11]
[{"$f":"IF(C1432=base!$AC$2,ROW()+1,\"\")","v":{"$error":"#REF!"}},{"$f":"IF(C1432=base!$W$2,ROW()+1,\"\")","v":{"$error":"#REF!"}},11240,"Ignacio Manuel Altamirano","Colonia","Miguel Hidalgo","Distrito Federal","Ciudad de México",11411,9,11411,null,9,16,1767,"Urbano",11]
[{"$f":"IF(C1433=base!$AC$2,ROW()+1,\"\")","v":{"$error":"#REF!"}},{"$f":"IF(C1433=base!$W$2,ROW()+1,\"\")","v":{"$error":"#REF!"}},11250,"10 de Abril","Colonia","Miguel Hidalgo","Distrito Federal","Ciudad de México",11411,9,11411,null,9,16,1768,"Urbano",11]
[{"$f":"IF(C1434=base!$AC$2,ROW()+1,\"\")","v":{"$error":"#REF!"}},{"$f":"IF(C1434=base!$W$2,ROW()+1,\"\")","v":{"$error":"#REF!"}},11259,"Lázaro Tata","Unidad habitacional","Miguel Hidalgo","Distrito Federal","Ciudad de México",11411,9,11411,null,31,16,1769,"Urbano",11]
[{"$f":"IF(C1435=base!$AC$2,ROW()+1,\"\")","v":{"$error":"#REF!"}},{"$f":"IF(C1435=base!$W$2,ROW()+1,\"\")","v":{"$error":"#REF!"}},11260,"San Joaquín","Colonia","Miguel Hidalgo","Distrito Federal","Ciudad de México",11411,9,11411,null,9,16,1771,"Urbano",11]
[{"$f":"IF(C1436=base!$AC$2,ROW()+1,\"\")","v":{"$error":"#REF!"}},{"$f":"IF(C1436=base!$W$2,ROW()+1,\"\")","v":{"$error":"#REF!"}},11260,"México Nuevo","Colonia","Miguel Hidalgo","Distrito Federal","Ciudad de México",11411,9,11411,null,9,16,1770,"Urbano",11]
[{"$f":"IF(C1437=base!$AC$2,ROW()+1,\"\")","v":{"$error":"#REF!"}},{"$f":"IF(C1437=base!$W$2,ROW()+1,\"\")","v":{"$error":"#REF!"}},11270,"Argentina Antigua","Colonia","Miguel Hidalgo","Distrito Federal","Ciudad de México",11411,9,11411,null,9,16,1772,"Urbano",11]
[{"$f":"IF(C1438=base!$AC$2,ROW()+1,\"\")","v":{"$error":"#REF!"}},{"$f":"IF(C1438=base!$W$2,ROW()+1,\"\")","v":{"$error":"#REF!"}},11280,"Torre Blanca","Colonia","Miguel Hidalgo","Distrito Federal","Ciudad de México",11411,9,11411,null,9,16,1773,"Urbano",11]
[{"$f":"IF(C1439=base!$AC$2,ROW()+1,\"\")","v":{"$error":"#REF!"}},{"$f":"IF(C1439=base!$W$2,ROW()+1,\"\")","v":{"$error":"#REF!"}},11289,"Ampliación Torre Blanca","Colonia","Miguel Hidalgo","Distrito Federal","Ciudad de México",11411,9,11411,null,9,16,1774,"Urbano",11]
[{"$f":"IF(C1440=base!$AC$2,ROW()+1,\"\")","v":{"$error":"#REF!"}},{"$f":"IF(C1440=base!$W$2,ROW()+1,\"\")","v":{"$error":"#REF!"}},11290,"San Diego Ocoyoacac","Colonia","Miguel Hidalgo","Distrito Federal","Ciudad de México",11411,9,11411,null,9,16,1776,"Urbano",11]
[{"$f":"IF(C1441=base!$AC$2,ROW()+1,\"\")","v":{"$error":"#REF!"}},{"$f":"IF(C1441=base!$W$2,ROW()+1,\"\")","v":{"$error":"#REF!"}},11290,"Huíchapan","Colonia","Miguel Hidalgo","Distrito Federal","Ciudad de México",11411,9,11411,null,9,16,1775,"Urbano",11]
[{"$f":"IF(C1442=base!$AC$2,ROW()+1,\"\")","v":{"$error":"#REF!"}},{"$f":"IF(C1442=base!$W$2,ROW()+1,\"\")","v":{"$error":"#REF!"}},11300,"Veronica Anzures","Colonia","Miguel Hidalgo","Distrito Federal","Ciudad de México",11411,9,11411,null,9,16,1777,"Urbano",11]
[{"$f":"IF(C1443=base!$AC$2,ROW()+1,\"\")","v":{"$error":"#REF!"}},{"$f":"IF(C1443=base!$W$2,ROW()+1,\"\")","v":{"$error":"#REF!"}},11310,"Mariano Escobedo","Colonia","Miguel Hidalgo","Distrito Federal","Ciudad de México",11411,9,11411,null,9,16,1780,"Urbano",11]
[{"$f":"IF(C1444=base!$AC$2,ROW()+1,\"\")","v":{"$error":"#REF!"}},{"$f":"IF(C1444=base!$W$2,ROW()+1,\"\")","v":{"$error":"#REF!"}},11311,"Petróleos Mexicanos","Gran usuario","Miguel Hidalgo","Distrito Federal","Ciudad de México",11411,9,11411,null,22,16,1781,"Urbano",11]
[{"$f":"IF(C1445=base!$AC$2,ROW()+1,\"\")","v":{"$error":"#REF!"}},{"$f":"IF(C1445=base!$W$2,ROW()+1,\"\")","v":{"$error":"#REF!"}},11320,"Anáhuac I Sección","Colonia","Miguel Hidalgo","Distrito Federal","Ciudad de México",11411,9,11411,null,9,16,1782,"Urbano",11]
[{"$f":"IF(C1446=base!$AC$2,ROW()+1,\"\")","v":{"$error":"#REF!"}},{"$f":"IF(C1446=base!$W$2,ROW()+1,\"\")","v":{"$error":"#REF!"}},11320,"Anáhuac II Sección","Colonia","Miguel Hidalgo","Distrito Federal","Ciudad de México",11411,9,11411,null,9,16,2771,"Urbano",11]
[{"$f":"IF(C1447=base!$AC$2,ROW()+1,\"\")","v":{"$error":"#REF!"}},{"$f":"IF(C1447=base!$W$2,ROW()+1,\"\")","v":{"$error":"#REF!"}},11330,"Un Hogar Para Nosotros","Colonia","Miguel Hidalgo","Distrito Federal","Ciudad de México",11411,9,11411,null,9,16,1784,"Urbano",11]
[{"$f":"IF(C1448=base!$AC$2,ROW()+1,\"\")","v":{"$error":"#REF!"}},{"$f":"IF(C1448=base!$W$2,ROW()+1,\"\")","v":{"$error":"#REF!"}},11340,"Santo Tomas","Colonia","Miguel Hidalgo","Distrito Federal","Ciudad de México",11411,9,11411,null,9,16,1785,"Urbano",11]
[{"$f":"IF(C1449=base!$AC$2,ROW()+1,\"\")","v":{"$error":"#REF!"}},{"$f":"IF(C1449=base!$W$2,ROW()+1,\"\")","v":{"$error":"#REF!"}},11350,"Plutarco Elías Calles","Colonia","Miguel Hidalgo","Distrito Federal","Ciudad de México",11411,9,11411,null,9,16,1786,"Urbano",11]
[{"$f":"IF(C1450=base!$AC$2,ROW()+1,\"\")","v":{"$error":"#REF!"}},{"$f":"IF(C1450=base!$W$2,ROW()+1,\"\")","v":{"$error":"#REF!"}},11360,"Agricultura","Colonia","Miguel Hidalgo","Distrito Federal","Ciudad de México",11411,9,11411,null,9,16,1787,"Urbano",11]
[{"$f":"IF(C1451=base!$AC$2,ROW()+1,\"\")","v":{"$error":"#REF!"}},{"$f":"IF(C1451=base!$W$2,ROW()+1,\"\")","v":{"$error":"#REF!"}},11370,"Tlaxpana","Colonia","Miguel Hidalgo","Distrito Federal","Ciudad de México",11411,9,11411,null,9,16,1789,"Urbano",11]
[{"$f":"IF(C1452=base!$AC$2,ROW()+1,\"\")","v":{"$error":"#REF!"}},{"$f":"IF(C1452=base!$W$2,ROW()+1,\"\")","v":{"$error":"#REF!"}},11379,"Compañía de Luz y Fuerza del Centro S.A.","Gran usuario","Miguel Hidalgo","Distrito Federal","Ciudad de México",11411,9,11411,null,22,16,1790,"Urbano",11]
[{"$f":"IF(C1453=base!$AC$2,ROW()+1,\"\")","v":{"$error":"#REF!"}},{"$f":"IF(C1453=base!$W$2,ROW()+1,\"\")","v":{"$error":"#REF!"}},11400,"Popotla","Colonia","Miguel Hidalgo","Distrito Federal","Ciudad de México",11411,9,11411,null,9,16,1791,"Urbano",11]
[{"$f":"IF(C1454=base!$AC$2,ROW()+1,\"\")","v":{"$error":"#REF!"}},{"$f":"IF(C1454=base!$W$2,ROW()+1,\"\")","v":{"$error":"#REF!"}},11410,"Legaria","Colonia","Miguel Hidalgo","Distrito Federal","Ciudad de México",11411,9,11411,null,9,16,1793,"Urbano",11]
[{"$f":"IF(C1455=base!$AC$2,ROW()+1,\"\")","v":{"$error":"#REF!"}},{"$f":"IF(C1455=base!$W$2,ROW()+1,\"\")","v":{"$error":"#REF!"}},11410,"Tacuba","Pueblo","Miguel Hidalgo","Distrito Federal","Ciudad de México",11411,9,11411,null,28,16,1794,"Urbano",11]
[{"$f":"IF(C1456=base!$AC$2,ROW()+1,\"\")","v":{"$error":"#REF!"}},{"$f":"IF(C1456=base!$W$2,ROW()+1,\"\")","v":{"$error":"#REF!"}},11420,"Nextitla","Colonia","Miguel Hidalgo","Distrito Federal","Ciudad de México",11411,9,11411,null,9,16,1796,"Urbano",11]
[{"$f":"IF(C1457=base!$AC$2,ROW()+1,\"\")","v":{"$error":"#REF!"}},{"$f":"IF(C1457=base!$W$2,ROW()+1,\"\")","v":{"$error":"#REF!"}},11430,"Pensil Norte","Colonia","Miguel Hidalgo","Distrito Federal","Ciudad de México",11411,9,11411,null,9,16,1797,"Urbano",11]
[{"$f":"IF(C1458=base!$AC$2,ROW()+1,\"\")","v":{"$error":"#REF!"}},{"$f":"IF(C1458=base!$W$2,ROW()+1,\"\")","v":{"$error":"#REF!"}},11430,"Ventura Pérez de Alva","Colonia","Miguel Hidalgo","Distrito Federal","Ciudad de México",11411,9,11411,null,9,16,1798,"Urbano",11]
[{"$f":"IF(C1459=base!$AC$2,ROW()+1,\"\")","v":{"$error":"#REF!"}},{"$f":"IF(C1459=base!$W$2,ROW()+1,\"\")","v":{"$error":"#REF!"}},11440,"San Juanico","Colonia","Miguel Hidalgo","Distrito Federal","Ciudad de México",11411,9,11411,null,9,16,1800,"Urbano",11]
[{"$f":"IF(C1460=base!$AC$2,ROW()+1,\"\")","v":{"$error":"#REF!"}},{"$f":"IF(C1460=base!$W$2,ROW()+1,\"\")","v":{"$error":"#REF!"}},11440,"Reforma Pensil","Colonia","Miguel Hidalgo","Distrito Federal","Ciudad de México",11411,9,11411,null,9,16,1799,"Urbano",11]
[{"$f":"IF(C1461=base!$AC$2,ROW()+1,\"\")","v":{"$error":"#REF!"}},{"$f":"IF(C1461=base!$W$2,ROW()+1,\"\")","v":{"$error":"#REF!"}},11450,"Peralitos","Colonia","Miguel Hidalgo","Distrito Federal","Ciudad de México",11411,9,11411,null,9,16,1803,"Urbano",11]
[{"$f":"IF(C1462=base!$AC$2,ROW()+1,\"\")","v":{"$error":"#REF!"}},{"$f":"IF(C1462=base!$W$2,ROW()+1,\"\")","v":{"$error":"#REF!"}},11450,"Ahuehuetes Anáhuac","Colonia","Miguel Hidalgo","Distrito Federal","Ciudad de México",11411,9,11411,null,9,16,1801,"Urbano",11]
[{"$f":"IF(C1463=base!$AC$2,ROW()+1,\"\")","v":{"$error":"#REF!"}},{"$f":"IF(C1463=base!$W$2,ROW()+1,\"\")","v":{"$error":"#REF!"}},11450,"Modelo Pensil","Colonia","Miguel Hidalgo","Distrito Federal","Ciudad de México",11411,9,11411,null,9,16,1802,"Urbano",11]
[{"$f":"IF(C1464=base!$AC$2,ROW()+1,\"\")","v":{"$error":"#REF!"}},{"$f":"IF(C1464=base!$W$2,ROW()+1,\"\")","v":{"$error":"#REF!"}},11460,"Lago Norte","Colonia","Miguel Hidalgo","Distrito Federal","Ciudad de México",11411,9,11411,null,9,16,1805,"Urbano",11]
[{"$f":"IF(C1465=base!$AC$2,ROW()+1,\"\")","v":{"$error":"#REF!"}},{"$f":"IF(C1465=base!$W$2,ROW()+1,\"\")","v":{"$error":"#REF!"}},11460,"Dos Lagos","Colonia","Miguel Hidalgo","Distrito Federal","Ciudad de México",11411,9,11411,null,9,16,1804,"Urbano",11]
[{"$f":"IF(C1466=base!$AC$2,ROW()+1,\"\")","v":{"$error":"#REF!"}},{"$f":"IF(C1466=base!$W$2,ROW()+1,\"\")","v":{"$error":"#REF!"}},11460,"Lago Sur","Colonia","Miguel Hidalgo","Distrito Federal","Ciudad de México",11411,9,11411,null,9,16,1806,"Urbano",11]
[{"$f":"IF(C1467=base!$AC$2,ROW()+1,\"\")","v":{"$error":"#REF!"}},{"$f":"IF(C1467=base!$W$2,ROW()+1,\"\")","v":{"$error":"#REF!"}},11460,"Los Manzanos","Colonia","Miguel Hidalgo","Distrito Federal","Ciudad de México",11411,9,11411,null,9,16,1807,"Urbano",11]
[{"$f":"IF(C1468=base!$AC$2,ROW()+1,\"\")","v":{"$error":"#REF!"}},{"$f":"IF(C1468=base!$W$2,ROW()+1,\"\")","v":{"$error":"#REF!"}},11470,"Deportivo Pensil","Colonia","Miguel Hidalgo","Distrito Federal","Ciudad de México",11411,9,11411,null,9,16,1809,"Urbano",11]
[{"$f":"IF(C1469=base!$AC$2,ROW()+1,\"\")","v":{"$error":"#REF!"}},{"$f":"IF(C1469=base!$W$2,ROW()+1,\"\")","v":{"$error":"#REF!"}},11470,"5 de Mayo","Colonia","Miguel Hidalgo","Distrito Federal","Ciudad de México",11411,9,11411,null,9,16,1808,"Urbano",11]
[{"$f":"IF(C1470=base!$AC$2,ROW()+1,\"\")","v":{"$error":"#REF!"}},{"$f":"IF(C1470=base!$W$2,ROW()+1,\"\")","v":{"$error":"#REF!"}},11479,"Unidad Legaria IMSS","Unidad habitacional","Miguel Hidalgo","Distrito Federal","Ciudad de México",11411,9,11411,null,31,16,1810,"Urbano",11]
[{"$f":"IF(C1471=base!$AC$2,ROW()+1,\"\")","v":{"$error":"#REF!"}},{"$f":"IF(C1471=base!$W$2,ROW()+1,\"\")","v":{"$error":"#REF!"}},11480,"Francisco I Madero","Colonia","Miguel Hidalgo","Distrito Federal","Ciudad de México",11411,9,11411,null,9,16,1811,"Urbano",11]
[{"$f":"IF(C1472=base!$AC$2,ROW()+1,\"\")","v":{"$error":"#REF!"}},{"$f":"IF(C1472=base!$W$2,ROW()+1,\"\")","v":{"$error":"#REF!"}},11480,"Popo","Colonia","Miguel Hidalgo","Distrito Federal","Ciudad de México",11411,9,11411,null,9,16,1812,"Urbano",11]
[{"$f":"IF(C1473=base!$AC$2,ROW()+1,\"\")","v":{"$error":"#REF!"}},{"$f":"IF(C1473=base!$W$2,ROW()+1,\"\")","v":{"$error":"#REF!"}},11489,"Ampliación Popo","Colonia","Miguel Hidalgo","Distrito Federal","Ciudad de México",11411,9,11411,null,9,16,1813,"Urbano",11]
[{"$f":"IF(C1474=base!$AC$2,ROW()+1,\"\")","v":{"$error":"#REF!"}},{"$f":"IF(C1474=base!$W$2,ROW()+1,\"\")","v":{"$error":"#REF!"}},11490,"Cuauhtémoc Pensil","Colonia","Miguel Hidalgo","Distrito Federal","Ciudad de México",11411,9,11411,null,9,16,1814,"Urbano",11]
[{"$f":"IF(C1475=base!$AC$2,ROW()+1,\"\")","v":{"$error":"#REF!"}},{"$f":"IF(C1475=base!$W$2,ROW()+1,\"\")","v":{"$error":"#REF!"}},11490,"Pensil Sur","Colonia","Miguel Hidalgo","Distrito Federal","Ciudad de México",11411,9,11411,null,9,16,1815,"Urbano",11]
[{"$f":"IF(C1476=base!$AC$2,ROW()+1,\"\")","v":{"$error":"#REF!"}},{"$f":"IF(C1476=base!$W$2,ROW()+1,\"\")","v":{"$error":"#REF!"}},11500,"Irrigación","Colonia","Miguel Hidalgo","Distrito Federal","Ciudad de México",11591,9,11591,null,9,16,1816,"Urbano",11]
[{"$f":"IF(C1477=base!$AC$2,ROW()+1,\"\")","v":{"$error":"#REF!"}},{"$f":"IF(C1477=base!$W$2,ROW()+1,\"\")","v":{"$error":"#REF!"}},11501,"Colgate Palmolive S.A.","Gran usuario","Miguel Hidalgo","Distrito Federal","Ciudad de México",11591,9,11591,null,22,16,1817,"Urbano",11]
[{"$f":"IF(C1478=base!$AC$2,ROW()+1,\"\")","v":{"$error":"#REF!"}},{"$f":"IF(C1478=base!$W$2,ROW()+1,\"\")","v":{"$error":"#REF!"}},11510,"Polanco I Sección","Colonia","Miguel Hidalgo","Distrito Federal","Ciudad de México",11591,9,11591,null,9,16,2781,"Urbano",11]
[{"$f":"IF(C1479=base!$AC$2,ROW()+1,\"\")","v":{"$error":"#REF!"}},{"$f":"IF(C1479=base!$W$2,ROW()+1,\"\")","v":{"$error":"#REF!"}},11511,"Dir. Gral. de Talleres de Impresión de Estampillas y Valores","Gran usuario","Miguel Hidalgo","Distrito Federal","Ciudad de México",11591,9,11591,null,22,16,1820,"Urbano",11]
[{"$f":"IF(C1480=base!$AC$2,ROW()+1,\"\")","v":{"$error":"#REF!"}},{"$f":"IF(C1480=base!$W$2,ROW()+1,\"\")","v":{"$error":"#REF!"}},11520,"Granada","Colonia","Miguel Hidalgo","Distrito Federal","Ciudad de México",11591,9,11591,null,9,16,1822,"Urbano",11]
[{"$f":"IF(C1481=base!$AC$2,ROW()+1,\"\")","v":{"$error":"#REF!"}},{"$f":"IF(C1481=base!$W$2,ROW()+1,\"\")","v":{"$error":"#REF!"}},11529,"Ampliación Granada","Colonia","Miguel Hidalgo","Distrito Federal","Ciudad de México",11591,9,11591,null,9,16,1823,"Urbano",11]
[{"$f":"IF(C1482=base!$AC$2,ROW()+1,\"\")","v":{"$error":"#REF!"}},{"$f":"IF(C1482=base!$W$2,ROW()+1,\"\")","v":{"$error":"#REF!"}},11530,"Polanco II Sección","Colonia","Miguel Hidalgo","Distrito Federal","Ciudad de México",11591,9,11591,null,9,16,2782,"Urbano",11]
[{"$f":"IF(C1483=base!$AC$2,ROW()+1,\"\")","v":{"$error":"#REF!"}},{"$f":"IF(C1483=base!$W$2,ROW()+1,\"\")","v":{"$error":"#REF!"}},11540,"Polanco III Sección","Colonia","Miguel Hidalgo","Distrito Federal","Ciudad de México",11591,9,11591,null,9,16,2783,"Urbano",11]
[{"$f":"IF(C1484=base!$AC$2,ROW()+1,\"\")","v":{"$error":"#REF!"}},{"$f":"IF(C1484=base!$W$2,ROW()+1,\"\")","v":{"$error":"#REF!"}},11550,"Polanco IV Sección","Colonia","Miguel Hidalgo","Distrito Federal","Ciudad de México",11591,9,11591,null,9,16,2784,"Urbano",11]
[{"$f":"IF(C1485=base!$AC$2,ROW()+1,\"\")","v":{"$error":"#REF!"}},{"$f":"IF(C1485=base!$W$2,ROW()+1,\"\")","v":{"$error":"#REF!"}},11560,"Polanco V Sección","Colonia","Miguel Hidalgo","Distrito Federal","Ciudad de México",11591,9,11591,null,9,16,2785,"Urbano",11]
[{"$f":"IF(C1486=base!$AC$2,ROW()+1,\"\")","v":{"$error":"#REF!"}},{"$f":"IF(C1486=base!$W$2,ROW()+1,\"\")","v":{"$error":"#REF!"}},11580,"Bosque de Chapultepec I Sección","Equipamiento","Miguel Hidalgo","Distrito Federal","Ciudad de México",11591,9,11591,null,17,16,1833,"Urbano",11]
[{"$f":"IF(C1487=base!$AC$2,ROW()+1,\"\")","v":{"$error":"#REF!"}},{"$f":"IF(C1487=base!$W$2,ROW()+1,\"\")","v":{"$error":"#REF!"}},11587,"Secretaria de Turismo","Gran usuario","Miguel Hidalgo","Distrito Federal","Ciudad de México",11591,9,11591,null,22,16,1835,"Urbano",11]
[{"$f":"IF(C1488=base!$AC$2,ROW()+1,\"\")","v":{"$error":"#REF!"}},{"$f":"IF(C1488=base!$W$2,ROW()+1,\"\")","v":{"$error":"#REF!"}},11590,"Anzures","Colonia","Miguel Hidalgo","Distrito Federal","Ciudad de México",11591,9,11591,null,9,16,1838,"Urbano",11]
[{"$f":"IF(C1489=base!$AC$2,ROW()+1,\"\")","v":{"$error":"#REF!"}},{"$f":"IF(C1489=base!$W$2,ROW()+1,\"\")","v":{"$error":"#REF!"}},11600,"Residencial Militar","Colonia","Miguel Hidalgo","Distrito Federal","Ciudad de México",11002,9,11002,null,9,16,1843,"Urbano",11]
[{"$f":"IF(C1490=base!$AC$2,ROW()+1,\"\")","v":{"$error":"#REF!"}},{"$f":"IF(C1490=base!$W$2,ROW()+1,\"\")","v":{"$error":"#REF!"}},11610,"Manuel Avila Camacho","Colonia","Miguel Hidalgo","Distrito Federal","Ciudad de México",11002,9,11002,null,9,16,1844,"Urbano",11]
[{"$f":"IF(C1491=base!$AC$2,ROW()+1,\"\")","v":{"$error":"#REF!"}},{"$f":"IF(C1491=base!$W$2,ROW()+1,\"\")","v":{"$error":"#REF!"}},11619,"Guardias Presidenciales","Gran usuario","Miguel Hidalgo","Distrito Federal","Ciudad de México",11002,9,11002,null,22,16,1848,"Urbano",11]
[{"$f":"IF(C1492=base!$AC$2,ROW()+1,\"\")","v":{"$error":"#REF!"}},{"$f":"IF(C1492=base!$W$2,ROW()+1,\"\")","v":{"$error":"#REF!"}},11619,"Campo Militar 1","Equipamiento","Miguel Hidalgo","Distrito Federal","Ciudad de México",11002,9,11002,null,17,16,1846,"Urbano",11]
[{"$f":"IF(C1493=base!$AC$2,ROW()+1,\"\")","v":{"$error":"#REF!"}},{"$f":"IF(C1493=base!$W$2,ROW()+1,\"\")","v":{"$error":"#REF!"}},11640,"Secretaria de la Defensa Nacional","Gran usuario","Miguel Hidalgo","Distrito Federal","Ciudad de México",11002,9,11002,null,22,16,1851,"Urbano",11]
[{"$f":"IF(C1494=base!$AC$2,ROW()+1,\"\")","v":{"$error":"#REF!"}},{"$f":"IF(C1494=base!$W$2,ROW()+1,\"\")","v":{"$error":"#REF!"}},11649,"Hospital Central Militar","Gran usuario","Miguel Hidalgo","Distrito Federal","Ciudad de México",11002,9,11002,null,22,16,1854,"Urbano",11]
[{"$f":"IF(C1495=base!$AC$2,ROW()+1,\"\")","v":{"$error":"#REF!"}},{"$f":"IF(C1495=base!$W$2,ROW()+1,\"\")","v":{"$error":"#REF!"}},11650,"Reforma Social","Colonia","Miguel Hidalgo","Distrito Federal","Ciudad de México",11002,9,11002,null,9,16,1855,"Urbano",11]
[{"$f":"IF(C1496=base!$AC$2,ROW()+1,\"\")","v":{"$error":"#REF!"}},{"$f":"IF(C1496=base!$W$2,ROW()+1,\"\")","v":{"$error":"#REF!"}},11700,"Bosque de las Lomas","Colonia","Miguel Hidalgo","Distrito Federal","Ciudad de México",11002,9,11002,null,9,16,1856,"Urbano",11]
[{"$f":"IF(C1497=base!$AC$2,ROW()+1,\"\")","v":{"$error":"#REF!"}},{"$f":"IF(C1497=base!$W$2,ROW()+1,\"\")","v":{"$error":"#REF!"}},11800,"Escandón II Sección","Colonia","Miguel Hidalgo","Distrito Federal","Ciudad de México",11801,9,11801,null,9,16,2773,"Urbano",11]
[{"$f":"IF(C1498=base!$AC$2,ROW()+1,\"\")","v":{"$error":"#REF!"}},{"$f":"IF(C1498=base!$W$2,ROW()+1,\"\")","v":{"$error":"#REF!"}},11800,"Escandón I Sección","Colonia","Miguel Hidalgo","Distrito Federal","Ciudad de México",11801,9,11801,null,9,16,1858,"Urbano",11]
[{"$f":"IF(C1499=base!$AC$2,ROW()+1,\"\")","v":{"$error":"#REF!"}},{"$f":"IF(C1499=base!$W$2,ROW()+1,\"\")","v":{"$error":"#REF!"}},11810,"16 de Septiembre","Colonia","Miguel Hidalgo","Distrito Federal","Ciudad de México",11801,9,11801,null,9,16,1860,"Urbano",11]
[{"$f":"IF(C1500=base!$AC$2,ROW()+1,\"\")","v":{"$error":"#REF!"}},{"$f":"IF(C1500=base!$W$2,ROW()+1,\"\")","v":{"$error":"#REF!"}},11820,"América","Colonia","Miguel Hidalgo","Distrito Federal","Ciudad de México",11801,9,11801,null,9,16,1861,"Urbano",11]
[{"$f":"IF(C1501=base!$AC$2,ROW()+1,\"\")","v":{"$error":"#REF!"}},{"$f":"IF(C1501=base!$W$2,ROW()+1,\"\")","v":{"$error":"#REF!"}},11830,"Daniel Garza","Colonia","Miguel Hidalgo","Distrito Federal","Ciudad de México",11801,9,11801,null,9,16,1862,"Urbano",11]
[{"$f":"IF(C1502=base!$AC$2,ROW()+1,\"\")","v":{"$error":"#REF!"}},{"$f":"IF(C1502=base!$W$2,ROW()+1,\"\")","v":{"$error":"#REF!"}},11840,"Ampliación Daniel Garza","Colonia","Miguel Hidalgo","Distrito Federal","Ciudad de México",11801,9,11801,null,9,16,1863,"Urbano",11]
[{"$f":"IF(C1503=base!$AC$2,ROW()+1,\"\")","v":{"$error":"#REF!"}},{"$f":"IF(C1503=base!$W$2,ROW()+1,\"\")","v":{"$error":"#REF!"}},11850,"San Miguel Chapultepec I Sección","Colonia","Miguel Hidalgo","Distrito Federal","Ciudad de México",11801,9,11801,null,9,16,1864,"Urbano",11]
[{"$f":"IF(C1504=base!$AC$2,ROW()+1,\"\")","v":{"$error":"#REF!"}},{"$f":"IF(C1504=base!$W$2,ROW()+1,\"\")","v":{"$error":"#REF!"}},11850,"San Miguel Chapultepec II Sección","Colonia","Miguel Hidalgo","Distrito Federal","Ciudad de México",11801,9,11801,null,9,16,2786,"Urbano",11]
[{"$f":"IF(C1505=base!$AC$2,ROW()+1,\"\")","v":{"$error":"#REF!"}},{"$f":"IF(C1505=base!$W$2,ROW()+1,\"\")","v":{"$error":"#REF!"}},11860,"Observatorio","Colonia","Miguel Hidalgo","Distrito Federal","Ciudad de México",11801,9,11801,null,9,16,1865,"Urbano",11]
[{"$f":"IF(C1506=base!$AC$2,ROW()+1,\"\")","v":{"$error":"#REF!"}},{"$f":"IF(C1506=base!$W$2,ROW()+1,\"\")","v":{"$error":"#REF!"}},11869,"Delegación Política Miguel Hidalgo","Gran usuario","Miguel Hidalgo","Distrito Federal","Ciudad de México",11801,9,11801,null,22,16,1866,"Urbano",11]
[{"$f":"IF(C1507=base!$AC$2,ROW()+1,\"\")","v":{"$error":"#REF!"}},{"$f":"IF(C1507=base!$W$2,ROW()+1,\"\")","v":{"$error":"#REF!"}},11870,"Tacubaya","Colonia","Miguel Hidalgo","Distrito Federal","Ciudad de México",11801,9,11801,null,9,16,1867,"Urbano",11]
[{"$f":"IF(C1508=base!$AC$2,ROW()+1,\"\")","v":{"$error":"#REF!"}},{"$f":"IF(C1508=base!$W$2,ROW()+1,\"\")","v":{"$error":"#REF!"}},11910,"Lomas de Bezares","Colonia","Miguel Hidalgo","Distrito Federal","Ciudad de México",11002,9,11002,null,9,16,1869,"Urbano",11]
[{"$f":"IF(C1509=base!$AC$2,ROW()+1,\"\")","v":{"$error":"#REF!"}},{"$f":"IF(C1509=base!$W$2,ROW()+1,\"\")","v":{"$error":"#REF!"}},11920,"Real de las Lomas","Colonia","Miguel Hidalgo","Distrito Federal","Ciudad de México",11002,9,11002,null,9,16,1870,"Urbano",11]
[{"$f":"IF(C1510=base!$AC$2,ROW()+1,\"\")","v":{"$error":"#REF!"}},{"$f":"IF(C1510=base!$W$2,ROW()+1,\"\")","v":{"$error":"#REF!"}},11930,"Lomas de Reforma","Colonia","Miguel Hidalgo","Distrito Federal","Ciudad de México",11002,9,11002,null,9,16,2789,"Urbano",11]
[{"$f":"IF(C1511=base!$AC$2,ROW()+1,\"\")","v":{"$error":"#REF!"}},{"$f":"IF(C1511=base!$W$2,ROW()+1,\"\")","v":{"$error":"#REF!"}},11950,"Lomas Altas","Colonia","Miguel Hidalgo","Distrito Federal","Ciudad de México",11002,9,11002,null,9,16,1874,"Urbano",11]
[{"$f":"IF(C1512=base!$AC$2,ROW()+1,\"\")","v":{"$error":"#REF!"}},{"$f":"IF(C1512=base!$W$2,ROW()+1,\"\")","v":{"$error":"#REF!"}},12000,"Villa Milpa Alta Centro","Colonia","Milpa Alta","Distrito Federal","Ciudad de México",12001,9,12001,null,9,9,1884,"Urbano",12]
[{"$f":"IF(C1513=base!$AC$2,ROW()+1,\"\")","v":{"$error":"#REF!"}},{"$f":"IF(C1513=base!$W$2,ROW()+1,\"\")","v":{"$error":"#REF!"}},12000,"San Mateo (Villa Milpa Alta)","Barrio","Milpa Alta","Distrito Federal","Ciudad de México",12001,9,12001,null,2,9,1881,"Urbano",12]
[{"$f":"IF(C1514=base!$AC$2,ROW()+1,\"\")","v":{"$error":"#REF!"}},{"$f":"IF(C1514=base!$W$2,ROW()+1,\"\")","v":{"$error":"#REF!"}},12000,"Santa Cruz (Villa Milpa Alta)","Barrio","Milpa Alta","Distrito Federal","Ciudad de México",12001,9,12001,null,2,9,1882,"Urbano",12]
[{"$f":"IF(C1515=base!$AC$2,ROW()+1,\"\")","v":{"$error":"#REF!"}},{"$f":"IF(C1515=base!$W$2,ROW()+1,\"\")","v":{"$error":"#REF!"}},12000,"La Luz (Villa Milpa Alta)","Barrio","Milpa Alta","Distrito Federal","Ciudad de México",12001,9,12001,null,2,9,1878,"Urbano",12]
[{"$f":"IF(C1516=base!$AC$2,ROW()+1,\"\")","v":{"$error":"#REF!"}},{"$f":"IF(C1516=base!$W$2,ROW()+1,\"\")","v":{"$error":"#REF!"}},12000,"Los Ángeles (Villa Milpa Alta)","Barrio","Milpa Alta","Distrito Federal","Ciudad de México",12001,9,12001,null,2,9,1879,"Urbano",12]
[{"$f":"IF(C1517=base!$AC$2,ROW()+1,\"\")","v":{"$error":"#REF!"}},{"$f":"IF(C1517=base!$W$2,ROW()+1,\"\")","v":{"$error":"#REF!"}},12000,"Santa Martha (Villa Milpa Alta)","Barrio","Milpa Alta","Distrito Federal","Ciudad de México",12001,9,12001,null,2,9,1883,"Urbano",12]
[{"$f":"IF(C1518=base!$AC$2,ROW()+1,\"\")","v":{"$error":"#REF!"}},{"$f":"IF(C1518=base!$W$2,ROW()+1,\"\")","v":{"$error":"#REF!"}},12000,"La Concepción (Villa Milpa Alta)","Barrio","Milpa Alta","Distrito Federal","Ciudad de México",12001,9,12001,null,2,9,1877,"Urbano",12]
[{"$f":"IF(C1519=base!$AC$2,ROW()+1,\"\")","v":{"$error":"#REF!"}},{"$f":"IF(C1519=base!$W$2,ROW()+1,\"\")","v":{"$error":"#REF!"}},12009,"Delegación Política Milpa Alta","Gran usuario","Milpa Alta","Distrito Federal","Ciudad de México",12001,9,12001,null,22,9,1886,"Urbano",12]
[{"$f":"IF(C1520=base!$AC$2,ROW()+1,\"\")","v":{"$error":"#REF!"}},{"$f":"IF(C1520=base!$W$2,ROW()+1,\"\")","v":{"$error":"#REF!"}},12070,"San Agustin (Villa Milpa Alta)","Barrio","Milpa Alta","Distrito Federal","Ciudad de México",12001,9,12001,null,2,9,1889,"Urbano",12]
[{"$f":"IF(C1521=base!$AC$2,ROW()+1,\"\")","v":{"$error":"#REF!"}},{"$f":"IF(C1521=base!$W$2,ROW()+1,\"\")","v":{"$error":"#REF!"}},12080,"San Agustin Ohtenco","Pueblo","Milpa Alta","Distrito Federal","Ciudad de México",12001,9,12001,null,28,9,1890,"Urbano",12]
[{"$f":"IF(C1522=base!$AC$2,ROW()+1,\"\")","v":{"$error":"#REF!"}},{"$f":"IF(C1522=base!$W$2,ROW()+1,\"\")","v":{"$error":"#REF!"}},12100,"Tenantitla (San Antonio Tecomitl)","Barrio","Milpa Alta","Distrito Federal","Ciudad de México",12001,9,12001,null,2,9,1894,"Urbano",12]
[{"$f":"IF(C1523=base!$AC$2,ROW()+1,\"\")","v":{"$error":"#REF!"}},{"$f":"IF(C1523=base!$W$2,ROW()+1,\"\")","v":{"$error":"#REF!"}},12100,"Xaltipac (San Antonio Tecomitl)","Barrio","Milpa Alta","Distrito Federal","Ciudad de México",12001,9,12001,null,2,9,1895,"Urbano",12]
[{"$f":"IF(C1524=base!$AC$2,ROW()+1,\"\")","v":{"$error":"#REF!"}},{"$f":"IF(C1524=base!$W$2,ROW()+1,\"\")","v":{"$error":"#REF!"}},12100,"Xochitepec (San Antonio Tecomitl)","Barrio","Milpa Alta","Distrito Federal","Ciudad de México",12001,9,12001,null,2,9,1896,"Urbano",12]
[{"$f":"IF(C1525=base!$AC$2,ROW()+1,\"\")","v":{"$error":"#REF!"}},{"$f":"IF(C1525=base!$W$2,ROW()+1,\"\")","v":{"$error":"#REF!"}},12100,"Cruztitla (San Antonio Tecomitl)","Barrio","Milpa Alta","Distrito Federal","Ciudad de México",12001,9,12001,null,2,9,1891,"Urbano",12]
[{"$f":"IF(C1526=base!$AC$2,ROW()+1,\"\")","v":{"$error":"#REF!"}},{"$f":"IF(C1526=base!$W$2,ROW()+1,\"\")","v":{"$error":"#REF!"}},12100,"Tecaxtitla (San Antonio Tecomitl)","Barrio","Milpa Alta","Distrito Federal","Ciudad de México",12001,9,12001,null,2,9,1893,"Urbano",12]
[{"$f":"IF(C1527=base!$AC$2,ROW()+1,\"\")","v":{"$error":"#REF!"}},{"$f":"IF(C1527=base!$W$2,ROW()+1,\"\")","v":{"$error":"#REF!"}},12110,"La Conchita","Colonia","Milpa Alta","Distrito Federal","Ciudad de México",13611,9,13611,null,9,9,2011,"Urbano",12]
[{"$f":"IF(C1528=base!$AC$2,ROW()+1,\"\")","v":{"$error":"#REF!"}},{"$f":"IF(C1528=base!$W$2,ROW()+1,\"\")","v":{"$error":"#REF!"}},12110,"Emiliano Zapata","Colonia","Milpa Alta","Distrito Federal","Ciudad de México",13611,9,13611,null,9,9,2010,"Urbano",12]
[{"$f":"IF(C1529=base!$AC$2,ROW()+1,\"\")","v":{"$error":"#REF!"}},{"$f":"IF(C1529=base!$W$2,ROW()+1,\"\")","v":{"$error":"#REF!"}},12200,"Panchimalco (San Pedro Atocpan)","Barrio","Milpa Alta","Distrito Federal","Ciudad de México",12001,9,12001,null,2,9,1899,"Urbano",12]
[{"$f":"IF(C1530=base!$AC$2,ROW()+1,\"\")","v":{"$error":"#REF!"}},{"$f":"IF(C1530=base!$W$2,ROW()+1,\"\")","v":{"$error":"#REF!"}},12200,"Nochtla (San Pedro Atocpan)","Barrio","Milpa Alta","Distrito Federal","Ciudad de México",12001,9,12001,null,2,9,1897,"Urbano",12]
[{"$f":"IF(C1531=base!$AC$2,ROW()+1,\"\")","v":{"$error":"#REF!"}},{"$f":"IF(C1531=base!$W$2,ROW()+1,\"\")","v":{"$error":"#REF!"}},12200,"Tula (San Pedro Atocpan)","Barrio","Milpa Alta","Distrito Federal","Ciudad de México",12001,9,12001,null,2,9,1901,"Urbano",12]
[{"$f":"IF(C1532=base!$AC$2,ROW()+1,\"\")","v":{"$error":"#REF!"}},{"$f":"IF(C1532=base!$W$2,ROW()+1,\"\")","v":{"$error":"#REF!"}},12200,"Ocotitla (San Pedro Atocpan)","Barrio","Milpa Alta","Distrito Federal","Ciudad de México",12001,9,12001,null,2,9,1898,"Urbano",12]
[{"$f":"IF(C1533=base!$AC$2,ROW()+1,\"\")","v":{"$error":"#REF!"}},{"$f":"IF(C1533=base!$W$2,ROW()+1,\"\")","v":{"$error":"#REF!"}},12250,"San Bartolomé Xicomulco","Pueblo","Milpa Alta","Distrito Federal","Ciudad de México",12001,9,12001,null,28,9,1903,"Urbano",12]
[{"$f":"IF(C1534=base!$AC$2,ROW()+1,\"\")","v":{"$error":"#REF!"}},{"$f":"IF(C1534=base!$W$2,ROW()+1,\"\")","v":{"$error":"#REF!"}},12300,"San Salvador Cuauhtenco","Pueblo","Milpa Alta","Distrito Federal","Ciudad de México",12001,9,12001,null,28,9,1904,"Urbano",12]
[{"$f":"IF(C1535=base!$AC$2,ROW()+1,\"\")","v":{"$error":"#REF!"}},{"$f":"IF(C1535=base!$W$2,ROW()+1,\"\")","v":{"$error":"#REF!"}},12400,"Centro (San Pablo Oztotepec)","Barrio","Milpa Alta","Distrito Federal","Ciudad de México",12001,9,12001,null,2,9,1905,"Urbano",12]
[{"$f":"IF(C1536=base!$AC$2,ROW()+1,\"\")","v":{"$error":"#REF!"}},{"$f":"IF(C1536=base!$W$2,ROW()+1,\"\")","v":{"$error":"#REF!"}},12400,"San Juan (San Pablo Oztotepec)","Barrio","Milpa Alta","Distrito Federal","Ciudad de México",12001,9,12001,null,2,9,1906,"Urbano",12]
[{"$f":"IF(C1537=base!$AC$2,ROW()+1,\"\")","v":{"$error":"#REF!"}},{"$f":"IF(C1537=base!$W$2,ROW()+1,\"\")","v":{"$error":"#REF!"}},12400,"San Miguel (San Pablo Oztotepec)","Barrio","Milpa Alta","Distrito Federal","Ciudad de México",12001,9,12001,null,2,9,1907,"Urbano",12]
[{"$f":"IF(C1538=base!$AC$2,ROW()+1,\"\")","v":{"$error":"#REF!"}},{"$f":"IF(C1538=base!$W$2,ROW()+1,\"\")","v":{"$error":"#REF!"}},12410,"Chalmita (San Pablo Oztotepec)","Barrio","Milpa Alta","Distrito Federal","Ciudad de México",12001,9,12001,null,2,9,2870,"Urbano",12]
[{"$f":"IF(C1539=base!$AC$2,ROW()+1,\"\")","v":{"$error":"#REF!"}},{"$f":"IF(C1539=base!$W$2,ROW()+1,\"\")","v":{"$error":"#REF!"}},12500,"San Lorenzo Tlacoyucan","Pueblo","Milpa Alta","Distrito Federal","Ciudad de México",12001,9,12001,null,28,9,1910,"Urbano",12]
[{"$f":"IF(C1540=base!$AC$2,ROW()+1,\"\")","v":{"$error":"#REF!"}},{"$f":"IF(C1540=base!$W$2,ROW()+1,\"\")","v":{"$error":"#REF!"}},12600,"San Jerónimo Miacatlán","Pueblo","Milpa Alta","Distrito Federal","Ciudad de México",12001,9,12001,null,28,9,1911,"Urbano",12]
[{"$f":"IF(C1541=base!$AC$2,ROW()+1,\"\")","v":{"$error":"#REF!"}},{"$f":"IF(C1541=base!$W$2,ROW()+1,\"\")","v":{"$error":"#REF!"}},12700,"San Francisco Tecoxpa","Pueblo","Milpa Alta","Distrito Federal","Ciudad de México",12001,9,12001,null,28,9,1912,"Urbano",12]
[{"$f":"IF(C1542=base!$AC$2,ROW()+1,\"\")","v":{"$error":"#REF!"}},{"$f":"IF(C1542=base!$W$2,ROW()+1,\"\")","v":{"$error":"#REF!"}},12800,"San Juan Tepenahuac","Pueblo","Milpa Alta","Distrito Federal","Ciudad de México",12001,9,12001,null,28,9,1913,"Urbano",12]
[{"$f":"IF(C1543=base!$AC$2,ROW()+1,\"\")","v":{"$error":"#REF!"}},{"$f":"IF(C1543=base!$W$2,ROW()+1,\"\")","v":{"$error":"#REF!"}},12910,"La Lupita Teticpac (Santa Ana Tlacotenco)","Barrio","Milpa Alta","Distrito Federal","Ciudad de México",12001,9,12001,null,2,9,2871,"Urbano",12]
[{"$f":"IF(C1544=base!$AC$2,ROW()+1,\"\")","v":{"$error":"#REF!"}},{"$f":"IF(C1544=base!$W$2,ROW()+1,\"\")","v":{"$error":"#REF!"}},12920,"San Marcos (Santa Ana Tlacotenco)","Barrio","Milpa Alta","Distrito Federal","Ciudad de México",12001,9,12001,null,2,9,1880,"Urbano",12]
[{"$f":"IF(C1545=base!$AC$2,ROW()+1,\"\")","v":{"$error":"#REF!"}},{"$f":"IF(C1545=base!$W$2,ROW()+1,\"\")","v":{"$error":"#REF!"}},12930,"San Miguel (Santa Ana Tlacotenco)","Barrio","Milpa Alta","Distrito Federal","Ciudad de México",12001,9,12001,null,2,9,2873,"Urbano",12]
[{"$f":"IF(C1546=base!$AC$2,ROW()+1,\"\")","v":{"$error":"#REF!"}},{"$f":"IF(C1546=base!$W$2,ROW()+1,\"\")","v":{"$error":"#REF!"}},12940,"San José (Santa Ana Tlacotenco)","Barrio","Milpa Alta","Distrito Federal","Ciudad de México",12001,9,12001,null,2,9,2874,"Urbano",12]
[{"$f":"IF(C1547=base!$AC$2,ROW()+1,\"\")","v":{"$error":"#REF!"}},{"$f":"IF(C1547=base!$W$2,ROW()+1,\"\")","v":{"$error":"#REF!"}},12950,"La Lupita Xolco (Santa Ana Tlacotenco)","Barrio","Milpa Alta","Distrito Federal","Ciudad de México",12001,9,12001,null,2,9,2872,"Urbano",12]
[{"$f":"IF(C1548=base!$AC$2,ROW()+1,\"\")","v":{"$error":"#REF!"}},{"$f":"IF(C1548=base!$W$2,ROW()+1,\"\")","v":{"$error":"#REF!"}},13000,"La Asunción","Barrio","Tláhuac","Distrito Federal","Ciudad de México",13011,9,13011,null,2,11,1919,"Urbano",13]
[{"$f":"IF(C1549=base!$AC$2,ROW()+1,\"\")","v":{"$error":"#REF!"}},{"$f":"IF(C1549=base!$W$2,ROW()+1,\"\")","v":{"$error":"#REF!"}},13009,"Delegación Política Tlahuac","Gran usuario","Tláhuac","Distrito Federal","Ciudad de México",13011,9,13011,null,22,11,1922,"Urbano",13]
[{"$f":"IF(C1550=base!$AC$2,ROW()+1,\"\")","v":{"$error":"#REF!"}},{"$f":"IF(C1550=base!$W$2,ROW()+1,\"\")","v":{"$error":"#REF!"}},13010,"Santa Cecilia","Colonia","Tláhuac","Distrito Federal","Ciudad de México",13011,9,13011,null,9,11,1923,"Urbano",13]
[{"$f":"IF(C1551=base!$AC$2,ROW()+1,\"\")","v":{"$error":"#REF!"}},{"$f":"IF(C1551=base!$W$2,ROW()+1,\"\")","v":{"$error":"#REF!"}},13020,"San José","Colonia","Tláhuac","Distrito Federal","Ciudad de México",13011,9,13011,null,9,11,1924,"Urbano",13]
[{"$f":"IF(C1552=base!$AC$2,ROW()+1,\"\")","v":{"$error":"#REF!"}},{"$f":"IF(C1552=base!$W$2,ROW()+1,\"\")","v":{"$error":"#REF!"}},13030,"San Juan","Barrio","Tláhuac","Distrito Federal","Ciudad de México",13011,9,13011,null,2,11,1925,"Urbano",13]
[{"$f":"IF(C1553=base!$AC$2,ROW()+1,\"\")","v":{"$error":"#REF!"}},{"$f":"IF(C1553=base!$W$2,ROW()+1,\"\")","v":{"$error":"#REF!"}},13040,"San Mateo","Barrio","Tláhuac","Distrito Federal","Ciudad de México",13011,9,13011,null,2,11,1926,"Urbano",13]
[{"$f":"IF(C1554=base!$AC$2,ROW()+1,\"\")","v":{"$error":"#REF!"}},{"$f":"IF(C1554=base!$W$2,ROW()+1,\"\")","v":{"$error":"#REF!"}},13050,"La Habana","Colonia","Tláhuac","Distrito Federal","Ciudad de México",13011,9,13011,null,9,11,1928,"Urbano",13]
[{"$f":"IF(C1555=base!$AC$2,ROW()+1,\"\")","v":{"$error":"#REF!"}},{"$f":"IF(C1555=base!$W$2,ROW()+1,\"\")","v":{"$error":"#REF!"}},13060,"Hombres de la Reforma","Unidad habitacional","Tláhuac","Distrito Federal","Ciudad de México",13011,9,13011,null,31,11,2571,"Urbano",13]
[{"$f":"IF(C1556=base!$AC$2,ROW()+1,\"\")","v":{"$error":"#REF!"}},{"$f":"IF(C1556=base!$W$2,ROW()+1,\"\")","v":{"$error":"#REF!"}},13060,"Santa Ana","Barrio","Tláhuac","Distrito Federal","Ciudad de México",13011,9,13011,null,2,11,1930,"Urbano",13]
[{"$f":"IF(C1557=base!$AC$2,ROW()+1,\"\")","v":{"$error":"#REF!"}},{"$f":"IF(C1557=base!$W$2,ROW()+1,\"\")","v":{"$error":"#REF!"}},13060,"La Guadalupe","Barrio","Tláhuac","Distrito Federal","Ciudad de México",13011,9,13011,null,2,11,1929,"Urbano",13]
[{"$f":"IF(C1558=base!$AC$2,ROW()+1,\"\")","v":{"$error":"#REF!"}},{"$f":"IF(C1558=base!$W$2,ROW()+1,\"\")","v":{"$error":"#REF!"}},13063,"Geovillas de Xochimilco","Unidad habitacional","Tláhuac","Distrito Federal","Ciudad de México",13011,9,13011,null,31,11,2572,"Urbano",13]
[{"$f":"IF(C1559=base!$AC$2,ROW()+1,\"\")","v":{"$error":"#REF!"}},{"$f":"IF(C1559=base!$W$2,ROW()+1,\"\")","v":{"$error":"#REF!"}},13070,"La Magdalena","Barrio","Tláhuac","Distrito Federal","Ciudad de México",13011,9,13011,null,2,11,1931,"Urbano",13]
[{"$f":"IF(C1560=base!$AC$2,ROW()+1,\"\")","v":{"$error":"#REF!"}},{"$f":"IF(C1560=base!$W$2,ROW()+1,\"\")","v":{"$error":"#REF!"}},13070,"San Miguel","Barrio","Tláhuac","Distrito Federal","Ciudad de México",13011,9,13011,null,2,11,1932,"Urbano",13]
[{"$f":"IF(C1561=base!$AC$2,ROW()+1,\"\")","v":{"$error":"#REF!"}},{"$f":"IF(C1561=base!$W$2,ROW()+1,\"\")","v":{"$error":"#REF!"}},13080,"Los Reyes","Barrio","Tláhuac","Distrito Federal","Ciudad de México",13011,9,13011,null,2,11,1933,"Urbano",13]
[{"$f":"IF(C1562=base!$AC$2,ROW()+1,\"\")","v":{"$error":"#REF!"}},{"$f":"IF(C1562=base!$W$2,ROW()+1,\"\")","v":{"$error":"#REF!"}},13090,"Quiahuatla","Colonia","Tláhuac","Distrito Federal","Ciudad de México",13011,9,13011,null,9,11,1934,"Urbano",13]
[{"$f":"IF(C1563=base!$AC$2,ROW()+1,\"\")","v":{"$error":"#REF!"}},{"$f":"IF(C1563=base!$W$2,ROW()+1,\"\")","v":{"$error":"#REF!"}},13093,"San Sebastián","Barrio","Tláhuac","Distrito Federal","Ciudad de México",13011,9,13011,null,2,11,2497,"Urbano",13]
[{"$f":"IF(C1564=base!$AC$2,ROW()+1,\"\")","v":{"$error":"#REF!"}},{"$f":"IF(C1564=base!$W$2,ROW()+1,\"\")","v":{"$error":"#REF!"}},13094,"San Isidro","Colonia","Tláhuac","Distrito Federal","Ciudad de México",13011,9,13011,null,9,11,2898,"Urbano",13]
[{"$f":"IF(C1565=base!$AC$2,ROW()+1,\"\")","v":{"$error":"#REF!"}},{"$f":"IF(C1565=base!$W$2,ROW()+1,\"\")","v":{"$error":"#REF!"}},13099,"San Andrés","Barrio","Tláhuac","Distrito Federal","Ciudad de México",13011,9,13011,null,2,11,1935,"Urbano",13]
[{"$f":"IF(C1566=base!$AC$2,ROW()+1,\"\")","v":{"$error":"#REF!"}},{"$f":"IF(C1566=base!$W$2,ROW()+1,\"\")","v":{"$error":"#REF!"}},13100,"El Mirador","Campamento","Tláhuac","Distrito Federal","Ciudad de México",13011,9,13011,null,4,11,2574,"Urbano",13]
[{"$f":"IF(C1567=base!$AC$2,ROW()+1,\"\")","v":{"$error":"#REF!"}},{"$f":"IF(C1567=base!$W$2,ROW()+1,\"\")","v":{"$error":"#REF!"}},13100,"La Guadalupe","Barrio","Tláhuac","Distrito Federal","Ciudad de México",13011,9,13011,null,2,11,1937,"Urbano",13]
[{"$f":"IF(C1568=base!$AC$2,ROW()+1,\"\")","v":{"$error":"#REF!"}},{"$f":"IF(C1568=base!$W$2,ROW()+1,\"\")","v":{"$error":"#REF!"}},13110,"Cañada","Campamento","Tláhuac","Distrito Federal","Ciudad de México",13011,9,13011,null,4,11,1939,"Urbano",13]
[{"$f":"IF(C1569=base!$AC$2,ROW()+1,\"\")","v":{"$error":"#REF!"}},{"$f":"IF(C1569=base!$W$2,ROW()+1,\"\")","v":{"$error":"#REF!"}},13119,"La Poblanita","Campamento","Tláhuac","Distrito Federal","Ciudad de México",13011,9,13011,null,4,11,1940,"Urbano",13]
[{"$f":"IF(C1570=base!$AC$2,ROW()+1,\"\")","v":{"$error":"#REF!"}},{"$f":"IF(C1570=base!$W$2,ROW()+1,\"\")","v":{"$error":"#REF!"}},13120,"Teozoma","Campamento","Tláhuac","Distrito Federal","Ciudad de México",13011,9,13011,null,4,11,2575,"Urbano",13]
[{"$f":"IF(C1571=base!$AC$2,ROW()+1,\"\")","v":{"$error":"#REF!"}},{"$f":"IF(C1571=base!$W$2,ROW()+1,\"\")","v":{"$error":"#REF!"}},13120,"Chichilaula","Campamento","Tláhuac","Distrito Federal","Ciudad de México",13011,9,13011,null,4,11,2577,"Urbano",13]
[{"$f":"IF(C1572=base!$AC$2,ROW()+1,\"\")","v":{"$error":"#REF!"}},{"$f":"IF(C1572=base!$W$2,ROW()+1,\"\")","v":{"$error":"#REF!"}},13120,"Ampliación Santa Catarina","Colonia","Tláhuac","Distrito Federal","Ciudad de México",13011,9,13011,null,9,11,1942,"Urbano",13]
[{"$f":"IF(C1573=base!$AC$2,ROW()+1,\"\")","v":{"$error":"#REF!"}},{"$f":"IF(C1573=base!$W$2,ROW()+1,\"\")","v":{"$error":"#REF!"}},13120,"Santiago","Barrio","Tláhuac","Distrito Federal","Ciudad de México",13011,9,13011,null,2,11,1943,"Urbano",13]
[{"$f":"IF(C1574=base!$AC$2,ROW()+1,\"\")","v":{"$error":"#REF!"}},{"$f":"IF(C1574=base!$W$2,ROW()+1,\"\")","v":{"$error":"#REF!"}},13120,"La Mesa","Campamento","Tláhuac","Distrito Federal","Ciudad de México",13011,9,13011,null,4,11,2576,"Urbano",13]
[{"$f":"IF(C1575=base!$AC$2,ROW()+1,\"\")","v":{"$error":"#REF!"}},{"$f":"IF(C1575=base!$W$2,ROW()+1,\"\")","v":{"$error":"#REF!"}},13123,"La Joyita","Campamento","Tláhuac","Distrito Federal","Ciudad de México",13011,9,13011,null,4,11,2693,"Urbano",13]
[{"$f":"IF(C1576=base!$AC$2,ROW()+1,\"\")","v":{"$error":"#REF!"}},{"$f":"IF(C1576=base!$W$2,ROW()+1,\"\")","v":{"$error":"#REF!"}},13129,"San Francisco Apolocalco","Campamento","Tláhuac","Distrito Federal","Ciudad de México",13011,9,13011,null,4,11,1944,"Urbano",13]
[{"$f":"IF(C1577=base!$AC$2,ROW()+1,\"\")","v":{"$error":"#REF!"}},{"$f":"IF(C1577=base!$W$2,ROW()+1,\"\")","v":{"$error":"#REF!"}},13150,"La Concepción","Barrio","Tláhuac","Distrito Federal","Ciudad de México",13011,9,13011,null,2,11,1945,"Urbano",13]
[{"$f":"IF(C1578=base!$AC$2,ROW()+1,\"\")","v":{"$error":"#REF!"}},{"$f":"IF(C1578=base!$W$2,ROW()+1,\"\")","v":{"$error":"#REF!"}},13180,"San Miguel","Barrio","Tláhuac","Distrito Federal","Ciudad de México",13011,9,13011,null,2,11,1946,"Urbano",13]
[{"$f":"IF(C1579=base!$AC$2,ROW()+1,\"\")","v":{"$error":"#REF!"}},{"$f":"IF(C1579=base!$W$2,ROW()+1,\"\")","v":{"$error":"#REF!"}},13200,"Miguel Hidalgo","Colonia","Tláhuac","Distrito Federal","Ciudad de México",13221,9,13221,null,9,11,1947,"Urbano",13]
[{"$f":"IF(C1580=base!$AC$2,ROW()+1,\"\")","v":{"$error":"#REF!"}},{"$f":"IF(C1580=base!$W$2,ROW()+1,\"\")","v":{"$error":"#REF!"}},13209,"Zapotitlán","Unidad habitacional","Tláhuac","Distrito Federal","Ciudad de México",13221,9,13221,null,31,11,1948,"Urbano",13]
[{"$f":"IF(C1581=base!$AC$2,ROW()+1,\"\")","v":{"$error":"#REF!"}},{"$f":"IF(C1581=base!$W$2,ROW()+1,\"\")","v":{"$error":"#REF!"}},13210,"Los Olivos","Colonia","Tláhuac","Distrito Federal","Ciudad de México",13221,9,13221,null,9,11,1949,"Urbano",13]
[{"$f":"IF(C1582=base!$AC$2,ROW()+1,\"\")","v":{"$error":"#REF!"}},{"$f":"IF(C1582=base!$W$2,ROW()+1,\"\")","v":{"$error":"#REF!"}},13219,"Las Arboledas","Colonia","Tláhuac","Distrito Federal","Ciudad de México",13221,9,13221,null,9,11,1950,"Urbano",13]
[{"$f":"IF(C1583=base!$AC$2,ROW()+1,\"\")","v":{"$error":"#REF!"}},{"$f":"IF(C1583=base!$W$2,ROW()+1,\"\")","v":{"$error":"#REF!"}},13219,"Ampliación Los Olivos","Colonia","Tláhuac","Distrito Federal","Ciudad de México",13221,9,13221,null,9,11,1951,"Urbano",13]
[{"$f":"IF(C1584=base!$AC$2,ROW()+1,\"\")","v":{"$error":"#REF!"}},{"$f":"IF(C1584=base!$W$2,ROW()+1,\"\")","v":{"$error":"#REF!"}},13220,"La Nopalera","Colonia","Tláhuac","Distrito Federal","Ciudad de México",13221,9,13221,null,9,11,1952,"Urbano",13]
[{"$f":"IF(C1585=base!$AC$2,ROW()+1,\"\")","v":{"$error":"#REF!"}},{"$f":"IF(C1585=base!$W$2,ROW()+1,\"\")","v":{"$error":"#REF!"}},13229,"Tláhuac 2","Unidad habitacional","Tláhuac","Distrito Federal","Ciudad de México",13221,9,13221,null,31,11,1954,"Urbano",13]
[{"$f":"IF(C1586=base!$AC$2,ROW()+1,\"\")","v":{"$error":"#REF!"}},{"$f":"IF(C1586=base!$W$2,ROW()+1,\"\")","v":{"$error":"#REF!"}},13230,"Granjas Cabrera","Colonia","Tláhuac","Distrito Federal","Ciudad de México",13221,9,13221,null,9,11,1955,"Urbano",13]
[{"$f":"IF(C1587=base!$AC$2,ROW()+1,\"\")","v":{"$error":"#REF!"}},{"$f":"IF(C1587=base!$W$2,ROW()+1,\"\")","v":{"$error":"#REF!"}},13250,"La Turba","Colonia","Tláhuac","Distrito Federal","Ciudad de México",13221,9,13221,null,9,11,1957,"Urbano",13]
[{"$f":"IF(C1588=base!$AC$2,ROW()+1,\"\")","v":{"$error":"#REF!"}},{"$f":"IF(C1588=base!$W$2,ROW()+1,\"\")","v":{"$error":"#REF!"}},13270,"Del Mar","Colonia","Tláhuac","Distrito Federal","Ciudad de México",13221,9,13221,null,9,11,1958,"Urbano",13]
[{"$f":"IF(C1589=base!$AC$2,ROW()+1,\"\")","v":{"$error":"#REF!"}},{"$f":"IF(C1589=base!$W$2,ROW()+1,\"\")","v":{"$error":"#REF!"}},13270,"Cooperativa C.I.A.N.I.","Unidad habitacional","Tláhuac","Distrito Federal","Ciudad de México",13221,9,13221,null,31,11,2661,"Urbano",13]
[{"$f":"IF(C1590=base!$AC$2,ROW()+1,\"\")","v":{"$error":"#REF!"}},{"$f":"IF(C1590=base!$W$2,ROW()+1,\"\")","v":{"$error":"#REF!"}},13273,"La Draga","Colonia","Tláhuac","Distrito Federal","Ciudad de México",13221,9,13221,null,9,11,2580,"Urbano",13]
[{"$f":"IF(C1591=base!$AC$2,ROW()+1,\"\")","v":{"$error":"#REF!"}},{"$f":"IF(C1591=base!$W$2,ROW()+1,\"\")","v":{"$error":"#REF!"}},13278,"Villas Trabajadores del Gobierno del Distrito Federal","Unidad habitacional","Tláhuac","Distrito Federal","Ciudad de México",13221,9,13221,null,31,11,1960,"Urbano",13]
[{"$f":"IF(C1592=base!$AC$2,ROW()+1,\"\")","v":{"$error":"#REF!"}},{"$f":"IF(C1592=base!$W$2,ROW()+1,\"\")","v":{"$error":"#REF!"}},13278,"Villa Centro Americana","Colonia","Tláhuac","Distrito Federal","Ciudad de México",13221,9,13221,null,9,11,1959,"Urbano",13]
[{"$f":"IF(C1593=base!$AC$2,ROW()+1,\"\")","v":{"$error":"#REF!"}},{"$f":"IF(C1593=base!$W$2,ROW()+1,\"\")","v":{"$error":"#REF!"}},13278,"Nueva Tenochtitlán","Unidad habitacional","Tláhuac","Distrito Federal","Ciudad de México",13221,9,13221,null,31,11,2589,"Urbano",13]
[{"$f":"IF(C1594=base!$AC$2,ROW()+1,\"\")","v":{"$error":"#REF!"}},{"$f":"IF(C1594=base!$W$2,ROW()+1,\"\")","v":{"$error":"#REF!"}},13280,"Agrícola Metropolitana","Colonia","Tláhuac","Distrito Federal","Ciudad de México",13221,9,13221,null,9,11,1962,"Urbano",13]
[{"$f":"IF(C1595=base!$AC$2,ROW()+1,\"\")","v":{"$error":"#REF!"}},{"$f":"IF(C1595=base!$W$2,ROW()+1,\"\")","v":{"$error":"#REF!"}},13300,"Santa Ana Poniente","Barrio","Tláhuac","Distrito Federal","Ciudad de México",13221,9,13221,null,2,11,2891,"Urbano",13]
[{"$f":"IF(C1596=base!$AC$2,ROW()+1,\"\")","v":{"$error":"#REF!"}},{"$f":"IF(C1596=base!$W$2,ROW()+1,\"\")","v":{"$error":"#REF!"}},13300,"Santiago Centro","Barrio","Tláhuac","Distrito Federal","Ciudad de México",13221,9,13221,null,2,11,1964,"Urbano",13]
[{"$f":"IF(C1597=base!$AC$2,ROW()+1,\"\")","v":{"$error":"#REF!"}},{"$f":"IF(C1597=base!$W$2,ROW()+1,\"\")","v":{"$error":"#REF!"}},13300,"Santa Ana Norte","Barrio","Tláhuac","Distrito Federal","Ciudad de México",13221,9,13221,null,2,11,2893,"Urbano",13]
[{"$f":"IF(C1598=base!$AC$2,ROW()+1,\"\")","v":{"$error":"#REF!"}},{"$f":"IF(C1598=base!$W$2,ROW()+1,\"\")","v":{"$error":"#REF!"}},13300,"Manuel M López III","Unidad habitacional","Tláhuac","Distrito Federal","Ciudad de México",13221,9,13221,null,31,11,2581,"Urbano",13]
[{"$f":"IF(C1599=base!$AC$2,ROW()+1,\"\")","v":{"$error":"#REF!"}},{"$f":"IF(C1599=base!$W$2,ROW()+1,\"\")","v":{"$error":"#REF!"}},13300,"Santiago Norte","Barrio","Tláhuac","Distrito Federal","Ciudad de México",13221,9,13221,null,2,11,2894,"Urbano",13]
[{"$f":"IF(C1600=base!$AC$2,ROW()+1,\"\")","v":{"$error":"#REF!"}},{"$f":"IF(C1600=base!$W$2,ROW()+1,\"\")","v":{"$error":"#REF!"}},13300,"Santa Ana Centro","Barrio","Tláhuac","Distrito Federal","Ciudad de México",13221,9,13221,null,2,11,1963,"Urbano",13]
[{"$f":"IF(C1601=base!$AC$2,ROW()+1,\"\")","v":{"$error":"#REF!"}},{"$f":"IF(C1601=base!$W$2,ROW()+1,\"\")","v":{"$error":"#REF!"}},13310,"Zapotitla","Colonia","Tláhuac","Distrito Federal","Ciudad de México",13221,9,13221,null,9,11,1966,"Urbano",13]
[{"$f":"IF(C1602=base!$AC$2,ROW()+1,\"\")","v":{"$error":"#REF!"}},{"$f":"IF(C1602=base!$W$2,ROW()+1,\"\")","v":{"$error":"#REF!"}},13315,"Ampliación Zapotitla","Colonia","Tláhuac","Distrito Federal","Ciudad de México",13221,9,13221,null,9,11,2897,"Urbano",13]
[{"$f":"IF(C1603=base!$AC$2,ROW()+1,\"\")","v":{"$error":"#REF!"}},{"$f":"IF(C1603=base!$W$2,ROW()+1,\"\")","v":{"$error":"#REF!"}},13316,"Manuel M López II","Unidad habitacional","Tláhuac","Distrito Federal","Ciudad de México",13221,9,13221,null,31,11,2582,"Urbano",13]
[{"$f":"IF(C1604=base!$AC$2,ROW()+1,\"\")","v":{"$error":"#REF!"}},{"$f":"IF(C1604=base!$W$2,ROW()+1,\"\")","v":{"$error":"#REF!"}},13316,"Los Volcanes","Unidad habitacional","Tláhuac","Distrito Federal","Ciudad de México",13221,9,13221,null,31,11,2583,"Urbano",13]
[{"$f":"IF(C1605=base!$AC$2,ROW()+1,\"\")","v":{"$error":"#REF!"}},{"$f":"IF(C1605=base!$W$2,ROW()+1,\"\")","v":{"$error":"#REF!"}},13316,"Manuel Gutierrez Najera","Unidad habitacional","Tláhuac","Distrito Federal","Ciudad de México",13221,9,13221,null,31,11,1967,"Urbano",13]
[{"$f":"IF(C1606=base!$AC$2,ROW()+1,\"\")","v":{"$error":"#REF!"}},{"$f":"IF(C1606=base!$W$2,ROW()+1,\"\")","v":{"$error":"#REF!"}},13317,"Nueva Tenochtitlán","Unidad habitacional","Tláhuac","Distrito Federal","Ciudad de México",13221,9,13221,null,31,11,2584,"Urbano",13]
[{"$f":"IF(C1607=base!$AC$2,ROW()+1,\"\")","v":{"$error":"#REF!"}},{"$f":"IF(C1607=base!$W$2,ROW()+1,\"\")","v":{"$error":"#REF!"}},13317,"Aurorita","Unidad habitacional","Tláhuac","Distrito Federal","Ciudad de México",13221,9,13221,null,31,11,1968,"Urbano",13]
[{"$f":"IF(C1608=base!$AC$2,ROW()+1,\"\")","v":{"$error":"#REF!"}},{"$f":"IF(C1608=base!$W$2,ROW()+1,\"\")","v":{"$error":"#REF!"}},13318,"La Herradura","Unidad habitacional","Tláhuac","Distrito Federal","Ciudad de México",13221,9,13221,null,31,11,1969,"Urbano",13]
[{"$f":"IF(C1609=base!$AC$2,ROW()+1,\"\")","v":{"$error":"#REF!"}},{"$f":"IF(C1609=base!$W$2,ROW()+1,\"\")","v":{"$error":"#REF!"}},13319,"Benito Quezada","Unidad habitacional","Tláhuac","Distrito Federal","Ciudad de México",13221,9,13221,null,31,11,2585,"Urbano",13]
[{"$f":"IF(C1610=base!$AC$2,ROW()+1,\"\")","v":{"$error":"#REF!"}},{"$f":"IF(C1610=base!$W$2,ROW()+1,\"\")","v":{"$error":"#REF!"}},13319,"La Estación","Colonia","Tláhuac","Distrito Federal","Ciudad de México",13221,9,13221,null,9,11,1970,"Urbano",13]
[{"$f":"IF(C1611=base!$AC$2,ROW()+1,\"\")","v":{"$error":"#REF!"}},{"$f":"IF(C1611=base!$W$2,ROW()+1,\"\")","v":{"$error":"#REF!"}},13360,"Santa Ana Sur","Barrio","Tláhuac","Distrito Federal","Ciudad de México",13221,9,13221,null,2,11,2895,"Urbano",13]
[{"$f":"IF(C1612=base!$AC$2,ROW()+1,\"\")","v":{"$error":"#REF!"}},{"$f":"IF(C1612=base!$W$2,ROW()+1,\"\")","v":{"$error":"#REF!"}},13360,"Santiago Sur","Barrio","Tláhuac","Distrito Federal","Ciudad de México",13221,9,13221,null,2,11,2896,"Urbano",13]
[{"$f":"IF(C1613=base!$AC$2,ROW()+1,\"\")","v":{"$error":"#REF!"}},{"$f":"IF(C1613=base!$W$2,ROW()+1,\"\")","v":{"$error":"#REF!"}},13360,"La Conchita Zapotitlán","Colonia","Tláhuac","Distrito Federal","Ciudad de México",13221,9,13221,null,9,11,1971,"Urbano",13]
[{"$f":"IF(C1614=base!$AC$2,ROW()+1,\"\")","v":{"$error":"#REF!"}},{"$f":"IF(C1614=base!$W$2,ROW()+1,\"\")","v":{"$error":"#REF!"}},13363,"Tempiluli","Campamento","Tláhuac","Distrito Federal","Ciudad de México",13221,9,13221,null,4,11,2586,"Urbano",13]
[{"$f":"IF(C1615=base!$AC$2,ROW()+1,\"\")","v":{"$error":"#REF!"}},{"$f":"IF(C1615=base!$W$2,ROW()+1,\"\")","v":{"$error":"#REF!"}},13400,"San Francisco Tlaltenco","Pueblo","Tláhuac","Distrito Federal","Ciudad de México",13011,9,13011,null,28,11,1972,"Urbano",13]
[{"$f":"IF(C1616=base!$AC$2,ROW()+1,\"\")","v":{"$error":"#REF!"}},{"$f":"IF(C1616=base!$W$2,ROW()+1,\"\")","v":{"$error":"#REF!"}},13410,"La Orilla","Unidad habitacional","Tláhuac","Distrito Federal","Ciudad de México",13011,9,13011,null,31,11,2588,"Urbano",13]
[{"$f":"IF(C1617=base!$AC$2,ROW()+1,\"\")","v":{"$error":"#REF!"}},{"$f":"IF(C1617=base!$W$2,ROW()+1,\"\")","v":{"$error":"#REF!"}},13410,"López Portillo","Colonia","Tláhuac","Distrito Federal","Ciudad de México",13011,9,13011,null,9,11,1973,"Urbano",13]
[{"$f":"IF(C1618=base!$AC$2,ROW()+1,\"\")","v":{"$error":"#REF!"}},{"$f":"IF(C1618=base!$W$2,ROW()+1,\"\")","v":{"$error":"#REF!"}},13419,"Ampliación José López Portillo","Colonia","Tláhuac","Distrito Federal","Ciudad de México",13011,9,13011,null,9,11,1975,"Urbano",13]
[{"$f":"IF(C1619=base!$AC$2,ROW()+1,\"\")","v":{"$error":"#REF!"}},{"$f":"IF(C1619=base!$W$2,ROW()+1,\"\")","v":{"$error":"#REF!"}},13420,"Selene","Colonia","Tláhuac","Distrito Federal","Ciudad de México",13011,9,13011,null,9,11,1976,"Urbano",13]
[{"$f":"IF(C1620=base!$AC$2,ROW()+1,\"\")","v":{"$error":"#REF!"}},{"$f":"IF(C1620=base!$W$2,ROW()+1,\"\")","v":{"$error":"#REF!"}},13429,"3 de Mayo","Campamento","Tláhuac","Distrito Federal","Ciudad de México",13011,9,13011,null,4,11,1977,"Urbano",13]
[{"$f":"IF(C1621=base!$AC$2,ROW()+1,\"\")","v":{"$error":"#REF!"}},{"$f":"IF(C1621=base!$W$2,ROW()+1,\"\")","v":{"$error":"#REF!"}},13430,"Ampliación Selene","Colonia","Tláhuac","Distrito Federal","Ciudad de México",13011,9,13011,null,9,11,1978,"Urbano",13]
[{"$f":"IF(C1622=base!$AC$2,ROW()+1,\"\")","v":{"$error":"#REF!"}},{"$f":"IF(C1622=base!$W$2,ROW()+1,\"\")","v":{"$error":"#REF!"}},13440,"Zacatenco","Colonia","Tláhuac","Distrito Federal","Ciudad de México",13011,9,13011,null,9,11,1980,"Urbano",13]
[{"$f":"IF(C1623=base!$AC$2,ROW()+1,\"\")","v":{"$error":"#REF!"}},{"$f":"IF(C1623=base!$W$2,ROW()+1,\"\")","v":{"$error":"#REF!"}},13440,"Géminis","Unidad habitacional","Tláhuac","Distrito Federal","Ciudad de México",13011,9,13011,null,31,11,2591,"Urbano",13]
[{"$f":"IF(C1624=base!$AC$2,ROW()+1,\"\")","v":{"$error":"#REF!"}},{"$f":"IF(C1624=base!$W$2,ROW()+1,\"\")","v":{"$error":"#REF!"}},13440,"Zacatenco","Unidad habitacional","Tláhuac","Distrito Federal","Ciudad de México",13011,9,13011,null,31,11,2590,"Urbano",13]
[{"$f":"IF(C1625=base!$AC$2,ROW()+1,\"\")","v":{"$error":"#REF!"}},{"$f":"IF(C1625=base!$W$2,ROW()+1,\"\")","v":{"$error":"#REF!"}},13450,"Guadalupe Tlaltenco","Colonia","Tláhuac","Distrito Federal","Ciudad de México",13011,9,13011,null,9,11,1981,"Urbano",13]
[{"$f":"IF(C1626=base!$AC$2,ROW()+1,\"\")","v":{"$error":"#REF!"}},{"$f":"IF(C1626=base!$W$2,ROW()+1,\"\")","v":{"$error":"#REF!"}},13450,"Ojo de Agua","Colonia","Tláhuac","Distrito Federal","Ciudad de México",13011,9,13011,null,9,11,1982,"Urbano",13]
[{"$f":"IF(C1627=base!$AC$2,ROW()+1,\"\")","v":{"$error":"#REF!"}},{"$f":"IF(C1627=base!$W$2,ROW()+1,\"\")","v":{"$error":"#REF!"}},13460,"El Triángulo","Colonia","Tláhuac","Distrito Federal","Ciudad de México",13011,9,13011,null,9,11,1983,"Urbano",13]
[{"$f":"IF(C1628=base!$AC$2,ROW()+1,\"\")","v":{"$error":"#REF!"}},{"$f":"IF(C1628=base!$W$2,ROW()+1,\"\")","v":{"$error":"#REF!"}},13508,"San Agustín","Barrio","Tláhuac","Distrito Federal","Ciudad de México",13011,9,13011,null,2,11,1985,"Urbano",13]
[{"$f":"IF(C1629=base!$AC$2,ROW()+1,\"\")","v":{"$error":"#REF!"}},{"$f":"IF(C1629=base!$W$2,ROW()+1,\"\")","v":{"$error":"#REF!"}},13508,"La Soledad","Barrio","Tláhuac","Distrito Federal","Ciudad de México",13011,9,13011,null,2,11,2593,"Urbano",13]
[{"$f":"IF(C1630=base!$AC$2,ROW()+1,\"\")","v":{"$error":"#REF!"}},{"$f":"IF(C1630=base!$W$2,ROW()+1,\"\")","v":{"$error":"#REF!"}},13509,"La Concepción","Barrio","Tláhuac","Distrito Federal","Ciudad de México",13011,9,13011,null,2,11,1986,"Urbano",13]
[{"$f":"IF(C1631=base!$AC$2,ROW()+1,\"\")","v":{"$error":"#REF!"}},{"$f":"IF(C1631=base!$W$2,ROW()+1,\"\")","v":{"$error":"#REF!"}},13510,"La Lupita","Colonia","Tláhuac","Distrito Federal","Ciudad de México",13011,9,13011,null,9,11,1987,"Urbano",13]
[{"$f":"IF(C1632=base!$AC$2,ROW()+1,\"\")","v":{"$error":"#REF!"}},{"$f":"IF(C1632=base!$W$2,ROW()+1,\"\")","v":{"$error":"#REF!"}},13520,"Francisco Villa","Colonia","Tláhuac","Distrito Federal","Ciudad de México",13011,9,13011,null,9,11,1988,"Urbano",13]
[{"$f":"IF(C1633=base!$AC$2,ROW()+1,\"\")","v":{"$error":"#REF!"}},{"$f":"IF(C1633=base!$W$2,ROW()+1,\"\")","v":{"$error":"#REF!"}},13529,"La Loma","Campamento","Tláhuac","Distrito Federal","Ciudad de México",13011,9,13011,null,4,11,1989,"Urbano",13]
[{"$f":"IF(C1634=base!$AC$2,ROW()+1,\"\")","v":{"$error":"#REF!"}},{"$f":"IF(C1634=base!$W$2,ROW()+1,\"\")","v":{"$error":"#REF!"}},13530,"Jaime Torres Bodet","Colonia","Tláhuac","Distrito Federal","Ciudad de México",13011,9,13011,null,9,11,1990,"Urbano",13]
[{"$f":"IF(C1635=base!$AC$2,ROW()+1,\"\")","v":{"$error":"#REF!"}},{"$f":"IF(C1635=base!$W$2,ROW()+1,\"\")","v":{"$error":"#REF!"}},13530,"La Asunción","Colonia","Tláhuac","Distrito Federal","Ciudad de México",13011,9,13011,null,9,11,1991,"Urbano",13]
[{"$f":"IF(C1636=base!$AC$2,ROW()+1,\"\")","v":{"$error":"#REF!"}},{"$f":"IF(C1636=base!$W$2,ROW()+1,\"\")","v":{"$error":"#REF!"}},13540,"Tierra Blanca","Colonia","Tláhuac","Distrito Federal","Ciudad de México",13011,9,13011,null,9,11,1994,"Urbano",13]
[{"$f":"IF(C1637=base!$AC$2,ROW()+1,\"\")","v":{"$error":"#REF!"}},{"$f":"IF(C1637=base!$W$2,ROW()+1,\"\")","v":{"$error":"#REF!"}},13540,"El Rosario","Colonia","Tláhuac","Distrito Federal","Ciudad de México",13011,9,13011,null,9,11,1992,"Urbano",13]
[{"$f":"IF(C1638=base!$AC$2,ROW()+1,\"\")","v":{"$error":"#REF!"}},{"$f":"IF(C1638=base!$W$2,ROW()+1,\"\")","v":{"$error":"#REF!"}},13545,"Ampliación La Conchita","Colonia","Tláhuac","Distrito Federal","Ciudad de México",13011,9,13011,null,9,11,2587,"Urbano",13]
[{"$f":"IF(C1639=base!$AC$2,ROW()+1,\"\")","v":{"$error":"#REF!"}},{"$f":"IF(C1639=base!$W$2,ROW()+1,\"\")","v":{"$error":"#REF!"}},13546,"Olivar Santa María","Campamento","Tláhuac","Distrito Federal","Ciudad de México",13011,9,13011,null,4,11,2916,"Urbano",13]
[{"$f":"IF(C1640=base!$AC$2,ROW()+1,\"\")","v":{"$error":"#REF!"}},{"$f":"IF(C1640=base!$W$2,ROW()+1,\"\")","v":{"$error":"#REF!"}},13549,"Peña Alta","Colonia","Tláhuac","Distrito Federal","Ciudad de México",13011,9,13011,null,9,11,1995,"Urbano",13]
[{"$f":"IF(C1641=base!$AC$2,ROW()+1,\"\")","v":{"$error":"#REF!"}},{"$f":"IF(C1641=base!$W$2,ROW()+1,\"\")","v":{"$error":"#REF!"}},13550,"Jardines del Llano","Colonia","Tláhuac","Distrito Federal","Ciudad de México",13011,9,13011,null,9,11,1997,"Urbano",13]
[{"$f":"IF(C1642=base!$AC$2,ROW()+1,\"\")","v":{"$error":"#REF!"}},{"$f":"IF(C1642=base!$W$2,ROW()+1,\"\")","v":{"$error":"#REF!"}},13550,"Potrero del Llano","Colonia","Tláhuac","Distrito Federal","Ciudad de México",13011,9,13011,null,9,11,1998,"Urbano",13]
[{"$f":"IF(C1643=base!$AC$2,ROW()+1,\"\")","v":{"$error":"#REF!"}},{"$f":"IF(C1643=base!$W$2,ROW()+1,\"\")","v":{"$error":"#REF!"}},13559,"Villa Tlatempa","Unidad habitacional","Tláhuac","Distrito Federal","Ciudad de México",13011,9,13011,null,31,11,1999,"Urbano",13]
[{"$f":"IF(C1644=base!$AC$2,ROW()+1,\"\")","v":{"$error":"#REF!"}},{"$f":"IF(C1644=base!$W$2,ROW()+1,\"\")","v":{"$error":"#REF!"}},13600,"San Bartolomé (Del Pueblo de San Andrés Mixquic)","Barrio","Tláhuac","Distrito Federal","Ciudad de México",13611,9,13611,null,2,11,2002,"Urbano",13]
[{"$f":"IF(C1645=base!$AC$2,ROW()+1,\"\")","v":{"$error":"#REF!"}},{"$f":"IF(C1645=base!$W$2,ROW()+1,\"\")","v":{"$error":"#REF!"}},13610,"Los Reyes (Del Pueblo de San Andrés Mixquic)","Barrio","Tláhuac","Distrito Federal","Ciudad de México",13611,9,13611,null,2,11,2004,"Urbano",13]
[{"$f":"IF(C1646=base!$AC$2,ROW()+1,\"\")","v":{"$error":"#REF!"}},{"$f":"IF(C1646=base!$W$2,ROW()+1,\"\")","v":{"$error":"#REF!"}},13625,"Santa Cruz (Del Pueblo de San Andrés Mixquic)","Barrio","Tláhuac","Distrito Federal","Ciudad de México",13611,9,13611,null,2,11,2005,"Urbano",13]
[{"$f":"IF(C1647=base!$AC$2,ROW()+1,\"\")","v":{"$error":"#REF!"}},{"$f":"IF(C1647=base!$W$2,ROW()+1,\"\")","v":{"$error":"#REF!"}},13630,"San Agustín (Del pueblo de San Andrés Mixquic)","Barrio","Tláhuac","Distrito Federal","Ciudad de México",13611,9,13611,null,2,11,2007,"Urbano",13]
[{"$f":"IF(C1648=base!$AC$2,ROW()+1,\"\")","v":{"$error":"#REF!"}},{"$f":"IF(C1648=base!$W$2,ROW()+1,\"\")","v":{"$error":"#REF!"}},13640,"San Miguel (Del Pueblo de San Andrés Mixquic)","Barrio","Tláhuac","Distrito Federal","Ciudad de México",13611,9,13611,null,2,11,2008,"Urbano",13]
[{"$f":"IF(C1649=base!$AC$2,ROW()+1,\"\")","v":{"$error":"#REF!"}},{"$f":"IF(C1649=base!$W$2,ROW()+1,\"\")","v":{"$error":"#REF!"}},13700,"San Nicolás Tetelco","Pueblo","Tláhuac","Distrito Federal","Ciudad de México",13611,9,13611,null,28,11,2009,"Urbano",13]
[{"$f":"IF(C1650=base!$AC$2,ROW()+1,\"\")","v":{"$error":"#REF!"}},{"$f":"IF(C1650=base!$W$2,ROW()+1,\"\")","v":{"$error":"#REF!"}},13700,"Tepantitlamilco","Colonia","Tláhuac","Distrito Federal","Ciudad de México",13611,9,13611,null,9,11,2892,"Urbano",13]
[{"$f":"IF(C1651=base!$AC$2,ROW()+1,\"\")","v":{"$error":"#REF!"}},{"$f":"IF(C1651=base!$W$2,ROW()+1,\"\")","v":{"$error":"#REF!"}},14000,"Tlalpan","Colonia","Tlalpan","Distrito Federal","Ciudad de México",14091,9,14091,null,9,12,2876,"Urbano",14]
[{"$f":"IF(C1652=base!$AC$2,ROW()+1,\"\")","v":{"$error":"#REF!"}},{"$f":"IF(C1652=base!$W$2,ROW()+1,\"\")","v":{"$error":"#REF!"}},14000,"Tlalpan Centro","Colonia","Tlalpan","Distrito Federal","Ciudad de México",14091,9,14091,null,9,12,2027,"Urbano",14]
[{"$f":"IF(C1653=base!$AC$2,ROW()+1,\"\")","v":{"$error":"#REF!"}},{"$f":"IF(C1653=base!$W$2,ROW()+1,\"\")","v":{"$error":"#REF!"}},14009,"Delegación Política Tlalpan","Gran usuario","Tlalpan","Distrito Federal","Ciudad de México",14091,9,14091,null,22,12,2028,"Urbano",14]
[{"$f":"IF(C1654=base!$AC$2,ROW()+1,\"\")","v":{"$error":"#REF!"}},{"$f":"IF(C1654=base!$W$2,ROW()+1,\"\")","v":{"$error":"#REF!"}},14010,"Parque del Pedregal","Colonia","Tlalpan","Distrito Federal","Ciudad de México",14091,9,14091,null,9,12,2029,"Urbano",14]
[{"$f":"IF(C1655=base!$AC$2,ROW()+1,\"\")","v":{"$error":"#REF!"}},{"$f":"IF(C1655=base!$W$2,ROW()+1,\"\")","v":{"$error":"#REF!"}},14017,"Cámara Nacional de la Industria de la Construcción","Gran usuario","Tlalpan","Distrito Federal","Ciudad de México",14091,9,14091,null,22,12,2032,"Urbano",14]
[{"$f":"IF(C1656=base!$AC$2,ROW()+1,\"\")","v":{"$error":"#REF!"}},{"$f":"IF(C1656=base!$W$2,ROW()+1,\"\")","v":{"$error":"#REF!"}},14020,"Villa Olímpica","Colonia","Tlalpan","Distrito Federal","Ciudad de México",14091,9,14091,null,9,12,2035,"Urbano",14]
[{"$f":"IF(C1657=base!$AC$2,ROW()+1,\"\")","v":{"$error":"#REF!"}},{"$f":"IF(C1657=base!$W$2,ROW()+1,\"\")","v":{"$error":"#REF!"}},14030,"Isidro Fabela","Colonia","Tlalpan","Distrito Federal","Ciudad de México",14091,9,14091,null,9,12,2036,"Urbano",14]
[{"$f":"IF(C1658=base!$AC$2,ROW()+1,\"\")","v":{"$error":"#REF!"}},{"$f":"IF(C1658=base!$W$2,ROW()+1,\"\")","v":{"$error":"#REF!"}},14038,"Zapote 1","Unidad habitacional","Tlalpan","Distrito Federal","Ciudad de México",14091,9,14091,null,31,12,2037,"Urbano",14]
[{"$f":"IF(C1659=base!$AC$2,ROW()+1,\"\")","v":{"$error":"#REF!"}},{"$f":"IF(C1659=base!$W$2,ROW()+1,\"\")","v":{"$error":"#REF!"}},14038,"Luis Donaldo Colosio","Unidad habitacional","Tlalpan","Distrito Federal","Ciudad de México",14091,9,14091,null,31,12,2702,"Urbano",14]
[{"$f":"IF(C1660=base!$AC$2,ROW()+1,\"\")","v":{"$error":"#REF!"}},{"$f":"IF(C1660=base!$W$2,ROW()+1,\"\")","v":{"$error":"#REF!"}},14039,"Cuitlahuac","Unidad habitacional","Tlalpan","Distrito Federal","Ciudad de México",14091,9,14091,null,31,12,2040,"Urbano",14]
[{"$f":"IF(C1661=base!$AC$2,ROW()+1,\"\")","v":{"$error":"#REF!"}},{"$f":"IF(C1661=base!$W$2,ROW()+1,\"\")","v":{"$error":"#REF!"}},14039,"Ampliación Isidro Fabela","Colonia","Tlalpan","Distrito Federal","Ciudad de México",14091,9,14091,null,9,12,2041,"Urbano",14]
[{"$f":"IF(C1662=base!$AC$2,ROW()+1,\"\")","v":{"$error":"#REF!"}},{"$f":"IF(C1662=base!$W$2,ROW()+1,\"\")","v":{"$error":"#REF!"}},14040,"Pueblo Quieto","Colonia","Tlalpan","Distrito Federal","Ciudad de México",14091,9,14091,null,9,12,2043,"Urbano",14]
[{"$f":"IF(C1663=base!$AC$2,ROW()+1,\"\")","v":{"$error":"#REF!"}},{"$f":"IF(C1663=base!$W$2,ROW()+1,\"\")","v":{"$error":"#REF!"}},14040,"Cantera Puente de Piedra","Colonia","Tlalpan","Distrito Federal","Ciudad de México",14091,9,14091,null,9,12,2042,"Urbano",14]
[{"$f":"IF(C1664=base!$AC$2,ROW()+1,\"\")","v":{"$error":"#REF!"}},{"$f":"IF(C1664=base!$W$2,ROW()+1,\"\")","v":{"$error":"#REF!"}},14049,"Comuneros de Santa Úrsula","Colonia","Tlalpan","Distrito Federal","Ciudad de México",14091,9,14091,null,9,12,2044,"Urbano",14]
[{"$f":"IF(C1665=base!$AC$2,ROW()+1,\"\")","v":{"$error":"#REF!"}},{"$f":"IF(C1665=base!$W$2,ROW()+1,\"\")","v":{"$error":"#REF!"}},14050,"Toriello Guerra","Colonia","Tlalpan","Distrito Federal","Ciudad de México",14091,9,14091,null,9,12,2045,"Urbano",14]
[{"$f":"IF(C1666=base!$AC$2,ROW()+1,\"\")","v":{"$error":"#REF!"}},{"$f":"IF(C1666=base!$W$2,ROW()+1,\"\")","v":{"$error":"#REF!"}},14060,"Peña Pobre","Colonia","Tlalpan","Distrito Federal","Ciudad de México",14091,9,14091,null,9,12,2046,"Urbano",14]
[{"$f":"IF(C1667=base!$AC$2,ROW()+1,\"\")","v":{"$error":"#REF!"}},{"$f":"IF(C1667=base!$W$2,ROW()+1,\"\")","v":{"$error":"#REF!"}},14070,"Rómulo Sánchez Mireles","Colonia","Tlalpan","Distrito Federal","Ciudad de México",14091,9,14091,null,9,12,2048,"Urbano",14]
[{"$f":"IF(C1668=base!$AC$2,ROW()+1,\"\")","v":{"$error":"#REF!"}},{"$f":"IF(C1668=base!$W$2,ROW()+1,\"\")","v":{"$error":"#REF!"}},14070,"Paseos de Mendoza","Fraccionamiento","Tlalpan","Distrito Federal","Ciudad de México",14091,9,14091,null,21,12,2047,"Urbano",14]
[{"$f":"IF(C1669=base!$AC$2,ROW()+1,\"\")","v":{"$error":"#REF!"}},{"$f":"IF(C1669=base!$W$2,ROW()+1,\"\")","v":{"$error":"#REF!"}},14070,"Barrio San Fernando","Barrio","Tlalpan","Distrito Federal","Ciudad de México",14091,9,14091,null,2,12,2049,"Urbano",14]
[{"$f":"IF(C1670=base!$AC$2,ROW()+1,\"\")","v":{"$error":"#REF!"}},{"$f":"IF(C1670=base!$W$2,ROW()+1,\"\")","v":{"$error":"#REF!"}},14070,"San Pedro Apóstol","Colonia","Tlalpan","Distrito Federal","Ciudad de México",14091,9,14091,null,9,12,2050,"Urbano",14]
[{"$f":"IF(C1671=base!$AC$2,ROW()+1,\"\")","v":{"$error":"#REF!"}},{"$f":"IF(C1671=base!$W$2,ROW()+1,\"\")","v":{"$error":"#REF!"}},14080,"Belisario Domínguez Sección XVI","Colonia","Tlalpan","Distrito Federal","Ciudad de México",14091,9,14091,null,9,12,2051,"Urbano",14]
[{"$f":"IF(C1672=base!$AC$2,ROW()+1,\"\")","v":{"$error":"#REF!"}},{"$f":"IF(C1672=base!$W$2,ROW()+1,\"\")","v":{"$error":"#REF!"}},14080,"Barrio del Niño Jesús","Barrio","Tlalpan","Distrito Federal","Ciudad de México",14091,9,14091,null,2,12,2052,"Urbano",14]
[{"$f":"IF(C1673=base!$AC$2,ROW()+1,\"\")","v":{"$error":"#REF!"}},{"$f":"IF(C1673=base!$W$2,ROW()+1,\"\")","v":{"$error":"#REF!"}},14090,"La Joya","Colonia","Tlalpan","Distrito Federal","Ciudad de México",14091,9,14091,null,9,12,2054,"Urbano",14]
[{"$f":"IF(C1674=base!$AC$2,ROW()+1,\"\")","v":{"$error":"#REF!"}},{"$f":"IF(C1674=base!$W$2,ROW()+1,\"\")","v":{"$error":"#REF!"}},14098,"Torres Tlalpan FOVISSSTE","Conjunto habitacional","Tlalpan","Distrito Federal","Ciudad de México",14091,9,14091,null,12,12,2057,"Urbano",14]
[{"$f":"IF(C1675=base!$AC$2,ROW()+1,\"\")","v":{"$error":"#REF!"}},{"$f":"IF(C1675=base!$W$2,ROW()+1,\"\")","v":{"$error":"#REF!"}},14100,"Pedregal de San Nicolás 3A Sección","Colonia","Tlalpan","Distrito Federal","Ciudad de México",14201,9,14201,null,9,12,2062,"Urbano",14]
[{"$f":"IF(C1676=base!$AC$2,ROW()+1,\"\")","v":{"$error":"#REF!"}},{"$f":"IF(C1676=base!$W$2,ROW()+1,\"\")","v":{"$error":"#REF!"}},14100,"Pedregal de San Nicolás 1A Sección","Colonia","Tlalpan","Distrito Federal","Ciudad de México",14201,9,14201,null,9,12,2060,"Urbano",14]
[{"$f":"IF(C1677=base!$AC$2,ROW()+1,\"\")","v":{"$error":"#REF!"}},{"$f":"IF(C1677=base!$W$2,ROW()+1,\"\")","v":{"$error":"#REF!"}},14100,"Pedregal de San Nicolás 2A Sección","Colonia","Tlalpan","Distrito Federal","Ciudad de México",14201,9,14201,null,9,12,2061,"Urbano",14]
[{"$f":"IF(C1678=base!$AC$2,ROW()+1,\"\")","v":{"$error":"#REF!"}},{"$f":"IF(C1678=base!$W$2,ROW()+1,\"\")","v":{"$error":"#REF!"}},14100,"Pedregal de San Nicolás 5A Sección","Colonia","Tlalpan","Distrito Federal","Ciudad de México",14201,9,14201,null,9,12,2064,"Urbano",14]
[{"$f":"IF(C1679=base!$AC$2,ROW()+1,\"\")","v":{"$error":"#REF!"}},{"$f":"IF(C1679=base!$W$2,ROW()+1,\"\")","v":{"$error":"#REF!"}},14100,"Pedregal de San Nicolás 4A Sección","Colonia","Tlalpan","Distrito Federal","Ciudad de México",14201,9,14201,null,9,12,2063,"Urbano",14]
[{"$f":"IF(C1680=base!$AC$2,ROW()+1,\"\")","v":{"$error":"#REF!"}},{"$f":"IF(C1680=base!$W$2,ROW()+1,\"\")","v":{"$error":"#REF!"}},14108,"Chichicaspatl","Colonia","Tlalpan","Distrito Federal","Ciudad de México",14201,9,14201,null,9,12,2067,"Urbano",14]
[{"$f":"IF(C1681=base!$AC$2,ROW()+1,\"\")","v":{"$error":"#REF!"}},{"$f":"IF(C1681=base!$W$2,ROW()+1,\"\")","v":{"$error":"#REF!"}},14108,"Pedregal Chichicaspatl","Fraccionamiento","Tlalpan","Distrito Federal","Ciudad de México",14201,9,14201,null,21,12,2068,"Urbano",14]
[{"$f":"IF(C1682=base!$AC$2,ROW()+1,\"\")","v":{"$error":"#REF!"}},{"$f":"IF(C1682=base!$W$2,ROW()+1,\"\")","v":{"$error":"#REF!"}},14110,"Pedregal del Lago","Unidad habitacional","Tlalpan","Distrito Federal","Ciudad de México",14201,9,14201,null,31,12,2070,"Urbano",14]
[{"$f":"IF(C1683=base!$AC$2,ROW()+1,\"\")","v":{"$error":"#REF!"}},{"$f":"IF(C1683=base!$W$2,ROW()+1,\"\")","v":{"$error":"#REF!"}},14110,"Ampliación Fuentes del Pedregal","Colonia","Tlalpan","Distrito Federal","Ciudad de México",14201,9,14201,null,9,12,2881,"Urbano",14]
[{"$f":"IF(C1684=base!$AC$2,ROW()+1,\"\")","v":{"$error":"#REF!"}},{"$f":"IF(C1684=base!$W$2,ROW()+1,\"\")","v":{"$error":"#REF!"}},14120,"Rincón del Pedregal","Colonia","Tlalpan","Distrito Federal","Ciudad de México",14201,9,14201,null,9,12,2071,"Urbano",14]
[{"$f":"IF(C1685=base!$AC$2,ROW()+1,\"\")","v":{"$error":"#REF!"}},{"$f":"IF(C1685=base!$W$2,ROW()+1,\"\")","v":{"$error":"#REF!"}},14129,"Residencial Pedregal Picacho","Fraccionamiento","Tlalpan","Distrito Federal","Ciudad de México",14201,9,14201,null,21,12,2072,"Urbano",14]
[{"$f":"IF(C1686=base!$AC$2,ROW()+1,\"\")","v":{"$error":"#REF!"}},{"$f":"IF(C1686=base!$W$2,ROW()+1,\"\")","v":{"$error":"#REF!"}},14130,"Lic. Emilio Portes Gil \"PEMEX\"","Unidad habitacional","Tlalpan","Distrito Federal","Ciudad de México",14201,9,14201,null,31,12,2073,"Urbano",14]
[{"$f":"IF(C1687=base!$AC$2,ROW()+1,\"\")","v":{"$error":"#REF!"}},{"$f":"IF(C1687=base!$W$2,ROW()+1,\"\")","v":{"$error":"#REF!"}},14140,"Fuentes del Pedregal","Colonia","Tlalpan","Distrito Federal","Ciudad de México",14201,9,14201,null,9,12,2074,"Urbano",14]
[{"$f":"IF(C1688=base!$AC$2,ROW()+1,\"\")","v":{"$error":"#REF!"}},{"$f":"IF(C1688=base!$W$2,ROW()+1,\"\")","v":{"$error":"#REF!"}},14141,"Instituto Mexicano de la Televisión","Gran usuario","Tlalpan","Distrito Federal","Ciudad de México",14201,9,14201,null,22,12,2075,"Urbano",14]
[{"$f":"IF(C1689=base!$AC$2,ROW()+1,\"\")","v":{"$error":"#REF!"}},{"$f":"IF(C1689=base!$W$2,ROW()+1,\"\")","v":{"$error":"#REF!"}},14148,"Retornos del Pedregal","Unidad habitacional","Tlalpan","Distrito Federal","Ciudad de México",14201,9,14201,null,31,12,2076,"Urbano",14]
[{"$f":"IF(C1690=base!$AC$2,ROW()+1,\"\")","v":{"$error":"#REF!"}},{"$f":"IF(C1690=base!$W$2,ROW()+1,\"\")","v":{"$error":"#REF!"}},14149,"Secretaria del Trabajo y Previsión Social","Gran usuario","Tlalpan","Distrito Federal","Ciudad de México",14201,9,14201,null,22,12,2077,"Urbano",14]
[{"$f":"IF(C1691=base!$AC$2,ROW()+1,\"\")","v":{"$error":"#REF!"}},{"$f":"IF(C1691=base!$W$2,ROW()+1,\"\")","v":{"$error":"#REF!"}},14150,"Lomas del Pedregal Framboyanes","Colonia","Tlalpan","Distrito Federal","Ciudad de México",14201,9,14201,null,9,12,2078,"Urbano",14]
[{"$f":"IF(C1692=base!$AC$2,ROW()+1,\"\")","v":{"$error":"#REF!"}},{"$f":"IF(C1692=base!$W$2,ROW()+1,\"\")","v":{"$error":"#REF!"}},14160,"Popular Santa Teresa","Colonia","Tlalpan","Distrito Federal","Ciudad de México",14201,9,14201,null,9,12,2079,"Urbano",14]
[{"$f":"IF(C1693=base!$AC$2,ROW()+1,\"\")","v":{"$error":"#REF!"}},{"$f":"IF(C1693=base!$W$2,ROW()+1,\"\")","v":{"$error":"#REF!"}},14200,"Jardines del Ajusco","Colonia","Tlalpan","Distrito Federal","Ciudad de México",14201,9,14201,null,9,12,2081,"Urbano",14]
[{"$f":"IF(C1694=base!$AC$2,ROW()+1,\"\")","v":{"$error":"#REF!"}},{"$f":"IF(C1694=base!$W$2,ROW()+1,\"\")","v":{"$error":"#REF!"}},14200,"Héroes de Padierna","Colonia","Tlalpan","Distrito Federal","Ciudad de México",14201,9,14201,null,9,12,2080,"Urbano",14]
[{"$f":"IF(C1695=base!$AC$2,ROW()+1,\"\")","v":{"$error":"#REF!"}},{"$f":"IF(C1695=base!$W$2,ROW()+1,\"\")","v":{"$error":"#REF!"}},14208,"Colinas del Ajusco","Colonia","Tlalpan","Distrito Federal","Ciudad de México",14201,9,14201,null,9,12,2083,"Urbano",14]
[{"$f":"IF(C1696=base!$AC$2,ROW()+1,\"\")","v":{"$error":"#REF!"}},{"$f":"IF(C1696=base!$W$2,ROW()+1,\"\")","v":{"$error":"#REF!"}},14209,"Torres de Padierna","Colonia","Tlalpan","Distrito Federal","Ciudad de México",14201,9,14201,null,9,12,2084,"Urbano",14]
[{"$f":"IF(C1697=base!$AC$2,ROW()+1,\"\")","v":{"$error":"#REF!"}},{"$f":"IF(C1697=base!$W$2,ROW()+1,\"\")","v":{"$error":"#REF!"}},14210,"Jardines en la Montaña","Colonia","Tlalpan","Distrito Federal","Ciudad de México",14201,9,14201,null,9,12,2085,"Urbano",14]
[{"$f":"IF(C1698=base!$AC$2,ROW()+1,\"\")","v":{"$error":"#REF!"}},{"$f":"IF(C1698=base!$W$2,ROW()+1,\"\")","v":{"$error":"#REF!"}},14219,"Six Flags (Reino Aventura)","Equipamiento","Tlalpan","Distrito Federal","Ciudad de México",14201,9,14201,null,17,12,2087,"Urbano",14]
[{"$f":"IF(C1699=base!$AC$2,ROW()+1,\"\")","v":{"$error":"#REF!"}},{"$f":"IF(C1699=base!$W$2,ROW()+1,\"\")","v":{"$error":"#REF!"}},14219,"Parque Nacional Bosque del Pedregal","Equipamiento","Tlalpan","Distrito Federal","Ciudad de México",14201,9,14201,null,17,12,2187,"Urbano",14]
[{"$f":"IF(C1700=base!$AC$2,ROW()+1,\"\")","v":{"$error":"#REF!"}},{"$f":"IF(C1700=base!$W$2,ROW()+1,\"\")","v":{"$error":"#REF!"}},14220,"Cuchilla de Padierna","Colonia","Tlalpan","Distrito Federal","Ciudad de México",14201,9,14201,null,9,12,2088,"Urbano",14]
[{"$f":"IF(C1701=base!$AC$2,ROW()+1,\"\")","v":{"$error":"#REF!"}},{"$f":"IF(C1701=base!$W$2,ROW()+1,\"\")","v":{"$error":"#REF!"}},14220,"Lomas del Pedregal","Colonia","Tlalpan","Distrito Federal","Ciudad de México",14201,9,14201,null,9,12,2090,"Urbano",14]
[{"$f":"IF(C1702=base!$AC$2,ROW()+1,\"\")","v":{"$error":"#REF!"}},{"$f":"IF(C1702=base!$W$2,ROW()+1,\"\")","v":{"$error":"#REF!"}},14230,"Cultura Maya","Colonia","Tlalpan","Distrito Federal","Ciudad de México",14201,9,14201,null,9,12,2091,"Urbano",14]
[{"$f":"IF(C1703=base!$AC$2,ROW()+1,\"\")","v":{"$error":"#REF!"}},{"$f":"IF(C1703=base!$W$2,ROW()+1,\"\")","v":{"$error":"#REF!"}},14239,"Los Encinos","Colonia","Tlalpan","Distrito Federal","Ciudad de México",14201,9,14201,null,9,12,2093,"Urbano",14]
[{"$f":"IF(C1704=base!$AC$2,ROW()+1,\"\")","v":{"$error":"#REF!"}},{"$f":"IF(C1704=base!$W$2,ROW()+1,\"\")","v":{"$error":"#REF!"}},14240,"Lomas de Padierna","Colonia","Tlalpan","Distrito Federal","Ciudad de México",14201,9,14201,null,9,12,2094,"Urbano",14]
[{"$f":"IF(C1705=base!$AC$2,ROW()+1,\"\")","v":{"$error":"#REF!"}},{"$f":"IF(C1705=base!$W$2,ROW()+1,\"\")","v":{"$error":"#REF!"}},14240,"Lomas Hidalgo","Colonia","Tlalpan","Distrito Federal","Ciudad de México",14201,9,14201,null,9,12,2095,"Urbano",14]
[{"$f":"IF(C1706=base!$AC$2,ROW()+1,\"\")","v":{"$error":"#REF!"}},{"$f":"IF(C1706=base!$W$2,ROW()+1,\"\")","v":{"$error":"#REF!"}},14248,"Cruz del Farol","Colonia","Tlalpan","Distrito Federal","Ciudad de México",14201,9,14201,null,9,12,2096,"Urbano",14]
[{"$f":"IF(C1707=base!$AC$2,ROW()+1,\"\")","v":{"$error":"#REF!"}},{"$f":"IF(C1707=base!$W$2,ROW()+1,\"\")","v":{"$error":"#REF!"}},14250,"Miguel Hidalgo 2A Sección","Colonia","Tlalpan","Distrito Federal","Ciudad de México",14201,9,14201,null,9,12,2098,"Urbano",14]
[{"$f":"IF(C1708=base!$AC$2,ROW()+1,\"\")","v":{"$error":"#REF!"}},{"$f":"IF(C1708=base!$W$2,ROW()+1,\"\")","v":{"$error":"#REF!"}},14250,"Miguel Hidalgo 3A Sección","Colonia","Tlalpan","Distrito Federal","Ciudad de México",14201,9,14201,null,9,12,2099,"Urbano",14]
[{"$f":"IF(C1709=base!$AC$2,ROW()+1,\"\")","v":{"$error":"#REF!"}},{"$f":"IF(C1709=base!$W$2,ROW()+1,\"\")","v":{"$error":"#REF!"}},14250,"Miguel Hidalgo","Colonia","Tlalpan","Distrito Federal","Ciudad de México",14201,9,14201,null,9,12,2101,"Urbano",14]
[{"$f":"IF(C1710=base!$AC$2,ROW()+1,\"\")","v":{"$error":"#REF!"}},{"$f":"IF(C1710=base!$W$2,ROW()+1,\"\")","v":{"$error":"#REF!"}},14250,"Miguel Hidalgo 4A Sección","Colonia","Tlalpan","Distrito Federal","Ciudad de México",14201,9,14201,null,9,12,2100,"Urbano",14]
[{"$f":"IF(C1711=base!$AC$2,ROW()+1,\"\")","v":{"$error":"#REF!"}},{"$f":"IF(C1711=base!$W$2,ROW()+1,\"\")","v":{"$error":"#REF!"}},14260,"Barrio El Capulín","Barrio","Tlalpan","Distrito Federal","Ciudad de México",14201,9,14201,null,2,12,2102,"Urbano",14]
[{"$f":"IF(C1712=base!$AC$2,ROW()+1,\"\")","v":{"$error":"#REF!"}},{"$f":"IF(C1712=base!$W$2,ROW()+1,\"\")","v":{"$error":"#REF!"}},14260,"Miguel Hidalgo 1A Sección","Colonia","Tlalpan","Distrito Federal","Ciudad de México",14201,9,14201,null,9,12,2103,"Urbano",14]
[{"$f":"IF(C1713=base!$AC$2,ROW()+1,\"\")","v":{"$error":"#REF!"}},{"$f":"IF(C1713=base!$W$2,ROW()+1,\"\")","v":{"$error":"#REF!"}},14266,"Zacayucan Peña Pobre","Colonia","Tlalpan","Distrito Federal","Ciudad de México",14201,9,14201,null,9,12,2106,"Urbano",14]
[{"$f":"IF(C1714=base!$AC$2,ROW()+1,\"\")","v":{"$error":"#REF!"}},{"$f":"IF(C1714=base!$W$2,ROW()+1,\"\")","v":{"$error":"#REF!"}},14267,"Barrio de Caramagüey","Barrio","Tlalpan","Distrito Federal","Ciudad de México",14201,9,14201,null,2,12,2107,"Urbano",14]
[{"$f":"IF(C1715=base!$AC$2,ROW()+1,\"\")","v":{"$error":"#REF!"}},{"$f":"IF(C1715=base!$W$2,ROW()+1,\"\")","v":{"$error":"#REF!"}},14268,"Barrio La Lonja","Barrio","Tlalpan","Distrito Federal","Ciudad de México",14201,9,14201,null,2,12,2108,"Urbano",14]
[{"$f":"IF(C1716=base!$AC$2,ROW()+1,\"\")","v":{"$error":"#REF!"}},{"$f":"IF(C1716=base!$W$2,ROW()+1,\"\")","v":{"$error":"#REF!"}},14269,"Barrio La Fama","Barrio","Tlalpan","Distrito Federal","Ciudad de México",14201,9,14201,null,2,12,2109,"Urbano",14]
[{"$f":"IF(C1717=base!$AC$2,ROW()+1,\"\")","v":{"$error":"#REF!"}},{"$f":"IF(C1717=base!$W$2,ROW()+1,\"\")","v":{"$error":"#REF!"}},14270,"Primavera","Colonia","Tlalpan","Distrito Federal","Ciudad de México",14201,9,14201,null,9,12,2110,"Urbano",14]
[{"$f":"IF(C1718=base!$AC$2,ROW()+1,\"\")","v":{"$error":"#REF!"}},{"$f":"IF(C1718=base!$W$2,ROW()+1,\"\")","v":{"$error":"#REF!"}},14273,"Solidaridad","Campamento","Tlalpan","Distrito Federal","Ciudad de México",14201,9,14201,null,4,12,2694,"Urbano",14]
[{"$f":"IF(C1719=base!$AC$2,ROW()+1,\"\")","v":{"$error":"#REF!"}},{"$f":"IF(C1719=base!$W$2,ROW()+1,\"\")","v":{"$error":"#REF!"}},14275,"Paraje 38","Colonia","Tlalpan","Distrito Federal","Ciudad de México",14201,9,14201,null,9,12,2111,"Urbano",14]
[{"$f":"IF(C1720=base!$AC$2,ROW()+1,\"\")","v":{"$error":"#REF!"}},{"$f":"IF(C1720=base!$W$2,ROW()+1,\"\")","v":{"$error":"#REF!"}},14276,"Verano","Campamento","Tlalpan","Distrito Federal","Ciudad de México",14201,9,14201,null,4,12,2112,"Urbano",14]
[{"$f":"IF(C1721=base!$AC$2,ROW()+1,\"\")","v":{"$error":"#REF!"}},{"$f":"IF(C1721=base!$W$2,ROW()+1,\"\")","v":{"$error":"#REF!"}},14300,"Nueva Oriental Coapa","Colonia","Tlalpan","Distrito Federal","Ciudad de México",14391,9,14391,null,9,12,2113,"Urbano",14]
[{"$f":"IF(C1722=base!$AC$2,ROW()+1,\"\")","v":{"$error":"#REF!"}},{"$f":"IF(C1722=base!$W$2,ROW()+1,\"\")","v":{"$error":"#REF!"}},14300,"Residencial Miramontes","Colonia","Tlalpan","Distrito Federal","Ciudad de México",14391,9,14391,null,9,12,2115,"Urbano",14]
[{"$f":"IF(C1723=base!$AC$2,ROW()+1,\"\")","v":{"$error":"#REF!"}},{"$f":"IF(C1723=base!$W$2,ROW()+1,\"\")","v":{"$error":"#REF!"}},14300,"Residencial Acoxpa","Colonia","Tlalpan","Distrito Federal","Ciudad de México",14391,9,14391,null,9,12,2114,"Urbano",14]
[{"$f":"IF(C1724=base!$AC$2,ROW()+1,\"\")","v":{"$error":"#REF!"}},{"$f":"IF(C1724=base!$W$2,ROW()+1,\"\")","v":{"$error":"#REF!"}},14307,"Villa del Sur","Fraccionamiento","Tlalpan","Distrito Federal","Ciudad de México",14391,9,14391,null,21,12,2117,"Urbano",14]
[{"$f":"IF(C1725=base!$AC$2,ROW()+1,\"\")","v":{"$error":"#REF!"}},{"$f":"IF(C1725=base!$W$2,ROW()+1,\"\")","v":{"$error":"#REF!"}},14308,"Real del Sur","Condominio","Tlalpan","Distrito Federal","Ciudad de México",14391,9,14391,null,10,12,2118,"Urbano",14]
[{"$f":"IF(C1726=base!$AC$2,ROW()+1,\"\")","v":{"$error":"#REF!"}},{"$f":"IF(C1726=base!$W$2,ROW()+1,\"\")","v":{"$error":"#REF!"}},14308,"Ex Hacienda Coapa","Colonia","Tlalpan","Distrito Federal","Ciudad de México",14391,9,14391,null,9,12,2879,"Urbano",14]
[{"$f":"IF(C1727=base!$AC$2,ROW()+1,\"\")","v":{"$error":"#REF!"}},{"$f":"IF(C1727=base!$W$2,ROW()+1,\"\")","v":{"$error":"#REF!"}},14309,"3 Fuentes","Condominio","Tlalpan","Distrito Federal","Ciudad de México",14391,9,14391,null,10,12,2119,"Urbano",14]
[{"$f":"IF(C1728=base!$AC$2,ROW()+1,\"\")","v":{"$error":"#REF!"}},{"$f":"IF(C1728=base!$W$2,ROW()+1,\"\")","v":{"$error":"#REF!"}},14310,"Belisario Domínguez","Colonia","Tlalpan","Distrito Federal","Ciudad de México",14391,9,14391,null,9,12,2120,"Urbano",14]
[{"$f":"IF(C1729=base!$AC$2,ROW()+1,\"\")","v":{"$error":"#REF!"}},{"$f":"IF(C1729=base!$W$2,ROW()+1,\"\")","v":{"$error":"#REF!"}},14310,"Floresta Coyoacán","Colonia","Tlalpan","Distrito Federal","Ciudad de México",14391,9,14391,null,9,12,2121,"Urbano",14]
[{"$f":"IF(C1730=base!$AC$2,ROW()+1,\"\")","v":{"$error":"#REF!"}},{"$f":"IF(C1730=base!$W$2,ROW()+1,\"\")","v":{"$error":"#REF!"}},14310,"Vergel Tlalpan","Fraccionamiento","Tlalpan","Distrito Federal","Ciudad de México",14391,9,14391,null,21,12,2122,"Urbano",14]
[{"$f":"IF(C1731=base!$AC$2,ROW()+1,\"\")","v":{"$error":"#REF!"}},{"$f":"IF(C1731=base!$W$2,ROW()+1,\"\")","v":{"$error":"#REF!"}},14320,"Vergel Coapa","Colonia","Tlalpan","Distrito Federal","Ciudad de México",14391,9,14391,null,9,12,2123,"Urbano",14]
[{"$f":"IF(C1732=base!$AC$2,ROW()+1,\"\")","v":{"$error":"#REF!"}},{"$f":"IF(C1732=base!$W$2,ROW()+1,\"\")","v":{"$error":"#REF!"}},14324,"Gabriel Ramos Millán","Fraccionamiento","Tlalpan","Distrito Federal","Ciudad de México",14391,9,14391,null,21,12,2124,"Urbano",14]
[{"$f":"IF(C1733=base!$AC$2,ROW()+1,\"\")","v":{"$error":"#REF!"}},{"$f":"IF(C1733=base!$W$2,ROW()+1,\"\")","v":{"$error":"#REF!"}},14325,"Rinconada Coapa 2A Sección","Colonia","Tlalpan","Distrito Federal","Ciudad de México",14391,9,14391,null,9,12,2125,"Urbano",14]
[{"$f":"IF(C1734=base!$AC$2,ROW()+1,\"\")","v":{"$error":"#REF!"}},{"$f":"IF(C1734=base!$W$2,ROW()+1,\"\")","v":{"$error":"#REF!"}},14326,"Tenorios INFONAVIT","Unidad habitacional","Tlalpan","Distrito Federal","Ciudad de México",14391,9,14391,null,31,12,2127,"Urbano",14]
[{"$f":"IF(C1735=base!$AC$2,ROW()+1,\"\")","v":{"$error":"#REF!"}},{"$f":"IF(C1735=base!$W$2,ROW()+1,\"\")","v":{"$error":"#REF!"}},14326,"Tenorios","Colonia","Tlalpan","Distrito Federal","Ciudad de México",14391,9,14391,null,9,12,2126,"Urbano",14]
[{"$f":"IF(C1736=base!$AC$2,ROW()+1,\"\")","v":{"$error":"#REF!"}},{"$f":"IF(C1736=base!$W$2,ROW()+1,\"\")","v":{"$error":"#REF!"}},14327,"Tenorios 2","Unidad habitacional","Tlalpan","Distrito Federal","Ciudad de México",14391,9,14391,null,31,12,2128,"Urbano",14]
[{"$f":"IF(C1737=base!$AC$2,ROW()+1,\"\")","v":{"$error":"#REF!"}},{"$f":"IF(C1737=base!$W$2,ROW()+1,\"\")","v":{"$error":"#REF!"}},14328,"Villa Valbadena","Fraccionamiento","Tlalpan","Distrito Federal","Ciudad de México",14391,9,14391,null,21,12,2130,"Urbano",14]
[{"$f":"IF(C1738=base!$AC$2,ROW()+1,\"\")","v":{"$error":"#REF!"}},{"$f":"IF(C1738=base!$W$2,ROW()+1,\"\")","v":{"$error":"#REF!"}},14328,"Lotería Nacional","Unidad habitacional","Tlalpan","Distrito Federal","Ciudad de México",14391,9,14391,null,31,12,2129,"Urbano",14]
[{"$f":"IF(C1739=base!$AC$2,ROW()+1,\"\")","v":{"$error":"#REF!"}},{"$f":"IF(C1739=base!$W$2,ROW()+1,\"\")","v":{"$error":"#REF!"}},14329,"Tenorios FOVISSSTE","Unidad habitacional","Tlalpan","Distrito Federal","Ciudad de México",14391,9,14391,null,31,12,2131,"Urbano",14]
[{"$f":"IF(C1740=base!$AC$2,ROW()+1,\"\")","v":{"$error":"#REF!"}},{"$f":"IF(C1740=base!$W$2,ROW()+1,\"\")","v":{"$error":"#REF!"}},14330,"Residencial Hacienda Coapa","Fraccionamiento","Tlalpan","Distrito Federal","Ciudad de México",14391,9,14391,null,21,12,2133,"Urbano",14]
[{"$f":"IF(C1741=base!$AC$2,ROW()+1,\"\")","v":{"$error":"#REF!"}},{"$f":"IF(C1741=base!$W$2,ROW()+1,\"\")","v":{"$error":"#REF!"}},14330,"Rinconada Coapa 1A Sección","Colonia","Tlalpan","Distrito Federal","Ciudad de México",14391,9,14391,null,9,12,2134,"Urbano",14]
[{"$f":"IF(C1742=base!$AC$2,ROW()+1,\"\")","v":{"$error":"#REF!"}},{"$f":"IF(C1742=base!$W$2,ROW()+1,\"\")","v":{"$error":"#REF!"}},14330,"Granjas Coapa","Colonia","Tlalpan","Distrito Federal","Ciudad de México",14391,9,14391,null,9,12,2132,"Urbano",14]
[{"$f":"IF(C1743=base!$AC$2,ROW()+1,\"\")","v":{"$error":"#REF!"}},{"$f":"IF(C1743=base!$W$2,ROW()+1,\"\")","v":{"$error":"#REF!"}},14334,"Sauzales Cebadales","Unidad habitacional","Tlalpan","Distrito Federal","Ciudad de México",14391,9,14391,null,31,12,2135,"Urbano",14]
[{"$f":"IF(C1744=base!$AC$2,ROW()+1,\"\")","v":{"$error":"#REF!"}},{"$f":"IF(C1744=base!$W$2,ROW()+1,\"\")","v":{"$error":"#REF!"}},14335,"Periférico","Unidad habitacional","Tlalpan","Distrito Federal","Ciudad de México",14391,9,14391,null,31,12,2136,"Urbano",14]
[{"$f":"IF(C1745=base!$AC$2,ROW()+1,\"\")","v":{"$error":"#REF!"}},{"$f":"IF(C1745=base!$W$2,ROW()+1,\"\")","v":{"$error":"#REF!"}},14335,"Villa del Puente","Fraccionamiento","Tlalpan","Distrito Federal","Ciudad de México",14391,9,14391,null,21,12,2137,"Urbano",14]
[{"$f":"IF(C1746=base!$AC$2,ROW()+1,\"\")","v":{"$error":"#REF!"}},{"$f":"IF(C1746=base!$W$2,ROW()+1,\"\")","v":{"$error":"#REF!"}},14336,"Villa Cuemanco INFONAVIT","Conjunto habitacional","Tlalpan","Distrito Federal","Ciudad de México",14391,9,14391,null,12,12,2138,"Urbano",14]
[{"$f":"IF(C1747=base!$AC$2,ROW()+1,\"\")","v":{"$error":"#REF!"}},{"$f":"IF(C1747=base!$W$2,ROW()+1,\"\")","v":{"$error":"#REF!"}},14337,"Urbano Coapa","Unidad habitacional","Tlalpan","Distrito Federal","Ciudad de México",14391,9,14391,null,31,12,2141,"Urbano",14]
[{"$f":"IF(C1748=base!$AC$2,ROW()+1,\"\")","v":{"$error":"#REF!"}},{"$f":"IF(C1748=base!$W$2,ROW()+1,\"\")","v":{"$error":"#REF!"}},14338,"FOVISSSTE Periférico","Unidad habitacional","Tlalpan","Distrito Federal","Ciudad de México",14391,9,14391,null,31,12,2143,"Urbano",14]
[{"$f":"IF(C1749=base!$AC$2,ROW()+1,\"\")","v":{"$error":"#REF!"}},{"$f":"IF(C1749=base!$W$2,ROW()+1,\"\")","v":{"$error":"#REF!"}},14338,"Fuerza Armada de México","Unidad habitacional","Tlalpan","Distrito Federal","Ciudad de México",14391,9,14391,null,31,12,2142,"Urbano",14]
[{"$f":"IF(C1750=base!$AC$2,ROW()+1,\"\")","v":{"$error":"#REF!"}},{"$f":"IF(C1750=base!$W$2,ROW()+1,\"\")","v":{"$error":"#REF!"}},14339,"Dr. Ignacio Chávez INFONAVIT","Unidad habitacional","Tlalpan","Distrito Federal","Ciudad de México",14391,9,14391,null,31,12,2144,"Urbano",14]
[{"$f":"IF(C1751=base!$AC$2,ROW()+1,\"\")","v":{"$error":"#REF!"}},{"$f":"IF(C1751=base!$W$2,ROW()+1,\"\")","v":{"$error":"#REF!"}},14340,"Vergel del Sur","Colonia","Tlalpan","Distrito Federal","Ciudad de México",14391,9,14391,null,9,12,2146,"Urbano",14]
[{"$f":"IF(C1752=base!$AC$2,ROW()+1,\"\")","v":{"$error":"#REF!"}},{"$f":"IF(C1752=base!$W$2,ROW()+1,\"\")","v":{"$error":"#REF!"}},14340,"Vergel de Coyoacán","Colonia","Tlalpan","Distrito Federal","Ciudad de México",14391,9,14391,null,9,12,2145,"Urbano",14]
[{"$f":"IF(C1753=base!$AC$2,ROW()+1,\"\")","v":{"$error":"#REF!"}},{"$f":"IF(C1753=base!$W$2,ROW()+1,\"\")","v":{"$error":"#REF!"}},14350,"Prado Coapa 1A Sección","Colonia","Tlalpan","Distrito Federal","Ciudad de México",14391,9,14391,null,9,12,2147,"Urbano",14]
[{"$f":"IF(C1754=base!$AC$2,ROW()+1,\"\")","v":{"$error":"#REF!"}},{"$f":"IF(C1754=base!$W$2,ROW()+1,\"\")","v":{"$error":"#REF!"}},14356,"Jardines Villa Coapa","Unidad habitacional","Tlalpan","Distrito Federal","Ciudad de México",14391,9,14391,null,31,12,2148,"Urbano",14]
[{"$f":"IF(C1755=base!$AC$2,ROW()+1,\"\")","v":{"$error":"#REF!"}},{"$f":"IF(C1755=base!$W$2,ROW()+1,\"\")","v":{"$error":"#REF!"}},14357,"Prado Coapa 3A Sección","Colonia","Tlalpan","Distrito Federal","Ciudad de México",14391,9,14391,null,9,12,2150,"Urbano",14]
[{"$f":"IF(C1756=base!$AC$2,ROW()+1,\"\")","v":{"$error":"#REF!"}},{"$f":"IF(C1756=base!$W$2,ROW()+1,\"\")","v":{"$error":"#REF!"}},14357,"Prado Coapa 2A Sección","Colonia","Tlalpan","Distrito Federal","Ciudad de México",14391,9,14391,null,9,12,2149,"Urbano",14]
[{"$f":"IF(C1757=base!$AC$2,ROW()+1,\"\")","v":{"$error":"#REF!"}},{"$f":"IF(C1757=base!$W$2,ROW()+1,\"\")","v":{"$error":"#REF!"}},14358,"Residencial Villa Prado Coapa","Conjunto habitacional","Tlalpan","Distrito Federal","Ciudad de México",14391,9,14391,null,12,12,2151,"Urbano",14]
[{"$f":"IF(C1758=base!$AC$2,ROW()+1,\"\")","v":{"$error":"#REF!"}},{"$f":"IF(C1758=base!$W$2,ROW()+1,\"\")","v":{"$error":"#REF!"}},14360,"Villa Cuemanco","Fraccionamiento","Tlalpan","Distrito Federal","Ciudad de México",14391,9,14391,null,21,12,2154,"Urbano",14]
[{"$f":"IF(C1759=base!$AC$2,ROW()+1,\"\")","v":{"$error":"#REF!"}},{"$f":"IF(C1759=base!$W$2,ROW()+1,\"\")","v":{"$error":"#REF!"}},14360,"Magisterial Coapa","Colonia","Tlalpan","Distrito Federal","Ciudad de México",14391,9,14391,null,9,12,2877,"Urbano",14]
[{"$f":"IF(C1760=base!$AC$2,ROW()+1,\"\")","v":{"$error":"#REF!"}},{"$f":"IF(C1760=base!$W$2,ROW()+1,\"\")","v":{"$error":"#REF!"}},14360,"Magisterial","Colonia","Tlalpan","Distrito Federal","Ciudad de México",14391,9,14391,null,9,12,2153,"Urbano",14]
[{"$f":"IF(C1761=base!$AC$2,ROW()+1,\"\")","v":{"$error":"#REF!"}},{"$f":"IF(C1761=base!$W$2,ROW()+1,\"\")","v":{"$error":"#REF!"}},14370,"Villa Lázaro Cárdenas","Colonia","Tlalpan","Distrito Federal","Ciudad de México",14391,9,14391,null,9,12,2158,"Urbano",14]
[{"$f":"IF(C1762=base!$AC$2,ROW()+1,\"\")","v":{"$error":"#REF!"}},{"$f":"IF(C1762=base!$W$2,ROW()+1,\"\")","v":{"$error":"#REF!"}},14370,"Residencial Chimali","Colonia","Tlalpan","Distrito Federal","Ciudad de México",14391,9,14391,null,9,12,2155,"Urbano",14]
[{"$f":"IF(C1763=base!$AC$2,ROW()+1,\"\")","v":{"$error":"#REF!"}},{"$f":"IF(C1763=base!$W$2,ROW()+1,\"\")","v":{"$error":"#REF!"}},14370,"San Lorenzo Huipulco","Pueblo","Tlalpan","Distrito Federal","Ciudad de México",14391,9,14391,null,28,12,2157,"Urbano",14]
[{"$f":"IF(C1764=base!$AC$2,ROW()+1,\"\")","v":{"$error":"#REF!"}},{"$f":"IF(C1764=base!$W$2,ROW()+1,\"\")","v":{"$error":"#REF!"}},14370,"Hacienda de San Juan de Tlalpan 2a Sección","Fraccionamiento","Tlalpan","Distrito Federal","Ciudad de México",14391,9,14391,null,21,12,2156,"Urbano",14]
[{"$f":"IF(C1765=base!$AC$2,ROW()+1,\"\")","v":{"$error":"#REF!"}},{"$f":"IF(C1765=base!$W$2,ROW()+1,\"\")","v":{"$error":"#REF!"}},14376,"Arboledas del Sur","Colonia","Tlalpan","Distrito Federal","Ciudad de México",14391,9,14391,null,9,12,2159,"Urbano",14]
[{"$f":"IF(C1766=base!$AC$2,ROW()+1,\"\")","v":{"$error":"#REF!"}},{"$f":"IF(C1766=base!$W$2,ROW()+1,\"\")","v":{"$error":"#REF!"}},14377,"Hacienda San Juan","Colonia","Tlalpan","Distrito Federal","Ciudad de México",14391,9,14391,null,9,12,2161,"Urbano",14]
[{"$f":"IF(C1767=base!$AC$2,ROW()+1,\"\")","v":{"$error":"#REF!"}},{"$f":"IF(C1767=base!$W$2,ROW()+1,\"\")","v":{"$error":"#REF!"}},14378,"Rincón de San Juan","Fraccionamiento","Tlalpan","Distrito Federal","Ciudad de México",14391,9,14391,null,21,12,2162,"Urbano",14]
[{"$f":"IF(C1768=base!$AC$2,ROW()+1,\"\")","v":{"$error":"#REF!"}},{"$f":"IF(C1768=base!$W$2,ROW()+1,\"\")","v":{"$error":"#REF!"}},14380,"A.M.S.A","Colonia","Tlalpan","Distrito Federal","Ciudad de México",14391,9,14391,null,9,12,2163,"Urbano",14]
[{"$f":"IF(C1769=base!$AC$2,ROW()+1,\"\")","v":{"$error":"#REF!"}},{"$f":"IF(C1769=base!$W$2,ROW()+1,\"\")","v":{"$error":"#REF!"}},14380,"San Bartolo El Chico","Colonia","Tlalpan","Distrito Federal","Ciudad de México",14391,9,14391,null,9,12,2167,"Urbano",14]
[{"$f":"IF(C1770=base!$AC$2,ROW()+1,\"\")","v":{"$error":"#REF!"}},{"$f":"IF(C1770=base!$W$2,ROW()+1,\"\")","v":{"$error":"#REF!"}},14386,"Rancho los Colorines","Colonia","Tlalpan","Distrito Federal","Ciudad de México",14391,9,14391,null,9,12,2168,"Urbano",14]
[{"$f":"IF(C1771=base!$AC$2,ROW()+1,\"\")","v":{"$error":"#REF!"}},{"$f":"IF(C1771=base!$W$2,ROW()+1,\"\")","v":{"$error":"#REF!"}},14387,"Ex Hacienda San Juan de Dios","Colonia","Tlalpan","Distrito Federal","Ciudad de México",14391,9,14391,null,9,12,2169,"Urbano",14]
[{"$f":"IF(C1772=base!$AC$2,ROW()+1,\"\")","v":{"$error":"#REF!"}},{"$f":"IF(C1772=base!$W$2,ROW()+1,\"\")","v":{"$error":"#REF!"}},14388,"Guadalupe","Colonia","Tlalpan","Distrito Federal","Ciudad de México",14391,9,14391,null,9,12,2170,"Urbano",14]
[{"$f":"IF(C1773=base!$AC$2,ROW()+1,\"\")","v":{"$error":"#REF!"}},{"$f":"IF(C1773=base!$W$2,ROW()+1,\"\")","v":{"$error":"#REF!"}},14389,"Arenal de Guadalupe","Colonia","Tlalpan","Distrito Federal","Ciudad de México",14391,9,14391,null,9,12,2172,"Urbano",14]
[{"$f":"IF(C1774=base!$AC$2,ROW()+1,\"\")","v":{"$error":"#REF!"}},{"$f":"IF(C1774=base!$W$2,ROW()+1,\"\")","v":{"$error":"#REF!"}},14390,"Rinconada Las Hadas","Colonia","Tlalpan","Distrito Federal","Ciudad de México",14391,9,14391,null,9,12,2174,"Urbano",14]
[{"$f":"IF(C1775=base!$AC$2,ROW()+1,\"\")","v":{"$error":"#REF!"}},{"$f":"IF(C1775=base!$W$2,ROW()+1,\"\")","v":{"$error":"#REF!"}},14390,"Residencial Villa Coapa","Colonia","Tlalpan","Distrito Federal","Ciudad de México",14391,9,14391,null,9,12,2176,"Urbano",14]
[{"$f":"IF(C1776=base!$AC$2,ROW()+1,\"\")","v":{"$error":"#REF!"}},{"$f":"IF(C1776=base!$W$2,ROW()+1,\"\")","v":{"$error":"#REF!"}},14390,"Villa Coapa","Colonia","Tlalpan","Distrito Federal","Ciudad de México",14391,9,14391,null,9,12,2878,"Urbano",14]
[{"$f":"IF(C1777=base!$AC$2,ROW()+1,\"\")","v":{"$error":"#REF!"}},{"$f":"IF(C1777=base!$W$2,ROW()+1,\"\")","v":{"$error":"#REF!"}},14390,"Narciso Mendoza","Colonia","Tlalpan","Distrito Federal","Ciudad de México",14391,9,14391,null,9,12,2175,"Urbano",14]
[{"$f":"IF(C1778=base!$AC$2,ROW()+1,\"\")","v":{"$error":"#REF!"}},{"$f":"IF(C1778=base!$W$2,ROW()+1,\"\")","v":{"$error":"#REF!"}},14399,"Villa Royale","Fraccionamiento","Tlalpan","Distrito Federal","Ciudad de México",14391,9,14391,null,21,12,2178,"Urbano",14]
[{"$f":"IF(C1779=base!$AC$2,ROW()+1,\"\")","v":{"$error":"#REF!"}},{"$f":"IF(C1779=base!$W$2,ROW()+1,\"\")","v":{"$error":"#REF!"}},14400,"San Andrés Totoltepec","Pueblo","Tlalpan","Distrito Federal","Ciudad de México",14091,9,14091,null,28,12,2179,"Urbano",14]
[{"$f":"IF(C1780=base!$AC$2,ROW()+1,\"\")","v":{"$error":"#REF!"}},{"$f":"IF(C1780=base!$W$2,ROW()+1,\"\")","v":{"$error":"#REF!"}},14406,"Divisadero","Colonia","Tlalpan","Distrito Federal","Ciudad de México",14091,9,14091,null,9,12,2182,"Urbano",14]
[{"$f":"IF(C1781=base!$AC$2,ROW()+1,\"\")","v":{"$error":"#REF!"}},{"$f":"IF(C1781=base!$W$2,ROW()+1,\"\")","v":{"$error":"#REF!"}},14408,"Nuevo Renacimiento de Axalco","Colonia","Tlalpan","Distrito Federal","Ciudad de México",14091,9,14091,null,9,12,2183,"Urbano",14]
[{"$f":"IF(C1782=base!$AC$2,ROW()+1,\"\")","v":{"$error":"#REF!"}},{"$f":"IF(C1782=base!$W$2,ROW()+1,\"\")","v":{"$error":"#REF!"}},14409,"Tecorral","Colonia","Tlalpan","Distrito Federal","Ciudad de México",14091,9,14091,null,9,12,2184,"Urbano",14]
[{"$f":"IF(C1783=base!$AC$2,ROW()+1,\"\")","v":{"$error":"#REF!"}},{"$f":"IF(C1783=base!$W$2,ROW()+1,\"\")","v":{"$error":"#REF!"}},14410,"Fuentes Brotantes","Colonia","Tlalpan","Distrito Federal","Ciudad de México",14091,9,14091,null,9,12,2186,"Urbano",14]
[{"$f":"IF(C1784=base!$AC$2,ROW()+1,\"\")","v":{"$error":"#REF!"}},{"$f":"IF(C1784=base!$W$2,ROW()+1,\"\")","v":{"$error":"#REF!"}},14420,"Cumbres de Tepetongo","Colonia","Tlalpan","Distrito Federal","Ciudad de México",14091,9,14091,null,9,12,2188,"Urbano",14]
[{"$f":"IF(C1785=base!$AC$2,ROW()+1,\"\")","v":{"$error":"#REF!"}},{"$f":"IF(C1785=base!$W$2,ROW()+1,\"\")","v":{"$error":"#REF!"}},14420,"Santa Úrsula Xitla","Pueblo","Tlalpan","Distrito Federal","Ciudad de México",14091,9,14091,null,28,12,2192,"Urbano",14]
[{"$f":"IF(C1786=base!$AC$2,ROW()+1,\"\")","v":{"$error":"#REF!"}},{"$f":"IF(C1786=base!$W$2,ROW()+1,\"\")","v":{"$error":"#REF!"}},14420,"Mesa de los Hornos","Colonia","Tlalpan","Distrito Federal","Ciudad de México",14091,9,14091,null,9,12,2190,"Urbano",14]
[{"$f":"IF(C1787=base!$AC$2,ROW()+1,\"\")","v":{"$error":"#REF!"}},{"$f":"IF(C1787=base!$W$2,ROW()+1,\"\")","v":{"$error":"#REF!"}},14426,"Texcaltenco","Colonia","Tlalpan","Distrito Federal","Ciudad de México",14091,9,14091,null,9,12,2194,"Urbano",14]
[{"$f":"IF(C1788=base!$AC$2,ROW()+1,\"\")","v":{"$error":"#REF!"}},{"$f":"IF(C1788=base!$W$2,ROW()+1,\"\")","v":{"$error":"#REF!"}},14426,"Tlaxcaltenco la Mesa","Colonia","Tlalpan","Distrito Federal","Ciudad de México",14091,9,14091,null,9,12,2195,"Urbano",14]
[{"$f":"IF(C1789=base!$AC$2,ROW()+1,\"\")","v":{"$error":"#REF!"}},{"$f":"IF(C1789=base!$W$2,ROW()+1,\"\")","v":{"$error":"#REF!"}},14427,"San Juan Tepeximilpa","Colonia","Tlalpan","Distrito Federal","Ciudad de México",14091,9,14091,null,9,12,2196,"Urbano",14]
[{"$f":"IF(C1790=base!$AC$2,ROW()+1,\"\")","v":{"$error":"#REF!"}},{"$f":"IF(C1790=base!$W$2,ROW()+1,\"\")","v":{"$error":"#REF!"}},14427,"Tepeximilpa la Paz","Colonia","Tlalpan","Distrito Federal","Ciudad de México",14091,9,14091,null,9,12,2197,"Urbano",14]
[{"$f":"IF(C1791=base!$AC$2,ROW()+1,\"\")","v":{"$error":"#REF!"}},{"$f":"IF(C1791=base!$W$2,ROW()+1,\"\")","v":{"$error":"#REF!"}},14428,"Cantera","Fraccionamiento","Tlalpan","Distrito Federal","Ciudad de México",14091,9,14091,null,21,12,2199,"Urbano",14]
[{"$f":"IF(C1792=base!$AC$2,ROW()+1,\"\")","v":{"$error":"#REF!"}},{"$f":"IF(C1792=base!$W$2,ROW()+1,\"\")","v":{"$error":"#REF!"}},14429,"Santísima Trinidad","Colonia","Tlalpan","Distrito Federal","Ciudad de México",14091,9,14091,null,9,12,2200,"Urbano",14]
[{"$f":"IF(C1793=base!$AC$2,ROW()+1,\"\")","v":{"$error":"#REF!"}},{"$f":"IF(C1793=base!$W$2,ROW()+1,\"\")","v":{"$error":"#REF!"}},14430,"Tlalcoligia","Colonia","Tlalpan","Distrito Federal","Ciudad de México",14091,9,14091,null,9,12,2203,"Urbano",14]
[{"$f":"IF(C1794=base!$AC$2,ROW()+1,\"\")","v":{"$error":"#REF!"}},{"$f":"IF(C1794=base!$W$2,ROW()+1,\"\")","v":{"$error":"#REF!"}},14430,"Barrio El Truenito","Barrio","Tlalpan","Distrito Federal","Ciudad de México",14091,9,14091,null,2,12,2201,"Urbano",14]
[{"$f":"IF(C1795=base!$AC$2,ROW()+1,\"\")","v":{"$error":"#REF!"}},{"$f":"IF(C1795=base!$W$2,ROW()+1,\"\")","v":{"$error":"#REF!"}},14438,"Pedregal de Santa Úrsula Xitla","Colonia","Tlalpan","Distrito Federal","Ciudad de México",14091,9,14091,null,9,12,2205,"Urbano",14]
[{"$f":"IF(C1796=base!$AC$2,ROW()+1,\"\")","v":{"$error":"#REF!"}},{"$f":"IF(C1796=base!$W$2,ROW()+1,\"\")","v":{"$error":"#REF!"}},14439,"Pedregal de las Águilas","Colonia","Tlalpan","Distrito Federal","Ciudad de México",14091,9,14091,null,9,12,2206,"Urbano",14]
[{"$f":"IF(C1797=base!$AC$2,ROW()+1,\"\")","v":{"$error":"#REF!"}},{"$f":"IF(C1797=base!$W$2,ROW()+1,\"\")","v":{"$error":"#REF!"}},14440,"Los Volcanes","Colonia","Tlalpan","Distrito Federal","Ciudad de México",14091,9,14091,null,9,12,2207,"Urbano",14]
[{"$f":"IF(C1798=base!$AC$2,ROW()+1,\"\")","v":{"$error":"#REF!"}},{"$f":"IF(C1798=base!$W$2,ROW()+1,\"\")","v":{"$error":"#REF!"}},14449,"El Mirador 1A Sección","Colonia","Tlalpan","Distrito Federal","Ciudad de México",14091,9,14091,null,9,12,2208,"Urbano",14]
[{"$f":"IF(C1799=base!$AC$2,ROW()+1,\"\")","v":{"$error":"#REF!"}},{"$f":"IF(C1799=base!$W$2,ROW()+1,\"\")","v":{"$error":"#REF!"}},14449,"El Mirador 2A Sección","Colonia","Tlalpan","Distrito Federal","Ciudad de México",14091,9,14091,null,9,12,2209,"Urbano",14]
[{"$f":"IF(C1800=base!$AC$2,ROW()+1,\"\")","v":{"$error":"#REF!"}},{"$f":"IF(C1800=base!$W$2,ROW()+1,\"\")","v":{"$error":"#REF!"}},14449,"El Mirador 3A Sección","Colonia","Tlalpan","Distrito Federal","Ciudad de México",14091,9,14091,null,9,12,2210,"Urbano",14]
[{"$f":"IF(C1801=base!$AC$2,ROW()+1,\"\")","v":{"$error":"#REF!"}},{"$f":"IF(C1801=base!$W$2,ROW()+1,\"\")","v":{"$error":"#REF!"}},14450,"Jardines de Xitle","Campamento","Tlalpan","Distrito Federal","Ciudad de México",14091,9,14091,null,4,12,2211,"Urbano",14]
[{"$f":"IF(C1802=base!$AC$2,ROW()+1,\"\")","v":{"$error":"#REF!"}},{"$f":"IF(C1802=base!$W$2,ROW()+1,\"\")","v":{"$error":"#REF!"}},14456,"Atocpa","Campamento","Tlalpan","Distrito Federal","Ciudad de México",14091,9,14091,null,4,12,2212,"Urbano",14]
[{"$f":"IF(C1803=base!$AC$2,ROW()+1,\"\")","v":{"$error":"#REF!"}},{"$f":"IF(C1803=base!$W$2,ROW()+1,\"\")","v":{"$error":"#REF!"}},14460,"Tlalpuente","Colonia","Tlalpan","Distrito Federal","Ciudad de México",14091,9,14091,null,9,12,2213,"Urbano",14]
[{"$f":"IF(C1804=base!$AC$2,ROW()+1,\"\")","v":{"$error":"#REF!"}},{"$f":"IF(C1804=base!$W$2,ROW()+1,\"\")","v":{"$error":"#REF!"}},14470,"Plan de Ayala","Colonia","Tlalpan","Distrito Federal","Ciudad de México",14091,9,14091,null,9,12,2214,"Urbano",14]
[{"$f":"IF(C1805=base!$AC$2,ROW()+1,\"\")","v":{"$error":"#REF!"}},{"$f":"IF(C1805=base!$W$2,ROW()+1,\"\")","v":{"$error":"#REF!"}},14470,"Tepetitla","Campamento","Tlalpan","Distrito Federal","Ciudad de México",14091,9,14091,null,4,12,2454,"Urbano",14]
[{"$f":"IF(C1806=base!$AC$2,ROW()+1,\"\")","v":{"$error":"#REF!"}},{"$f":"IF(C1806=base!$W$2,ROW()+1,\"\")","v":{"$error":"#REF!"}},14476,"La Palma","Colonia","Tlalpan","Distrito Federal","Ciudad de México",14091,9,14091,null,9,12,2216,"Urbano",14]
[{"$f":"IF(C1807=base!$AC$2,ROW()+1,\"\")","v":{"$error":"#REF!"}},{"$f":"IF(C1807=base!$W$2,ROW()+1,\"\")","v":{"$error":"#REF!"}},14479,"Viveros Coatectlán","Colonia","Tlalpan","Distrito Federal","Ciudad de México",14091,9,14091,null,9,12,2219,"Urbano",14]
[{"$f":"IF(C1808=base!$AC$2,ROW()+1,\"\")","v":{"$error":"#REF!"}},{"$f":"IF(C1808=base!$W$2,ROW()+1,\"\")","v":{"$error":"#REF!"}},14480,"La Magdalena Petlacalco","Pueblo","Tlalpan","Distrito Federal","Ciudad de México",14091,9,14091,null,28,12,2220,"Urbano",14]
[{"$f":"IF(C1809=base!$AC$2,ROW()+1,\"\")","v":{"$error":"#REF!"}},{"$f":"IF(C1809=base!$W$2,ROW()+1,\"\")","v":{"$error":"#REF!"}},14490,"San Miguel Xicalco","Pueblo","Tlalpan","Distrito Federal","Ciudad de México",14091,9,14091,null,28,12,2221,"Urbano",14]
[{"$f":"IF(C1810=base!$AC$2,ROW()+1,\"\")","v":{"$error":"#REF!"}},{"$f":"IF(C1810=base!$W$2,ROW()+1,\"\")","v":{"$error":"#REF!"}},14500,"San Miguel Topilejo","Pueblo","Tlalpan","Distrito Federal","Ciudad de México",14091,9,14091,null,28,12,2222,"Urbano",14]
[{"$f":"IF(C1811=base!$AC$2,ROW()+1,\"\")","v":{"$error":"#REF!"}},{"$f":"IF(C1811=base!$W$2,ROW()+1,\"\")","v":{"$error":"#REF!"}},14520,"La Quinta","Campamento","Tlalpan","Distrito Federal","Ciudad de México",14091,9,14091,null,4,12,2223,"Urbano",14]
[{"$f":"IF(C1812=base!$AC$2,ROW()+1,\"\")","v":{"$error":"#REF!"}},{"$f":"IF(C1812=base!$W$2,ROW()+1,\"\")","v":{"$error":"#REF!"}},14529,"Estación Ajusco","Campamento","Tlalpan","Distrito Federal","Ciudad de México",14091,9,14091,null,4,12,2224,"Urbano",14]
[{"$f":"IF(C1813=base!$AC$2,ROW()+1,\"\")","v":{"$error":"#REF!"}},{"$f":"IF(C1813=base!$W$2,ROW()+1,\"\")","v":{"$error":"#REF!"}},14550,"Estrella Mora","Campamento","Tlalpan","Distrito Federal","Ciudad de México",14091,9,14091,null,4,12,2227,"Urbano",14]
[{"$f":"IF(C1814=base!$AC$2,ROW()+1,\"\")","v":{"$error":"#REF!"}},{"$f":"IF(C1814=base!$W$2,ROW()+1,\"\")","v":{"$error":"#REF!"}},14600,"Valle Escondido","Colonia","Tlalpan","Distrito Federal","Ciudad de México",14091,9,14091,null,9,12,2229,"Urbano",14]
[{"$f":"IF(C1815=base!$AC$2,ROW()+1,\"\")","v":{"$error":"#REF!"}},{"$f":"IF(C1815=base!$W$2,ROW()+1,\"\")","v":{"$error":"#REF!"}},14608,"Colinas del Bosque","Colonia","Tlalpan","Distrito Federal","Ciudad de México",14091,9,14091,null,9,12,2231,"Urbano",14]
[{"$f":"IF(C1816=base!$AC$2,ROW()+1,\"\")","v":{"$error":"#REF!"}},{"$f":"IF(C1816=base!$W$2,ROW()+1,\"\")","v":{"$error":"#REF!"}},14609,"Las Tórtolas","Colonia","Tlalpan","Distrito Federal","Ciudad de México",14091,9,14091,null,9,12,2232,"Urbano",14]
[{"$f":"IF(C1817=base!$AC$2,ROW()+1,\"\")","v":{"$error":"#REF!"}},{"$f":"IF(C1817=base!$W$2,ROW()+1,\"\")","v":{"$error":"#REF!"}},14610,"Arenal Tepepan","Colonia","Tlalpan","Distrito Federal","Ciudad de México",14091,9,14091,null,9,12,2233,"Urbano",14]
[{"$f":"IF(C1818=base!$AC$2,ROW()+1,\"\")","v":{"$error":"#REF!"}},{"$f":"IF(C1818=base!$W$2,ROW()+1,\"\")","v":{"$error":"#REF!"}},14620,"ISSFAM","Unidad habitacional","Tlalpan","Distrito Federal","Ciudad de México",14091,9,14091,null,31,12,2235,"Urbano",14]
[{"$f":"IF(C1819=base!$AC$2,ROW()+1,\"\")","v":{"$error":"#REF!"}},{"$f":"IF(C1819=base!$W$2,ROW()+1,\"\")","v":{"$error":"#REF!"}},14620,"Club de Golf México","Colonia","Tlalpan","Distrito Federal","Ciudad de México",14091,9,14091,null,9,12,2741,"Urbano",14]
[{"$f":"IF(C1820=base!$AC$2,ROW()+1,\"\")","v":{"$error":"#REF!"}},{"$f":"IF(C1820=base!$W$2,ROW()+1,\"\")","v":{"$error":"#REF!"}},14629,"San Buenaventura","Colonia","Tlalpan","Distrito Federal","Ciudad de México",14091,9,14091,null,9,12,2236,"Urbano",14]
[{"$f":"IF(C1821=base!$AC$2,ROW()+1,\"\")","v":{"$error":"#REF!"}},{"$f":"IF(C1821=base!$W$2,ROW()+1,\"\")","v":{"$error":"#REF!"}},14630,"Villa Tlalpan","Colonia","Tlalpan","Distrito Federal","Ciudad de México",14091,9,14091,null,9,12,2238,"Urbano",14]
[{"$f":"IF(C1822=base!$AC$2,ROW()+1,\"\")","v":{"$error":"#REF!"}},{"$f":"IF(C1822=base!$W$2,ROW()+1,\"\")","v":{"$error":"#REF!"}},14630,"Chimalcoyoc","Pueblo","Tlalpan","Distrito Federal","Ciudad de México",14091,9,14091,null,28,12,2237,"Urbano",14]
[{"$f":"IF(C1823=base!$AC$2,ROW()+1,\"\")","v":{"$error":"#REF!"}},{"$f":"IF(C1823=base!$W$2,ROW()+1,\"\")","v":{"$error":"#REF!"}},14639,"San Pedro Mártir FOVISSSTE","Unidad habitacional","Tlalpan","Distrito Federal","Ciudad de México",14091,9,14091,null,31,12,2239,"Urbano",14]
[{"$f":"IF(C1824=base!$AC$2,ROW()+1,\"\")","v":{"$error":"#REF!"}},{"$f":"IF(C1824=base!$W$2,ROW()+1,\"\")","v":{"$error":"#REF!"}},14640,"Ejidos de San Pedro Mártir","Colonia","Tlalpan","Distrito Federal","Ciudad de México",14091,9,14091,null,9,12,2240,"Urbano",14]
[{"$f":"IF(C1825=base!$AC$2,ROW()+1,\"\")","v":{"$error":"#REF!"}},{"$f":"IF(C1825=base!$W$2,ROW()+1,\"\")","v":{"$error":"#REF!"}},14643,"Fuentes de Tepepan","Colonia","Tlalpan","Distrito Federal","Ciudad de México",14091,9,14091,null,9,12,2241,"Urbano",14]
[{"$f":"IF(C1826=base!$AC$2,ROW()+1,\"\")","v":{"$error":"#REF!"}},{"$f":"IF(C1826=base!$W$2,ROW()+1,\"\")","v":{"$error":"#REF!"}},14646,"Valle de Tepepan","Colonia","Tlalpan","Distrito Federal","Ciudad de México",14091,9,14091,null,9,12,2245,"Urbano",14]
[{"$f":"IF(C1827=base!$AC$2,ROW()+1,\"\")","v":{"$error":"#REF!"}},{"$f":"IF(C1827=base!$W$2,ROW()+1,\"\")","v":{"$error":"#REF!"}},14647,"Juventud Unida","Colonia","Tlalpan","Distrito Federal","Ciudad de México",14091,9,14091,null,9,12,2246,"Urbano",14]
[{"$f":"IF(C1828=base!$AC$2,ROW()+1,\"\")","v":{"$error":"#REF!"}},{"$f":"IF(C1828=base!$W$2,ROW()+1,\"\")","v":{"$error":"#REF!"}},14647,"Movimiento Organizado de Tlalpan","Colonia","Tlalpan","Distrito Federal","Ciudad de México",14091,9,14091,null,9,12,2247,"Urbano",14]
[{"$f":"IF(C1829=base!$AC$2,ROW()+1,\"\")","v":{"$error":"#REF!"}},{"$f":"IF(C1829=base!$W$2,ROW()+1,\"\")","v":{"$error":"#REF!"}},14647,"Rinconada El Mirador","Colonia","Tlalpan","Distrito Federal","Ciudad de México",14091,9,14091,null,9,12,2880,"Urbano",14]
[{"$f":"IF(C1830=base!$AC$2,ROW()+1,\"\")","v":{"$error":"#REF!"}},{"$f":"IF(C1830=base!$W$2,ROW()+1,\"\")","v":{"$error":"#REF!"}},14650,"San Pedro Mártir","Pueblo","Tlalpan","Distrito Federal","Ciudad de México",14091,9,14091,null,28,12,2252,"Urbano",14]
[{"$f":"IF(C1831=base!$AC$2,ROW()+1,\"\")","v":{"$error":"#REF!"}},{"$f":"IF(C1831=base!$W$2,ROW()+1,\"\")","v":{"$error":"#REF!"}},14651,"H Colegio Militar Niños Héroes de Chapultepec","Gran usuario","Tlalpan","Distrito Federal","Ciudad de México",14091,9,14091,null,22,12,2254,"Urbano",14]
[{"$f":"IF(C1832=base!$AC$2,ROW()+1,\"\")","v":{"$error":"#REF!"}},{"$f":"IF(C1832=base!$W$2,ROW()+1,\"\")","v":{"$error":"#REF!"}},14653,"Heróico Colegio Militar","Colonia","Tlalpan","Distrito Federal","Ciudad de México",14091,9,14091,null,9,12,2882,"Urbano",14]
[{"$f":"IF(C1833=base!$AC$2,ROW()+1,\"\")","v":{"$error":"#REF!"}},{"$f":"IF(C1833=base!$W$2,ROW()+1,\"\")","v":{"$error":"#REF!"}},14654,"Dolores Tlali","Campamento","Tlalpan","Distrito Federal","Ciudad de México",14091,9,14091,null,4,12,2453,"Urbano",14]
[{"$f":"IF(C1834=base!$AC$2,ROW()+1,\"\")","v":{"$error":"#REF!"}},{"$f":"IF(C1834=base!$W$2,ROW()+1,\"\")","v":{"$error":"#REF!"}},14654,"La Magueyera","Campamento","Tlalpan","Distrito Federal","Ciudad de México",14091,9,14091,null,4,12,2255,"Urbano",14]
[{"$f":"IF(C1835=base!$AC$2,ROW()+1,\"\")","v":{"$error":"#REF!"}},{"$f":"IF(C1835=base!$W$2,ROW()+1,\"\")","v":{"$error":"#REF!"}},14655,"Valle Verde o Lomas Verdes","Campamento","Tlalpan","Distrito Federal","Ciudad de México",14091,9,14091,null,4,12,2256,"Urbano",14]
[{"$f":"IF(C1836=base!$AC$2,ROW()+1,\"\")","v":{"$error":"#REF!"}},{"$f":"IF(C1836=base!$W$2,ROW()+1,\"\")","v":{"$error":"#REF!"}},14657,"Tlalmille","Colonia","Tlalpan","Distrito Federal","Ciudad de México",14091,9,14091,null,9,12,2258,"Urbano",14]
[{"$f":"IF(C1837=base!$AC$2,ROW()+1,\"\")","v":{"$error":"#REF!"}},{"$f":"IF(C1837=base!$W$2,ROW()+1,\"\")","v":{"$error":"#REF!"}},14658,"Mirador del Valle","Colonia","Tlalpan","Distrito Federal","Ciudad de México",14091,9,14091,null,9,12,2259,"Urbano",14]
[{"$f":"IF(C1838=base!$AC$2,ROW()+1,\"\")","v":{"$error":"#REF!"}},{"$f":"IF(C1838=base!$W$2,ROW()+1,\"\")","v":{"$error":"#REF!"}},14659,"María Esther Zuno de Echeverría","Colonia","Tlalpan","Distrito Federal","Ciudad de México",14091,9,14091,null,9,12,2260,"Urbano",14]
[{"$f":"IF(C1839=base!$AC$2,ROW()+1,\"\")","v":{"$error":"#REF!"}},{"$f":"IF(C1839=base!$W$2,ROW()+1,\"\")","v":{"$error":"#REF!"}},14700,"San Miguel Ajusco","Pueblo","Tlalpan","Distrito Federal","Ciudad de México",14201,9,14201,null,28,12,2261,"Urbano",14]
[{"$f":"IF(C1840=base!$AC$2,ROW()+1,\"\")","v":{"$error":"#REF!"}},{"$f":"IF(C1840=base!$W$2,ROW()+1,\"\")","v":{"$error":"#REF!"}},14710,"Santo Tomas Ajusco","Pueblo","Tlalpan","Distrito Federal","Ciudad de México",14201,9,14201,null,28,12,2262,"Urbano",14]
[{"$f":"IF(C1841=base!$AC$2,ROW()+1,\"\")","v":{"$error":"#REF!"}},{"$f":"IF(C1841=base!$W$2,ROW()+1,\"\")","v":{"$error":"#REF!"}},14720,"Belvedere Ajusco","Colonia","Tlalpan","Distrito Federal","Ciudad de México",14201,9,14201,null,9,12,2263,"Urbano",14]
[{"$f":"IF(C1842=base!$AC$2,ROW()+1,\"\")","v":{"$error":"#REF!"}},{"$f":"IF(C1842=base!$W$2,ROW()+1,\"\")","v":{"$error":"#REF!"}},14730,"Lomas de Cuilotepec","Colonia","Tlalpan","Distrito Federal","Ciudad de México",14201,9,14201,null,9,12,2265,"Urbano",14]
[{"$f":"IF(C1843=base!$AC$2,ROW()+1,\"\")","v":{"$error":"#REF!"}},{"$f":"IF(C1843=base!$W$2,ROW()+1,\"\")","v":{"$error":"#REF!"}},14734,"Zacatón","Campamento","Tlalpan","Distrito Federal","Ciudad de México",14201,9,14201,null,4,12,2266,"Urbano",14]
[{"$f":"IF(C1844=base!$AC$2,ROW()+1,\"\")","v":{"$error":"#REF!"}},{"$f":"IF(C1844=base!$W$2,ROW()+1,\"\")","v":{"$error":"#REF!"}},14735,"Lomas de Tepemecatl","Campamento","Tlalpan","Distrito Federal","Ciudad de México",14201,9,14201,null,4,12,2695,"Urbano",14]
[{"$f":"IF(C1845=base!$AC$2,ROW()+1,\"\")","v":{"$error":"#REF!"}},{"$f":"IF(C1845=base!$W$2,ROW()+1,\"\")","v":{"$error":"#REF!"}},14735,"San Nicolás 2","Campamento","Tlalpan","Distrito Federal","Ciudad de México",14201,9,14201,null,4,12,2267,"Urbano",14]
[{"$f":"IF(C1846=base!$AC$2,ROW()+1,\"\")","v":{"$error":"#REF!"}},{"$f":"IF(C1846=base!$W$2,ROW()+1,\"\")","v":{"$error":"#REF!"}},14737,"Vistas del Pedregal","Colonia","Tlalpan","Distrito Federal","Ciudad de México",14201,9,14201,null,9,12,2268,"Urbano",14]
[{"$f":"IF(C1847=base!$AC$2,ROW()+1,\"\")","v":{"$error":"#REF!"}},{"$f":"IF(C1847=base!$W$2,ROW()+1,\"\")","v":{"$error":"#REF!"}},14738,"Bosques del Pedregal","Colonia","Tlalpan","Distrito Federal","Ciudad de México",14201,9,14201,null,9,12,2269,"Urbano",14]
[{"$f":"IF(C1848=base!$AC$2,ROW()+1,\"\")","v":{"$error":"#REF!"}},{"$f":"IF(C1848=base!$W$2,ROW()+1,\"\")","v":{"$error":"#REF!"}},14739,"2 de Octubre","Colonia","Tlalpan","Distrito Federal","Ciudad de México",14201,9,14201,null,9,12,2270,"Urbano",14]
[{"$f":"IF(C1849=base!$AC$2,ROW()+1,\"\")","v":{"$error":"#REF!"}},{"$f":"IF(C1849=base!$W$2,ROW()+1,\"\")","v":{"$error":"#REF!"}},14740,"Lomas de Padierna Sur","Colonia","Tlalpan","Distrito Federal","Ciudad de México",14201,9,14201,null,9,12,2272,"Urbano",14]
[{"$f":"IF(C1850=base!$AC$2,ROW()+1,\"\")","v":{"$error":"#REF!"}},{"$f":"IF(C1850=base!$W$2,ROW()+1,\"\")","v":{"$error":"#REF!"}},14748,"Mirador I","Colonia","Tlalpan","Distrito Federal","Ciudad de México",14201,9,14201,null,9,12,2273,"Urbano",14]
[{"$f":"IF(C1851=base!$AC$2,ROW()+1,\"\")","v":{"$error":"#REF!"}},{"$f":"IF(C1851=base!$W$2,ROW()+1,\"\")","v":{"$error":"#REF!"}},14748,"Mirador II","Colonia","Tlalpan","Distrito Federal","Ciudad de México",14201,9,14201,null,9,12,2274,"Urbano",14]
[{"$f":"IF(C1852=base!$AC$2,ROW()+1,\"\")","v":{"$error":"#REF!"}},{"$f":"IF(C1852=base!$W$2,ROW()+1,\"\")","v":{"$error":"#REF!"}},14749,"Chimilli","Colonia","Tlalpan","Distrito Federal","Ciudad de México",14201,9,14201,null,9,12,2275,"Urbano",14]
[{"$f":"IF(C1853=base!$AC$2,ROW()+1,\"\")","v":{"$error":"#REF!"}},{"$f":"IF(C1853=base!$W$2,ROW()+1,\"\")","v":{"$error":"#REF!"}},14750,"Rancho Viejo","Campamento","Tlalpan","Distrito Federal","Ciudad de México",14201,9,14201,null,4,12,2277,"Urbano",14]
[{"$f":"IF(C1854=base!$AC$2,ROW()+1,\"\")","v":{"$error":"#REF!"}},{"$f":"IF(C1854=base!$W$2,ROW()+1,\"\")","v":{"$error":"#REF!"}},14760,"Héroes de 1910","Colonia","Tlalpan","Distrito Federal","Ciudad de México",14201,9,14201,null,9,12,2278,"Urbano",14]
[{"$f":"IF(C1855=base!$AC$2,ROW()+1,\"\")","v":{"$error":"#REF!"}},{"$f":"IF(C1855=base!$W$2,ROW()+1,\"\")","v":{"$error":"#REF!"}},14780,"El Charco","Campamento","Tlalpan","Distrito Federal","Ciudad de México",14201,9,14201,null,4,12,2279,"Urbano",14]
[{"$f":"IF(C1856=base!$AC$2,ROW()+1,\"\")","v":{"$error":"#REF!"}},{"$f":"IF(C1856=base!$W$2,ROW()+1,\"\")","v":{"$error":"#REF!"}},14790,"San Jorge","Campamento","Tlalpan","Distrito Federal","Ciudad de México",14201,9,14201,null,4,12,2280,"Urbano",14]
[{"$f":"IF(C1857=base!$AC$2,ROW()+1,\"\")","v":{"$error":"#REF!"}},{"$f":"IF(C1857=base!$W$2,ROW()+1,\"\")","v":{"$error":"#REF!"}},14900,"Parres El Guarda","Pueblo","Tlalpan","Distrito Federal","Ciudad de México",14091,9,14091,null,28,12,2286,"Urbano",14]
[{"$f":"IF(C1858=base!$AC$2,ROW()+1,\"\")","v":{"$error":"#REF!"}},{"$f":"IF(C1858=base!$W$2,ROW()+1,\"\")","v":{"$error":"#REF!"}},15000,"General Ignacio Zaragoza","Colonia","Venustiano Carranza","Distrito Federal","Ciudad de México",15001,9,15001,null,9,17,2287,"Urbano",15]
[{"$f":"IF(C1859=base!$AC$2,ROW()+1,\"\")","v":{"$error":"#REF!"}},{"$f":"IF(C1859=base!$W$2,ROW()+1,\"\")","v":{"$error":"#REF!"}},15010,"Valentín Gómez Farias","Colonia","Venustiano Carranza","Distrito Federal","Ciudad de México",15001,9,15001,null,9,17,2289,"Urbano",15]
[{"$f":"IF(C1860=base!$AC$2,ROW()+1,\"\")","v":{"$error":"#REF!"}},{"$f":"IF(C1860=base!$W$2,ROW()+1,\"\")","v":{"$error":"#REF!"}},15020,"Puebla","Colonia","Venustiano Carranza","Distrito Federal","Ciudad de México",15001,9,15001,null,9,17,2290,"Urbano",15]
[{"$f":"IF(C1861=base!$AC$2,ROW()+1,\"\")","v":{"$error":"#REF!"}},{"$f":"IF(C1861=base!$W$2,ROW()+1,\"\")","v":{"$error":"#REF!"}},15100,"Zona Centro","Colonia","Venustiano Carranza","Distrito Federal","Ciudad de México",15001,9,15001,null,9,17,2291,"Urbano",15]
[{"$f":"IF(C1862=base!$AC$2,ROW()+1,\"\")","v":{"$error":"#REF!"}},{"$f":"IF(C1862=base!$W$2,ROW()+1,\"\")","v":{"$error":"#REF!"}},15120,"Candelaria de los Patos FOVISSSTE","Unidad habitacional","Venustiano Carranza","Distrito Federal","Ciudad de México",15001,9,15001,null,31,17,2292,"Urbano",15]
[{"$f":"IF(C1863=base!$AC$2,ROW()+1,\"\")","v":{"$error":"#REF!"}},{"$f":"IF(C1863=base!$W$2,ROW()+1,\"\")","v":{"$error":"#REF!"}},15200,"Janitzio","Colonia","Venustiano Carranza","Distrito Federal","Ciudad de México",15001,9,15001,null,9,17,2293,"Urbano",15]
[{"$f":"IF(C1864=base!$AC$2,ROW()+1,\"\")","v":{"$error":"#REF!"}},{"$f":"IF(C1864=base!$W$2,ROW()+1,\"\")","v":{"$error":"#REF!"}},15210,"Valle Gómez","Colonia","Venustiano Carranza","Distrito Federal","Ciudad de México",15001,9,15001,null,9,17,2294,"Urbano",15]
[{"$f":"IF(C1865=base!$AC$2,ROW()+1,\"\")","v":{"$error":"#REF!"}},{"$f":"IF(C1865=base!$W$2,ROW()+1,\"\")","v":{"$error":"#REF!"}},15220,"Nicolás Bravo","Colonia","Venustiano Carranza","Distrito Federal","Ciudad de México",15001,9,15001,null,9,17,2295,"Urbano",15]
[{"$f":"IF(C1866=base!$AC$2,ROW()+1,\"\")","v":{"$error":"#REF!"}},{"$f":"IF(C1866=base!$W$2,ROW()+1,\"\")","v":{"$error":"#REF!"}},15220,"Popular Rastro","Colonia","Venustiano Carranza","Distrito Federal","Ciudad de México",15001,9,15001,null,9,17,2296,"Urbano",15]
[{"$f":"IF(C1867=base!$AC$2,ROW()+1,\"\")","v":{"$error":"#REF!"}},{"$f":"IF(C1867=base!$W$2,ROW()+1,\"\")","v":{"$error":"#REF!"}},15230,"Emilio Carranza","Colonia","Venustiano Carranza","Distrito Federal","Ciudad de México",15001,9,15001,null,9,17,2297,"Urbano",15]
[{"$f":"IF(C1868=base!$AC$2,ROW()+1,\"\")","v":{"$error":"#REF!"}},{"$f":"IF(C1868=base!$W$2,ROW()+1,\"\")","v":{"$error":"#REF!"}},15240,"Michoacana","Colonia","Venustiano Carranza","Distrito Federal","Ciudad de México",15001,9,15001,null,9,17,2298,"Urbano",15]
[{"$f":"IF(C1869=base!$AC$2,ROW()+1,\"\")","v":{"$error":"#REF!"}},{"$f":"IF(C1869=base!$W$2,ROW()+1,\"\")","v":{"$error":"#REF!"}},15250,"Ampliación Michoacana","Colonia","Venustiano Carranza","Distrito Federal","Ciudad de México",15001,9,15001,null,9,17,2299,"Urbano",15]
[{"$f":"IF(C1870=base!$AC$2,ROW()+1,\"\")","v":{"$error":"#REF!"}},{"$f":"IF(C1870=base!$W$2,ROW()+1,\"\")","v":{"$error":"#REF!"}},15260,"Ampliación 20 de Noviembre","Colonia","Venustiano Carranza","Distrito Federal","Ciudad de México",15001,9,15001,null,9,17,2300,"Urbano",15]
[{"$f":"IF(C1871=base!$AC$2,ROW()+1,\"\")","v":{"$error":"#REF!"}},{"$f":"IF(C1871=base!$W$2,ROW()+1,\"\")","v":{"$error":"#REF!"}},15270,"Morelos","Colonia","Venustiano Carranza","Distrito Federal","Ciudad de México",15001,9,15001,null,9,17,2301,"Urbano",15]
[{"$f":"IF(C1872=base!$AC$2,ROW()+1,\"\")","v":{"$error":"#REF!"}},{"$f":"IF(C1872=base!$W$2,ROW()+1,\"\")","v":{"$error":"#REF!"}},15280,"Penitenciaria","Colonia","Venustiano Carranza","Distrito Federal","Ciudad de México",15001,9,15001,null,9,17,2302,"Urbano",15]
[{"$f":"IF(C1873=base!$AC$2,ROW()+1,\"\")","v":{"$error":"#REF!"}},{"$f":"IF(C1873=base!$W$2,ROW()+1,\"\")","v":{"$error":"#REF!"}},15290,"10 de Mayo","Colonia","Venustiano Carranza","Distrito Federal","Ciudad de México",15001,9,15001,null,9,17,2303,"Urbano",15]
[{"$f":"IF(C1874=base!$AC$2,ROW()+1,\"\")","v":{"$error":"#REF!"}},{"$f":"IF(C1874=base!$W$2,ROW()+1,\"\")","v":{"$error":"#REF!"}},15299,"Emiliano Zapata","Unidad habitacional","Venustiano Carranza","Distrito Federal","Ciudad de México",15001,9,15001,null,31,17,2304,"Urbano",15]
[{"$f":"IF(C1875=base!$AC$2,ROW()+1,\"\")","v":{"$error":"#REF!"}},{"$f":"IF(C1875=base!$W$2,ROW()+1,\"\")","v":{"$error":"#REF!"}},15300,"20 de Noviembre","Colonia","Venustiano Carranza","Distrito Federal","Ciudad de México",15001,9,15001,null,9,17,2305,"Urbano",15]
[{"$f":"IF(C1876=base!$AC$2,ROW()+1,\"\")","v":{"$error":"#REF!"}},{"$f":"IF(C1876=base!$W$2,ROW()+1,\"\")","v":{"$error":"#REF!"}},15309,"5o Tramo 20 de Noviembre","Colonia","Venustiano Carranza","Distrito Federal","Ciudad de México",15001,9,15001,null,9,17,2307,"Urbano",15]
[{"$f":"IF(C1877=base!$AC$2,ROW()+1,\"\")","v":{"$error":"#REF!"}},{"$f":"IF(C1877=base!$W$2,ROW()+1,\"\")","v":{"$error":"#REF!"}},15310,"Felipe Ángeles","Colonia","Venustiano Carranza","Distrito Federal","Ciudad de México",15001,9,15001,null,9,17,2308,"Urbano",15]
[{"$f":"IF(C1878=base!$AC$2,ROW()+1,\"\")","v":{"$error":"#REF!"}},{"$f":"IF(C1878=base!$W$2,ROW()+1,\"\")","v":{"$error":"#REF!"}},15320,"Azteca","Colonia","Venustiano Carranza","Distrito Federal","Ciudad de México",15001,9,15001,null,9,17,2309,"Urbano",15]
[{"$f":"IF(C1879=base!$AC$2,ROW()+1,\"\")","v":{"$error":"#REF!"}},{"$f":"IF(C1879=base!$W$2,ROW()+1,\"\")","v":{"$error":"#REF!"}},15330,"Tres Mosqueteros","Colonia","Venustiano Carranza","Distrito Federal","Ciudad de México",15001,9,15001,null,9,17,2310,"Urbano",15]
[{"$f":"IF(C1880=base!$AC$2,ROW()+1,\"\")","v":{"$error":"#REF!"}},{"$f":"IF(C1880=base!$W$2,ROW()+1,\"\")","v":{"$error":"#REF!"}},15339,"Ampliación Venustiano Carranza","Colonia","Venustiano Carranza","Distrito Federal","Ciudad de México",15001,9,15001,null,9,17,2311,"Urbano",15]
[{"$f":"IF(C1881=base!$AC$2,ROW()+1,\"\")","v":{"$error":"#REF!"}},{"$f":"IF(C1881=base!$W$2,ROW()+1,\"\")","v":{"$error":"#REF!"}},15340,"Venustiano Carranza","Colonia","Venustiano Carranza","Distrito Federal","Ciudad de México",15001,9,15001,null,9,17,2312,"Urbano",15]
[{"$f":"IF(C1882=base!$AC$2,ROW()+1,\"\")","v":{"$error":"#REF!"}},{"$f":"IF(C1882=base!$W$2,ROW()+1,\"\")","v":{"$error":"#REF!"}},15350,"Ampliación Penitenciaria","Colonia","Venustiano Carranza","Distrito Federal","Ciudad de México",15001,9,15001,null,9,17,2313,"Urbano",15]
[{"$f":"IF(C1883=base!$AC$2,ROW()+1,\"\")","v":{"$error":"#REF!"}},{"$f":"IF(C1883=base!$W$2,ROW()+1,\"\")","v":{"$error":"#REF!"}},15370,"Progresista","Colonia","Venustiano Carranza","Distrito Federal","Ciudad de México",15001,9,15001,null,9,17,2315,"Urbano",15]
[{"$f":"IF(C1884=base!$AC$2,ROW()+1,\"\")","v":{"$error":"#REF!"}},{"$f":"IF(C1884=base!$W$2,ROW()+1,\"\")","v":{"$error":"#REF!"}},15380,"Escuela de Tiro","Colonia","Venustiano Carranza","Distrito Federal","Ciudad de México",15001,9,15001,null,9,17,2316,"Urbano",15]
[{"$f":"IF(C1885=base!$AC$2,ROW()+1,\"\")","v":{"$error":"#REF!"}},{"$f":"IF(C1885=base!$W$2,ROW()+1,\"\")","v":{"$error":"#REF!"}},15390,"7 de Julio","Colonia","Venustiano Carranza","Distrito Federal","Ciudad de México",15001,9,15001,null,9,17,2319,"Urbano",15]
[{"$f":"IF(C1886=base!$AC$2,ROW()+1,\"\")","v":{"$error":"#REF!"}},{"$f":"IF(C1886=base!$W$2,ROW()+1,\"\")","v":{"$error":"#REF!"}},15400,"Romero Rubio","Colonia","Venustiano Carranza","Distrito Federal","Ciudad de México",15001,9,15001,null,9,17,2320,"Urbano",15]
[{"$f":"IF(C1887=base!$AC$2,ROW()+1,\"\")","v":{"$error":"#REF!"}},{"$f":"IF(C1887=base!$W$2,ROW()+1,\"\")","v":{"$error":"#REF!"}},15410,"Simón Bolívar","Colonia","Venustiano Carranza","Distrito Federal","Ciudad de México",15001,9,15001,null,9,17,2321,"Urbano",15]
[{"$f":"IF(C1888=base!$AC$2,ROW()+1,\"\")","v":{"$error":"#REF!"}},{"$f":"IF(C1888=base!$W$2,ROW()+1,\"\")","v":{"$error":"#REF!"}},15420,"Ampliación Simón Bolívar","Colonia","Venustiano Carranza","Distrito Federal","Ciudad de México",15001,9,15001,null,9,17,2322,"Urbano",15]
[{"$f":"IF(C1889=base!$AC$2,ROW()+1,\"\")","v":{"$error":"#REF!"}},{"$f":"IF(C1889=base!$W$2,ROW()+1,\"\")","v":{"$error":"#REF!"}},15430,"Aquiles Serdán","Colonia","Venustiano Carranza","Distrito Federal","Ciudad de México",15001,9,15001,null,9,17,2323,"Urbano",15]
[{"$f":"IF(C1890=base!$AC$2,ROW()+1,\"\")","v":{"$error":"#REF!"}},{"$f":"IF(C1890=base!$W$2,ROW()+1,\"\")","v":{"$error":"#REF!"}},15440,"1° de Mayo","Colonia","Venustiano Carranza","Distrito Federal","Ciudad de México",15001,9,15001,null,9,17,2324,"Urbano",15]
[{"$f":"IF(C1891=base!$AC$2,ROW()+1,\"\")","v":{"$error":"#REF!"}},{"$f":"IF(C1891=base!$W$2,ROW()+1,\"\")","v":{"$error":"#REF!"}},15450,"Damián Carmona","Colonia","Venustiano Carranza","Distrito Federal","Ciudad de México",15001,9,15001,null,9,17,2325,"Urbano",15]
[{"$f":"IF(C1892=base!$AC$2,ROW()+1,\"\")","v":{"$error":"#REF!"}},{"$f":"IF(C1892=base!$W$2,ROW()+1,\"\")","v":{"$error":"#REF!"}},15460,"Revolución","Colonia","Venustiano Carranza","Distrito Federal","Ciudad de México",15001,9,15001,null,9,17,2326,"Urbano",15]
[{"$f":"IF(C1893=base!$AC$2,ROW()+1,\"\")","v":{"$error":"#REF!"}},{"$f":"IF(C1893=base!$W$2,ROW()+1,\"\")","v":{"$error":"#REF!"}},15470,"Miguel Hidalgo","Colonia","Venustiano Carranza","Distrito Federal","Ciudad de México",15001,9,15001,null,9,17,2327,"Urbano",15]
[{"$f":"IF(C1894=base!$AC$2,ROW()+1,\"\")","v":{"$error":"#REF!"}},{"$f":"IF(C1894=base!$W$2,ROW()+1,\"\")","v":{"$error":"#REF!"}},15500,"Moctezuma 1a Sección","Colonia","Venustiano Carranza","Distrito Federal","Ciudad de México",15001,9,15001,null,9,17,2328,"Urbano",15]
[{"$f":"IF(C1895=base!$AC$2,ROW()+1,\"\")","v":{"$error":"#REF!"}},{"$f":"IF(C1895=base!$W$2,ROW()+1,\"\")","v":{"$error":"#REF!"}},15510,"Pensador Mexicano","Colonia","Venustiano Carranza","Distrito Federal","Ciudad de México",15001,9,15001,null,9,17,2330,"Urbano",15]
[{"$f":"IF(C1896=base!$AC$2,ROW()+1,\"\")","v":{"$error":"#REF!"}},{"$f":"IF(C1896=base!$W$2,ROW()+1,\"\")","v":{"$error":"#REF!"}},15520,"Peñón de los Baños","Colonia","Venustiano Carranza","Distrito Federal","Ciudad de México",15001,9,15001,null,9,17,2331,"Urbano",15]
[{"$f":"IF(C1897=base!$AC$2,ROW()+1,\"\")","v":{"$error":"#REF!"}},{"$f":"IF(C1897=base!$W$2,ROW()+1,\"\")","v":{"$error":"#REF!"}},15530,"Moctezuma 2a Sección","Colonia","Venustiano Carranza","Distrito Federal","Ciudad de México",15001,9,15001,null,9,17,2332,"Urbano",15]
[{"$f":"IF(C1898=base!$AC$2,ROW()+1,\"\")","v":{"$error":"#REF!"}},{"$f":"IF(C1898=base!$W$2,ROW()+1,\"\")","v":{"$error":"#REF!"}},15540,"Santa Cruz Aviación","Colonia","Venustiano Carranza","Distrito Federal","Ciudad de México",15001,9,15001,null,9,17,2333,"Urbano",15]
[{"$f":"IF(C1899=base!$AC$2,ROW()+1,\"\")","v":{"$error":"#REF!"}},{"$f":"IF(C1899=base!$W$2,ROW()+1,\"\")","v":{"$error":"#REF!"}},15600,"Arenal 1a Sección","Colonia","Venustiano Carranza","Distrito Federal","Ciudad de México",15001,9,15001,null,9,17,2334,"Urbano",15]
[{"$f":"IF(C1900=base!$AC$2,ROW()+1,\"\")","v":{"$error":"#REF!"}},{"$f":"IF(C1900=base!$W$2,ROW()+1,\"\")","v":{"$error":"#REF!"}},15610,"Cuchilla Pantitlán","Colonia","Venustiano Carranza","Distrito Federal","Ciudad de México",15001,9,15001,null,9,17,2335,"Urbano",15]
[{"$f":"IF(C1901=base!$AC$2,ROW()+1,\"\")","v":{"$error":"#REF!"}},{"$f":"IF(C1901=base!$W$2,ROW()+1,\"\")","v":{"$error":"#REF!"}},15620,"México (Lic. Benito Juárez)","Aeropuerto","Venustiano Carranza","Distrito Federal","Ciudad de México",15001,9,15001,null,1,17,2336,"Urbano",15]
[{"$f":"IF(C1902=base!$AC$2,ROW()+1,\"\")","v":{"$error":"#REF!"}},{"$f":"IF(C1902=base!$W$2,ROW()+1,\"\")","v":{"$error":"#REF!"}},15630,"Caracol","Colonia","Venustiano Carranza","Distrito Federal","Ciudad de México",15001,9,15001,null,9,17,2340,"Urbano",15]
[{"$f":"IF(C1903=base!$AC$2,ROW()+1,\"\")","v":{"$error":"#REF!"}},{"$f":"IF(C1903=base!$W$2,ROW()+1,\"\")","v":{"$error":"#REF!"}},15640,"Arenal Puerto Aéreo","Colonia","Venustiano Carranza","Distrito Federal","Ciudad de México",15001,9,15001,null,9,17,2351,"Urbano",15]
[{"$f":"IF(C1904=base!$AC$2,ROW()+1,\"\")","v":{"$error":"#REF!"}},{"$f":"IF(C1904=base!$W$2,ROW()+1,\"\")","v":{"$error":"#REF!"}},15640,"Arenal 4a Sección","Colonia","Venustiano Carranza","Distrito Federal","Ciudad de México",15001,9,15001,null,9,17,2342,"Urbano",15]
[{"$f":"IF(C1905=base!$AC$2,ROW()+1,\"\")","v":{"$error":"#REF!"}},{"$f":"IF(C1905=base!$W$2,ROW()+1,\"\")","v":{"$error":"#REF!"}},15650,"Ampliación Caracol","Colonia","Venustiano Carranza","Distrito Federal","Ciudad de México",15001,9,15001,null,9,17,2343,"Urbano",15]
[{"$f":"IF(C1906=base!$AC$2,ROW()+1,\"\")","v":{"$error":"#REF!"}},{"$f":"IF(C1906=base!$W$2,ROW()+1,\"\")","v":{"$error":"#REF!"}},15660,"Arenal 3a Sección","Colonia","Venustiano Carranza","Distrito Federal","Ciudad de México",15001,9,15001,null,9,17,2344,"Urbano",15]
[{"$f":"IF(C1907=base!$AC$2,ROW()+1,\"\")","v":{"$error":"#REF!"}},{"$f":"IF(C1907=base!$W$2,ROW()+1,\"\")","v":{"$error":"#REF!"}},15669,"Fivipor","Unidad habitacional","Venustiano Carranza","Distrito Federal","Ciudad de México",15001,9,15001,null,31,17,2345,"Urbano",15]
[{"$f":"IF(C1908=base!$AC$2,ROW()+1,\"\")","v":{"$error":"#REF!"}},{"$f":"IF(C1908=base!$W$2,ROW()+1,\"\")","v":{"$error":"#REF!"}},15670,"Adolfo López Mateos","Colonia","Venustiano Carranza","Distrito Federal","Ciudad de México",15001,9,15001,null,9,17,2346,"Urbano",15]
[{"$f":"IF(C1909=base!$AC$2,ROW()+1,\"\")","v":{"$error":"#REF!"}},{"$f":"IF(C1909=base!$W$2,ROW()+1,\"\")","v":{"$error":"#REF!"}},15680,"Arenal 2a Sección","Colonia","Venustiano Carranza","Distrito Federal","Ciudad de México",15001,9,15001,null,9,17,2347,"Urbano",15]
[{"$f":"IF(C1910=base!$AC$2,ROW()+1,\"\")","v":{"$error":"#REF!"}},{"$f":"IF(C1910=base!$W$2,ROW()+1,\"\")","v":{"$error":"#REF!"}},15700,"Federal","Colonia","Venustiano Carranza","Distrito Federal","Ciudad de México",15001,9,15001,null,9,17,2349,"Urbano",15]
[{"$f":"IF(C1911=base!$AC$2,ROW()+1,\"\")","v":{"$error":"#REF!"}},{"$f":"IF(C1911=base!$W$2,ROW()+1,\"\")","v":{"$error":"#REF!"}},15710,"Industrial Puerto Aéreo","Colonia","Venustiano Carranza","Distrito Federal","Ciudad de México",15001,9,15001,null,9,17,2350,"Urbano",15]
[{"$f":"IF(C1912=base!$AC$2,ROW()+1,\"\")","v":{"$error":"#REF!"}},{"$f":"IF(C1912=base!$W$2,ROW()+1,\"\")","v":{"$error":"#REF!"}},15720,"Zaragoza Bahía","Unidad habitacional","Venustiano Carranza","Distrito Federal","Ciudad de México",15001,9,15001,null,31,17,2352,"Urbano",15]
[{"$f":"IF(C1913=base!$AC$2,ROW()+1,\"\")","v":{"$error":"#REF!"}},{"$f":"IF(C1913=base!$W$2,ROW()+1,\"\")","v":{"$error":"#REF!"}},15730,"4 Árboles","Colonia","Venustiano Carranza","Distrito Federal","Ciudad de México",15001,9,15001,null,9,17,2353,"Urbano",15]
[{"$f":"IF(C1914=base!$AC$2,ROW()+1,\"\")","v":{"$error":"#REF!"}},{"$f":"IF(C1914=base!$W$2,ROW()+1,\"\")","v":{"$error":"#REF!"}},15740,"Aviación Civil","Colonia","Venustiano Carranza","Distrito Federal","Ciudad de México",15001,9,15001,null,9,17,2354,"Urbano",15]
[{"$f":"IF(C1915=base!$AC$2,ROW()+1,\"\")","v":{"$error":"#REF!"}},{"$f":"IF(C1915=base!$W$2,ROW()+1,\"\")","v":{"$error":"#REF!"}},15750,"Ampliación Aviación Civil","Colonia","Venustiano Carranza","Distrito Federal","Ciudad de México",15001,9,15001,null,9,17,2355,"Urbano",15]
[{"$f":"IF(C1916=base!$AC$2,ROW()+1,\"\")","v":{"$error":"#REF!"}},{"$f":"IF(C1916=base!$W$2,ROW()+1,\"\")","v":{"$error":"#REF!"}},15800,"Jamaica","Colonia","Venustiano Carranza","Distrito Federal","Ciudad de México",15001,9,15001,null,9,17,2356,"Urbano",15]
[{"$f":"IF(C1917=base!$AC$2,ROW()+1,\"\")","v":{"$error":"#REF!"}},{"$f":"IF(C1917=base!$W$2,ROW()+1,\"\")","v":{"$error":"#REF!"}},15810,"Merced Balbuena","Colonia","Venustiano Carranza","Distrito Federal","Ciudad de México",15001,9,15001,null,9,17,2358,"Urbano",15]
[{"$f":"IF(C1918=base!$AC$2,ROW()+1,\"\")","v":{"$error":"#REF!"}},{"$f":"IF(C1918=base!$W$2,ROW()+1,\"\")","v":{"$error":"#REF!"}},15820,"Lorenzo Boturini","Colonia","Venustiano Carranza","Distrito Federal","Ciudad de México",15001,9,15001,null,9,17,2359,"Urbano",15]
[{"$f":"IF(C1919=base!$AC$2,ROW()+1,\"\")","v":{"$error":"#REF!"}},{"$f":"IF(C1919=base!$W$2,ROW()+1,\"\")","v":{"$error":"#REF!"}},15829,"Conjunto Boturini Inverlat","Gran usuario","Venustiano Carranza","Distrito Federal","Ciudad de México",15001,9,15001,null,22,17,2553,"Urbano",15]
[{"$f":"IF(C1920=base!$AC$2,ROW()+1,\"\")","v":{"$error":"#REF!"}},{"$f":"IF(C1920=base!$W$2,ROW()+1,\"\")","v":{"$error":"#REF!"}},15830,"Artes Gráficas","Colonia","Venustiano Carranza","Distrito Federal","Ciudad de México",15001,9,15001,null,9,17,2360,"Urbano",15]
[{"$f":"IF(C1921=base!$AC$2,ROW()+1,\"\")","v":{"$error":"#REF!"}},{"$f":"IF(C1921=base!$W$2,ROW()+1,\"\")","v":{"$error":"#REF!"}},15840,"Sevilla","Colonia","Venustiano Carranza","Distrito Federal","Ciudad de México",15001,9,15001,null,9,17,2361,"Urbano",15]
[{"$f":"IF(C1922=base!$AC$2,ROW()+1,\"\")","v":{"$error":"#REF!"}},{"$f":"IF(C1922=base!$W$2,ROW()+1,\"\")","v":{"$error":"#REF!"}},15850,"Magdalena Mixiuhca","Colonia","Venustiano Carranza","Distrito Federal","Ciudad de México",15001,9,15001,null,9,17,2362,"Urbano",15]
[{"$f":"IF(C1923=base!$AC$2,ROW()+1,\"\")","v":{"$error":"#REF!"}},{"$f":"IF(C1923=base!$W$2,ROW()+1,\"\")","v":{"$error":"#REF!"}},15860,"Pueblo de La Magdalena Mixiuhca","Pueblo","Venustiano Carranza","Distrito Federal","Ciudad de México",15001,9,15001,null,28,17,2363,"Urbano",15]
[{"$f":"IF(C1924=base!$AC$2,ROW()+1,\"\")","v":{"$error":"#REF!"}},{"$f":"IF(C1924=base!$W$2,ROW()+1,\"\")","v":{"$error":"#REF!"}},15870,"Aarón Sáenz","Colonia","Venustiano Carranza","Distrito Federal","Ciudad de México",15001,9,15001,null,9,17,2364,"Urbano",15]
[{"$f":"IF(C1925=base!$AC$2,ROW()+1,\"\")","v":{"$error":"#REF!"}},{"$f":"IF(C1925=base!$W$2,ROW()+1,\"\")","v":{"$error":"#REF!"}},15900,"Jardín Balbuena","Colonia","Venustiano Carranza","Distrito Federal","Ciudad de México",15001,9,15001,null,9,17,2365,"Urbano",15]
[{"$f":"IF(C1926=base!$AC$2,ROW()+1,\"\")","v":{"$error":"#REF!"}},{"$f":"IF(C1926=base!$W$2,ROW()+1,\"\")","v":{"$error":"#REF!"}},15909,"Delegación Política Venustiano Carranza","Gran usuario","Venustiano Carranza","Distrito Federal","Ciudad de México",15001,9,15001,null,22,17,2369,"Urbano",15]
[{"$f":"IF(C1927=base!$AC$2,ROW()+1,\"\")","v":{"$error":"#REF!"}},{"$f":"IF(C1927=base!$W$2,ROW()+1,\"\")","v":{"$error":"#REF!"}},15940,"Morelos","Unidad habitacional","Venustiano Carranza","Distrito Federal","Ciudad de México",15001,9,15001,null,31,17,2370,"Urbano",15]
[{"$f":"IF(C1928=base!$AC$2,ROW()+1,\"\")","v":{"$error":"#REF!"}},{"$f":"IF(C1928=base!$W$2,ROW()+1,\"\")","v":{"$error":"#REF!"}},15950,"Unidad Kennedy","Unidad habitacional","Venustiano Carranza","Distrito Federal","Ciudad de México",15001,9,15001,null,31,17,2371,"Urbano",15]
[{"$f":"IF(C1929=base!$AC$2,ROW()+1,\"\")","v":{"$error":"#REF!"}},{"$f":"IF(C1929=base!$W$2,ROW()+1,\"\")","v":{"$error":"#REF!"}},15960,"Del Parque","Colonia","Venustiano Carranza","Distrito Federal","Ciudad de México",15001,9,15001,null,9,17,2372,"Urbano",15]
[{"$f":"IF(C1930=base!$AC$2,ROW()+1,\"\")","v":{"$error":"#REF!"}},{"$f":"IF(C1930=base!$W$2,ROW()+1,\"\")","v":{"$error":"#REF!"}},15968,"Tribunales de La Suprema Corte de Justicia","Gran usuario","Venustiano Carranza","Distrito Federal","Ciudad de México",15001,9,15001,null,22,17,2373,"Urbano",15]
[{"$f":"IF(C1931=base!$AC$2,ROW()+1,\"\")","v":{"$error":"#REF!"}},{"$f":"IF(C1931=base!$W$2,ROW()+1,\"\")","v":{"$error":"#REF!"}},15970,"Aeronáutica Militar","Colonia","Venustiano Carranza","Distrito Federal","Ciudad de México",15001,9,15001,null,9,17,2376,"Urbano",15]
[{"$f":"IF(C1932=base!$AC$2,ROW()+1,\"\")","v":{"$error":"#REF!"}},{"$f":"IF(C1932=base!$W$2,ROW()+1,\"\")","v":{"$error":"#REF!"}},15980,"24 de Abril","Colonia","Venustiano Carranza","Distrito Federal","Ciudad de México",15001,9,15001,null,9,17,2377,"Urbano",15]
[{"$f":"IF(C1933=base!$AC$2,ROW()+1,\"\")","v":{"$error":"#REF!"}},{"$f":"IF(C1933=base!$W$2,ROW()+1,\"\")","v":{"$error":"#REF!"}},15990,"Álvaro Obregón","Colonia","Venustiano Carranza","Distrito Federal","Ciudad de México",15001,9,15001,null,9,17,2378,"Urbano",15]
[{"$f":"IF(C1934=base!$AC$2,ROW()+1,\"\")","v":{"$error":"#REF!"}},{"$f":"IF(C1934=base!$W$2,ROW()+1,\"\")","v":{"$error":"#REF!"}},16000,"Barrio San Juan","Barrio","Xochimilco","Distrito Federal","Ciudad de México",16001,9,16001,null,2,13,2381,"Urbano",16]
[{"$f":"IF(C1935=base!$AC$2,ROW()+1,\"\")","v":{"$error":"#REF!"}},{"$f":"IF(C1935=base!$W$2,ROW()+1,\"\")","v":{"$error":"#REF!"}},16000,"Barrio La Concepción Tlacoapa","Barrio","Xochimilco","Distrito Federal","Ciudad de México",16001,9,16001,null,2,13,2379,"Urbano",16]
[{"$f":"IF(C1936=base!$AC$2,ROW()+1,\"\")","v":{"$error":"#REF!"}},{"$f":"IF(C1936=base!$W$2,ROW()+1,\"\")","v":{"$error":"#REF!"}},16000,"Barrio San Antonio","Barrio","Xochimilco","Distrito Federal","Ciudad de México",16001,9,16001,null,2,13,2380,"Urbano",16]
[{"$f":"IF(C1937=base!$AC$2,ROW()+1,\"\")","v":{"$error":"#REF!"}},{"$f":"IF(C1937=base!$W$2,ROW()+1,\"\")","v":{"$error":"#REF!"}},16010,"Arcos del Sur","Fraccionamiento","Xochimilco","Distrito Federal","Ciudad de México",16001,9,16001,null,21,13,2383,"Urbano",16]
[{"$f":"IF(C1938=base!$AC$2,ROW()+1,\"\")","v":{"$error":"#REF!"}},{"$f":"IF(C1938=base!$W$2,ROW()+1,\"\")","v":{"$error":"#REF!"}},16010,"Aldama","Fraccionamiento","Xochimilco","Distrito Federal","Ciudad de México",16001,9,16001,null,21,13,2389,"Urbano",16]
[{"$f":"IF(C1939=base!$AC$2,ROW()+1,\"\")","v":{"$error":"#REF!"}},{"$f":"IF(C1939=base!$W$2,ROW()+1,\"\")","v":{"$error":"#REF!"}},16010,"Las Peritas","Colonia","Xochimilco","Distrito Federal","Ciudad de México",16001,9,16001,null,9,13,2386,"Urbano",16]
[{"$f":"IF(C1940=base!$AC$2,ROW()+1,\"\")","v":{"$error":"#REF!"}},{"$f":"IF(C1940=base!$W$2,ROW()+1,\"\")","v":{"$error":"#REF!"}},16010,"Bosque Residencial del Sur","Colonia","Xochimilco","Distrito Federal","Ciudad de México",16001,9,16001,null,9,13,2385,"Urbano",16]
[{"$f":"IF(C1941=base!$AC$2,ROW()+1,\"\")","v":{"$error":"#REF!"}},{"$f":"IF(C1941=base!$W$2,ROW()+1,\"\")","v":{"$error":"#REF!"}},16010,"San Bartolo El Chico","Colonia","Xochimilco","Distrito Federal","Ciudad de México",16001,9,16001,null,9,13,2832,"Urbano",16]
[{"$f":"IF(C1942=base!$AC$2,ROW()+1,\"\")","v":{"$error":"#REF!"}},{"$f":"IF(C1942=base!$W$2,ROW()+1,\"\")","v":{"$error":"#REF!"}},16010,"Paseos del Sur","Colonia","Xochimilco","Distrito Federal","Ciudad de México",16001,9,16001,null,9,13,2388,"Urbano",16]
[{"$f":"IF(C1943=base!$AC$2,ROW()+1,\"\")","v":{"$error":"#REF!"}},{"$f":"IF(C1943=base!$W$2,ROW()+1,\"\")","v":{"$error":"#REF!"}},16010,"Misiones de la Noria","Fraccionamiento","Xochimilco","Distrito Federal","Ciudad de México",16001,9,16001,null,21,13,2387,"Urbano",16]
[{"$f":"IF(C1944=base!$AC$2,ROW()+1,\"\")","v":{"$error":"#REF!"}},{"$f":"IF(C1944=base!$W$2,ROW()+1,\"\")","v":{"$error":"#REF!"}},16019,"Potreros de la Noria","Fraccionamiento","Xochimilco","Distrito Federal","Ciudad de México",16001,9,16001,null,21,13,2394,"Urbano",16]
[{"$f":"IF(C1945=base!$AC$2,ROW()+1,\"\")","v":{"$error":"#REF!"}},{"$f":"IF(C1945=base!$W$2,ROW()+1,\"\")","v":{"$error":"#REF!"}},16020,"San Juan Tepepan","Colonia","Xochimilco","Distrito Federal","Ciudad de México",16001,9,16001,null,9,13,2395,"Urbano",16]
[{"$f":"IF(C1946=base!$AC$2,ROW()+1,\"\")","v":{"$error":"#REF!"}},{"$f":"IF(C1946=base!$W$2,ROW()+1,\"\")","v":{"$error":"#REF!"}},16020,"Santa María Tepepan","Pueblo","Xochimilco","Distrito Federal","Ciudad de México",16001,9,16001,null,28,13,2396,"Urbano",16]
[{"$f":"IF(C1947=base!$AC$2,ROW()+1,\"\")","v":{"$error":"#REF!"}},{"$f":"IF(C1947=base!$W$2,ROW()+1,\"\")","v":{"$error":"#REF!"}},16029,"Ampliación Tepepan","Colonia","Xochimilco","Distrito Federal","Ciudad de México",16001,9,16001,null,9,13,2399,"Urbano",16]
[{"$f":"IF(C1948=base!$AC$2,ROW()+1,\"\")","v":{"$error":"#REF!"}},{"$f":"IF(C1948=base!$W$2,ROW()+1,\"\")","v":{"$error":"#REF!"}},16030,"La Noria","Colonia","Xochimilco","Distrito Federal","Ciudad de México",16001,9,16001,null,9,13,2402,"Urbano",16]
[{"$f":"IF(C1949=base!$AC$2,ROW()+1,\"\")","v":{"$error":"#REF!"}},{"$f":"IF(C1949=base!$W$2,ROW()+1,\"\")","v":{"$error":"#REF!"}},16030,"Huichapan","Colonia","Xochimilco","Distrito Federal","Ciudad de México",16001,9,16001,null,9,13,2401,"Urbano",16]
[{"$f":"IF(C1950=base!$AC$2,ROW()+1,\"\")","v":{"$error":"#REF!"}},{"$f":"IF(C1950=base!$W$2,ROW()+1,\"\")","v":{"$error":"#REF!"}},16030,"División del Norte INFONAVIT","Unidad habitacional","Xochimilco","Distrito Federal","Ciudad de México",16001,9,16001,null,31,13,2400,"Urbano",16]
[{"$f":"IF(C1951=base!$AC$2,ROW()+1,\"\")","v":{"$error":"#REF!"}},{"$f":"IF(C1951=base!$W$2,ROW()+1,\"\")","v":{"$error":"#REF!"}},16030,"Ampliación La Noria","Colonia","Xochimilco","Distrito Federal","Ciudad de México",16001,9,16001,null,9,13,2919,"Urbano",16]
[{"$f":"IF(C1952=base!$AC$2,ROW()+1,\"\")","v":{"$error":"#REF!"}},{"$f":"IF(C1952=base!$W$2,ROW()+1,\"\")","v":{"$error":"#REF!"}},16030,"Potrero de San Bernardino","Colonia","Xochimilco","Distrito Federal","Ciudad de México",16001,9,16001,null,9,13,2403,"Urbano",16]
[{"$f":"IF(C1953=base!$AC$2,ROW()+1,\"\")","v":{"$error":"#REF!"}},{"$f":"IF(C1953=base!$W$2,ROW()+1,\"\")","v":{"$error":"#REF!"}},16034,"Barrio 18","Barrio","Xochimilco","Distrito Federal","Ciudad de México",16001,9,16001,null,2,13,2405,"Urbano",16]
[{"$f":"IF(C1954=base!$AC$2,ROW()+1,\"\")","v":{"$error":"#REF!"}},{"$f":"IF(C1954=base!$W$2,ROW()+1,\"\")","v":{"$error":"#REF!"}},16035,"Rinconada Coapa","Colonia","Xochimilco","Distrito Federal","Ciudad de México",16001,9,16001,null,9,13,2833,"Urbano",16]
[{"$f":"IF(C1955=base!$AC$2,ROW()+1,\"\")","v":{"$error":"#REF!"}},{"$f":"IF(C1955=base!$W$2,ROW()+1,\"\")","v":{"$error":"#REF!"}},16035,"San Lorenzo La Cebada","Colonia","Xochimilco","Distrito Federal","Ciudad de México",16001,9,16001,null,9,13,2407,"Urbano",16]
[{"$f":"IF(C1956=base!$AC$2,ROW()+1,\"\")","v":{"$error":"#REF!"}},{"$f":"IF(C1956=base!$W$2,ROW()+1,\"\")","v":{"$error":"#REF!"}},16036,"Mercado de Flores Plantas y Hortalizas","Zona comercial","Xochimilco","Distrito Federal","Ciudad de México",16001,9,16001,null,33,13,2408,"Urbano",16]
[{"$f":"IF(C1957=base!$AC$2,ROW()+1,\"\")","v":{"$error":"#REF!"}},{"$f":"IF(C1957=base!$W$2,ROW()+1,\"\")","v":{"$error":"#REF!"}},16038,"Ampliación San Marcos Norte","Colonia","Xochimilco","Distrito Federal","Ciudad de México",16001,9,16001,null,9,13,2409,"Urbano",16]
[{"$f":"IF(C1958=base!$AC$2,ROW()+1,\"\")","v":{"$error":"#REF!"}},{"$f":"IF(C1958=base!$W$2,ROW()+1,\"\")","v":{"$error":"#REF!"}},16039,"San Marcos","Residencial","Xochimilco","Distrito Federal","Ciudad de México",16001,9,16001,null,30,13,2410,"Urbano",16]
[{"$f":"IF(C1959=base!$AC$2,ROW()+1,\"\")","v":{"$error":"#REF!"}},{"$f":"IF(C1959=base!$W$2,ROW()+1,\"\")","v":{"$error":"#REF!"}},16040,"Barrio San Lorenzo","Barrio","Xochimilco","Distrito Federal","Ciudad de México",16001,9,16001,null,2,13,2412,"Urbano",16]
[{"$f":"IF(C1960=base!$AC$2,ROW()+1,\"\")","v":{"$error":"#REF!"}},{"$f":"IF(C1960=base!$W$2,ROW()+1,\"\")","v":{"$error":"#REF!"}},16040,"Barrio La Asunción","Barrio","Xochimilco","Distrito Federal","Ciudad de México",16001,9,16001,null,2,13,2411,"Urbano",16]
[{"$f":"IF(C1961=base!$AC$2,ROW()+1,\"\")","v":{"$error":"#REF!"}},{"$f":"IF(C1961=base!$W$2,ROW()+1,\"\")","v":{"$error":"#REF!"}},16050,"Jardines del Sur","Colonia","Xochimilco","Distrito Federal","Ciudad de México",16001,9,16001,null,9,13,2413,"Urbano",16]
[{"$f":"IF(C1962=base!$AC$2,ROW()+1,\"\")","v":{"$error":"#REF!"}},{"$f":"IF(C1962=base!$W$2,ROW()+1,\"\")","v":{"$error":"#REF!"}},16050,"Tierra Nueva","Colonia","Xochimilco","Distrito Federal","Ciudad de México",16001,9,16001,null,9,13,2415,"Urbano",16]
[{"$f":"IF(C1963=base!$AC$2,ROW()+1,\"\")","v":{"$error":"#REF!"}},{"$f":"IF(C1963=base!$W$2,ROW()+1,\"\")","v":{"$error":"#REF!"}},16050,"Barrio San Marcos","Barrio","Xochimilco","Distrito Federal","Ciudad de México",16001,9,16001,null,2,13,2414,"Urbano",16]
[{"$f":"IF(C1964=base!$AC$2,ROW()+1,\"\")","v":{"$error":"#REF!"}},{"$f":"IF(C1964=base!$W$2,ROW()+1,\"\")","v":{"$error":"#REF!"}},16057,"Redención","Unidad habitacional","Xochimilco","Distrito Federal","Ciudad de México",16001,9,16001,null,31,13,2416,"Urbano",16]
[{"$f":"IF(C1965=base!$AC$2,ROW()+1,\"\")","v":{"$error":"#REF!"}},{"$f":"IF(C1965=base!$W$2,ROW()+1,\"\")","v":{"$error":"#REF!"}},16058,"Villa Xochimilco","Unidad habitacional","Xochimilco","Distrito Federal","Ciudad de México",16001,9,16001,null,31,13,2418,"Urbano",16]
[{"$f":"IF(C1966=base!$AC$2,ROW()+1,\"\")","v":{"$error":"#REF!"}},{"$f":"IF(C1966=base!$W$2,ROW()+1,\"\")","v":{"$error":"#REF!"}},16059,"Pblo. Stgo.Tepalcatlalpan, U. H. Rinconada del Sur","Colonia","Xochimilco","Distrito Federal","Ciudad de México",16001,9,16001,null,9,13,2420,"Urbano",16]
[{"$f":"IF(C1967=base!$AC$2,ROW()+1,\"\")","v":{"$error":"#REF!"}},{"$f":"IF(C1967=base!$W$2,ROW()+1,\"\")","v":{"$error":"#REF!"}},16059,"Las Gárgolas","Fraccionamiento","Xochimilco","Distrito Federal","Ciudad de México",16001,9,16001,null,21,13,2419,"Urbano",16]
[{"$f":"IF(C1968=base!$AC$2,ROW()+1,\"\")","v":{"$error":"#REF!"}},{"$f":"IF(C1968=base!$W$2,ROW()+1,\"\")","v":{"$error":"#REF!"}},16060,"El Mirador","Colonia","Xochimilco","Distrito Federal","Ciudad de México",16001,9,16001,null,9,13,2421,"Urbano",16]
[{"$f":"IF(C1969=base!$AC$2,ROW()+1,\"\")","v":{"$error":"#REF!"}},{"$f":"IF(C1969=base!$W$2,ROW()+1,\"\")","v":{"$error":"#REF!"}},16070,"Barrio El Rosario","Barrio","Xochimilco","Distrito Federal","Ciudad de México",16001,9,16001,null,2,13,2424,"Urbano",16]
[{"$f":"IF(C1970=base!$AC$2,ROW()+1,\"\")","v":{"$error":"#REF!"}},{"$f":"IF(C1970=base!$W$2,ROW()+1,\"\")","v":{"$error":"#REF!"}},16070,"Barrio La Guadalupita","Barrio","Xochimilco","Distrito Federal","Ciudad de México",16001,9,16001,null,2,13,2425,"Urbano",16]
[{"$f":"IF(C1971=base!$AC$2,ROW()+1,\"\")","v":{"$error":"#REF!"}},{"$f":"IF(C1971=base!$W$2,ROW()+1,\"\")","v":{"$error":"#REF!"}},16070,"Barrio Santa Crucita","Barrio","Xochimilco","Distrito Federal","Ciudad de México",16001,9,16001,null,2,13,2426,"Urbano",16]
[{"$f":"IF(C1972=base!$AC$2,ROW()+1,\"\")","v":{"$error":"#REF!"}},{"$f":"IF(C1972=base!$W$2,ROW()+1,\"\")","v":{"$error":"#REF!"}},16070,"Barrio Belén","Barrio","Xochimilco","Distrito Federal","Ciudad de México",16001,9,16001,null,2,13,2423,"Urbano",16]
[{"$f":"IF(C1973=base!$AC$2,ROW()+1,\"\")","v":{"$error":"#REF!"}},{"$f":"IF(C1973=base!$W$2,ROW()+1,\"\")","v":{"$error":"#REF!"}},16080,"Barrio La Santísima","Barrio","Xochimilco","Distrito Federal","Ciudad de México",16001,9,16001,null,2,13,2427,"Urbano",16]
[{"$f":"IF(C1974=base!$AC$2,ROW()+1,\"\")","v":{"$error":"#REF!"}},{"$f":"IF(C1974=base!$W$2,ROW()+1,\"\")","v":{"$error":"#REF!"}},16080,"Barrio San Cristóbal","Barrio","Xochimilco","Distrito Federal","Ciudad de México",16001,9,16001,null,2,13,2428,"Urbano",16]
[{"$f":"IF(C1975=base!$AC$2,ROW()+1,\"\")","v":{"$error":"#REF!"}},{"$f":"IF(C1975=base!$W$2,ROW()+1,\"\")","v":{"$error":"#REF!"}},16080,"Barrio San Diego","Barrio","Xochimilco","Distrito Federal","Ciudad de México",16001,9,16001,null,2,13,2429,"Urbano",16]
[{"$f":"IF(C1976=base!$AC$2,ROW()+1,\"\")","v":{"$error":"#REF!"}},{"$f":"IF(C1976=base!$W$2,ROW()+1,\"\")","v":{"$error":"#REF!"}},16080,"Barrio San Esteban","Barrio","Xochimilco","Distrito Federal","Ciudad de México",16001,9,16001,null,2,13,2430,"Urbano",16]
[{"$f":"IF(C1977=base!$AC$2,ROW()+1,\"\")","v":{"$error":"#REF!"}},{"$f":"IF(C1977=base!$W$2,ROW()+1,\"\")","v":{"$error":"#REF!"}},16090,"Tablas de San Lorenzo","Colonia","Xochimilco","Distrito Federal","Ciudad de México",16001,9,16001,null,9,13,2433,"Urbano",16]
[{"$f":"IF(C1978=base!$AC$2,ROW()+1,\"\")","v":{"$error":"#REF!"}},{"$f":"IF(C1978=base!$W$2,ROW()+1,\"\")","v":{"$error":"#REF!"}},16090,"Barrio Xaltocan","Barrio","Xochimilco","Distrito Federal","Ciudad de México",16001,9,16001,null,2,13,2434,"Urbano",16]
[{"$f":"IF(C1979=base!$AC$2,ROW()+1,\"\")","v":{"$error":"#REF!"}},{"$f":"IF(C1979=base!$W$2,ROW()+1,\"\")","v":{"$error":"#REF!"}},16090,"Barrio San Pedro","Barrio","Xochimilco","Distrito Federal","Ciudad de México",16001,9,16001,null,2,13,2432,"Urbano",16]
[{"$f":"IF(C1980=base!$AC$2,ROW()+1,\"\")","v":{"$error":"#REF!"}},{"$f":"IF(C1980=base!$W$2,ROW()+1,\"\")","v":{"$error":"#REF!"}},16090,"Caltongo","Campamento","Xochimilco","Distrito Federal","Ciudad de México",16001,9,16001,null,4,13,2431,"Urbano",16]
[{"$f":"IF(C1981=base!$AC$2,ROW()+1,\"\")","v":{"$error":"#REF!"}},{"$f":"IF(C1981=base!$W$2,ROW()+1,\"\")","v":{"$error":"#REF!"}},16095,"Delegación Política Xochimilco","Gran usuario","Xochimilco","Distrito Federal","Ciudad de México",16001,9,16001,null,22,13,2435,"Urbano",16]
[{"$f":"IF(C1982=base!$AC$2,ROW()+1,\"\")","v":{"$error":"#REF!"}},{"$f":"IF(C1982=base!$W$2,ROW()+1,\"\")","v":{"$error":"#REF!"}},16098,"Los Geranios","Fraccionamiento","Xochimilco","Distrito Federal","Ciudad de México",16001,9,16001,null,21,13,2437,"Urbano",16]
[{"$f":"IF(C1983=base!$AC$2,ROW()+1,\"\")","v":{"$error":"#REF!"}},{"$f":"IF(C1983=base!$W$2,ROW()+1,\"\")","v":{"$error":"#REF!"}},16099,"Nativitas INFONAVIT","Unidad habitacional","Xochimilco","Distrito Federal","Ciudad de México",16001,9,16001,null,31,13,2438,"Urbano",16]
[{"$f":"IF(C1984=base!$AC$2,ROW()+1,\"\")","v":{"$error":"#REF!"}},{"$f":"IF(C1984=base!$W$2,ROW()+1,\"\")","v":{"$error":"#REF!"}},16100,"Santa Cruz Xochitepec","Pueblo","Xochimilco","Distrito Federal","Ciudad de México",16001,9,16001,null,28,13,2439,"Urbano",16]
[{"$f":"IF(C1985=base!$AC$2,ROW()+1,\"\")","v":{"$error":"#REF!"}},{"$f":"IF(C1985=base!$W$2,ROW()+1,\"\")","v":{"$error":"#REF!"}},16105,"Rinconada San Pablo","Fraccionamiento","Xochimilco","Distrito Federal","Ciudad de México",16001,9,16001,null,21,13,2441,"Urbano",16]
[{"$f":"IF(C1986=base!$AC$2,ROW()+1,\"\")","v":{"$error":"#REF!"}},{"$f":"IF(C1986=base!$W$2,ROW()+1,\"\")","v":{"$error":"#REF!"}},16200,"Santiago Tepalcatlalpan","Pueblo","Xochimilco","Distrito Federal","Ciudad de México",16001,9,16001,null,28,13,2443,"Urbano",16]
[{"$f":"IF(C1987=base!$AC$2,ROW()+1,\"\")","v":{"$error":"#REF!"}},{"$f":"IF(C1987=base!$W$2,ROW()+1,\"\")","v":{"$error":"#REF!"}},16210,"La Concha","Colonia","Xochimilco","Distrito Federal","Ciudad de México",16001,9,16001,null,9,13,2444,"Urbano",16]
[{"$f":"IF(C1988=base!$AC$2,ROW()+1,\"\")","v":{"$error":"#REF!"}},{"$f":"IF(C1988=base!$W$2,ROW()+1,\"\")","v":{"$error":"#REF!"}},16220,"San José Zacatepec","Campamento","Xochimilco","Distrito Federal","Ciudad de México",16001,9,16001,null,4,13,2445,"Urbano",16]
[{"$f":"IF(C1989=base!$AC$2,ROW()+1,\"\")","v":{"$error":"#REF!"}},{"$f":"IF(C1989=base!$W$2,ROW()+1,\"\")","v":{"$error":"#REF!"}},16240,"Tlaxopan  2a Sección","Campamento","Xochimilco","Distrito Federal","Ciudad de México",16001,9,16001,null,4,13,2448,"Urbano",16]
[{"$f":"IF(C1990=base!$AC$2,ROW()+1,\"\")","v":{"$error":"#REF!"}},{"$f":"IF(C1990=base!$W$2,ROW()+1,\"\")","v":{"$error":"#REF!"}},16240,"Tlaxopan 1a Sección","Campamento","Xochimilco","Distrito Federal","Ciudad de México",16001,9,16001,null,4,13,2447,"Urbano",16]
[{"$f":"IF(C1991=base!$AC$2,ROW()+1,\"\")","v":{"$error":"#REF!"}},{"$f":"IF(C1991=base!$W$2,ROW()+1,\"\")","v":{"$error":"#REF!"}},16244,"Tlaxopan Norte","Campamento","Xochimilco","Distrito Federal","Ciudad de México",16001,9,16001,null,4,13,2452,"Urbano",16]
[{"$f":"IF(C1992=base!$AC$2,ROW()+1,\"\")","v":{"$error":"#REF!"}},{"$f":"IF(C1992=base!$W$2,ROW()+1,\"\")","v":{"$error":"#REF!"}},16247,"Paraje Tlalatlaco","Campamento","Xochimilco","Distrito Federal","Ciudad de México",16001,9,16001,null,4,13,2455,"Urbano",16]
[{"$f":"IF(C1993=base!$AC$2,ROW()+1,\"\")","v":{"$error":"#REF!"}},{"$f":"IF(C1993=base!$W$2,ROW()+1,\"\")","v":{"$error":"#REF!"}},16248,"Ocotitla","Campamento","Xochimilco","Distrito Federal","Ciudad de México",16001,9,16001,null,4,13,2456,"Urbano",16]
[{"$f":"IF(C1994=base!$AC$2,ROW()+1,\"\")","v":{"$error":"#REF!"}},{"$f":"IF(C1994=base!$W$2,ROW()+1,\"\")","v":{"$error":"#REF!"}},16300,"San Lucas Xochimanca","Pueblo","Xochimilco","Distrito Federal","Ciudad de México",16001,9,16001,null,28,13,2458,"Urbano",16]
[{"$f":"IF(C1995=base!$AC$2,ROW()+1,\"\")","v":{"$error":"#REF!"}},{"$f":"IF(C1995=base!$W$2,ROW()+1,\"\")","v":{"$error":"#REF!"}},16310,"La Cañada","Colonia","Xochimilco","Distrito Federal","Ciudad de México",16001,9,16001,null,9,13,2459,"Urbano",16]
[{"$f":"IF(C1996=base!$AC$2,ROW()+1,\"\")","v":{"$error":"#REF!"}},{"$f":"IF(C1996=base!$W$2,ROW()+1,\"\")","v":{"$error":"#REF!"}},16320,"San Lucas Oriente","Colonia","Xochimilco","Distrito Federal","Ciudad de México",16001,9,16001,null,9,13,2460,"Urbano",16]
[{"$f":"IF(C1997=base!$AC$2,ROW()+1,\"\")","v":{"$error":"#REF!"}},{"$f":"IF(C1997=base!$W$2,ROW()+1,\"\")","v":{"$error":"#REF!"}},16330,"Loreto y Peña Pobre","Unidad habitacional","Xochimilco","Distrito Federal","Ciudad de México",16001,9,16001,null,31,13,2461,"Urbano",16]
[{"$f":"IF(C1998=base!$AC$2,ROW()+1,\"\")","v":{"$error":"#REF!"}},{"$f":"IF(C1998=base!$W$2,ROW()+1,\"\")","v":{"$error":"#REF!"}},16340,"Texmic","Colonia","Xochimilco","Distrito Federal","Ciudad de México",16001,9,16001,null,9,13,2462,"Urbano",16]
[{"$f":"IF(C1999=base!$AC$2,ROW()+1,\"\")","v":{"$error":"#REF!"}},{"$f":"IF(C1999=base!$W$2,ROW()+1,\"\")","v":{"$error":"#REF!"}},16400,"San Lorenzo Atemoaya","Pueblo","Xochimilco","Distrito Federal","Ciudad de México",16001,9,16001,null,28,13,2464,"Urbano",16]
[{"$f":"IF(C2000=base!$AC$2,ROW()+1,\"\")","v":{"$error":"#REF!"}},{"$f":"IF(C2000=base!$W$2,ROW()+1,\"\")","v":{"$error":"#REF!"}},16410,"Lomas de Tonalco","Colonia","Xochimilco","Distrito Federal","Ciudad de México",16001,9,16001,null,9,13,2465,"Urbano",16]
[{"$f":"IF(C2063=base!$AC$2,ROW()+1,\"\")","v":{"$error":"#REF!"}},{"$f":"IF(C2063=base!$W$2,ROW()+1,\"\")","v":{"$error":"#REF!"}},16810,"Santa Inés","Campamento","Xochimilco","Distrito Federal","Ciudad de México",16001,9,16001,null,4,13,2605,"Urbano",16]
[{"$f":"IF(C2075=base!$AC$2,ROW()+1,\"\")","v":{"$error":"#REF!"}},{"$f":"IF(C2075=base!$W$2,ROW()+1,\"\")","v":{"$error":"#REF!"}},16850,"Barrio Chapultepec","Barrio","Xochimilco","Distrito Federal","Ciudad de México",16001,9,16001,null,2,13,2520,"Urbano",16]
[{"$f":"IF(C2186=base!$AC$2,ROW()+1,\"\")","v":{"$error":"#REF!"}},{"$f":"IF(C2186=base!$W$2,ROW()+1,\"\")","v":{"$error":"#REF!"}},20126,"Villa de Nuestra Señora de La Asunción Sector San Marcos","Fraccionamiento","Aguascalientes","Aguascalientes","Aguascalientes",20001,1,20001,null,21,1,1079,"Urbano",1]
[{"$f":"IF(C2233=base!$AC$2,ROW()+1,\"\")","v":{"$error":"#REF!"}},{"$f":"IF(C2233=base!$W$2,ROW()+1,\"\")","v":{"$error":"#REF!"}},20137,"El Plateado","Fraccionamiento","Aguascalientes","Aguascalientes","Aguascalientes",20001,1,20001,null,21,1,111,"Urbano",1]
[{"$f":"IF(C2339=base!$AC$2,ROW()+1,\"\")","v":{"$error":"#REF!"}},{"$f":"IF(C2339=base!$W$2,ROW()+1,\"\")","v":{"$error":"#REF!"}},20200,"Villas del Mediterráneo","Fraccionamiento","Aguascalientes","Aguascalientes","Aguascalientes",20293,1,20293,null,21,1,1074,"Urbano",1]
[{"$f":"IF(C2382=base!$AC$2,ROW()+1,\"\")","v":{"$error":"#REF!"}},{"$f":"IF(C2382=base!$W$2,ROW()+1,\"\")","v":{"$error":"#REF!"}},20235,"Villa Jardín","Fraccionamiento","Aguascalientes","Aguascalientes","Aguascalientes",20293,1,20293,null,21,1,212,"Urbano",1]
[{"$f":"IF(C2492=base!$AC$2,ROW()+1,\"\")","v":{"$error":"#REF!"}},{"$f":"IF(C2492=base!$W$2,ROW()+1,\"\")","v":{"$error":"#REF!"}},20284,"INFONAVIT Potreros del Oeste","Unidad habitacional","Aguascalientes","Aguascalientes","Aguascalientes",20293,1,20293,null,31,1,307,"Urbano",1]
[{"$f":"IF(C2540=base!$AC$2,ROW()+1,\"\")","v":{"$error":"#REF!"}},{"$f":"IF(C2540=base!$W$2,ROW()+1,\"\")","v":{"$error":"#REF!"}},20299,"Periodistas","Fraccionamiento","Aguascalientes","Aguascalientes","Aguascalientes",20293,1,20293,null,21,1,343,"Urbano",1]
[{"$f":"IF(C2573=base!$AC$2,ROW()+1,\"\")","v":{"$error":"#REF!"}},{"$f":"IF(C2573=base!$W$2,ROW()+1,\"\")","v":{"$error":"#REF!"}},20304,"Santa Fe","Fraccionamiento","San Francisco de los Romo","Aguascalientes","San Francisco de los Romo",20671,1,20671,null,21,11,1396,"Rural",3]
[{"$f":"IF(C2698=base!$AC$2,ROW()+1,\"\")","v":{"$error":"#REF!"}},{"$f":"IF(C2698=base!$W$2,ROW()+1,\"\")","v":{"$error":"#REF!"}},20338,"El Tildío","Ejido","El Llano","Aguascalientes",null,20001,1,20001,null,15,10,446,"Rural"]
[{"$f":"IF(C2758=base!$AC$2,ROW()+1,\"\")","v":{"$error":"#REF!"}},{"$f":"IF(C2758=base!$W$2,ROW()+1,\"\")","v":{"$error":"#REF!"}},20358,"Sendero de los Quetzales","Fraccionamiento","San Francisco de los Romo","Aguascalientes",null,20001,1,20001,null,21,11,1439,"Urbano"]
[{"$f":"IF(C2856=base!$AC$2,ROW()+1,\"\")","v":{"$error":"#REF!"}},{"$f":"IF(C2856=base!$W$2,ROW()+1,\"\")","v":{"$error":"#REF!"}},20423,"El Muerto","Ranchería","Rincón de Romos","Aguascalientes",null,20401,1,20401,null,29,7,534,"Rural"]
[{"$f":"IF(C2911=base!$AC$2,ROW()+1,\"\")","v":{"$error":"#REF!"}},{"$f":"IF(C2911=base!$W$2,ROW()+1,\"\")","v":{"$error":"#REF!"}},20472,"Los Nava","Pueblo","Cosío","Aguascalientes",null,20401,1,20401,null,28,4,1296,"Rural"]
[{"$f":"IF(C2934=base!$AC$2,ROW()+1,\"\")","v":{"$error":"#REF!"}},{"$f":"IF(C2934=base!$W$2,ROW()+1,\"\")","v":{"$error":"#REF!"}},20545,"San Antonio de los Ríos","Ejido","San José de Gracia","Aguascalientes",null,20671,1,20671,null,15,8,598,"Rural"]
[{"$f":"IF(C3064=base!$AC$2,ROW()+1,\"\")","v":{"$error":"#REF!"}},{"$f":"IF(C3064=base!$W$2,ROW()+1,\"\")","v":{"$error":"#REF!"}},20720,"La Divina Providencia","Ranchería","Asientos","Aguascalientes",null,20401,1,20401,null,29,2,1304,"Rural"]
[{"$f":"IF(C3092=base!$AC$2,ROW()+1,\"\")","v":{"$error":"#REF!"}},{"$f":"IF(C3092=base!$W$2,ROW()+1,\"\")","v":{"$error":"#REF!"}},20768,"El Águila [Rancho]","Rancho","Asientos","Aguascalientes",null,20001,1,20001,null,48,2,691,"Rural"]
[{"$f":"IF(C3145=base!$AC$2,ROW()+1,\"\")","v":{"$error":"#REF!"}},{"$f":"IF(C3145=base!$W$2,ROW()+1,\"\")","v":{"$error":"#REF!"}},20805,"Emiliano Zapata","Colonia","Calvillo","Aguascalientes","Calvillo",20801,1,20801,null,9,3,723,"Semiurbano",2]
[{"$f":"IF(C3250=base!$AC$2,ROW()+1,\"\")","v":{"$error":"#REF!"}},{"$f":"IF(C3250=base!$W$2,ROW()+1,\"\")","v":{"$error":"#REF!"}},20880,"Ventanillas","Ranchería","Calvillo","Aguascalientes",null,20801,1,20801,null,29,3,1231,"Rural"]
[{"$f":"IF(C3330=base!$AC$2,ROW()+1,\"\")","v":{"$error":"#REF!"}},{"$f":"IF(C3330=base!$W$2,ROW()+1,\"\")","v":{"$error":"#REF!"}},20910,"San Antonio de los Horcones","Congregación","Jesús María","Aguascalientes",null,20921,1,20921,null,11,5,840,"Rural"]
[{"$f":"IF(C3408=base!$AC$2,ROW()+1,\"\")","v":{"$error":"#REF!"}},{"$f":"IF(C3408=base!$W$2,ROW()+1,\"\")","v":{"$error":"#REF!"}},20943,"Milpillas de Abajo","Ejido","Jesús María","Aguascalientes",null,20001,1,20001,null,15,5,863,"Rural"]
[{"$f":"IF(C3483=base!$AC$2,ROW()+1,\"\")","v":{"$error":"#REF!"}},{"$f":"IF(C3483=base!$W$2,ROW()+1,\"\")","v":{"$error":"#REF!"}},21135,"Sindicalista","Colonia","Mexicali","Baja California","Mexicali",21181,2,21181,null,9,2,1667,"Urbano",2]
[{"$f":"IF(C3566=base!$AC$2,ROW()+1,\"\")","v":{"$error":"#REF!"}},{"$f":"IF(C3566=base!$W$2,ROW()+1,\"\")","v":{"$error":"#REF!"}},21178,"Electricistas","Colonia","Mexicali","Baja California","Mexicali",21181,2,21181,null,9,2,65,"Urbano",2]
[{"$f":"IF(C3636=base!$AC$2,ROW()+1,\"\")","v":{"$error":"#REF!"}},{"$f":"IF(C3636=base!$W$2,ROW()+1,\"\")","v":{"$error":"#REF!"}},21250,"Miraflores","Colonia","Mexicali","Baja California","Mexicali",21105,2,21105,null,9,2,111,"Urbano",2]
[{"$f":"IF(C3715=base!$AC$2,ROW()+1,\"\")","v":{"$error":"#REF!"}},{"$f":"IF(C3715=base!$W$2,ROW()+1,\"\")","v":{"$error":"#REF!"}},21320,"Vicente Guerrero","Ampliación","Mexicali","Baja California","Mexicali",21181,2,21181,null,38,2,517,"Urbano",2]
[{"$f":"IF(C3717=base!$AC$2,ROW()+1,\"\")","v":{"$error":"#REF!"}},{"$f":"IF(C3717=base!$W$2,ROW()+1,\"\")","v":{"$error":"#REF!"}},21320,"Pedro Moreno","Colonia","Mexicali","Baja California","Mexicali",21181,2,21181,null,9,2,495,"Urbano",2]
[{"$f":"IF(C3802=base!$AC$2,ROW()+1,\"\")","v":{"$error":"#REF!"}},{"$f":"IF(C3802=base!$W$2,ROW()+1,\"\")","v":{"$error":"#REF!"}},21355,"Residencial Quinta del Rey 2a Etapa","Fraccionamiento","Mexicali","Baja California","Mexicali",21101,2,21101,null,21,2,2435,"Urbano",2]
[{"$f":"IF(C3902=base!$AC$2,ROW()+1,\"\")","v":{"$error":"#REF!"}},{"$f":"IF(C3902=base!$W$2,ROW()+1,\"\")","v":{"$error":"#REF!"}},21387,"5 de Julio","Colonia","Mexicali","Baja California","Mexicali",21392,2,21392,null,9,2,2166,"Urbano",2]
[{"$f":"IF(C3960=base!$AC$2,ROW()+1,\"\")","v":{"$error":"#REF!"}},{"$f":"IF(C3960=base!$W$2,ROW()+1,\"\")","v":{"$error":"#REF!"}},21395,"Valle del Colorado","Fraccionamiento","Mexicali","Baja California","Mexicali",21392,2,21392,null,21,2,1801,"Urbano",2]
[{"$f":"IF(C4055=base!$AC$2,ROW()+1,\"\")","v":{"$error":"#REF!"}},{"$f":"IF(C4055=base!$W$2,ROW()+1,\"\")","v":{"$error":"#REF!"}},21452,"Escudero","Fraccionamiento","Tecate","Baja California","Tecate",21401,2,21401,null,21,3,2558,"Urbano",3]
[{"$f":"IF(C4118=base!$AC$2,ROW()+1,\"\")","v":{"$error":"#REF!"}},{"$f":"IF(C4118=base!$W$2,ROW()+1,\"\")","v":{"$error":"#REF!"}},21507,"Felipe Ángeles","Ejido","Tecate","Baja California",null,21401,2,21401,null,15,3,2565,"Rural"]
[{"$f":"IF(C4208=base!$AC$2,ROW()+1,\"\")","v":{"$error":"#REF!"}},{"$f":"IF(C4208=base!$W$2,ROW()+1,\"\")","v":{"$error":"#REF!"}},21720,"Tlaxcala","Ejido","Mexicali","Baja California",null,21724,2,21724,null,15,2,337,"Rural"]
[{"$f":"IF(C4267=base!$AC$2,ROW()+1,\"\")","v":{"$error":"#REF!"}},{"$f":"IF(C4267=base!$W$2,ROW()+1,\"\")","v":{"$error":"#REF!"}},21850,"Los Gavilanes Sección 3","Colonia","Mexicali","Baja California","San Felipe",21851,2,21851,null,9,2,1862,"Semiurbano",7]
[{"$f":"IF(C4289=base!$AC$2,ROW()+1,\"\")","v":{"$error":"#REF!"}},{"$f":"IF(C4289=base!$W$2,ROW()+1,\"\")","v":{"$error":"#REF!"}},21850,"El Dorado Rancho","Fraccionamiento","Mexicali","Baja California","San Felipe",21851,2,21851,null,21,2,1879,"Rural",7]
[{"$f":"IF(C4425=base!$AC$2,ROW()+1,\"\")","v":{"$error":"#REF!"}},{"$f":"IF(C4425=base!$W$2,ROW()+1,\"\")","v":{"$error":"#REF!"}},22054,"Linda Vista","Colonia","Tijuana","Baja California","Tijuana",22001,2,22001,null,9,4,566,"Urbano",4]
[{"$f":"IF(C4474=base!$AC$2,ROW()+1,\"\")","v":{"$error":"#REF!"}},{"$f":"IF(C4474=base!$W$2,ROW()+1,\"\")","v":{"$error":"#REF!"}},22106,"El Paraíso","Colonia","Tijuana","Baja California","Tijuana",22101,2,22101,null,9,4,767,"Urbano",4]
[{"$f":"IF(C4512=base!$AC$2,ROW()+1,\"\")","v":{"$error":"#REF!"}},{"$f":"IF(C4512=base!$W$2,ROW()+1,\"\")","v":{"$error":"#REF!"}},22116,"Huertas 1a. Sección","Colonia","Tijuana","Baja California","Tijuana",22101,2,22101,null,9,4,973,"Urbano",4]
[{"$f":"IF(C4627=base!$AC$2,ROW()+1,\"\")","v":{"$error":"#REF!"}},{"$f":"IF(C4627=base!$W$2,ROW()+1,\"\")","v":{"$error":"#REF!"}},22185,"Sanchez Taboada Produtsa","Colonia","Tijuana","Baja California","Tijuana",22101,2,22101,null,9,4,1423,"Urbano",4]
[{"$f":"IF(C4670=base!$AC$2,ROW()+1,\"\")","v":{"$error":"#REF!"}},{"$f":"IF(C4670=base!$W$2,ROW()+1,\"\")","v":{"$error":"#REF!"}},22204,"El Mirador","Colonia","Tijuana","Baja California","Tijuana",22101,2,22101,null,9,4,2402,"Urbano",4]
[{"$f":"IF(C4780=base!$AC$2,ROW()+1,\"\")","v":{"$error":"#REF!"}},{"$f":"IF(C4780=base!$W$2,ROW()+1,\"\")","v":{"$error":"#REF!"}},22225,"Anexa Porvenir","Colonia","Tijuana","Baja California","Tijuana",22101,2,22101,null,9,4,1822,"Urbano",4]
[{"$f":"IF(C4819=base!$AC$2,ROW()+1,\"\")","v":{"$error":"#REF!"}},{"$f":"IF(C4819=base!$W$2,ROW()+1,\"\")","v":{"$error":"#REF!"}},22246,"Viñedos Casa Blanca","Colonia","Tijuana","Baja California","Tijuana",22101,2,22101,null,9,4,1493,"Urbano",4]
[{"$f":"IF(C4861=base!$AC$2,ROW()+1,\"\")","v":{"$error":"#REF!"}},{"$f":"IF(C4861=base!$W$2,ROW()+1,\"\")","v":{"$error":"#REF!"}},22414,"Kennedy","Colonia","Tijuana","Baja California","Tijuana",22101,2,22101,null,9,4,1554,"Urbano",4]
[{"$f":"IF(C4977=base!$AC$2,ROW()+1,\"\")","v":{"$error":"#REF!"}},{"$f":"IF(C4977=base!$W$2,ROW()+1,\"\")","v":{"$error":"#REF!"}},22506,"Playas de Tijuana Sección Costa Hermosa","Colonia","Tijuana","Baja California","Tijuana",22001,2,22001,null,9,4,666,"Urbano",4]
[{"$f":"IF(C5014=base!$AC$2,ROW()+1,\"\")","v":{"$error":"#REF!"}},{"$f":"IF(C5014=base!$W$2,ROW()+1,\"\")","v":{"$error":"#REF!"}},22526,"Cañón Rosales","Colonia","Tijuana","Baja California","Tijuana",22001,2,22001,null,9,4,674,"Semiurbano",4]
[{"$f":"IF(C5135=base!$AC$2,ROW()+1,\"\")","v":{"$error":"#REF!"}},{"$f":"IF(C5135=base!$W$2,ROW()+1,\"\")","v":{"$error":"#REF!"}},22636,"Las Cruces","Colonia","Tijuana","Baja California","Tijuana",22001,2,22001,null,9,4,2082,"Urbano",4]
[{"$f":"IF(C5199=base!$AC$2,ROW()+1,\"\")","v":{"$error":"#REF!"}},{"$f":"IF(C5199=base!$W$2,ROW()+1,\"\")","v":{"$error":"#REF!"}},22654,"Villa Residencial Santa Fe 3a Sección","Fraccionamiento","Tijuana","Baja California","Tijuana",22001,2,22001,null,21,4,2317,"Urbano",4]
[{"$f":"IF(C5222=base!$AC$2,ROW()+1,\"\")","v":{"$error":"#REF!"}},{"$f":"IF(C5222=base!$W$2,ROW()+1,\"\")","v":{"$error":"#REF!"}},22666,"Pórticos de San Antonio","Colonia","Tijuana","Baja California","Tijuana",22001,2,22001,null,9,4,1548,"Urbano",4]
[{"$f":"IF(C5352=base!$AC$2,ROW()+1,\"\")","v":{"$error":"#REF!"}},{"$f":"IF(C5352=base!$W$2,ROW()+1,\"\")","v":{"$error":"#REF!"}},22740,"Villas de San Pedro","Fraccionamiento","Playas de Rosarito","Baja California",null,22701,2,22701,null,21,5,2664,"Rural"]
[{"$f":"IF(C5371=base!$AC$2,ROW()+1,\"\")","v":{"$error":"#REF!"}},{"$f":"IF(C5371=base!$W$2,ROW()+1,\"\")","v":{"$error":"#REF!"}},22760,"Santa Anita","Colonia","Ensenada","Baja California",null,22801,2,22801,null,9,1,2139,"Rural"]
[{"$f":"IF(C5433=base!$AC$2,ROW()+1,\"\")","v":{"$error":"#REF!"}},{"$f":"IF(C5433=base!$W$2,ROW()+1,\"\")","v":{"$error":"#REF!"}},22785,"Praderas del Ciprés Sección I","Colonia","Ensenada","Baja California",null,22784,2,22784,null,9,1,2286,"Rural"]
[{"$f":"IF(C5529=base!$AC$2,ROW()+1,\"\")","v":{"$error":"#REF!"}},{"$f":"IF(C5529=base!$W$2,ROW()+1,\"\")","v":{"$error":"#REF!"}},22814,"Salvador Rosas Magallón","Fraccionamiento","Ensenada","Baja California","Ensenada",22801,2,22801,null,21,1,2702,"Urbano",1]
[{"$f":"IF(C5586=base!$AC$2,ROW()+1,\"\")","v":{"$error":"#REF!"}},{"$f":"IF(C5586=base!$W$2,ROW()+1,\"\")","v":{"$error":"#REF!"}},22839,"Valle Verde","Colonia","Ensenada","Baja California","Ensenada",22801,2,22801,null,9,1,1139,"Urbano",1]
[{"$f":"IF(C5687=base!$AC$2,ROW()+1,\"\")","v":{"$error":"#REF!"}},{"$f":"IF(C5687=base!$W$2,ROW()+1,\"\")","v":{"$error":"#REF!"}},22909,"Punta Colonet","Ejido","Ensenada","Baja California",null,22911,2,22911,null,15,1,1202,"Rural"]
[{"$f":"IF(C5771=base!$AC$2,ROW()+1,\"\")","v":{"$error":"#REF!"}},{"$f":"IF(C5771=base!$W$2,ROW()+1,\"\")","v":{"$error":"#REF!"}},22950,"Venustiano Carranza","Ejido","Ensenada","Baja California",null,22935,2,22935,null,15,1,1230,"Rural"]
[{"$f":"IF(C5845=base!$AC$2,ROW()+1,\"\")","v":{"$error":"#REF!"}},{"$f":"IF(C5845=base!$W$2,ROW()+1,\"\")","v":{"$error":"#REF!"}},23040,"ISSSTE","Colonia","La Paz","Baja California Sur","La Paz",23004,3,23004,null,9,3,438,"Urbano",2]
[{"$f":"IF(C5924=base!$AC$2,ROW()+1,\"\")","v":{"$error":"#REF!"}},{"$f":"IF(C5924=base!$W$2,ROW()+1,\"\")","v":{"$error":"#REF!"}},23079,"Unidad Domingo Carballo Félix","Unidad habitacional","La Paz","Baja California Sur","La Paz",23004,3,23004,null,31,3,87,"Urbano",2]
[{"$f":"IF(C6003=base!$AC$2,ROW()+1,\"\")","v":{"$error":"#REF!"}},{"$f":"IF(C6003=base!$W$2,ROW()+1,\"\")","v":{"$error":"#REF!"}},23089,"Paseos del Sol","Conjunto habitacional","La Paz","Baja California Sur","La Paz",23004,3,23004,null,12,3,579,"Urbano",2]
[{"$f":"IF(C6005=base!$AC$2,ROW()+1,\"\")","v":{"$error":"#REF!"}},{"$f":"IF(C6005=base!$W$2,ROW()+1,\"\")","v":{"$error":"#REF!"}},23089,"Parque Industrial","Colonia","La Paz","Baja California Sur","La Paz",23004,3,23004,null,9,3,720,"Urbano",2]
[{"$f":"IF(C6081=base!$AC$2,ROW()+1,\"\")","v":{"$error":"#REF!"}},{"$f":"IF(C6081=base!$W$2,ROW()+1,\"\")","v":{"$error":"#REF!"}},23205,"Chametla","Ejido","La Paz","Baja California Sur",null,23004,3,23004,null,15,3,126,"Semiurbano"]
[{"$f":"IF(C6164=base!$AC$2,ROW()+1,\"\")","v":{"$error":"#REF!"}},{"$f":"IF(C6164=base!$W$2,ROW()+1,\"\")","v":{"$error":"#REF!"}},23354,"Las Tinas","Poblado comunal","La Paz","Baja California Sur",null,23301,3,23301,null,27,3,951,"Rural"]
[{"$f":"IF(C6286=base!$AC$2,ROW()+1,\"\")","v":{"$error":"#REF!"}},{"$f":"IF(C6286=base!$W$2,ROW()+1,\"\")","v":{"$error":"#REF!"}},23456,"Lomas del Cabo","Fraccionamiento","Los Cabos","Baja California Sur","Cabo San Lucas",23452,3,23452,null,21,8,512,"Urbano",3]
[{"$f":"IF(C6313=base!$AC$2,ROW()+1,\"\")","v":{"$error":"#REF!"}},{"$f":"IF(C6313=base!$W$2,ROW()+1,\"\")","v":{"$error":"#REF!"}},23462,"Lagunitas","Unidad habitacional","Los Cabos","Baja California Sur","Cabo San Lucas",23452,3,23452,null,31,8,502,"Urbano",3]
[{"$f":"IF(C6367=base!$AC$2,ROW()+1,\"\")","v":{"$error":"#REF!"}},{"$f":"IF(C6367=base!$W$2,ROW()+1,\"\")","v":{"$error":"#REF!"}},23477,"Lomas del Valle","Fraccionamiento","Los Cabos","Baja California Sur","Cabo San Lucas",23452,3,23452,null,21,8,916,"Urbano",3]
[{"$f":"IF(C6471=base!$AC$2,ROW()+1,\"\")","v":{"$error":"#REF!"}},{"$f":"IF(C6471=base!$W$2,ROW()+1,\"\")","v":{"$error":"#REF!"}},23733,"Torres","Colonia","Comondú","Baja California Sur",null,23702,3,23702,null,9,1,291,"Rural"]
[{"$f":"IF(C6520=base!$AC$2,ROW()+1,\"\")","v":{"$error":"#REF!"}},{"$f":"IF(C6520=base!$W$2,ROW()+1,\"\")","v":{"$error":"#REF!"}},23844,"Jalisco","Ranchería","Comondú","Baja California Sur",null,23702,3,23702,null,29,1,349,"Rural"]
[{"$f":"IF(C6629=base!$AC$2,ROW()+1,\"\")","v":{"$error":"#REF!"}},{"$f":"IF(C6629=base!$W$2,ROW()+1,\"\")","v":{"$error":"#REF!"}},23896,"Los Sestiaderos","Ranchería","Loreto","Baja California Sur",null,23881,3,23881,null,29,9,826,"Rural"]
[{"$f":"IF(C6705=base!$AC$2,ROW()+1,\"\")","v":{"$error":"#REF!"}},{"$f":"IF(C6705=base!$W$2,ROW()+1,\"\")","v":{"$error":"#REF!"}},23923,"Lic Alfredo V Bonfil","Ejido","Mulegé","Baja California Sur",null,23941,3,23941,null,15,2,399,"Rural"]
[{"$f":"IF(C6787=base!$AC$2,ROW()+1,\"\")","v":{"$error":"#REF!"}},{"$f":"IF(C6787=base!$W$2,ROW()+1,\"\")","v":{"$error":"#REF!"}},24023,"Quinta Hermosa","Colonia","Campeche","Campeche","San Francisco de Campeche",24003,4,24003,null,9,2,1159,"Urbano",1]
[{"$f":"IF(C6858=base!$AC$2,ROW()+1,\"\")","v":{"$error":"#REF!"}},{"$f":"IF(C6858=base!$W$2,ROW()+1,\"\")","v":{"$error":"#REF!"}},24060,"Villas de Monte Real","Fraccionamiento","Campeche","Campeche","San Francisco de Campeche",24003,4,24003,null,21,2,1211,"Urbano",1]
[{"$f":"IF(C6865=base!$AC$2,ROW()+1,\"\")","v":{"$error":"#REF!"}},{"$f":"IF(C6865=base!$W$2,ROW()+1,\"\")","v":{"$error":"#REF!"}},24060,"Jardines","Colonia","Campeche","Campeche","San Francisco de Campeche",24003,4,24003,null,9,2,57,"Urbano",1]
[{"$f":"IF(C6939=base!$AC$2,ROW()+1,\"\")","v":{"$error":"#REF!"}},{"$f":"IF(C6939=base!$W$2,ROW()+1,\"\")","v":{"$error":"#REF!"}},24087,"Colonial Campeche Sección Maquiladora II","Fraccionamiento","Campeche","Campeche","San Francisco de Campeche",24003,4,24003,null,21,2,1056,"Urbano",1]
[{"$f":"IF(C7023=base!$AC$2,ROW()+1,\"\")","v":{"$error":"#REF!"}},{"$f":"IF(C7023=base!$W$2,ROW()+1,\"\")","v":{"$error":"#REF!"}},24116,"San Carlos","Colonia","Carmen","Campeche","Ciudad del Carmen",24101,4,24101,null,9,3,113,"Urbano",2]
[{"$f":"IF(C7092=base!$AC$2,ROW()+1,\"\")","v":{"$error":"#REF!"}},{"$f":"IF(C7092=base!$W$2,ROW()+1,\"\")","v":{"$error":"#REF!"}},24157,"Canterías","Fraccionamiento","Carmen","Campeche","Ciudad del Carmen",24101,4,24101,null,21,3,1270,"Urbano",2]
[{"$f":"IF(C7181=base!$AC$2,ROW()+1,\"\")","v":{"$error":"#REF!"}},{"$f":"IF(C7181=base!$W$2,ROW()+1,\"\")","v":{"$error":"#REF!"}},24205,"San Juan","Rancho","Palizada","Campeche",null,86784,4,86784,null,48,7,161,"Rural"]
[{"$f":"IF(C7277=base!$AC$2,ROW()+1,\"\")","v":{"$error":"#REF!"}},{"$f":"IF(C7277=base!$W$2,ROW()+1,\"\")","v":{"$error":"#REF!"}},24316,"2 de Marzo","Ranchería","Carmen","Campeche",null,24351,4,24351,null,29,3,927,"Rural"]
[{"$f":"IF(C7339=base!$AC$2,ROW()+1,\"\")","v":{"$error":"#REF!"}},{"$f":"IF(C7339=base!$W$2,ROW()+1,\"\")","v":{"$error":"#REF!"}},24327,"Palma","Ranchería","Carmen","Campeche",null,24101,4,24101,null,29,3,887,"Rural"]
[{"$f":"IF(C7430=base!$AC$2,ROW()+1,\"\")","v":{"$error":"#REF!"}},{"$f":"IF(C7430=base!$W$2,ROW()+1,\"\")","v":{"$error":"#REF!"}},24337,"La Amapola","Ranchería","Candelaria","Campeche",null,24331,4,24331,null,29,11,784,"Rural"]
[{"$f":"IF(C7497=base!$AC$2,ROW()+1,\"\")","v":{"$error":"#REF!"}},{"$f":"IF(C7497=base!$W$2,ROW()+1,\"\")","v":{"$error":"#REF!"}},24345,"La Tómbola","Ranchería","Candelaria","Campeche",null,24331,4,24331,null,29,11,790,"Rural"]
[{"$f":"IF(C7511=base!$AC$2,ROW()+1,\"\")","v":{"$error":"#REF!"}},{"$f":"IF(C7511=base!$W$2,ROW()+1,\"\")","v":{"$error":"#REF!"}},24346,"Arroyo de Cuba","Ranchería","Candelaria","Campeche",null,24331,4,24331,null,29,11,762,"Rural"]
[{"$f":"IF(C7646=base!$AC$2,ROW()+1,\"\")","v":{"$error":"#REF!"}},{"$f":"IF(C7646=base!$W$2,ROW()+1,\"\")","v":{"$error":"#REF!"}},24400,"La Playa","Colonia","Champotón","Campeche","Champotón",24401,4,24401,null,9,4,989,"Urbano",8]
[{"$f":"IF(C7664=base!$AC$2,ROW()+1,\"\")","v":{"$error":"#REF!"}},{"$f":"IF(C7664=base!$W$2,ROW()+1,\"\")","v":{"$error":"#REF!"}},24400,"Pozo del Monte","Colonia","Champotón","Campeche","Champotón",24401,4,24401,null,9,4,520,"Urbano",8]
[{"$f":"IF(C7733=base!$AC$2,ROW()+1,\"\")","v":{"$error":"#REF!"}},{"$f":"IF(C7733=base!$W$2,ROW()+1,\"\")","v":{"$error":"#REF!"}},24418,"5 de Febrero","Ejido","Champotón","Campeche",null,24351,4,24351,null,15,4,275,"Rural"]
[{"$f":"IF(C7849=base!$AC$2,ROW()+1,\"\")","v":{"$error":"#REF!"}},{"$f":"IF(C7849=base!$W$2,ROW()+1,\"\")","v":{"$error":"#REF!"}},24603,"Rancho Sosa","Ejido","Hopelchén","Campeche",null,24001,4,24001,null,15,6,1124,"Rural"]
[{"$f":"IF(C7891=base!$AC$2,ROW()+1,\"\")","v":{"$error":"#REF!"}},{"$f":"IF(C7891=base!$W$2,ROW()+1,\"\")","v":{"$error":"#REF!"}},24644,"Nuevo Becal","Ejido","Calakmul","Campeche",null,24351,4,24351,null,15,10,447,"Rural"]
[{"$f":"IF(C8002=base!$AC$2,ROW()+1,\"\")","v":{"$error":"#REF!"}},{"$f":"IF(C8002=base!$W$2,ROW()+1,\"\")","v":{"$error":"#REF!"}},24800,"San Antonio","Barrio","Hecelchakán","Campeche","Hecelchakán",24801,4,24801,null,2,5,521,"Rural",9]
[{"$f":"IF(C8049=base!$AC$2,ROW()+1,\"\")","v":{"$error":"#REF!"}},{"$f":"IF(C8049=base!$W$2,ROW()+1,\"\")","v":{"$error":"#REF!"}},24917,"San Nicolás","Pueblo","Calkiní","Campeche",null,24901,4,24901,null,28,1,494,"Rural"]
[{"$f":"IF(C8083=base!$AC$2,ROW()+1,\"\")","v":{"$error":"#REF!"}},{"$f":"IF(C8083=base!$W$2,ROW()+1,\"\")","v":{"$error":"#REF!"}},25010,"Vista Hermosa","Ampliación","Saltillo","Coahuila de Zaragoza","Saltillo",25001,5,25001,null,38,30,1806,"Urbano",8]
[{"$f":"IF(C8198=base!$AC$2,ROW()+1,\"\")","v":{"$error":"#REF!"}},{"$f":"IF(C8198=base!$W$2,ROW()+1,\"\")","v":{"$error":"#REF!"}},25047,"Los Alamitos","Colonia","Saltillo","Coahuila de Zaragoza","Saltillo",25001,5,25001,null,9,30,41,"Urbano",8]
[{"$f":"IF(C8236=base!$AC$2,ROW()+1,\"\")","v":{"$error":"#REF!"}},{"$f":"IF(C8236=base!$W$2,ROW()+1,\"\")","v":{"$error":"#REF!"}},25060,"Bellavista Mesa de Arizpe","Colonia","Saltillo","Coahuila de Zaragoza","Saltillo",25001,5,25001,null,9,30,2359,"Urbano",8]
[{"$f":"IF(C8356=base!$AC$2,ROW()+1,\"\")","v":{"$error":"#REF!"}},{"$f":"IF(C8356=base!$W$2,ROW()+1,\"\")","v":{"$error":"#REF!"}},25110,"Valle Satélite","Fraccionamiento","Saltillo","Coahuila de Zaragoza","Saltillo",25001,5,25001,null,21,30,2746,"Urbano",8]
[{"$f":"IF(C8421=base!$AC$2,ROW()+1,\"\")","v":{"$error":"#REF!"}},{"$f":"IF(C8421=base!$W$2,ROW()+1,\"\")","v":{"$error":"#REF!"}},25140,"María Luisa","Colonia","Saltillo","Coahuila de Zaragoza","Saltillo",25001,5,25001,null,9,30,2382,"Urbano",8]
[{"$f":"IF(C8443=base!$AC$2,ROW()+1,\"\")","v":{"$error":"#REF!"}},{"$f":"IF(C8443=base!$W$2,ROW()+1,\"\")","v":{"$error":"#REF!"}},25160,"Huerta los Pilares","Fraccionamiento","Saltillo","Coahuila de Zaragoza","Saltillo",25001,5,25001,null,21,30,2741,"Urbano",8]
[{"$f":"IF(C8574=base!$AC$2,ROW()+1,\"\")","v":{"$error":"#REF!"}},{"$f":"IF(C8574=base!$W$2,ROW()+1,\"\")","v":{"$error":"#REF!"}},25250,"Villas de San Gabriel","Residencial","Saltillo","Coahuila de Zaragoza","Saltillo",25281,5,25281,null,30,30,2373,"Urbano",8]
[{"$f":"IF(C8601=base!$AC$2,ROW()+1,\"\")","v":{"$error":"#REF!"}},{"$f":"IF(C8601=base!$W$2,ROW()+1,\"\")","v":{"$error":"#REF!"}},25280,"Jardines del Lago","Colonia","Saltillo","Coahuila de Zaragoza","Saltillo",25281,5,25281,null,9,30,240,"Urbano",8]
[{"$f":"IF(C8655=base!$AC$2,ROW()+1,\"\")","v":{"$error":"#REF!"}},{"$f":"IF(C8655=base!$W$2,ROW()+1,\"\")","v":{"$error":"#REF!"}},25296,"Balcones de La Aurora","Fraccionamiento","Saltillo","Coahuila de Zaragoza","Saltillo",25281,5,25281,null,21,30,2590,"Urbano",8]
[{"$f":"IF(C8750=base!$AC$2,ROW()+1,\"\")","v":{"$error":"#REF!"}},{"$f":"IF(C8750=base!$W$2,ROW()+1,\"\")","v":{"$error":"#REF!"}},25335,"Gómez Farías","Congregación","Saltillo","Coahuila de Zaragoza",null,25001,5,25001,null,11,30,329,"Rural"]
[{"$f":"IF(C8808=base!$AC$2,ROW()+1,\"\")","v":{"$error":"#REF!"}},{"$f":"IF(C8808=base!$W$2,ROW()+1,\"\")","v":{"$error":"#REF!"}},25380,"Escobedo","Congregación","Arteaga","Coahuila de Zaragoza",null,25001,5,25001,null,11,4,368,"Rural"]
[{"$f":"IF(C8908=base!$AC$2,ROW()+1,\"\")","v":{"$error":"#REF!"}},{"$f":"IF(C8908=base!$W$2,ROW()+1,\"\")","v":{"$error":"#REF!"}},25550,"Roberto Treviño","Ranchería","Abasolo","Coahuila de Zaragoza",null,25701,5,25701,null,29,1,3302,"Rural"]
[{"$f":"IF(C8961=base!$AC$2,ROW()+1,\"\")","v":{"$error":"#REF!"}},{"$f":"IF(C8961=base!$W$2,ROW()+1,\"\")","v":{"$error":"#REF!"}},25644,"Hermosa Providencia","Colonia","Frontera","Coahuila de Zaragoza","Frontera",25601,5,25601,null,9,10,2437,"Semiurbano",2]
[{"$f":"IF(C9066=base!$AC$2,ROW()+1,\"\")","v":{"$error":"#REF!"}},{"$f":"IF(C9066=base!$W$2,ROW()+1,\"\")","v":{"$error":"#REF!"}},25747,"Plan de Guadalupe","Colonia","Monclova","Coahuila de Zaragoza","Monclova",25701,5,25701,null,9,18,2987,"Urbano",4]
[{"$f":"IF(C9146=base!$AC$2,ROW()+1,\"\")","v":{"$error":"#REF!"}},{"$f":"IF(C9146=base!$W$2,ROW()+1,\"\")","v":{"$error":"#REF!"}},25775,"Oscar Flores Tapia","Colonia","Monclova","Coahuila de Zaragoza","Monclova",25701,5,25701,null,9,18,550,"Urbano",4]
[{"$f":"IF(C9153=base!$AC$2,ROW()+1,\"\")","v":{"$error":"#REF!"}},{"$f":"IF(C9153=base!$W$2,ROW()+1,\"\")","v":{"$error":"#REF!"}},25780,"Carmen Serdán","Colonia","Monclova","Coahuila de Zaragoza","Monclova",25701,5,25701,null,9,18,2630,"Urbano",4]
[{"$f":"IF(C9227=base!$AC$2,ROW()+1,\"\")","v":{"$error":"#REF!"}},{"$f":"IF(C9227=base!$W$2,ROW()+1,\"\")","v":{"$error":"#REF!"}},25870,"Libertad","Colonia","Castaños","Coahuila de Zaragoza","Castaños",25871,5,25871,null,9,6,2283,"Urbano",12]
[{"$f":"IF(C9302=base!$AC$2,ROW()+1,\"\")","v":{"$error":"#REF!"}},{"$f":"IF(C9302=base!$W$2,ROW()+1,\"\")","v":{"$error":"#REF!"}},25903,"Lomas del Valle II","Fraccionamiento","Ramos Arizpe","Coahuila de Zaragoza","Ramos Arizpe",25901,5,25901,null,21,27,3,"Urbano",16]
[{"$f":"IF(C9380=base!$AC$2,ROW()+1,\"\")","v":{"$error":"#REF!"}},{"$f":"IF(C9380=base!$W$2,ROW()+1,\"\")","v":{"$error":"#REF!"}},25933,"Higueras","Ejido","Ramos Arizpe","Coahuila de Zaragoza",null,25901,5,25901,null,15,27,662,"Rural"]
[{"$f":"IF(C9460=base!$AC$2,ROW()+1,\"\")","v":{"$error":"#REF!"}},{"$f":"IF(C9460=base!$W$2,ROW()+1,\"\")","v":{"$error":"#REF!"}},26015,"Los Montes II","Fraccionamiento","Piedras Negras","Coahuila de Zaragoza","Piedras Negras",26001,5,26001,null,21,25,3139,"Urbano",6]
[{"$f":"IF(C9533=base!$AC$2,ROW()+1,\"\")","v":{"$error":"#REF!"}},{"$f":"IF(C9533=base!$W$2,ROW()+1,\"\")","v":{"$error":"#REF!"}},26060,"Parque Industrial Piedras Negras","Zona industrial","Piedras Negras","Coahuila de Zaragoza","Piedras Negras",26001,5,26001,null,37,25,2618,"Urbano",6]
[{"$f":"IF(C9618=base!$AC$2,ROW()+1,\"\")","v":{"$error":"#REF!"}},{"$f":"IF(C9618=base!$W$2,ROW()+1,\"\")","v":{"$error":"#REF!"}},26095,"Parque Industrial Aeropuerto","Parque industrial","Piedras Negras","Coahuila de Zaragoza","Piedras Negras",26001,5,26001,null,26,25,3137,"Urbano",6]
[{"$f":"IF(C9718=base!$AC$2,ROW()+1,\"\")","v":{"$error":"#REF!"}},{"$f":"IF(C9718=base!$W$2,ROW()+1,\"\")","v":{"$error":"#REF!"}},26240,"Los Álamos","Colonia","Acuña","Coahuila de Zaragoza","Ciudad Acuña",26201,5,26201,null,9,2,808,"Urbano",1]
[{"$f":"IF(C9776=base!$AC$2,ROW()+1,\"\")","v":{"$error":"#REF!"}},{"$f":"IF(C9776=base!$W$2,ROW()+1,\"\")","v":{"$error":"#REF!"}},26293,"Potrero el Abuelo","Colonia","Acuña","Coahuila de Zaragoza","Ciudad Acuña",26201,5,26201,null,9,2,2676,"Urbano",1]
[{"$f":"IF(C9799=base!$AC$2,ROW()+1,\"\")","v":{"$error":"#REF!"}},{"$f":"IF(C9799=base!$W$2,ROW()+1,\"\")","v":{"$error":"#REF!"}},26342,"Azteca","Fraccionamiento","Múzquiz","Coahuila de Zaragoza","Ciudad Melchor Múzquiz",26341,5,26341,null,21,20,2098,"Rural",20]
[{"$f":"IF(C9934=base!$AC$2,ROW()+1,\"\")","v":{"$error":"#REF!"}},{"$f":"IF(C9934=base!$W$2,ROW()+1,\"\")","v":{"$error":"#REF!"}},26507,"Mi Ranchito","Ranchería","Morelos","Coahuila de Zaragoza",null,26531,5,26531,null,29,19,112,"Rural"]
[{"$f":"IF(C9952=base!$AC$2,ROW()+1,\"\")","v":{"$error":"#REF!"}},{"$f":"IF(C9952=base!$W$2,ROW()+1,\"\")","v":{"$error":"#REF!"}},26507,"Doctor Barrera","Ranchería","Morelos","Coahuila de Zaragoza",null,26531,5,26531,null,29,19,17,"Rural"]
[{"$f":"IF(C10012=base!$AC$2,ROW()+1,\"\")","v":{"$error":"#REF!"}},{"$f":"IF(C10012=base!$W$2,ROW()+1,\"\")","v":{"$error":"#REF!"}},26517,"Eleazar Omar Rodríguez","Ranchería","Morelos","Coahuila de Zaragoza",null,26531,5,26531,null,29,19,34,"Rural"]
[{"$f":"IF(C10105=base!$AC$2,ROW()+1,\"\")","v":{"$error":"#REF!"}},{"$f":"IF(C10105=base!$W$2,ROW()+1,\"\")","v":{"$error":"#REF!"}},26543,"Casa Blanca","Ranchería","Allende","Coahuila de Zaragoza",null,26531,5,26531,null,29,3,3320,"Rural"]
[{"$f":"IF(C10170=base!$AC$2,ROW()+1,\"\")","v":{"$error":"#REF!"}},{"$f":"IF(C10170=base!$W$2,ROW()+1,\"\")","v":{"$error":"#REF!"}},26557,"La Liebre","Ranchería","Allende","Coahuila de Zaragoza",null,26531,5,26531,null,29,3,3381,"Rural"]
[{"$f":"IF(C10290=base!$AC$2,ROW()+1,\"\")","v":{"$error":"#REF!"}},{"$f":"IF(C10290=base!$W$2,ROW()+1,\"\")","v":{"$error":"#REF!"}},26605,"El Silencio","Ranchería","Villa Unión","Coahuila de Zaragoza",null,26531,5,26531,null,29,37,3521,"Rural"]
[{"$f":"IF(C10328=base!$AC$2,ROW()+1,\"\")","v":{"$error":"#REF!"}},{"$f":"IF(C10328=base!$W$2,ROW()+1,\"\")","v":{"$error":"#REF!"}},26607,"Amparito","Ranchería","Villa Unión","Coahuila de Zaragoza",null,26531,5,26531,null,29,37,3462,"Rural"]
[{"$f":"IF(C10402=base!$AC$2,ROW()+1,\"\")","v":{"$error":"#REF!"}},{"$f":"IF(C10402=base!$W$2,ROW()+1,\"\")","v":{"$error":"#REF!"}},26623,"El Millón (El Milagro)","Ranchería","Villa Unión","Coahuila de Zaragoza",null,26531,5,26531,null,29,37,3508,"Rural"]
[{"$f":"IF(C10467=base!$AC$2,ROW()+1,\"\")","v":{"$error":"#REF!"}},{"$f":"IF(C10467=base!$W$2,ROW()+1,\"\")","v":{"$error":"#REF!"}},26650,"Santa Mónica","Hacienda","Guerrero","Coahuila de Zaragoza",null,26531,5,26531,null,24,12,912,"Rural"]
[{"$f":"IF(C10560=base!$AC$2,ROW()+1,\"\")","v":{"$error":"#REF!"}},{"$f":"IF(C10560=base!$W$2,ROW()+1,\"\")","v":{"$error":"#REF!"}},26860,"Doctores","Colonia","San Juan de Sabinas","Coahuila de Zaragoza","Nueva Rosita",26801,5,26801,null,9,32,2270,"Urbano",9]
[{"$f":"IF(C10580=base!$AC$2,ROW()+1,\"\")","v":{"$error":"#REF!"}},{"$f":"IF(C10580=base!$W$2,ROW()+1,\"\")","v":{"$error":"#REF!"}},26890,"Magisterial Sección 38","Colonia","San Juan de Sabinas","Coahuila de Zaragoza","Nueva Rosita",26801,5,26801,null,9,32,2312,"Urbano",9]
[{"$f":"IF(C10718=base!$AC$2,ROW()+1,\"\")","v":{"$error":"#REF!"}},{"$f":"IF(C10718=base!$W$2,ROW()+1,\"\")","v":{"$error":"#REF!"}},27083,"José de las Fuentes","Colonia","Torreón","Coahuila de Zaragoza","Torreón",27271,5,27271,null,9,35,2491,"Urbano",11]
[{"$f":"IF(C10733=base!$AC$2,ROW()+1,\"\")","v":{"$error":"#REF!"}},{"$f":"IF(C10733=base!$W$2,ROW()+1,\"\")","v":{"$error":"#REF!"}},27086,"Oscar Flores Tapia","Colonia","Torreón","Coahuila de Zaragoza","Torreón",27271,5,27271,null,9,35,1040,"Urbano",11]
[{"$f":"IF(C10796=base!$AC$2,ROW()+1,\"\")","v":{"$error":"#REF!"}},{"$f":"IF(C10796=base!$W$2,ROW()+1,\"\")","v":{"$error":"#REF!"}},27105,"Las Villas 3ra Etapa","Fraccionamiento","Torreón","Coahuila de Zaragoza","Torreón",27001,5,27001,null,21,35,3015,"Urbano",11]
[{"$f":"IF(C10886=base!$AC$2,ROW()+1,\"\")","v":{"$error":"#REF!"}},{"$f":"IF(C10886=base!$W$2,ROW()+1,\"\")","v":{"$error":"#REF!"}},27270,"Provitec","Colonia","Torreón","Coahuila de Zaragoza","Torreón",27271,5,27271,null,9,35,1118,"Urbano",11]
[{"$f":"IF(C10954=base!$AC$2,ROW()+1,\"\")","v":{"$error":"#REF!"}},{"$f":"IF(C10954=base!$W$2,ROW()+1,\"\")","v":{"$error":"#REF!"}},27294,"Los Cedros","Residencial","Torreón","Coahuila de Zaragoza","Torreón",27271,5,27271,null,30,35,2480,"Urbano",11]
[{"$f":"IF(C11039=base!$AC$2,ROW()+1,\"\")","v":{"$error":"#REF!"}},{"$f":"IF(C11039=base!$W$2,ROW()+1,\"\")","v":{"$error":"#REF!"}},27405,"La Barranca","Ejido","Torreón","Coahuila de Zaragoza",null,27001,5,27001,null,15,35,3726,"Rural"]
[{"$f":"IF(C11112=base!$AC$2,ROW()+1,\"\")","v":{"$error":"#REF!"}},{"$f":"IF(C11112=base!$W$2,ROW()+1,\"\")","v":{"$error":"#REF!"}},27430,"Rancho Alegre","Ejido","Torreón","Coahuila de Zaragoza",null,27001,5,27001,null,15,35,1198,"Rural"]
[{"$f":"IF(C11152=base!$AC$2,ROW()+1,\"\")","v":{"$error":"#REF!"}},{"$f":"IF(C11152=base!$W$2,ROW()+1,\"\")","v":{"$error":"#REF!"}},27438,"Juan Eugenio Número Uno","Ejido","Torreón","Coahuila de Zaragoza",null,27001,5,27001,null,15,35,3725,"Rural"]
[{"$f":"IF(C11270=base!$AC$2,ROW()+1,\"\")","v":{"$error":"#REF!"}},{"$f":"IF(C11270=base!$W$2,ROW()+1,\"\")","v":{"$error":"#REF!"}},27457,"El Fuerte","Ranchería","Matamoros","Coahuila de Zaragoza",null,27001,5,27001,null,29,17,3967,"Rural"]
[{"$f":"IF(C11305=base!$AC$2,ROW()+1,\"\")","v":{"$error":"#REF!"}},{"$f":"IF(C11305=base!$W$2,ROW()+1,\"\")","v":{"$error":"#REF!"}},27465,"Veintiuno de Marzo (La Reforma)","Ejido","Matamoros","Coahuila de Zaragoza",null,27441,5,27441,null,15,17,4047,"Rural"]
[{"$f":"IF(C11428=base!$AC$2,ROW()+1,\"\")","v":{"$error":"#REF!"}},{"$f":"IF(C11428=base!$W$2,ROW()+1,\"\")","v":{"$error":"#REF!"}},27507,"Nuevo Reforma","Ejido","Ocampo","Coahuila de Zaragoza",null,27641,5,27641,null,15,23,1348,"Rural"]
[{"$f":"IF(C11458=base!$AC$2,ROW()+1,\"\")","v":{"$error":"#REF!"}},{"$f":"IF(C11458=base!$W$2,ROW()+1,\"\")","v":{"$error":"#REF!"}},27545,"Laguna del Rey","Ejido","Ocampo","Coahuila de Zaragoza",null,27641,5,27641,null,15,23,2,"Rural"]
[{"$f":"IF(C11577=base!$AC$2,ROW()+1,\"\")","v":{"$error":"#REF!"}},{"$f":"IF(C11577=base!$W$2,ROW()+1,\"\")","v":{"$error":"#REF!"}},27847,"La Quinta","Fraccionamiento","San Pedro","Coahuila de Zaragoza","San Pedro",27801,5,27801,null,21,33,1458,"Semiurbano",10]
[{"$f":"IF(C11611=base!$AC$2,ROW()+1,\"\")","v":{"$error":"#REF!"}},{"$f":"IF(C11611=base!$W$2,ROW()+1,\"\")","v":{"$error":"#REF!"}},27905,"Torres del PRI","Colonia","Francisco I. Madero","Coahuila de Zaragoza","Francisco I. Madero (Chávez)",27901,5,27901,null,9,9,4237,"Urbano",13]
[{"$f":"IF(C11664=base!$AC$2,ROW()+1,\"\")","v":{"$error":"#REF!"}},{"$f":"IF(C11664=base!$W$2,ROW()+1,\"\")","v":{"$error":"#REF!"}},27914,"Buenavista de Arriba","Ejido","Francisco I. Madero","Coahuila de Zaragoza",null,27901,5,27901,null,15,9,1487,"Rural"]
[{"$f":"IF(C11724=base!$AC$2,ROW()+1,\"\")","v":{"$error":"#REF!"}},{"$f":"IF(C11724=base!$W$2,ROW()+1,\"\")","v":{"$error":"#REF!"}},27918,"Alamito (Ignacio Martínez Tricio)","Ejido","Francisco I. Madero","Coahuila de Zaragoza",null,27901,5,27901,null,15,9,4060,"Rural"]
[{"$f":"IF(C11822=base!$AC$2,ROW()+1,\"\")","v":{"$error":"#REF!"}},{"$f":"IF(C11822=base!$W$2,ROW()+1,\"\")","v":{"$error":"#REF!"}},27927,"Batopilas","Ejido","Francisco I. Madero","Coahuila de Zaragoza",null,27901,5,27901,null,15,9,4068,"Rural"]
[{"$f":"IF(C11877=base!$AC$2,ROW()+1,\"\")","v":{"$error":"#REF!"}},{"$f":"IF(C11877=base!$W$2,ROW()+1,\"\")","v":{"$error":"#REF!"}},27944,"Diez de Mayo (El Grupo)","Ejido","San Pedro","Coahuila de Zaragoza",null,27901,5,27901,null,15,33,3801,"Rural"]
[{"$f":"IF(C11980=base!$AC$2,ROW()+1,\"\")","v":{"$error":"#REF!"}},{"$f":"IF(C11980=base!$W$2,ROW()+1,\"\")","v":{"$error":"#REF!"}},27955,"Ignacio Zaragoza","Ejido","San Pedro","Coahuila de Zaragoza",null,27801,5,27801,null,15,33,1589,"Rural"]
[{"$f":"IF(C12030=base!$AC$2,ROW()+1,\"\")","v":{"$error":"#REF!"}},{"$f":"IF(C12030=base!$W$2,ROW()+1,\"\")","v":{"$error":"#REF!"}},27960,"Las Margaritas","Ranchería","San Pedro","Coahuila de Zaragoza",null,27801,5,27801,null,29,33,3849,"Rural"]
[{"$f":"IF(C12129=base!$AC$2,ROW()+1,\"\")","v":{"$error":"#REF!"}},{"$f":"IF(C12129=base!$W$2,ROW()+1,\"\")","v":{"$error":"#REF!"}},27990,"San José de Mahoma","Ranchería","Parras","Coahuila de Zaragoza",null,27981,5,27981,null,29,24,1635,"Rural"]
[{"$f":"IF(C12183=base!$AC$2,ROW()+1,\"\")","v":{"$error":"#REF!"}},{"$f":"IF(C12183=base!$W$2,ROW()+1,\"\")","v":{"$error":"#REF!"}},27996,"Cacama","Estación","Parras","Coahuila de Zaragoza",null,27981,5,27981,null,16,24,1678,"Rural"]
[{"$f":"IF(C12287=base!$AC$2,ROW()+1,\"\")","v":{"$error":"#REF!"}},{"$f":"IF(C12287=base!$W$2,ROW()+1,\"\")","v":{"$error":"#REF!"}},28048,"Gustavo Vázquez Montes","Colonia","Colima","Colima","Colima",28001,6,28001,null,9,2,723,"Urbano",1]
[{"$f":"IF(C12336=base!$AC$2,ROW()+1,\"\")","v":{"$error":"#REF!"}},{"$f":"IF(C12336=base!$W$2,ROW()+1,\"\")","v":{"$error":"#REF!"}},28110,"Miguel Hidalgo","Colonia","Tecomán","Colima","Tecoman",28101,6,28101,null,9,9,100,"Semiurbano",3]
[{"$f":"IF(C12374=base!$AC$2,ROW()+1,\"\")","v":{"$error":"#REF!"}},{"$f":"IF(C12374=base!$W$2,ROW()+1,\"\")","v":{"$error":"#REF!"}},28140,"Villa Florida","Colonia","Tecomán","Colima","Tecoman",28101,6,28101,null,9,9,115,"Semiurbano",3]
[{"$f":"IF(C12449=base!$AC$2,ROW()+1,\"\")","v":{"$error":"#REF!"}},{"$f":"IF(C12449=base!$W$2,ROW()+1,\"\")","v":{"$error":"#REF!"}},28239,"San Carlos","Colonia","Manzanillo","Colima","Manzanillo",28201,6,28201,null,9,7,588,"Urbano",2]
[{"$f":"IF(C12532=base!$AC$2,ROW()+1,\"\")","v":{"$error":"#REF!"}},{"$f":"IF(C12532=base!$W$2,ROW()+1,\"\")","v":{"$error":"#REF!"}},28450,"La Trinidad","Colonia","Comala","Colima",null,28451,6,28451,null,9,3,782,"Rural"]
[{"$f":"IF(C12602=base!$AC$2,ROW()+1,\"\")","v":{"$error":"#REF!"}},{"$f":"IF(C12602=base!$W$2,ROW()+1,\"\")","v":{"$error":"#REF!"}},28602,"Las Anonas","Ranchería","Colima","Colima",null,28001,6,28001,null,29,2,243,"Rural"]
[{"$f":"IF(C12681=base!$AC$2,ROW()+1,\"\")","v":{"$error":"#REF!"}},{"$f":"IF(C12681=base!$W$2,ROW()+1,\"\")","v":{"$error":"#REF!"}},28800,"Arturo Noriega Pizano","Colonia","Manzanillo","Colima",null,28201,6,28201,null,9,7,457,"Urbano"]
[{"$f":"IF(C12755=base!$AC$2,ROW()+1,\"\")","v":{"$error":"#REF!"}},{"$f":"IF(C12755=base!$W$2,ROW()+1,\"\")","v":{"$error":"#REF!"}},28864,"Cantamar","Fraccionamiento","Manzanillo","Colima","Manzanillo",28861,6,28861,null,21,7,5,"Urbano",2]
[{"$f":"IF(C12839=base!$AC$2,ROW()+1,\"\")","v":{"$error":"#REF!"}},{"$f":"IF(C12839=base!$W$2,ROW()+1,\"\")","v":{"$error":"#REF!"}},28915,"El Rosario","Ranchería","Tecomán","Colima",null,28101,6,28101,null,29,9,360,"Rural"]
[{"$f":"IF(C12908=base!$AC$2,ROW()+1,\"\")","v":{"$error":"#REF!"}},{"$f":"IF(C12908=base!$W$2,ROW()+1,\"\")","v":{"$error":"#REF!"}},28978,"Real Santa Fe","Fraccionamiento","Villa de Álvarez","Colima","Ciudad de Villa de Álvarez",28971,6,28971,null,21,10,807,"Urbano",4]
[{"$f":"IF(C12997=base!$AC$2,ROW()+1,\"\")","v":{"$error":"#REF!"}},{"$f":"IF(C12997=base!$W$2,ROW()+1,\"\")","v":{"$error":"#REF!"}},28989,"Leandro Valle","Colonia","Villa de Álvarez","Colima","Ciudad de Villa de Álvarez",28971,6,28971,null,9,10,445,"Semiurbano",4]
[{"$f":"IF(C13021=base!$AC$2,ROW()+1,\"\")","v":{"$error":"#REF!"}},{"$f":"IF(C13021=base!$W$2,ROW()+1,\"\")","v":{"$error":"#REF!"}},29010,"Nueva Reforma","Colonia","Tuxtla Gutiérrez","Chiapas","Tuxtla Gutiérrez",29002,7,29002,null,9,101,19,"Urbano",4]
[{"$f":"IF(C13084=base!$AC$2,ROW()+1,\"\")","v":{"$error":"#REF!"}},{"$f":"IF(C13084=base!$W$2,ROW()+1,\"\")","v":{"$error":"#REF!"}},29019,"Patrocinio González","Colonia","Tuxtla Gutiérrez","Chiapas","Tuxtla Gutiérrez",29002,7,29002,null,9,101,2814,"Urbano",4]
[{"$f":"IF(C13174=base!$AC$2,ROW()+1,\"\")","v":{"$error":"#REF!"}},{"$f":"IF(C13174=base!$W$2,ROW()+1,\"\")","v":{"$error":"#REF!"}},29037,"Rincón Potinaspak","Colonia","Tuxtla Gutiérrez","Chiapas","Tuxtla Gutiérrez",29002,7,29002,null,9,101,2839,"Urbano",4]
[{"$f":"IF(C13233=base!$AC$2,ROW()+1,\"\")","v":{"$error":"#REF!"}},{"$f":"IF(C13233=base!$W$2,ROW()+1,\"\")","v":{"$error":"#REF!"}},29045,"Evolución Política Mexicana","Colonia","Tuxtla Gutiérrez","Chiapas","Tuxtla Gutiérrez",29041,7,29041,null,9,101,2809,"Urbano",4]
[{"$f":"IF(C13327=base!$AC$2,ROW()+1,\"\")","v":{"$error":"#REF!"}},{"$f":"IF(C13327=base!$W$2,ROW()+1,\"\")","v":{"$error":"#REF!"}},29059,"Solidaridad Chiapaneca","Colonia","Tuxtla Gutiérrez","Chiapas","Tuxtla Gutiérrez",29052,7,29052,null,9,101,161,"Urbano",4]
[{"$f":"IF(C13391=base!$AC$2,ROW()+1,\"\")","v":{"$error":"#REF!"}},{"$f":"IF(C13391=base!$W$2,ROW()+1,\"\")","v":{"$error":"#REF!"}},29076,"Emiliano Zapata","Colonia","Tuxtla Gutiérrez","Chiapas","Tuxtla Gutiérrez",29041,7,29041,null,9,101,207,"Urbano",4]
[{"$f":"IF(C13480=base!$AC$2,ROW()+1,\"\")","v":{"$error":"#REF!"}},{"$f":"IF(C13480=base!$W$2,ROW()+1,\"\")","v":{"$error":"#REF!"}},29120,"Francisco I Madero","Ranchería","San Fernando","Chiapas",null,29121,7,29121,null,29,79,255,"Rural"]
[{"$f":"IF(C13549=base!$AC$2,ROW()+1,\"\")","v":{"$error":"#REF!"}},{"$f":"IF(C13549=base!$W$2,ROW()+1,\"\")","v":{"$error":"#REF!"}},29140,"Chucamay","Colonia","Ocozocoautla de Espinosa","Chiapas","Ocozocoautla de Espinosa",29141,7,29141,null,9,61,4285,"Semiurbano",17]
[{"$f":"IF(C13593=base!$AC$2,ROW()+1,\"\")","v":{"$error":"#REF!"}},{"$f":"IF(C13593=base!$W$2,ROW()+1,\"\")","v":{"$error":"#REF!"}},29149,"Emilio Rabasa","Poblado comunal","Ocozocoautla de Espinosa","Chiapas",null,29141,7,29141,null,27,61,6747,"Rural"]
[{"$f":"IF(C13707=base!$AC$2,ROW()+1,\"\")","v":{"$error":"#REF!"}},{"$f":"IF(C13707=base!$W$2,ROW()+1,\"\")","v":{"$error":"#REF!"}},29183,"El Canelar","Colonia","Chiapa de Corzo","Chiapas",null,29161,7,29161,null,9,27,2932,"Rural"]
[{"$f":"IF(C13746=base!$AC$2,ROW()+1,\"\")","v":{"$error":"#REF!"}},{"$f":"IF(C13746=base!$W$2,ROW()+1,\"\")","v":{"$error":"#REF!"}},29218,"Getzemani","Colonia","San Cristóbal de las Casas","Chiapas","San Cristóbal de las Casas",29201,7,29201,null,9,78,334,"Urbano",2]
[{"$f":"IF(C13865=base!$AC$2,ROW()+1,\"\")","v":{"$error":"#REF!"}},{"$f":"IF(C13865=base!$W$2,ROW()+1,\"\")","v":{"$error":"#REF!"}},29288,"Santa Martha","Colonia","San Cristóbal de las Casas","Chiapas","San Cristóbal de las Casas",29201,7,29201,null,9,78,2510,"Urbano",2]
[{"$f":"IF(C13899=base!$AC$2,ROW()+1,\"\")","v":{"$error":"#REF!"}},{"$f":"IF(C13899=base!$W$2,ROW()+1,\"\")","v":{"$error":"#REF!"}},29300,"Zacualpan de Ecatepec","Pueblo","San Cristóbal de las Casas","Chiapas",null,29201,7,29201,null,28,78,399,"Rural"]
[{"$f":"IF(C13943=base!$AC$2,ROW()+1,\"\")","v":{"$error":"#REF!"}},{"$f":"IF(C13943=base!$W$2,ROW()+1,\"\")","v":{"$error":"#REF!"}},29325,"Botatulán","Colonia","Chamula","Chiapas",null,29201,7,29201,null,9,23,9,"Rural"]
[{"$f":"IF(C14052=base!$AC$2,ROW()+1,\"\")","v":{"$error":"#REF!"}},{"$f":"IF(C14052=base!$W$2,ROW()+1,\"\")","v":{"$error":"#REF!"}},29374,"12 de Diciembre","Colonia","Acala","Chiapas","Acala",29371,7,29371,null,9,2,2369,"Semiurbano",25]
[{"$f":"IF(C14101=base!$AC$2,ROW()+1,\"\")","v":{"$error":"#REF!"}},{"$f":"IF(C14101=base!$W$2,ROW()+1,\"\")","v":{"$error":"#REF!"}},29380,"San Joaquín","Ranchería","Acala","Chiapas",null,29371,7,29371,null,29,2,476,"Rural"]
[{"$f":"IF(C14165=base!$AC$2,ROW()+1,\"\")","v":{"$error":"#REF!"}},{"$f":"IF(C14165=base!$W$2,ROW()+1,\"\")","v":{"$error":"#REF!"}},29385,"El Paraíso","Ranchería","Acala","Chiapas",null,29371,7,29371,null,29,2,3185,"Rural"]
[{"$f":"IF(C14259=base!$AC$2,ROW()+1,\"\")","v":{"$error":"#REF!"}},{"$f":"IF(C14259=base!$W$2,ROW()+1,\"\")","v":{"$error":"#REF!"}},29460,"Chaonil","Pueblo","Oxchuc","Chiapas",null,29201,7,29201,null,28,64,509,"Rural"]
[{"$f":"IF(C14318=base!$AC$2,ROW()+1,\"\")","v":{"$error":"#REF!"}},{"$f":"IF(C14318=base!$W$2,ROW()+1,\"\")","v":{"$error":"#REF!"}},29500,"El Carmen","Colonia","Reforma","Chiapas","Reforma",29501,7,29501,null,9,74,2323,"Rural",22]
[{"$f":"IF(C14417=base!$AC$2,ROW()+1,\"\")","v":{"$error":"#REF!"}},{"$f":"IF(C14417=base!$W$2,ROW()+1,\"\")","v":{"$error":"#REF!"}},29524,"El Sinai","Ranchería","Pichucalco","Chiapas",null,29521,7,29521,null,29,68,4063,"Rural"]
[{"$f":"IF(C14471=base!$AC$2,ROW()+1,\"\")","v":{"$error":"#REF!"}},{"$f":"IF(C14471=base!$W$2,ROW()+1,\"\")","v":{"$error":"#REF!"}},29557,"Lindavista","Ejido","Ostuacán","Chiapas",null,29521,7,29521,null,15,62,614,"Rural"]
[{"$f":"IF(C14566=base!$AC$2,ROW()+1,\"\")","v":{"$error":"#REF!"}},{"$f":"IF(C14566=base!$W$2,ROW()+1,\"\")","v":{"$error":"#REF!"}},29606,"El Limoncito","Colonia","Tecpatán","Chiapas",null,29611,7,29611,null,9,92,3791,"Rural"]
[{"$f":"IF(C14649=base!$AC$2,ROW()+1,\"\")","v":{"$error":"#REF!"}},{"$f":"IF(C14649=base!$W$2,ROW()+1,\"\")","v":{"$error":"#REF!"}},29623,"Copano","Colonia","Copainalá","Chiapas",null,29621,7,29621,null,9,21,653,"Rural"]
[{"$f":"IF(C14680=base!$AC$2,ROW()+1,\"\")","v":{"$error":"#REF!"}},{"$f":"IF(C14680=base!$W$2,ROW()+1,\"\")","v":{"$error":"#REF!"}},29630,"San Vicente","Colonia","Copainalá","Chiapas",null,29621,7,29621,null,9,21,4114,"Rural"]
[{"$f":"IF(C14727=base!$AC$2,ROW()+1,\"\")","v":{"$error":"#REF!"}},{"$f":"IF(C14727=base!$W$2,ROW()+1,\"\")","v":{"$error":"#REF!"}},29680,"Lagunilla","Barrio","Ocotepec","Chiapas",null,29621,7,29621,null,2,60,3247,"Rural"]
[{"$f":"IF(C14833=base!$AC$2,ROW()+1,\"\")","v":{"$error":"#REF!"}},{"$f":"IF(C14833=base!$W$2,ROW()+1,\"\")","v":{"$error":"#REF!"}},29723,"Agua Azul","Poblado comunal","Ixhuatán","Chiapas",null,29731,7,29731,null,27,42,6745,"Rural"]
[{"$f":"IF(C14885=base!$AC$2,ROW()+1,\"\")","v":{"$error":"#REF!"}},{"$f":"IF(C14885=base!$W$2,ROW()+1,\"\")","v":{"$error":"#REF!"}},29740,"Rayón","Pueblo","Rayón","Chiapas",null,29731,7,29731,null,28,73,720,"Rural"]
[{"$f":"IF(C14986=base!$AC$2,ROW()+1,\"\")","v":{"$error":"#REF!"}},{"$f":"IF(C14986=base!$W$2,ROW()+1,\"\")","v":{"$error":"#REF!"}},29776,"La Laguna","Colonia","Bochil","Chiapas",null,29771,7,29771,null,9,13,3671,"Rural"]
[{"$f":"IF(C15043=base!$AC$2,ROW()+1,\"\")","v":{"$error":"#REF!"}},{"$f":"IF(C15043=base!$W$2,ROW()+1,\"\")","v":{"$error":"#REF!"}},29820,"Burócratas","Barrio","Simojovel","Chiapas",null,29821,7,29821,null,2,81,5291,"Rural"]
[{"$f":"IF(C15099=base!$AC$2,ROW()+1,\"\")","v":{"$error":"#REF!"}},{"$f":"IF(C15099=base!$W$2,ROW()+1,\"\")","v":{"$error":"#REF!"}},29826,"Rivera Domínguez Fracción II","Ranchería","Simojovel","Chiapas",null,29821,7,29821,null,29,81,5211,"Rural"]
[{"$f":"IF(C15201=base!$AC$2,ROW()+1,\"\")","v":{"$error":"#REF!"}},{"$f":"IF(C15201=base!$W$2,ROW()+1,\"\")","v":{"$error":"#REF!"}},29862,"Tres Puentes Uno","Colonia","Larráinzar","Chiapas",null,29201,7,29201,null,9,49,6775,"Rural"]
[{"$f":"IF(C15252=base!$AC$2,ROW()+1,\"\")","v":{"$error":"#REF!"}},{"$f":"IF(C15252=base!$W$2,ROW()+1,\"\")","v":{"$error":"#REF!"}},29872,"Agua Viva","Ranchería","Chenalhó","Chiapas",null,29201,7,29201,null,29,26,11,"Rural"]
[{"$f":"IF(C15359=base!$AC$2,ROW()+1,\"\")","v":{"$error":"#REF!"}},{"$f":"IF(C15359=base!$W$2,ROW()+1,\"\")","v":{"$error":"#REF!"}},29902,"Tamaulipas","Ejido","Salto de Agua","Chiapas",null,29901,7,29901,null,15,77,61,"Rural"]
[{"$f":"IF(C15405=base!$AC$2,ROW()+1,\"\")","v":{"$error":"#REF!"}},{"$f":"IF(C15405=base!$W$2,ROW()+1,\"\")","v":{"$error":"#REF!"}},29904,"El Danubio","Ejido","Salto de Agua","Chiapas",null,29901,7,29901,null,15,77,101,"Rural"]
[{"$f":"IF(C15508=base!$AC$2,ROW()+1,\"\")","v":{"$error":"#REF!"}},{"$f":"IF(C15508=base!$W$2,ROW()+1,\"\")","v":{"$error":"#REF!"}},29907,"El Guanalito","Ejido","Salto de Agua","Chiapas",null,29901,7,29901,null,15,77,170,"Rural"]
[{"$f":"IF(C15558=base!$AC$2,ROW()+1,\"\")","v":{"$error":"#REF!"}},{"$f":"IF(C15558=base!$W$2,ROW()+1,\"\")","v":{"$error":"#REF!"}},29917,"Los Mangos","Colonia","Tila","Chiapas",null,29931,7,29931,null,9,96,6,"Rural"]
[{"$f":"IF(C15595=base!$AC$2,ROW()+1,\"\")","v":{"$error":"#REF!"}},{"$f":"IF(C15595=base!$W$2,ROW()+1,\"\")","v":{"$error":"#REF!"}},29930,"Flores","Barrio","Yajalón","Chiapas",null,29931,7,29931,null,2,109,3853,"Urbano"]
[{"$f":"IF(C15671=base!$AC$2,ROW()+1,\"\")","v":{"$error":"#REF!"}},{"$f":"IF(C15671=base!$W$2,ROW()+1,\"\")","v":{"$error":"#REF!"}},29950,"San Jacinto Puerto Arturo","Barrio","Ocosingo","Chiapas","Ocosingo",29951,7,29951,null,2,59,2088,"Semiurbano",11]
[{"$f":"IF(C15753=base!$AC$2,ROW()+1,\"\")","v":{"$error":"#REF!"}},{"$f":"IF(C15753=base!$W$2,ROW()+1,\"\")","v":{"$error":"#REF!"}},29950,"Betania","Barrio","Ocosingo","Chiapas","Ocosingo",29951,7,29951,null,2,59,2103,"Semiurbano",11]
[{"$f":"IF(C15824=base!$AC$2,ROW()+1,\"\")","v":{"$error":"#REF!"}},{"$f":"IF(C15824=base!$W$2,ROW()+1,\"\")","v":{"$error":"#REF!"}},29957,"Zamora Pico de Oro","Pueblo","Marqués de Comillas","Chiapas",null,29961,7,29961,null,28,116,939,"Rural"]
[{"$f":"IF(C15911=base!$AC$2,ROW()+1,\"\")","v":{"$error":"#REF!"}},{"$f":"IF(C15911=base!$W$2,ROW()+1,\"\")","v":{"$error":"#REF!"}},29966,"Las delicias","Ejido","Palenque","Chiapas",null,29961,7,29961,null,15,65,969,"Rural"]
[{"$f":"IF(C15977=base!$AC$2,ROW()+1,\"\")","v":{"$error":"#REF!"}},{"$f":"IF(C15977=base!$W$2,ROW()+1,\"\")","v":{"$error":"#REF!"}},30015,"San Antonio","Barrio","Comitán de Domínguez","Chiapas","Comitán de Domínguez",30001,7,30001,null,2,19,1013,"Urbano",1]
[{"$f":"IF(C16060=base!$AC$2,ROW()+1,\"\")","v":{"$error":"#REF!"}},{"$f":"IF(C16060=base!$W$2,ROW()+1,\"\")","v":{"$error":"#REF!"}},30073,"Las Tinajas","Fraccionamiento","Comitán de Domínguez","Chiapas","Comitán de Domínguez",30001,7,30001,null,21,19,5664,"Urbano",1]
[{"$f":"IF(C16130=base!$AC$2,ROW()+1,\"\")","v":{"$error":"#REF!"}},{"$f":"IF(C16130=base!$W$2,ROW()+1,\"\")","v":{"$error":"#REF!"}},30123,"20 de Noviembre","Ejido","Chicomuselo","Chiapas",null,30141,7,30141,null,15,30,2,"Rural"]
[{"$f":"IF(C16218=base!$AC$2,ROW()+1,\"\")","v":{"$error":"#REF!"}},{"$f":"IF(C16218=base!$W$2,ROW()+1,\"\")","v":{"$error":"#REF!"}},30147,"Guadalupe Grijalva","Ejido","Frontera Comalapa","Chiapas",null,30141,7,30141,null,15,34,1118,"Rural"]
[{"$f":"IF(C16283=base!$AC$2,ROW()+1,\"\")","v":{"$error":"#REF!"}},{"$f":"IF(C16283=base!$W$2,ROW()+1,\"\")","v":{"$error":"#REF!"}},30170,"El Mango","Barrio","La Independencia","Chiapas",null,30001,7,30001,null,2,41,4,"Urbano"]
[{"$f":"IF(C16305=base!$AC$2,ROW()+1,\"\")","v":{"$error":"#REF!"}},{"$f":"IF(C16305=base!$W$2,ROW()+1,\"\")","v":{"$error":"#REF!"}},30172,"Ojo de Agua","Pueblo","La Independencia","Chiapas",null,30001,7,30001,null,28,41,1180,"Rural"]
[{"$f":"IF(C16396=base!$AC$2,ROW()+1,\"\")","v":{"$error":"#REF!"}},{"$f":"IF(C16396=base!$W$2,ROW()+1,\"\")","v":{"$error":"#REF!"}},30178,"Francisco Sarabia","Pueblo","La Independencia","Chiapas",null,30001,7,30001,null,28,41,1187,"Rural"]
[{"$f":"IF(C16463=base!$AC$2,ROW()+1,\"\")","v":{"$error":"#REF!"}},{"$f":"IF(C16463=base!$W$2,ROW()+1,\"\")","v":{"$error":"#REF!"}},30188,"San Vicente El Encanto","Pueblo","Las Margaritas","Chiapas",null,30186,7,30186,null,28,52,1232,"Rural"]
[{"$f":"IF(C16549=base!$AC$2,ROW()+1,\"\")","v":{"$error":"#REF!"}},{"$f":"IF(C16549=base!$W$2,ROW()+1,\"\")","v":{"$error":"#REF!"}},30194,"Revolución","Ejido","Altamirano","Chiapas",null,29951,7,29951,null,15,4,5420,"Rural"]
[{"$f":"IF(C16612=base!$AC$2,ROW()+1,\"\")","v":{"$error":"#REF!"}},{"$f":"IF(C16612=base!$W$2,ROW()+1,\"\")","v":{"$error":"#REF!"}},30196,"Campo Alegre","Ejido","Altamirano","Chiapas",null,29951,7,29951,null,15,4,5474,"Rural"]
[{"$f":"IF(C16702=base!$AC$2,ROW()+1,\"\")","v":{"$error":"#REF!"}},{"$f":"IF(C16702=base!$W$2,ROW()+1,\"\")","v":{"$error":"#REF!"}},30362,"Nuevo Guerrero","Pueblo","La Concordia","Chiapas",null,30361,7,30361,null,28,20,2857,"Rural"]
[{"$f":"IF(C16770=base!$AC$2,ROW()+1,\"\")","v":{"$error":"#REF!"}},{"$f":"IF(C16770=base!$W$2,ROW()+1,\"\")","v":{"$error":"#REF!"}},30374,"San Francisco","Ranchería","Angel Albino Corzo","Chiapas",null,30361,7,30361,null,29,8,1303,"Rural"]
[{"$f":"IF(C16855=base!$AC$2,ROW()+1,\"\")","v":{"$error":"#REF!"}},{"$f":"IF(C16855=base!$W$2,ROW()+1,\"\")","v":{"$error":"#REF!"}},30396,"Belisario Domínguez","Colonia","Socoltenango","Chiapas",null,30351,7,30351,null,9,83,4719,"Rural"]
[{"$f":"IF(C16928=base!$AC$2,ROW()+1,\"\")","v":{"$error":"#REF!"}},{"$f":"IF(C16928=base!$W$2,ROW()+1,\"\")","v":{"$error":"#REF!"}},30406,"Rancho Verde","Ranchería","Cintalapa","Chiapas",null,30401,7,30401,null,29,17,5903,"Rural"]
[{"$f":"IF(C16968=base!$AC$2,ROW()+1,\"\")","v":{"$error":"#REF!"}},{"$f":"IF(C16968=base!$W$2,ROW()+1,\"\")","v":{"$error":"#REF!"}},30407,"El Muray","Colonia","Cintalapa","Chiapas",null,30401,7,30401,null,9,17,5931,"Rural"]
[{"$f":"IF(C17015=base!$AC$2,ROW()+1,\"\")","v":{"$error":"#REF!"}},{"$f":"IF(C17015=base!$W$2,ROW()+1,\"\")","v":{"$error":"#REF!"}},30407,"La Habana","Ranchería","Cintalapa","Chiapas",null,30401,7,30401,null,29,17,5949,"Rural"]
[{"$f":"IF(C17121=base!$AC$2,ROW()+1,\"\")","v":{"$error":"#REF!"}},{"$f":"IF(C17121=base!$W$2,ROW()+1,\"\")","v":{"$error":"#REF!"}},30413,"San Martín","Ranchería","Cintalapa","Chiapas",null,30401,7,30401,null,29,17,6093,"Rural"]
[{"$f":"IF(C17164=base!$AC$2,ROW()+1,\"\")","v":{"$error":"#REF!"}},{"$f":"IF(C17164=base!$W$2,ROW()+1,\"\")","v":{"$error":"#REF!"}},30415,"El Patio","Ranchería","Cintalapa","Chiapas",null,30401,7,30401,null,29,17,6123,"Rural"]
[{"$f":"IF(C17274=base!$AC$2,ROW()+1,\"\")","v":{"$error":"#REF!"}},{"$f":"IF(C17274=base!$W$2,ROW()+1,\"\")","v":{"$error":"#REF!"}},30417,"Monte Sinaí Dos (El Fénix)","Colonia","Cintalapa","Chiapas",null,30401,7,30401,null,9,17,6244,"Rural"]
[{"$f":"IF(C17322=base!$AC$2,ROW()+1,\"\")","v":{"$error":"#REF!"}},{"$f":"IF(C17322=base!$W$2,ROW()+1,\"\")","v":{"$error":"#REF!"}},30420,"La Higuera","Ranchería","Cintalapa","Chiapas",null,30401,7,30401,null,29,17,6314,"Rural"]
[{"$f":"IF(C17427=base!$AC$2,ROW()+1,\"\")","v":{"$error":"#REF!"}},{"$f":"IF(C17427=base!$W$2,ROW()+1,\"\")","v":{"$error":"#REF!"}},30422,"San Pedro","Ranchería","Cintalapa","Chiapas",null,30401,7,30401,null,29,17,6380,"Rural"]
[{"$f":"IF(C17480=base!$AC$2,ROW()+1,\"\")","v":{"$error":"#REF!"}},{"$f":"IF(C17480=base!$W$2,ROW()+1,\"\")","v":{"$error":"#REF!"}},30423,"El Gran Poder","Ranchería","Cintalapa","Chiapas",null,30401,7,30401,null,29,17,6392,"Rural"]
[{"$f":"IF(C17540=base!$AC$2,ROW()+1,\"\")","v":{"$error":"#REF!"}},{"$f":"IF(C17540=base!$W$2,ROW()+1,\"\")","v":{"$error":"#REF!"}},30424,"Los Joaquines","Colonia","Cintalapa","Chiapas",null,30401,7,30401,null,9,17,6494,"Rural"]
[{"$f":"IF(C17638=base!$AC$2,ROW()+1,\"\")","v":{"$error":"#REF!"}},{"$f":"IF(C17638=base!$W$2,ROW()+1,\"\")","v":{"$error":"#REF!"}},30425,"Guadalupe","Ranchería","Cintalapa","Chiapas",null,30401,7,30401,null,29,17,6542,"Rural"]
[{"$f":"IF(C17693=base!$AC$2,ROW()+1,\"\")","v":{"$error":"#REF!"}},{"$f":"IF(C17693=base!$W$2,ROW()+1,\"\")","v":{"$error":"#REF!"}},30427,"Las Margaritas","Ranchería","Cintalapa","Chiapas",null,30401,7,30401,null,29,17,6639,"Rural"]
[{"$f":"IF(C17796=base!$AC$2,ROW()+1,\"\")","v":{"$error":"#REF!"}},{"$f":"IF(C17796=base!$W$2,ROW()+1,\"\")","v":{"$error":"#REF!"}},30441,"José María Pino Suárez","Pueblo","Jiquipilas","Chiapas",null,30432,7,30432,null,28,46,1366,"Rural"]
[{"$f":"IF(C17846=base!$AC$2,ROW()+1,\"\")","v":{"$error":"#REF!"}},{"$f":"IF(C17846=base!$W$2,ROW()+1,\"\")","v":{"$error":"#REF!"}},30454,"Canta Rana","Barrio","Arriaga","Chiapas","Arriaga",30451,7,30451,null,2,9,3891,"Urbano",9]
[{"$f":"IF(C17874=base!$AC$2,ROW()+1,\"\")","v":{"$error":"#REF!"}},{"$f":"IF(C17874=base!$W$2,ROW()+1,\"\")","v":{"$error":"#REF!"}},30473,"Villa Hidalgo","Ejido","Villaflores","Chiapas",null,30477,7,30477,null,15,108,1394,"Rural"]
[{"$f":"IF(C17999=base!$AC$2,ROW()+1,\"\")","v":{"$error":"#REF!"}},{"$f":"IF(C17999=base!$W$2,ROW()+1,\"\")","v":{"$error":"#REF!"}},30503,"Paredón","Ranchería","Tonalá","Chiapas",null,30501,7,30501,null,29,97,1423,"Rural"]
[{"$f":"IF(C18032=base!$AC$2,ROW()+1,\"\")","v":{"$error":"#REF!"}},{"$f":"IF(C18032=base!$W$2,ROW()+1,\"\")","v":{"$error":"#REF!"}},30515,"Nuevo Milenio Celestino Gasca Villaseñor","Ranchería","Tonalá","Chiapas",null,30501,7,30501,null,29,97,2936,"Rural"]
[{"$f":"IF(C18112=base!$AC$2,ROW()+1,\"\")","v":{"$error":"#REF!"}},{"$f":"IF(C18112=base!$W$2,ROW()+1,\"\")","v":{"$error":"#REF!"}},30535,"Manuel Ávila Camacho","Ranchería","Villa Corzo","Chiapas",null,30521,7,30521,null,29,107,1446,"Rural"]
[{"$f":"IF(C18190=base!$AC$2,ROW()+1,\"\")","v":{"$error":"#REF!"}},{"$f":"IF(C18190=base!$W$2,ROW()+1,\"\")","v":{"$error":"#REF!"}},30547,"El Golfo","Ranchería","Pijijiapan","Chiapas",null,30541,7,30541,null,29,69,2,"Rural"]
[{"$f":"IF(C18265=base!$AC$2,ROW()+1,\"\")","v":{"$error":"#REF!"}},{"$f":"IF(C18265=base!$W$2,ROW()+1,\"\")","v":{"$error":"#REF!"}},30566,"La Playa","Ranchería","Mapastepec","Chiapas",null,30561,7,30561,null,29,51,4805,"Rural"]
[{"$f":"IF(C18348=base!$AC$2,ROW()+1,\"\")","v":{"$error":"#REF!"}},{"$f":"IF(C18348=base!$W$2,ROW()+1,\"\")","v":{"$error":"#REF!"}},30583,"El Manguito","Ranchería","Acapetahua","Chiapas",null,30581,7,30581,null,29,3,3304,"Rural"]
[{"$f":"IF(C18418=base!$AC$2,ROW()+1,\"\")","v":{"$error":"#REF!"}},{"$f":"IF(C18418=base!$W$2,ROW()+1,\"\")","v":{"$error":"#REF!"}},30584,"San Rafael","Ranchería","Acapetahua","Chiapas",null,30581,7,30581,null,29,3,3397,"Rural"]
[{"$f":"IF(C18497=base!$AC$2,ROW()+1,\"\")","v":{"$error":"#REF!"}},{"$f":"IF(C18497=base!$W$2,ROW()+1,\"\")","v":{"$error":"#REF!"}},30586,"La Lupe","Ranchería","Acapetahua","Chiapas",null,30581,7,30581,null,29,3,3442,"Rural"]
[{"$f":"IF(C18571=base!$AC$2,ROW()+1,\"\")","v":{"$error":"#REF!"}},{"$f":"IF(C18571=base!$W$2,ROW()+1,\"\")","v":{"$error":"#REF!"}},30593,"Quince de Septiembre","Ranchería","Acacoyagua","Chiapas",null,30591,7,30591,null,29,1,3539,"Rural"]
[{"$f":"IF(C18655=base!$AC$2,ROW()+1,\"\")","v":{"$error":"#REF!"}},{"$f":"IF(C18655=base!$W$2,ROW()+1,\"\")","v":{"$error":"#REF!"}},30600,"El Carmen","Colonia","Escuintla","Chiapas",null,30602,7,30602,null,9,32,5370,"Rural"]
[{"$f":"IF(C18684=base!$AC$2,ROW()+1,\"\")","v":{"$error":"#REF!"}},{"$f":"IF(C18684=base!$W$2,ROW()+1,\"\")","v":{"$error":"#REF!"}},30605,"Ojo de Agua II","Ampliación","Escuintla","Chiapas",null,30602,7,30602,null,38,32,5337,"Rural"]
[{"$f":"IF(C18742=base!$AC$2,ROW()+1,\"\")","v":{"$error":"#REF!"}},{"$f":"IF(C18742=base!$W$2,ROW()+1,\"\")","v":{"$error":"#REF!"}},30623,"Emiliano Zapata (Los Cocos)","Colonia","Villa Comaltitlán","Chiapas",null,30621,7,30621,null,9,71,1544,"Rural"]
[{"$f":"IF(C18816=base!$AC$2,ROW()+1,\"\")","v":{"$error":"#REF!"}},{"$f":"IF(C18816=base!$W$2,ROW()+1,\"\")","v":{"$error":"#REF!"}},30640,"El Recreo","Colonia","Huixtla","Chiapas","Huixtla",30641,7,30641,null,9,40,4087,"Semiurbano",23]
[{"$f":"IF(C18933=base!$AC$2,ROW()+1,\"\")","v":{"$error":"#REF!"}},{"$f":"IF(C18933=base!$W$2,ROW()+1,\"\")","v":{"$error":"#REF!"}},30667,"La Unidad","Ranchería","Huehuetán","Chiapas",null,30661,7,30661,null,29,37,1602,"Rural"]
[{"$f":"IF(C18974=base!$AC$2,ROW()+1,\"\")","v":{"$error":"#REF!"}},{"$f":"IF(C18974=base!$W$2,ROW()+1,\"\")","v":{"$error":"#REF!"}},30680,"El Tarral","Colonia","Tuzantán","Chiapas",null,30681,7,30681,null,9,103,1616,"Rural"]
[{"$f":"IF(C19046=base!$AC$2,ROW()+1,\"\")","v":{"$error":"#REF!"}},{"$f":"IF(C19046=base!$W$2,ROW()+1,\"\")","v":{"$error":"#REF!"}},30734,"Montaña el Chaparrón","Ranchería","Tapachula","Chiapas","Tapachula de Córdova y Ordóñez",30701,7,30701,null,29,89,7059,"Rural",3]
[{"$f":"IF(C19132=base!$AC$2,ROW()+1,\"\")","v":{"$error":"#REF!"}},{"$f":"IF(C19132=base!$W$2,ROW()+1,\"\")","v":{"$error":"#REF!"}},30770,"Militar","Residencial","Tapachula","Chiapas","Tapachula de Córdova y Ordóñez",30701,7,30701,null,30,89,1691,"Urbano",3]
[{"$f":"IF(C19199=base!$AC$2,ROW()+1,\"\")","v":{"$error":"#REF!"}},{"$f":"IF(C19199=base!$W$2,ROW()+1,\"\")","v":{"$error":"#REF!"}},30786,"Granja la Joya","Colonia","Tapachula","Chiapas","Tapachula de Córdova y Ordóñez",30701,7,30701,null,9,89,1703,"Urbano",3]
[{"$f":"IF(C19290=base!$AC$2,ROW()+1,\"\")","v":{"$error":"#REF!"}},{"$f":"IF(C19290=base!$W$2,ROW()+1,\"\")","v":{"$error":"#REF!"}},30798,"Raymundo Enríquez","Colonia","Tapachula","Chiapas","Tapachula de Córdova y Ordóñez",30701,7,30701,null,9,89,1799,"Urbano",3]
[{"$f":"IF(C19352=base!$AC$2,ROW()+1,\"\")","v":{"$error":"#REF!"}},{"$f":"IF(C19352=base!$W$2,ROW()+1,\"\")","v":{"$error":"#REF!"}},30803,"El Chorro","Ranchería","Tapachula","Chiapas",null,30701,7,30701,null,29,89,7098,"Rural"]
[{"$f":"IF(C19439=base!$AC$2,ROW()+1,\"\")","v":{"$error":"#REF!"}},{"$f":"IF(C19439=base!$W$2,ROW()+1,\"\")","v":{"$error":"#REF!"}},30812,"Cantón San Felipe","Ranchería","Tapachula","Chiapas",null,30701,7,30701,null,29,89,5655,"Rural"]
[{"$f":"IF(C19505=base!$AC$2,ROW()+1,\"\")","v":{"$error":"#REF!"}},{"$f":"IF(C19505=base!$W$2,ROW()+1,\"\")","v":{"$error":"#REF!"}},30818,"Siete Ranchos","Ranchería","Tapachula","Chiapas",null,30701,7,30701,null,29,89,7211,"Rural"]
[{"$f":"IF(C19526=base!$AC$2,ROW()+1,\"\")","v":{"$error":"#REF!"}},{"$f":"IF(C19526=base!$W$2,ROW()+1,\"\")","v":{"$error":"#REF!"}},30824,"Unión Miramar","Ejido","Tapachula","Chiapas",null,30701,7,30701,null,15,89,1802,"Rural"]
[{"$f":"IF(C19618=base!$AC$2,ROW()+1,\"\")","v":{"$error":"#REF!"}},{"$f":"IF(C19618=base!$W$2,ROW()+1,\"\")","v":{"$error":"#REF!"}},30835,"El Pensamiento","Ranchería","Tapachula","Chiapas",null,30831,7,30831,null,29,89,7282,"Rural"]
[{"$f":"IF(C19684=base!$AC$2,ROW()+1,\"\")","v":{"$error":"#REF!"}},{"$f":"IF(C19684=base!$W$2,ROW()+1,\"\")","v":{"$error":"#REF!"}},30843,"Las Macarelas","Ranchería","Suchiate","Chiapas",null,30842,7,30842,null,29,87,4213,"Rural"]
[{"$f":"IF(C19771=base!$AC$2,ROW()+1,\"\")","v":{"$error":"#REF!"}},{"$f":"IF(C19771=base!$W$2,ROW()+1,\"\")","v":{"$error":"#REF!"}},30850,"Frontera Hidalgo","Pueblo","Frontera Hidalgo","Chiapas",null,30842,7,30842,null,28,35,1829,"Rural"]
[{"$f":"IF(C19842=base!$AC$2,ROW()+1,\"\")","v":{"$error":"#REF!"}},{"$f":"IF(C19842=base!$W$2,ROW()+1,\"\")","v":{"$error":"#REF!"}},30890,"Cacahoatán Centro","Colonia","Cacahoatán","Chiapas","Cacahoatán",30891,7,30891,null,9,15,1879,"Semiurbano",16]
[{"$f":"IF(C19924=base!$AC$2,ROW()+1,\"\")","v":{"$error":"#REF!"}},{"$f":"IF(C19924=base!$W$2,ROW()+1,\"\")","v":{"$error":"#REF!"}},30902,"Benito Juárez","Ejido","Motozintla","Chiapas",null,30901,7,30901,null,15,57,1899,"Rural"]
[{"$f":"IF(C19991=base!$AC$2,ROW()+1,\"\")","v":{"$error":"#REF!"}},{"$f":"IF(C19991=base!$W$2,ROW()+1,\"\")","v":{"$error":"#REF!"}},30905,"La Sombra","Ranchería","Motozintla","Chiapas",null,30901,7,30901,null,29,57,6862,"Rural"]
[{"$f":"IF(C20077=base!$AC$2,ROW()+1,\"\")","v":{"$error":"#REF!"}},{"$f":"IF(C20077=base!$W$2,ROW()+1,\"\")","v":{"$error":"#REF!"}},30913,"Santa Fé (La Esperanza)","Congregación","Motozintla","Chiapas",null,30901,7,30901,null,11,57,6945,"Rural"]
[{"$f":"IF(C20149=base!$AC$2,ROW()+1,\"\")","v":{"$error":"#REF!"}},{"$f":"IF(C20149=base!$W$2,ROW()+1,\"\")","v":{"$error":"#REF!"}},30917,"Sierra Galeana","Ejido","Motozintla","Chiapas",null,30901,7,30901,null,15,57,7018,"Rural"]
[{"$f":"IF(C20230=base!$AC$2,ROW()+1,\"\")","v":{"$error":"#REF!"}},{"$f":"IF(C20230=base!$W$2,ROW()+1,\"\")","v":{"$error":"#REF!"}},30927,"Verdad El Triunfo","Ejido","Mazapa de Madero","Chiapas",null,30901,7,30901,null,15,53,1932,"Rural"]
[{"$f":"IF(C20236=base!$AC$2,ROW()+1,\"\")","v":{"$error":"#REF!"}},{"$f":"IF(C20236=base!$W$2,ROW()+1,\"\")","v":{"$error":"#REF!"}},30933,"Barrio Nuevo","Barrio","Amatenango de la Frontera","Chiapas",null,30901,7,30901,null,2,6,4828,"Rural"]
[{"$f":"IF(C20343=base!$AC$2,ROW()+1,\"\")","v":{"$error":"#REF!"}},{"$f":"IF(C20343=base!$W$2,ROW()+1,\"\")","v":{"$error":"#REF!"}},30960,"La Grandeza","Pueblo","La Grandeza","Chiapas",null,30901,7,30901,null,28,36,1956,"Rural"]
[{"$f":"IF(C20394=base!$AC$2,ROW()+1,\"\")","v":{"$error":"#REF!"}},{"$f":"IF(C20394=base!$W$2,ROW()+1,\"\")","v":{"$error":"#REF!"}},30973,"Maravalle","Barrio","El Porvenir","Chiapas",null,30901,7,30901,null,2,70,4926,"Rural"]
[{"$f":"IF(C20496=base!$AC$2,ROW()+1,\"\")","v":{"$error":"#REF!"}},{"$f":"IF(C20496=base!$W$2,ROW()+1,\"\")","v":{"$error":"#REF!"}},30987,"Cerro Perote","Ejido","Siltepec","Chiapas",null,30901,7,30901,null,15,80,5039,"Rural"]
[{"$f":"IF(C20543=base!$AC$2,ROW()+1,\"\")","v":{"$error":"#REF!"}},{"$f":"IF(C20543=base!$W$2,ROW()+1,\"\")","v":{"$error":"#REF!"}},30996,"Ceñido","Barrio","Siltepec","Chiapas",null,30901,7,30901,null,2,80,4933,"Rural"]
[{"$f":"IF(C20649=base!$AC$2,ROW()+1,\"\")","v":{"$error":"#REF!"}},{"$f":"IF(C20649=base!$W$2,ROW()+1,\"\")","v":{"$error":"#REF!"}},31064,"División del Norte Etapa I, II y III","Colonia","Chihuahua","Chihuahua","Chihuahua",31052,8,31052,null,9,19,3098,"Urbano",2]
[{"$f":"IF(C20701=base!$AC$2,ROW()+1,\"\")","v":{"$error":"#REF!"}},{"$f":"IF(C20701=base!$W$2,ROW()+1,\"\")","v":{"$error":"#REF!"}},31075,"Olímpica","Colonia","Chihuahua","Chihuahua","Chihuahua",31052,8,31052,null,9,19,4060,"Urbano",2]
[{"$f":"IF(C20802=base!$AC$2,ROW()+1,\"\")","v":{"$error":"#REF!"}},{"$f":"IF(C20802=base!$W$2,ROW()+1,\"\")","v":{"$error":"#REF!"}},31115,"San Francisco IV","Condominio","Chihuahua","Chihuahua","Chihuahua",31102,8,31102,null,10,19,2588,"Urbano",2]
[{"$f":"IF(C20859=base!$AC$2,ROW()+1,\"\")","v":{"$error":"#REF!"}},{"$f":"IF(C20859=base!$W$2,ROW()+1,\"\")","v":{"$error":"#REF!"}},31124,"Nuevo Chihuahua","Fraccionamiento","Chihuahua","Chihuahua","Chihuahua",31102,8,31102,null,21,19,3682,"Urbano",2]
[{"$f":"IF(C20915=base!$AC$2,ROW()+1,\"\")","v":{"$error":"#REF!"}},{"$f":"IF(C20915=base!$W$2,ROW()+1,\"\")","v":{"$error":"#REF!"}},31126,"Santa Bárbara","Fraccionamiento","Chihuahua","Chihuahua","Chihuahua",31102,8,31102,null,21,19,2660,"Urbano",2]
[{"$f":"IF(C20946=base!$AC$2,ROW()+1,\"\")","v":{"$error":"#REF!"}},{"$f":"IF(C20946=base!$W$2,ROW()+1,\"\")","v":{"$error":"#REF!"}},31136,"Alamedas III","Colonia","Chihuahua","Chihuahua","Chihuahua",31102,8,31102,null,9,19,2801,"Urbano",2]
[{"$f":"IF(C21068=base!$AC$2,ROW()+1,\"\")","v":{"$error":"#REF!"}},{"$f":"IF(C21068=base!$W$2,ROW()+1,\"\")","v":{"$error":"#REF!"}},31183,"Quintas Montecarlo II","Fraccionamiento","Chihuahua","Chihuahua","Chihuahua",31102,8,31102,null,21,19,4117,"Urbano",2]
[{"$f":"IF(C21095=base!$AC$2,ROW()+1,\"\")","v":{"$error":"#REF!"}},{"$f":"IF(C21095=base!$W$2,ROW()+1,\"\")","v":{"$error":"#REF!"}},31203,"Angel Trías","Colonia","Chihuahua","Chihuahua","Chihuahua",31001,8,31001,null,9,19,2261,"Urbano",2]
[{"$f":"IF(C21221=base!$AC$2,ROW()+1,\"\")","v":{"$error":"#REF!"}},{"$f":"IF(C21221=base!$W$2,ROW()+1,\"\")","v":{"$error":"#REF!"}},31220,"Haciendas Real","Colonia","Chihuahua","Chihuahua","Chihuahua",31001,8,31001,null,9,19,4178,"Urbano",2]
[{"$f":"IF(C21253=base!$AC$2,ROW()+1,\"\")","v":{"$error":"#REF!"}},{"$f":"IF(C21253=base!$W$2,ROW()+1,\"\")","v":{"$error":"#REF!"}},31310,"Paso del Norte","Colonia","Chihuahua","Chihuahua","Chihuahua",31102,8,31102,null,9,19,2340,"Urbano",2]
[{"$f":"IF(C21374=base!$AC$2,ROW()+1,\"\")","v":{"$error":"#REF!"}},{"$f":"IF(C21374=base!$W$2,ROW()+1,\"\")","v":{"$error":"#REF!"}},31470,"Margarita Maza de Juárez","Colonia","Chihuahua","Chihuahua","Chihuahua",31052,8,31052,null,9,19,2495,"Urbano",2]
[{"$f":"IF(C21411=base!$AC$2,ROW()+1,\"\")","v":{"$error":"#REF!"}},{"$f":"IF(C21411=base!$W$2,ROW()+1,\"\")","v":{"$error":"#REF!"}},31522,"Arturo Rodríguez Sector","Colonia","Cuauhtémoc","Chihuahua","Cuauhtémoc",31501,8,31501,null,9,17,3235,"Urbano",3]
[{"$f":"IF(C21487=base!$AC$2,ROW()+1,\"\")","v":{"$error":"#REF!"}},{"$f":"IF(C21487=base!$W$2,ROW()+1,\"\")","v":{"$error":"#REF!"}},31570,"Del Empleado Municipal","Fraccionamiento","Cuauhtémoc","Chihuahua","Cuauhtémoc",31501,8,31501,null,21,17,3241,"Urbano",3]
[{"$f":"IF(C21569=base!$AC$2,ROW()+1,\"\")","v":{"$error":"#REF!"}},{"$f":"IF(C21569=base!$W$2,ROW()+1,\"\")","v":{"$error":"#REF!"}},31607,"Campo 1 D","Colonia","Cuauhtémoc","Chihuahua",null,31501,8,31501,null,9,17,5723,"Rural"]
[{"$f":"IF(C21640=base!$AC$2,ROW()+1,\"\")","v":{"$error":"#REF!"}},{"$f":"IF(C21640=base!$W$2,ROW()+1,\"\")","v":{"$error":"#REF!"}},31619,"Santa Lucia","Ranchería","Cuauhtémoc","Chihuahua",null,31501,8,31501,null,29,17,211,"Rural"]
[{"$f":"IF(C21727=base!$AC$2,ROW()+1,\"\")","v":{"$error":"#REF!"}},{"$f":"IF(C21727=base!$W$2,ROW()+1,\"\")","v":{"$error":"#REF!"}},31644,"Güerachi de Abajo","Ranchería","Riva Palacio","Chihuahua",null,31501,8,31501,null,29,54,7393,"Rural"]
[{"$f":"IF(C21793=base!$AC$2,ROW()+1,\"\")","v":{"$error":"#REF!"}},{"$f":"IF(C21793=base!$W$2,ROW()+1,\"\")","v":{"$error":"#REF!"}},31646,"Campo Cuarenta y Cinco (Colonia Merced)","Colonia","Riva Palacio","Chihuahua",null,31501,8,31501,null,9,54,7354,"Rural"]
[{"$f":"IF(C21805=base!$AC$2,ROW()+1,\"\")","v":{"$error":"#REF!"}},{"$f":"IF(C21805=base!$W$2,ROW()+1,\"\")","v":{"$error":"#REF!"}},31647,"Campo Setenta y Ocho","Colonia","Riva Palacio","Chihuahua",null,31501,8,31501,null,9,54,4166,"Rural"]
[{"$f":"IF(C21946=base!$AC$2,ROW()+1,\"\")","v":{"$error":"#REF!"}},{"$f":"IF(C21946=base!$W$2,ROW()+1,\"\")","v":{"$error":"#REF!"}},31777,"Zapata","Ampliación","Nuevo Casas Grandes","Chihuahua","Nuevo Casas Grandes",31701,8,31701,null,38,50,3252,"Urbano",7]
[{"$f":"IF(C21963=base!$AC$2,ROW()+1,\"\")","v":{"$error":"#REF!"}},{"$f":"IF(C21963=base!$W$2,ROW()+1,\"\")","v":{"$error":"#REF!"}},31803,"Hidalgo Colonia Agrícola","Ranchería","Nuevo Casas Grandes","Chihuahua",null,31701,8,31701,null,29,50,390,"Rural"]
[{"$f":"IF(C22059=base!$AC$2,ROW()+1,\"\")","v":{"$error":"#REF!"}},{"$f":"IF(C22059=base!$W$2,ROW()+1,\"\")","v":{"$error":"#REF!"}},31910,"San José de Babicora","Ranchería","Gómez Farías","Chihuahua",null,31903,8,31903,null,29,25,463,"Rural"]
[{"$f":"IF(C22121=base!$AC$2,ROW()+1,\"\")","v":{"$error":"#REF!"}},{"$f":"IF(C22121=base!$W$2,ROW()+1,\"\")","v":{"$error":"#REF!"}},31955,"Los Pinos","Ranchería","Madera","Chihuahua",null,31941,8,31941,null,29,40,509,"Rural"]
[{"$f":"IF(C22212=base!$AC$2,ROW()+1,\"\")","v":{"$error":"#REF!"}},{"$f":"IF(C22212=base!$W$2,ROW()+1,\"\")","v":{"$error":"#REF!"}},31983,"El Rosario","Ranchería","Temósachic","Chihuahua",null,31981,8,31981,null,29,63,7535,"Rural"]
[{"$f":"IF(C22279=base!$AC$2,ROW()+1,\"\")","v":{"$error":"#REF!"}},{"$f":"IF(C22279=base!$W$2,ROW()+1,\"\")","v":{"$error":"#REF!"}},31984,"El Refugio","Ranchería","Temósachic","Chihuahua",null,31981,8,31981,null,29,63,7530,"Rural"]
[{"$f":"IF(C22365=base!$AC$2,ROW()+1,\"\")","v":{"$error":"#REF!"}},{"$f":"IF(C22365=base!$W$2,ROW()+1,\"\")","v":{"$error":"#REF!"}},31985,"El Terrero (Piedras Azules)","Ranchería","Temósachic","Chihuahua",null,31981,8,31981,null,29,63,7550,"Rural"]
[{"$f":"IF(C22428=base!$AC$2,ROW()+1,\"\")","v":{"$error":"#REF!"}},{"$f":"IF(C22428=base!$W$2,ROW()+1,\"\")","v":{"$error":"#REF!"}},31986,"El Salto","Ranchería","Temósachic","Chihuahua",null,31981,8,31981,null,29,63,7540,"Rural"]
[{"$f":"IF(C22518=base!$AC$2,ROW()+1,\"\")","v":{"$error":"#REF!"}},{"$f":"IF(C22518=base!$W$2,ROW()+1,\"\")","v":{"$error":"#REF!"}},32030,"Del Norte","Colonia","Juárez","Chihuahua","Juárez",32001,8,32001,null,9,37,2879,"Urbano",6]
[{"$f":"IF(C22586=base!$AC$2,ROW()+1,\"\")","v":{"$error":"#REF!"}},{"$f":"IF(C22586=base!$W$2,ROW()+1,\"\")","v":{"$error":"#REF!"}},32220,"Guadalajara","Colonia","Juárez","Chihuahua","Juárez",32001,8,32001,null,9,37,763,"Urbano",6]
[{"$f":"IF(C22599=base!$AC$2,ROW()+1,\"\")","v":{"$error":"#REF!"}},{"$f":"IF(C22599=base!$W$2,ROW()+1,\"\")","v":{"$error":"#REF!"}},32260,"Constitución","Colonia","Juárez","Chihuahua","Juárez",32001,8,32001,null,9,37,773,"Urbano",6]
[{"$f":"IF(C22673=base!$AC$2,ROW()+1,\"\")","v":{"$error":"#REF!"}},{"$f":"IF(C22673=base!$W$2,ROW()+1,\"\")","v":{"$error":"#REF!"}},32340,"San Patricio","Condominio","Juárez","Chihuahua","Juárez",32001,8,32001,null,10,37,3586,"Urbano",6]
[{"$f":"IF(C22784=base!$AC$2,ROW()+1,\"\")","v":{"$error":"#REF!"}},{"$f":"IF(C22784=base!$W$2,ROW()+1,\"\")","v":{"$error":"#REF!"}},32409,"Arboleda","Fraccionamiento","Juárez","Chihuahua","Juárez",32001,8,32001,null,21,37,14,"Urbano",6]
[{"$f":"IF(C22831=base!$AC$2,ROW()+1,\"\")","v":{"$error":"#REF!"}},{"$f":"IF(C22831=base!$W$2,ROW()+1,\"\")","v":{"$error":"#REF!"}},32423,"Los Romerales","Fraccionamiento","Juárez","Chihuahua","Juárez",32001,8,32001,null,21,37,4102,"Urbano",6]
[{"$f":"IF(C22937=base!$AC$2,ROW()+1,\"\")","v":{"$error":"#REF!"}},{"$f":"IF(C22937=base!$W$2,ROW()+1,\"\")","v":{"$error":"#REF!"}},32530,"Jardines del Seminario","Fraccionamiento","Juárez","Chihuahua","Juárez",32121,8,32121,null,21,37,2982,"Urbano",6]
[{"$f":"IF(C22980=base!$AC$2,ROW()+1,\"\")","v":{"$error":"#REF!"}},{"$f":"IF(C22980=base!$W$2,ROW()+1,\"\")","v":{"$error":"#REF!"}},32540,"Quintas del Valle","Fraccionamiento","Juárez","Chihuahua","Juárez",32551,8,32551,null,21,37,2993,"Urbano",6]
[{"$f":"IF(C23063=base!$AC$2,ROW()+1,\"\")","v":{"$error":"#REF!"}},{"$f":"IF(C23063=base!$W$2,ROW()+1,\"\")","v":{"$error":"#REF!"}},32560,"Bosques de Waterfill","Fraccionamiento","Juárez","Chihuahua","Juárez",32551,8,32551,null,21,37,1047,"Urbano",6]
[{"$f":"IF(C23146=base!$AC$2,ROW()+1,\"\")","v":{"$error":"#REF!"}},{"$f":"IF(C23146=base!$W$2,ROW()+1,\"\")","v":{"$error":"#REF!"}},32575,"Senderos del Sol","Fraccionamiento","Juárez","Chihuahua","Juárez",32551,8,32551,null,21,37,4158,"Urbano",6]
[{"$f":"IF(C23221=base!$AC$2,ROW()+1,\"\")","v":{"$error":"#REF!"}},{"$f":"IF(C23221=base!$W$2,ROW()+1,\"\")","v":{"$error":"#REF!"}},32590,"La Perla","Colonia","Juárez","Chihuahua","Juárez",32551,8,32551,null,9,37,3038,"Urbano",6]
[{"$f":"IF(C23299=base!$AC$2,ROW()+1,\"\")","v":{"$error":"#REF!"}},{"$f":"IF(C23299=base!$W$2,ROW()+1,\"\")","v":{"$error":"#REF!"}},32618,"Villas del Lobo","Fraccionamiento","Juárez","Chihuahua","Juárez",32121,8,32121,null,21,37,132,"Urbano",6]
[{"$f":"IF(C23370=base!$AC$2,ROW()+1,\"\")","v":{"$error":"#REF!"}},{"$f":"IF(C23370=base!$W$2,ROW()+1,\"\")","v":{"$error":"#REF!"}},32670,"Morelos","Colonia","Juárez","Chihuahua","Juárez",32121,8,32121,null,9,37,1206,"Urbano",6]
[{"$f":"IF(C23380=base!$AC$2,ROW()+1,\"\")","v":{"$error":"#REF!"}},{"$f":"IF(C23380=base!$W$2,ROW()+1,\"\")","v":{"$error":"#REF!"}},32674,"Valle Dorado II","Colonia","Juárez","Chihuahua","Juárez",32121,8,32121,null,9,37,1221,"Urbano",6]
[{"$f":"IF(C23457=base!$AC$2,ROW()+1,\"\")","v":{"$error":"#REF!"}},{"$f":"IF(C23457=base!$W$2,ROW()+1,\"\")","v":{"$error":"#REF!"}},32695,"Santa Mónica","Fraccionamiento","Juárez","Chihuahua","Juárez",32121,8,32121,null,21,37,3727,"Urbano",6]
[{"$f":"IF(C23565=base!$AC$2,ROW()+1,\"\")","v":{"$error":"#REF!"}},{"$f":"IF(C23565=base!$W$2,ROW()+1,\"\")","v":{"$error":"#REF!"}},32850,"La Paz de México","Conjunto habitacional","Coyame del Sotol","Chihuahua",null,32881,8,32881,null,12,15,1344,"Rural"]
[{"$f":"IF(C23615=base!$AC$2,ROW()+1,\"\")","v":{"$error":"#REF!"}},{"$f":"IF(C23615=base!$W$2,ROW()+1,\"\")","v":{"$error":"#REF!"}},32887,"Barrio de los Montoya","Ranchería","Ojinaga","Chihuahua",null,32881,8,32881,null,29,52,1361,"Rural"]
[{"$f":"IF(C23718=base!$AC$2,ROW()+1,\"\")","v":{"$error":"#REF!"}},{"$f":"IF(C23718=base!$W$2,ROW()+1,\"\")","v":{"$error":"#REF!"}},33016,"Solidaridad","Colonia","Delicias","Chihuahua","Delicias",33001,8,33001,null,9,21,1433,"Urbano",4]
[{"$f":"IF(C23773=base!$AC$2,ROW()+1,\"\")","v":{"$error":"#REF!"}},{"$f":"IF(C23773=base!$W$2,ROW()+1,\"\")","v":{"$error":"#REF!"}},33070,"Residencial Jardín","Fraccionamiento","Delicias","Chihuahua","Delicias",33001,8,33001,null,21,21,1458,"Urbano",4]
[{"$f":"IF(C23871=base!$AC$2,ROW()+1,\"\")","v":{"$error":"#REF!"}},{"$f":"IF(C23871=base!$W$2,ROW()+1,\"\")","v":{"$error":"#REF!"}},33103,"El Pedregal","Ranchería","Delicias","Chihuahua",null,33001,8,33001,null,29,21,5424,"Rural"]
[{"$f":"IF(C23922=base!$AC$2,ROW()+1,\"\")","v":{"$error":"#REF!"}},{"$f":"IF(C23922=base!$W$2,ROW()+1,\"\")","v":{"$error":"#REF!"}},33105,"El Refugio (Los Gómez)","Ranchería","Delicias","Chihuahua",null,33001,8,33001,null,29,21,5431,"Rural"]
[{"$f":"IF(C23952=base!$AC$2,ROW()+1,\"\")","v":{"$error":"#REF!"}},{"$f":"IF(C23952=base!$W$2,ROW()+1,\"\")","v":{"$error":"#REF!"}},33106,"Rancho los Amparán","Ranchería","Delicias","Chihuahua",null,33001,8,33001,null,29,21,5571,"Rural"]
[{"$f":"IF(C24080=base!$AC$2,ROW()+1,\"\")","v":{"$error":"#REF!"}},{"$f":"IF(C24080=base!$W$2,ROW()+1,\"\")","v":{"$error":"#REF!"}},33115,"Colonia Altavista","Colonia","Delicias","Chihuahua",null,33001,8,33001,null,9,21,5386,"Rural"]
[{"$f":"IF(C24105=base!$AC$2,ROW()+1,\"\")","v":{"$error":"#REF!"}},{"$f":"IF(C24105=base!$W$2,ROW()+1,\"\")","v":{"$error":"#REF!"}},33116,"La Purísima","Ranchería","Delicias","Chihuahua",null,33001,8,33001,null,29,21,5492,"Rural"]
[{"$f":"IF(C24167=base!$AC$2,ROW()+1,\"\")","v":{"$error":"#REF!"}},{"$f":"IF(C24167=base!$W$2,ROW()+1,\"\")","v":{"$error":"#REF!"}},33123,"El Mirador","Ranchería","Rosales","Chihuahua",null,33134,8,33134,null,29,55,7839,"Rural"]
[{"$f":"IF(C24290=base!$AC$2,ROW()+1,\"\")","v":{"$error":"#REF!"}},{"$f":"IF(C24290=base!$W$2,ROW()+1,\"\")","v":{"$error":"#REF!"}},33123,"El Recuerdo","Ranchería","Rosales","Chihuahua",null,33134,8,33134,null,29,55,7857,"Rural"]
[{"$f":"IF(C24325=base!$AC$2,ROW()+1,\"\")","v":{"$error":"#REF!"}},{"$f":"IF(C24325=base!$W$2,ROW()+1,\"\")","v":{"$error":"#REF!"}},33123,"Granjas el Capricho","Ranchería","Rosales","Chihuahua",null,33134,8,33134,null,29,55,7884,"Rural"]
[{"$f":"IF(C24443=base!$AC$2,ROW()+1,\"\")","v":{"$error":"#REF!"}},{"$f":"IF(C24443=base!$W$2,ROW()+1,\"\")","v":{"$error":"#REF!"}},33127,"Rancho Polo Hernández (Rancho Rosa María)","Ranchería","Rosales","Chihuahua",null,33134,8,33134,null,29,55,8095,"Rural"]
[{"$f":"IF(C24474=base!$AC$2,ROW()+1,\"\")","v":{"$error":"#REF!"}},{"$f":"IF(C24474=base!$W$2,ROW()+1,\"\")","v":{"$error":"#REF!"}},33127,"Rancho Marlboro","Ranchería","Rosales","Chihuahua",null,33134,8,33134,null,29,55,8086,"Rural"]
[{"$f":"IF(C24524=base!$AC$2,ROW()+1,\"\")","v":{"$error":"#REF!"}},{"$f":"IF(C24524=base!$W$2,ROW()+1,\"\")","v":{"$error":"#REF!"}},33127,"Rancho José Franco","Ranchería","Rosales","Chihuahua",null,33134,8,33134,null,29,55,8052,"Rural"]
[{"$f":"IF(C24632=base!$AC$2,ROW()+1,\"\")","v":{"$error":"#REF!"}},{"$f":"IF(C24632=base!$W$2,ROW()+1,\"\")","v":{"$error":"#REF!"}},33180,"La Loma","Colonia","Guachochi","Chihuahua",null,33181,8,33181,null,9,27,5660,"Urbano"]
[{"$f":"IF(C24677=base!$AC$2,ROW()+1,\"\")","v":{"$error":"#REF!"}},{"$f":"IF(C24677=base!$W$2,ROW()+1,\"\")","v":{"$error":"#REF!"}},33186,"Pareguachi","Ranchería","Guachochi","Chihuahua",null,33181,8,33181,null,29,27,9164,"Rural"]
[{"$f":"IF(C24790=base!$AC$2,ROW()+1,\"\")","v":{"$error":"#REF!"}},{"$f":"IF(C24790=base!$W$2,ROW()+1,\"\")","v":{"$error":"#REF!"}},33186,"El Río","Ranchería","Guachochi","Chihuahua",null,33181,8,33181,null,29,27,8694,"Rural"]
[{"$f":"IF(C24862=base!$AC$2,ROW()+1,\"\")","v":{"$error":"#REF!"}},{"$f":"IF(C24862=base!$W$2,ROW()+1,\"\")","v":{"$error":"#REF!"}},33187,"Táscate de los Ramos","Ranchería","Guachochi","Chihuahua",null,33181,8,33181,null,29,27,9570,"Rural"]
[{"$f":"IF(C24948=base!$AC$2,ROW()+1,\"\")","v":{"$error":"#REF!"}},{"$f":"IF(C24948=base!$W$2,ROW()+1,\"\")","v":{"$error":"#REF!"}},33187,"Huichaboachi","Ranchería","Guachochi","Chihuahua",null,33181,8,33181,null,29,27,8793,"Rural"]
[{"$f":"IF(C25015=base!$AC$2,ROW()+1,\"\")","v":{"$error":"#REF!"}},{"$f":"IF(C25015=base!$W$2,ROW()+1,\"\")","v":{"$error":"#REF!"}},33188,"La Manzanilla","Ranchería","Guachochi","Chihuahua",null,33181,8,33181,null,29,27,8911,"Rural"]
[{"$f":"IF(C25026=base!$AC$2,ROW()+1,\"\")","v":{"$error":"#REF!"}},{"$f":"IF(C25026=base!$W$2,ROW()+1,\"\")","v":{"$error":"#REF!"}},33188,"Mesa de Remisacachi","Ranchería","Guachochi","Chihuahua",null,33181,8,33181,null,29,27,9028,"Rural"]
[{"$f":"IF(C25096=base!$AC$2,ROW()+1,\"\")","v":{"$error":"#REF!"}},{"$f":"IF(C25096=base!$W$2,ROW()+1,\"\")","v":{"$error":"#REF!"}},33188,"Batire (Baquiriachi)","Ranchería","Guachochi","Chihuahua",null,33181,8,33181,null,29,27,8365,"Rural"]
[{"$f":"IF(C25184=base!$AC$2,ROW()+1,\"\")","v":{"$error":"#REF!"}},{"$f":"IF(C25184=base!$W$2,ROW()+1,\"\")","v":{"$error":"#REF!"}},33190,"Comichi","Ranchería","Guachochi","Chihuahua",null,33181,8,33181,null,29,27,8520,"Rural"]
[{"$f":"IF(C25249=base!$AC$2,ROW()+1,\"\")","v":{"$error":"#REF!"}},{"$f":"IF(C25249=base!$W$2,ROW()+1,\"\")","v":{"$error":"#REF!"}},33193,"Aparichi (La Tinaja)","Ranchería","Guachochi","Chihuahua",null,33181,8,33181,null,29,27,8221,"Rural"]
[{"$f":"IF(C25342=base!$AC$2,ROW()+1,\"\")","v":{"$error":"#REF!"}},{"$f":"IF(C25342=base!$W$2,ROW()+1,\"\")","v":{"$error":"#REF!"}},33194,"Zaparichi","Ranchería","Guachochi","Chihuahua",null,33181,8,33181,null,29,27,9645,"Rural"]
[{"$f":"IF(C25434=base!$AC$2,ROW()+1,\"\")","v":{"$error":"#REF!"}},{"$f":"IF(C25434=base!$W$2,ROW()+1,\"\")","v":{"$error":"#REF!"}},33194,"Sarichi","Ranchería","Guachochi","Chihuahua",null,33181,8,33181,null,29,27,9482,"Rural"]
[{"$f":"IF(C25500=base!$AC$2,ROW()+1,\"\")","v":{"$error":"#REF!"}},{"$f":"IF(C25500=base!$W$2,ROW()+1,\"\")","v":{"$error":"#REF!"}},33195,"El Abache","Ranchería","Guachochi","Chihuahua",null,33181,8,33181,null,29,27,8572,"Rural"]
[{"$f":"IF(C25587=base!$AC$2,ROW()+1,\"\")","v":{"$error":"#REF!"}},{"$f":"IF(C25587=base!$W$2,ROW()+1,\"\")","v":{"$error":"#REF!"}},33195,"Yepo","Ranchería","Guachochi","Chihuahua",null,33181,8,33181,null,29,27,9635,"Rural"]
[{"$f":"IF(C25658=base!$AC$2,ROW()+1,\"\")","v":{"$error":"#REF!"}},{"$f":"IF(C25658=base!$W$2,ROW()+1,\"\")","v":{"$error":"#REF!"}},33195,"Rochivo","Ranchería","Guachochi","Chihuahua",null,33181,8,33181,null,29,27,9354,"Rural"]
[{"$f":"IF(C25668=base!$AC$2,ROW()+1,\"\")","v":{"$error":"#REF!"}},{"$f":"IF(C25668=base!$W$2,ROW()+1,\"\")","v":{"$error":"#REF!"}},33196,"Bajisochi","Ranchería","Guachochi","Chihuahua",null,33181,8,33181,null,29,27,8310,"Rural"]
[{"$f":"IF(C25736=base!$AC$2,ROW()+1,\"\")","v":{"$error":"#REF!"}},{"$f":"IF(C25736=base!$W$2,ROW()+1,\"\")","v":{"$error":"#REF!"}},33196,"Chipahuitavo","Ranchería","Guachochi","Chihuahua",null,33181,8,33181,null,29,27,8463,"Rural"]
[{"$f":"IF(C25821=base!$AC$2,ROW()+1,\"\")","v":{"$error":"#REF!"}},{"$f":"IF(C25821=base!$W$2,ROW()+1,\"\")","v":{"$error":"#REF!"}},33196,"Güetebachi","Ranchería","Guachochi","Chihuahua",null,33181,8,33181,null,29,27,8750,"Rural"]
[{"$f":"IF(C25894=base!$AC$2,ROW()+1,\"\")","v":{"$error":"#REF!"}},{"$f":"IF(C25894=base!$W$2,ROW()+1,\"\")","v":{"$error":"#REF!"}},33197,"Cayehuachi","Ranchería","Guachochi","Chihuahua",null,33181,8,33181,null,29,27,8433,"Rural"]
[{"$f":"IF(C26006=base!$AC$2,ROW()+1,\"\")","v":{"$error":"#REF!"}},{"$f":"IF(C26006=base!$W$2,ROW()+1,\"\")","v":{"$error":"#REF!"}},33197,"Sehuerachi","Ranchería","Guachochi","Chihuahua",null,33181,8,33181,null,29,27,9498,"Rural"]
[{"$f":"IF(C26052=base!$AC$2,ROW()+1,\"\")","v":{"$error":"#REF!"}},{"$f":"IF(C26052=base!$W$2,ROW()+1,\"\")","v":{"$error":"#REF!"}},33198,"El Ojito","Ranchería","Guachochi","Chihuahua",null,33181,8,33181,null,29,27,8652,"Rural"]
[{"$f":"IF(C26159=base!$AC$2,ROW()+1,\"\")","v":{"$error":"#REF!"}},{"$f":"IF(C26159=base!$W$2,ROW()+1,\"\")","v":{"$error":"#REF!"}},33203,"Gupitare","Ranchería","Bocoyna","Chihuahua",null,33204,8,33204,null,29,9,1629,"Rural"]
[{"$f":"IF(C26210=base!$AC$2,ROW()+1,\"\")","v":{"$error":"#REF!"}},{"$f":"IF(C26210=base!$W$2,ROW()+1,\"\")","v":{"$error":"#REF!"}},33257,"Rancho Guarda Raya","Ranchería","Cusihuiriachi","Chihuahua",null,31501,8,31501,null,29,18,2,"Rural"]
[{"$f":"IF(C26240=base!$AC$2,ROW()+1,\"\")","v":{"$error":"#REF!"}},{"$f":"IF(C26240=base!$W$2,ROW()+1,\"\")","v":{"$error":"#REF!"}},33274,"El Muerto","Ranchería","Santa Isabel","Chihuahua",null,31001,8,31001,null,29,24,7749,"Rural"]
[{"$f":"IF(C26359=base!$AC$2,ROW()+1,\"\")","v":{"$error":"#REF!"}},{"$f":"IF(C26359=base!$W$2,ROW()+1,\"\")","v":{"$error":"#REF!"}},33324,"Rincón de Cahuisori","Ranchería","Ocampo","Chihuahua",null,31692,8,31692,null,29,51,7309,"Rural"]
[{"$f":"IF(C26393=base!$AC$2,ROW()+1,\"\")","v":{"$error":"#REF!"}},{"$f":"IF(C26393=base!$W$2,ROW()+1,\"\")","v":{"$error":"#REF!"}},33326,"Magueche","Ranchería","Ocampo","Chihuahua",null,31692,8,31692,null,29,51,7274,"Rural"]
[{"$f":"IF(C26517=base!$AC$2,ROW()+1,\"\")","v":{"$error":"#REF!"}},{"$f":"IF(C26517=base!$W$2,ROW()+1,\"\")","v":{"$error":"#REF!"}},33337,"Palmarito de Sepayvo","Ranchería","Ocampo","Chihuahua",null,31692,8,31692,null,29,51,7291,"Rural"]
[{"$f":"IF(C26546=base!$AC$2,ROW()+1,\"\")","v":{"$error":"#REF!"}},{"$f":"IF(C26546=base!$W$2,ROW()+1,\"\")","v":{"$error":"#REF!"}},33363,"Jeco","Ranchería","Chínipas","Chihuahua",null,33381,8,33381,null,29,20,7016,"Rural"]
[{"$f":"IF(C26604=base!$AC$2,ROW()+1,\"\")","v":{"$error":"#REF!"}},{"$f":"IF(C26604=base!$W$2,ROW()+1,\"\")","v":{"$error":"#REF!"}},33365,"Guacayvo","Ranchería","Chínipas","Chihuahua",null,33204,8,33204,null,29,20,7003,"Rural"]
[{"$f":"IF(C26731=base!$AC$2,ROW()+1,\"\")","v":{"$error":"#REF!"}},{"$f":"IF(C26731=base!$W$2,ROW()+1,\"\")","v":{"$error":"#REF!"}},33367,"Boriegachi","Ranchería","Chínipas","Chihuahua",null,33381,8,33381,null,29,20,6913,"Rural"]
[{"$f":"IF(C26762=base!$AC$2,ROW()+1,\"\")","v":{"$error":"#REF!"}},{"$f":"IF(C26762=base!$W$2,ROW()+1,\"\")","v":{"$error":"#REF!"}},33367,"Guasachi","Ranchería","Chínipas","Chihuahua",null,33381,8,33381,null,29,20,7007,"Rural"]
[{"$f":"IF(C26812=base!$AC$2,ROW()+1,\"\")","v":{"$error":"#REF!"}},{"$f":"IF(C26812=base!$W$2,ROW()+1,\"\")","v":{"$error":"#REF!"}},33430,"Tascates","Colonia","Urique","Chihuahua",null,33434,8,33434,null,9,65,5734,"Urbano"]
[{"$f":"IF(C26911=base!$AC$2,ROW()+1,\"\")","v":{"$error":"#REF!"}},{"$f":"IF(C26911=base!$W$2,ROW()+1,\"\")","v":{"$error":"#REF!"}},33474,"Mesa Colorada","Ranchería","Guadalupe y Calvo","Chihuahua",null,33472,8,33472,null,29,29,4960,"Rural"]
[{"$f":"IF(C26965=base!$AC$2,ROW()+1,\"\")","v":{"$error":"#REF!"}},{"$f":"IF(C26965=base!$W$2,ROW()+1,\"\")","v":{"$error":"#REF!"}},33475,"Los Parajes","Ranchería","Guadalupe y Calvo","Chihuahua",null,33472,8,33472,null,29,29,4942,"Rural"]
[{"$f":"IF(C27069=base!$AC$2,ROW()+1,\"\")","v":{"$error":"#REF!"}},{"$f":"IF(C27069=base!$W$2,ROW()+1,\"\")","v":{"$error":"#REF!"}},33477,"Saucito de los Pérez","Ranchería","Guadalupe y Calvo","Chihuahua",null,33472,8,33472,null,29,29,5218,"Rural"]
[{"$f":"IF(C27118=base!$AC$2,ROW()+1,\"\")","v":{"$error":"#REF!"}},{"$f":"IF(C27118=base!$W$2,ROW()+1,\"\")","v":{"$error":"#REF!"}},33483,"El Ranchito","Ranchería","Guadalupe y Calvo","Chihuahua",null,33472,8,33472,null,29,29,4590,"Rural"]
[{"$f":"IF(C27227=base!$AC$2,ROW()+1,\"\")","v":{"$error":"#REF!"}},{"$f":"IF(C27227=base!$W$2,ROW()+1,\"\")","v":{"$error":"#REF!"}},33484,"Sahuarare","Ranchería","Guadalupe y Calvo","Chihuahua",null,33472,8,33472,null,29,29,5156,"Rural"]
[{"$f":"IF(C27301=base!$AC$2,ROW()+1,\"\")","v":{"$error":"#REF!"}},{"$f":"IF(C27301=base!$W$2,ROW()+1,\"\")","v":{"$error":"#REF!"}},33485,"Las Trojas","Ranchería","Guadalupe y Calvo","Chihuahua",null,33472,8,33472,null,29,29,4908,"Rural"]
[{"$f":"IF(C27327=base!$AC$2,ROW()+1,\"\")","v":{"$error":"#REF!"}},{"$f":"IF(C27327=base!$W$2,ROW()+1,\"\")","v":{"$error":"#REF!"}},33485,"Palo Muerto","Ejido","Guadalupe y Calvo","Chihuahua",null,33472,8,33472,null,15,29,5039,"Rural"]
[{"$f":"IF(C27388=base!$AC$2,ROW()+1,\"\")","v":{"$error":"#REF!"}},{"$f":"IF(C27388=base!$W$2,ROW()+1,\"\")","v":{"$error":"#REF!"}},33486,"La Mina","Ranchería","Guadalupe y Calvo","Chihuahua",null,33472,8,33472,null,29,29,4798,"Rural"]
[{"$f":"IF(C27512=base!$AC$2,ROW()+1,\"\")","v":{"$error":"#REF!"}},{"$f":"IF(C27512=base!$W$2,ROW()+1,\"\")","v":{"$error":"#REF!"}},33487,"La Cumbre","Ranchería","Guadalupe y Calvo","Chihuahua",null,33472,8,33472,null,29,29,4732,"Rural"]
[{"$f":"IF(C27546=base!$AC$2,ROW()+1,\"\")","v":{"$error":"#REF!"}},{"$f":"IF(C27546=base!$W$2,ROW()+1,\"\")","v":{"$error":"#REF!"}},33488,"Puerto Colorado","Ranchería","Guadalupe y Calvo","Chihuahua",null,33472,8,33472,null,29,29,5084,"Rural"]
[{"$f":"IF(C27665=base!$AC$2,ROW()+1,\"\")","v":{"$error":"#REF!"}},{"$f":"IF(C27665=base!$W$2,ROW()+1,\"\")","v":{"$error":"#REF!"}},33493,"El Ranchito","Ranchería","Guadalupe y Calvo","Chihuahua",null,33472,8,33472,null,29,29,4580,"Rural"]
[{"$f":"IF(C27704=base!$AC$2,ROW()+1,\"\")","v":{"$error":"#REF!"}},{"$f":"IF(C27704=base!$W$2,ROW()+1,\"\")","v":{"$error":"#REF!"}},33494,"Santa Rosa","Ranchería","Guadalupe y Calvo","Chihuahua",null,33472,8,33472,null,29,29,5205,"Rural"]
[{"$f":"IF(C27746=base!$AC$2,ROW()+1,\"\")","v":{"$error":"#REF!"}},{"$f":"IF(C27746=base!$W$2,ROW()+1,\"\")","v":{"$error":"#REF!"}},33495,"La Cieneguita","Ranchería","Guadalupe y Calvo","Chihuahua",null,33472,8,33472,null,29,29,4704,"Rural"]
[{"$f":"IF(C27853=base!$AC$2,ROW()+1,\"\")","v":{"$error":"#REF!"}},{"$f":"IF(C27853=base!$W$2,ROW()+1,\"\")","v":{"$error":"#REF!"}},33497,"Mesa de las Canoas","Ranchería","Guadalupe y Calvo","Chihuahua",null,33472,8,33472,null,29,29,4978,"Rural"]
[{"$f":"IF(C27899=base!$AC$2,ROW()+1,\"\")","v":{"$error":"#REF!"}},{"$f":"IF(C27899=base!$W$2,ROW()+1,\"\")","v":{"$error":"#REF!"}},33498,"La Joya","Ranchería","Guadalupe y Calvo","Chihuahua",null,33472,8,33472,null,29,29,4750,"Rural"]
[{"$f":"IF(C28011=base!$AC$2,ROW()+1,\"\")","v":{"$error":"#REF!"}},{"$f":"IF(C28011=base!$W$2,ROW()+1,\"\")","v":{"$error":"#REF!"}},33563,"La Nopalera (La Cueva Nopalera)","Ranchería","Balleza","Chihuahua",null,33801,8,33801,null,29,7,6641,"Rural"]
[{"$f":"IF(C28052=base!$AC$2,ROW()+1,\"\")","v":{"$error":"#REF!"}},{"$f":"IF(C28052=base!$W$2,ROW()+1,\"\")","v":{"$error":"#REF!"}},33564,"La Laguna","Ranchería","Balleza","Chihuahua",null,33801,8,33801,null,29,7,6619,"Rural"]
[{"$f":"IF(C28098=base!$AC$2,ROW()+1,\"\")","v":{"$error":"#REF!"}},{"$f":"IF(C28098=base!$W$2,ROW()+1,\"\")","v":{"$error":"#REF!"}},33566,"La Yerbabuena","Ranchería","Balleza","Chihuahua",null,33562,8,33562,null,29,7,6665,"Rural"]
[{"$f":"IF(C28237=base!$AC$2,ROW()+1,\"\")","v":{"$error":"#REF!"}},{"$f":"IF(C28237=base!$W$2,ROW()+1,\"\")","v":{"$error":"#REF!"}},33573,"Mesa Blanca","Ranchería","Balleza","Chihuahua",null,33801,8,33801,null,29,7,6731,"Rural"]
[{"$f":"IF(C28256=base!$AC$2,ROW()+1,\"\")","v":{"$error":"#REF!"}},{"$f":"IF(C28256=base!$W$2,ROW()+1,\"\")","v":{"$error":"#REF!"}},33573,"Altos de la Garrocha","Ranchería","Balleza","Chihuahua",null,33801,8,33801,null,29,7,6345,"Rural"]
[{"$f":"IF(C28318=base!$AC$2,ROW()+1,\"\")","v":{"$error":"#REF!"}},{"$f":"IF(C28318=base!$W$2,ROW()+1,\"\")","v":{"$error":"#REF!"}},33573,"La Lagartija","Ranchería","Balleza","Chihuahua",null,33801,8,33801,null,29,7,6618,"Rural"]
[{"$f":"IF(C28405=base!$AC$2,ROW()+1,\"\")","v":{"$error":"#REF!"}},{"$f":"IF(C28405=base!$W$2,ROW()+1,\"\")","v":{"$error":"#REF!"}},33575,"Comunidad el Durazno","Congregación","Balleza","Chihuahua",null,33801,8,33801,null,11,7,6420,"Rural"]
[{"$f":"IF(C28471=base!$AC$2,ROW()+1,\"\")","v":{"$error":"#REF!"}},{"$f":"IF(C28471=base!$W$2,ROW()+1,\"\")","v":{"$error":"#REF!"}},33576,"Guasachique","Ranchería","Balleza","Chihuahua",null,33801,8,33801,null,29,7,6575,"Rural"]
[{"$f":"IF(C28563=base!$AC$2,ROW()+1,\"\")","v":{"$error":"#REF!"}},{"$f":"IF(C28563=base!$W$2,ROW()+1,\"\")","v":{"$error":"#REF!"}},33590,"El Alamito (Los Tubos)","Ejido","Santa Bárbara","Chihuahua",null,33801,8,33801,null,15,60,4194,"Rural"]
[{"$f":"IF(C28624=base!$AC$2,ROW()+1,\"\")","v":{"$error":"#REF!"}},{"$f":"IF(C28624=base!$W$2,ROW()+1,\"\")","v":{"$error":"#REF!"}},33597,"Casa Colorada (Francisco I. Madero)","Ranchería","Santa Bárbara","Chihuahua",null,33801,8,33801,null,29,60,1893,"Rural"]
[{"$f":"IF(C28721=base!$AC$2,ROW()+1,\"\")","v":{"$error":"#REF!"}},{"$f":"IF(C28721=base!$W$2,ROW()+1,\"\")","v":{"$error":"#REF!"}},33633,"El Sacrificio","Ranchería","Saucillo","Chihuahua",null,33629,8,33629,null,29,62,9748,"Rural"]
[{"$f":"IF(C28809=base!$AC$2,ROW()+1,\"\")","v":{"$error":"#REF!"}},{"$f":"IF(C28809=base!$W$2,ROW()+1,\"\")","v":{"$error":"#REF!"}},33637,"Gandarilla","Ranchería","Saucillo","Chihuahua",null,33629,8,33629,null,29,62,9767,"Rural"]
[{"$f":"IF(C28879=base!$AC$2,ROW()+1,\"\")","v":{"$error":"#REF!"}},{"$f":"IF(C28879=base!$W$2,ROW()+1,\"\")","v":{"$error":"#REF!"}},33637,"Nuevo Saucillo","Ranchería","Saucillo","Chihuahua",null,33629,8,33629,null,29,62,9912,"Rural"]
[{"$f":"IF(C28890=base!$AC$2,ROW()+1,\"\")","v":{"$error":"#REF!"}},{"$f":"IF(C28890=base!$W$2,ROW()+1,\"\")","v":{"$error":"#REF!"}},33637,"Granja María Elena","Ranchería","Saucillo","Chihuahua",null,33629,8,33629,null,29,62,9776,"Rural"]
[{"$f":"IF(C28966=base!$AC$2,ROW()+1,\"\")","v":{"$error":"#REF!"}},{"$f":"IF(C28966=base!$W$2,ROW()+1,\"\")","v":{"$error":"#REF!"}},33637,"Rancho la Otra","Ranchería","Saucillo","Chihuahua",null,33629,8,33629,null,29,62,9939,"Rural"]
[{"$f":"IF(C29043=base!$AC$2,ROW()+1,\"\")","v":{"$error":"#REF!"}},{"$f":"IF(C29043=base!$W$2,ROW()+1,\"\")","v":{"$error":"#REF!"}},33644,"El Pozo","Ranchería","Saucillo","Chihuahua",null,33629,8,33629,null,29,62,9740,"Rural"]
[{"$f":"IF(C29115=base!$AC$2,ROW()+1,\"\")","v":{"$error":"#REF!"}},{"$f":"IF(C29115=base!$W$2,ROW()+1,\"\")","v":{"$error":"#REF!"}},33740,"Revolución","Colonia","Camargo","Chihuahua","Santa Rosalía de Camargo",33701,8,33701,null,9,11,1981,"Semiurbano",1]
[{"$f":"IF(C29196=base!$AC$2,ROW()+1,\"\")","v":{"$error":"#REF!"}},{"$f":"IF(C29196=base!$W$2,ROW()+1,\"\")","v":{"$error":"#REF!"}},33839,"Mina La Prieta (La Negrita)","Colonia","Hidalgo del Parral","Chihuahua","Hidalgo del Parral",33801,8,33801,null,9,32,2023,"Urbano",5]
[{"$f":"IF(C29273=base!$AC$2,ROW()+1,\"\")","v":{"$error":"#REF!"}},{"$f":"IF(C29273=base!$W$2,ROW()+1,\"\")","v":{"$error":"#REF!"}},33900,"Maturana","Ranchería","Hidalgo del Parral","Chihuahua",null,33801,8,33801,null,29,32,5339,"Rural"]
[{"$f":"IF(C29381=base!$AC$2,ROW()+1,\"\")","v":{"$error":"#REF!"}},{"$f":"IF(C29381=base!$W$2,ROW()+1,\"\")","v":{"$error":"#REF!"}},33920,"El Llano","Colonia","Allende","Chihuahua",null,33921,8,33921,null,9,3,3,"Urbano"]
[{"$f":"IF(C29431=base!$AC$2,ROW()+1,\"\")","v":{"$error":"#REF!"}},{"$f":"IF(C29431=base!$W$2,ROW()+1,\"\")","v":{"$error":"#REF!"}},33944,"Palmolayo","Ranchería","López","Chihuahua",null,33981,8,33981,null,29,39,66,"Rural"]
[{"$f":"IF(C29462=base!$AC$2,ROW()+1,\"\")","v":{"$error":"#REF!"}},{"$f":"IF(C29462=base!$W$2,ROW()+1,\"\")","v":{"$error":"#REF!"}},33950,"El Malpáis Uno","Ranchería","López","Chihuahua",null,33981,8,33981,null,29,39,19,"Rural"]
[{"$f":"IF(C29589=base!$AC$2,ROW()+1,\"\")","v":{"$error":"#REF!"}},{"$f":"IF(C29589=base!$W$2,ROW()+1,\"\")","v":{"$error":"#REF!"}},33970,"San Isidro Dos","Ranchería","Jiménez","Chihuahua",null,33981,8,33981,null,29,36,6268,"Rural"]
[{"$f":"IF(C29615=base!$AC$2,ROW()+1,\"\")","v":{"$error":"#REF!"}},{"$f":"IF(C29615=base!$W$2,ROW()+1,\"\")","v":{"$error":"#REF!"}},33970,"Las Luisas","Ranchería","Jiménez","Chihuahua",null,33981,8,33981,null,29,36,6143,"Rural"]
[{"$f":"IF(C29738=base!$AC$2,ROW()+1,\"\")","v":{"$error":"#REF!"}},{"$f":"IF(C29738=base!$W$2,ROW()+1,\"\")","v":{"$error":"#REF!"}},33970,"Tierra Blanca (Galindo)","Ranchería","Jiménez","Chihuahua",null,33981,8,33981,null,29,36,6323,"Rural"]
[{"$f":"IF(C29768=base!$AC$2,ROW()+1,\"\")","v":{"$error":"#REF!"}},{"$f":"IF(C29768=base!$W$2,ROW()+1,\"\")","v":{"$error":"#REF!"}},33970,"Quintas Cualiti","Ranchería","Jiménez","Chihuahua",null,33981,8,33981,null,29,36,6213,"Rural"]
[{"$f":"IF(C29825=base!$AC$2,ROW()+1,\"\")","v":{"$error":"#REF!"}},{"$f":"IF(C29825=base!$W$2,ROW()+1,\"\")","v":{"$error":"#REF!"}},33973,"La Cabaña (San Carlos de Abajo)","Ranchería","Jiménez","Chihuahua",null,33981,8,33981,null,29,36,6076,"Rural"]
[{"$f":"IF(C29953=base!$AC$2,ROW()+1,\"\")","v":{"$error":"#REF!"}},{"$f":"IF(C29953=base!$W$2,ROW()+1,\"\")","v":{"$error":"#REF!"}},33978,"La Parrita","Ranchería","Jiménez","Chihuahua",null,33981,8,33981,null,29,36,6111,"Rural"]
[{"$f":"IF(C29983=base!$AC$2,ROW()+1,\"\")","v":{"$error":"#REF!"}},{"$f":"IF(C29983=base!$W$2,ROW()+1,\"\")","v":{"$error":"#REF!"}},33984,"H. de La Revolución","Colonia","Jiménez","Chihuahua","José Mariano Jiménez",33981,8,33981,null,9,36,3853,"Urbano",12]
[{"$f":"IF(C30034=base!$AC$2,ROW()+1,\"\")","v":{"$error":"#REF!"}},{"$f":"IF(C30034=base!$W$2,ROW()+1,\"\")","v":{"$error":"#REF!"}},34005,"INFONAVIT","Gran usuario","Durango","Durango","Victoria de Durango",34271,10,34271,null,22,5,6,"Urbano",1]
[{"$f":"IF(C30141=base!$AC$2,ROW()+1,\"\")","v":{"$error":"#REF!"}},{"$f":"IF(C30141=base!$W$2,ROW()+1,\"\")","v":{"$error":"#REF!"}},34107,"Haciendas el Saltito","Fraccionamiento","Durango","Durango","Victoria de Durango",34131,10,34131,null,21,5,6084,"Urbano",1]
[{"$f":"IF(C30187=base!$AC$2,ROW()+1,\"\")","v":{"$error":"#REF!"}},{"$f":"IF(C30187=base!$W$2,ROW()+1,\"\")","v":{"$error":"#REF!"}},34136,"Ricardo Flores Magón","Colonia","Durango","Durango","Victoria de Durango",34131,10,34131,null,9,5,110,"Urbano",1]
[{"$f":"IF(C30290=base!$AC$2,ROW()+1,\"\")","v":{"$error":"#REF!"}},{"$f":"IF(C30290=base!$W$2,ROW()+1,\"\")","v":{"$error":"#REF!"}},34168,"Real Victoria II","Fraccionamiento","Durango","Durango","Victoria de Durango",34131,10,34131,null,21,5,2116,"Urbano",1]
[{"$f":"IF(C30340=base!$AC$2,ROW()+1,\"\")","v":{"$error":"#REF!"}},{"$f":"IF(C30340=base!$W$2,ROW()+1,\"\")","v":{"$error":"#REF!"}},34194,"Villas Campestre","Fraccionamiento","Durango","Durango","Victoria de Durango",34131,10,34131,null,21,5,197,"Urbano",1]
[{"$f":"IF(C30448=base!$AC$2,ROW()+1,\"\")","v":{"$error":"#REF!"}},{"$f":"IF(C30448=base!$W$2,ROW()+1,\"\")","v":{"$error":"#REF!"}},34225,"Jardines del Real I","Fraccionamiento","Durango","Durango","Victoria de Durango",34222,10,34222,null,21,5,2029,"Urbano",1]
[{"$f":"IF(C30493=base!$AC$2,ROW()+1,\"\")","v":{"$error":"#REF!"}},{"$f":"IF(C30493=base!$W$2,ROW()+1,\"\")","v":{"$error":"#REF!"}},34236,"Caminos del Sol","Fraccionamiento","Durango","Durango","Victoria de Durango",34222,10,34222,null,21,5,2102,"Urbano",1]
[{"$f":"IF(C30535=base!$AC$2,ROW()+1,\"\")","v":{"$error":"#REF!"}},{"$f":"IF(C30535=base!$W$2,ROW()+1,\"\")","v":{"$error":"#REF!"}},34298,"Patria Libre","Colonia","Durango","Durango","Victoria de Durango",34222,10,34222,null,9,5,300,"Urbano",1]
[{"$f":"IF(C30606=base!$AC$2,ROW()+1,\"\")","v":{"$error":"#REF!"}},{"$f":"IF(C30606=base!$W$2,ROW()+1,\"\")","v":{"$error":"#REF!"}},34306,"Rancho los Portales Cabalgantes","Ranchería","Durango","Durango",null,34271,10,34271,null,29,5,4589,"Rural"]
[{"$f":"IF(C30693=base!$AC$2,ROW()+1,\"\")","v":{"$error":"#REF!"}},{"$f":"IF(C30693=base!$W$2,ROW()+1,\"\")","v":{"$error":"#REF!"}},34327,"Granja Tres Potrillos","Granja","Durango","Durango",null,34271,10,34271,null,23,5,4511,"Rural"]
[{"$f":"IF(C30759=base!$AC$2,ROW()+1,\"\")","v":{"$error":"#REF!"}},{"$f":"IF(C30759=base!$W$2,ROW()+1,\"\")","v":{"$error":"#REF!"}},34380,"Rancho Espino","Ranchería","Durango","Durango",null,34271,10,34271,null,29,5,4553,"Rural"]
[{"$f":"IF(C30842=base!$AC$2,ROW()+1,\"\")","v":{"$error":"#REF!"}},{"$f":"IF(C30842=base!$W$2,ROW()+1,\"\")","v":{"$error":"#REF!"}},34405,"San Francisco Dos","Ranchería","Canatlán","Durango",null,34451,10,34451,null,29,1,4726,"Rural"]
[{"$f":"IF(C30912=base!$AC$2,ROW()+1,\"\")","v":{"$error":"#REF!"}},{"$f":"IF(C30912=base!$W$2,ROW()+1,\"\")","v":{"$error":"#REF!"}},34423,"Campo Hermoso","Colonia","Nuevo Ideal","Durango",null,34411,10,34411,null,9,39,430,"Rural"]
[{"$f":"IF(C31000=base!$AC$2,ROW()+1,\"\")","v":{"$error":"#REF!"}},{"$f":"IF(C31000=base!$W$2,ROW()+1,\"\")","v":{"$error":"#REF!"}},34444,"El Ranchito","Ranchería","Canatlán","Durango",null,34451,10,34451,null,29,1,2287,"Rural"]
[{"$f":"IF(C31065=base!$AC$2,ROW()+1,\"\")","v":{"$error":"#REF!"}},{"$f":"IF(C31065=base!$W$2,ROW()+1,\"\")","v":{"$error":"#REF!"}},34463,"Las Pomas","Ranchería","Canatlán","Durango",null,34451,10,34451,null,29,1,2321,"Rural"]
[{"$f":"IF(C31158=base!$AC$2,ROW()+1,\"\")","v":{"$error":"#REF!"}},{"$f":"IF(C31158=base!$W$2,ROW()+1,\"\")","v":{"$error":"#REF!"}},34480,"San Juan del Río del Centauro del Norte Centro","Colonia","San Juan del Río","Durango","San Juan del Río del Centauro del Norte",34481,10,34481,null,9,28,522,"Urbano",6]
[{"$f":"IF(C31178=base!$AC$2,ROW()+1,\"\")","v":{"$error":"#REF!"}},{"$f":"IF(C31178=base!$W$2,ROW()+1,\"\")","v":{"$error":"#REF!"}},34486,"Colonia Benito Juárez","Colonia","San Juan del Río","Durango",null,34481,10,34481,null,9,28,3555,"Urbano"]
[{"$f":"IF(C31245=base!$AC$2,ROW()+1,\"\")","v":{"$error":"#REF!"}},{"$f":"IF(C31245=base!$W$2,ROW()+1,\"\")","v":{"$error":"#REF!"}},34496,"Sauz de Abajo","Ranchería","San Juan del Río","Durango",null,34481,10,34481,null,29,28,528,"Rural"]
[{"$f":"IF(C31331=base!$AC$2,ROW()+1,\"\")","v":{"$error":"#REF!"}},{"$f":"IF(C31331=base!$W$2,ROW()+1,\"\")","v":{"$error":"#REF!"}},34524,"El Granadito","Ranchería","Canelas","Durango",null,34541,10,34541,null,29,2,2633,"Rural"]
[{"$f":"IF(C31394=base!$AC$2,ROW()+1,\"\")","v":{"$error":"#REF!"}},{"$f":"IF(C31394=base!$W$2,ROW()+1,\"\")","v":{"$error":"#REF!"}},34535,"El Puerto la Esperanza","Ranchería","Canelas","Durango",null,34541,10,34541,null,29,2,2696,"Rural"]
[{"$f":"IF(C31477=base!$AC$2,ROW()+1,\"\")","v":{"$error":"#REF!"}},{"$f":"IF(C31477=base!$W$2,ROW()+1,\"\")","v":{"$error":"#REF!"}},34546,"Vega Redonda","Ranchería","Topia","Durango",null,34541,10,34541,null,29,37,2876,"Rural"]
[{"$f":"IF(C31540=base!$AC$2,ROW()+1,\"\")","v":{"$error":"#REF!"}},{"$f":"IF(C31540=base!$W$2,ROW()+1,\"\")","v":{"$error":"#REF!"}},34554,"El Roblar","Ranchería","Topia","Durango",null,34541,10,34541,null,29,37,2945,"Rural"]
[{"$f":"IF(C31635=base!$AC$2,ROW()+1,\"\")","v":{"$error":"#REF!"}},{"$f":"IF(C31635=base!$W$2,ROW()+1,\"\")","v":{"$error":"#REF!"}},34563,"El Cajoncito","Ranchería","Topia","Durango",null,34541,10,34541,null,29,37,2819,"Rural"]
[{"$f":"IF(C31693=base!$AC$2,ROW()+1,\"\")","v":{"$error":"#REF!"}},{"$f":"IF(C31693=base!$W$2,ROW()+1,\"\")","v":{"$error":"#REF!"}},34570,"Carricitos","Ranchería","Tamazula","Durango",null,34581,10,34581,null,29,34,5334,"Rural"]
[{"$f":"IF(C31784=base!$AC$2,ROW()+1,\"\")","v":{"$error":"#REF!"}},{"$f":"IF(C31784=base!$W$2,ROW()+1,\"\")","v":{"$error":"#REF!"}},34570,"San Román","Ranchería","Tamazula","Durango",null,34581,10,34581,null,29,34,5916,"Rural"]
[{"$f":"IF(C31846=base!$AC$2,ROW()+1,\"\")","v":{"$error":"#REF!"}},{"$f":"IF(C31846=base!$W$2,ROW()+1,\"\")","v":{"$error":"#REF!"}},34574,"Potrero del Agua Blanca","Ranchería","Tamazula","Durango",null,34581,10,34581,null,29,34,5860,"Rural"]
[{"$f":"IF(C31942=base!$AC$2,ROW()+1,\"\")","v":{"$error":"#REF!"}},{"$f":"IF(C31942=base!$W$2,ROW()+1,\"\")","v":{"$error":"#REF!"}},34576,"San Felipe","Ranchería","Tamazula","Durango",null,34581,10,34581,null,29,34,5889,"Rural"]
[{"$f":"IF(C31999=base!$AC$2,ROW()+1,\"\")","v":{"$error":"#REF!"}},{"$f":"IF(C31999=base!$W$2,ROW()+1,\"\")","v":{"$error":"#REF!"}},34583,"Los Aguajitos","Ranchería","Tamazula","Durango",null,34581,10,34581,null,29,34,5765,"Rural"]
[{"$f":"IF(C32029=base!$AC$2,ROW()+1,\"\")","v":{"$error":"#REF!"}},{"$f":"IF(C32029=base!$W$2,ROW()+1,\"\")","v":{"$error":"#REF!"}},34584,"El Pinal","Ranchería","Tamazula","Durango",null,34581,10,34581,null,29,34,5469,"Rural"]
[{"$f":"IF(C32112=base!$AC$2,ROW()+1,\"\")","v":{"$error":"#REF!"}},{"$f":"IF(C32112=base!$W$2,ROW()+1,\"\")","v":{"$error":"#REF!"}},34586,"Aguaje Grande","Ranchería","Tamazula","Durango",null,34581,10,34581,null,29,34,5312,"Rural"]
[{"$f":"IF(C32187=base!$AC$2,ROW()+1,\"\")","v":{"$error":"#REF!"}},{"$f":"IF(C32187=base!$W$2,ROW()+1,\"\")","v":{"$error":"#REF!"}},34590,"Chapotillos","Ranchería","Tamazula","Durango",null,34581,10,34581,null,29,34,5340,"Rural"]
[{"$f":"IF(C32265=base!$AC$2,ROW()+1,\"\")","v":{"$error":"#REF!"}},{"$f":"IF(C32265=base!$W$2,ROW()+1,\"\")","v":{"$error":"#REF!"}},34595,"Los Tacotes","Ranchería","Tamazula","Durango",null,34581,10,34581,null,29,34,5816,"Rural"]
[{"$f":"IF(C32336=base!$AC$2,ROW()+1,\"\")","v":{"$error":"#REF!"}},{"$f":"IF(C32336=base!$W$2,ROW()+1,\"\")","v":{"$error":"#REF!"}},34598,"Las Lajas","Ranchería","Tamazula","Durango",null,34581,10,34581,null,29,34,5738,"Rural"]
[{"$f":"IF(C32418=base!$AC$2,ROW()+1,\"\")","v":{"$error":"#REF!"}},{"$f":"IF(C32418=base!$W$2,ROW()+1,\"\")","v":{"$error":"#REF!"}},34607,"José Ramón Valdez","Pueblo","Santiago Papasquiaro","Durango",null,34631,10,34631,null,28,32,650,"Rural"]
[{"$f":"IF(C32494=base!$AC$2,ROW()+1,\"\")","v":{"$error":"#REF!"}},{"$f":"IF(C32494=base!$W$2,ROW()+1,\"\")","v":{"$error":"#REF!"}},34615,"Panales","Ranchería","Santiago Papasquiaro","Durango",null,34631,10,34631,null,29,32,4950,"Rural"]
[{"$f":"IF(C32571=base!$AC$2,ROW()+1,\"\")","v":{"$error":"#REF!"}},{"$f":"IF(C32571=base!$W$2,ROW()+1,\"\")","v":{"$error":"#REF!"}},34624,"La Joyita","Ranchería","Santiago Papasquiaro","Durango",null,34631,10,34631,null,29,32,3275,"Rural"]
[{"$f":"IF(C32652=base!$AC$2,ROW()+1,\"\")","v":{"$error":"#REF!"}},{"$f":"IF(C32652=base!$W$2,ROW()+1,\"\")","v":{"$error":"#REF!"}},34640,"Providencia","Colonia","Santiago Papasquiaro","Durango","Santiago Papasquiaro",34631,10,34631,null,9,32,5291,"Urbano",4]
[{"$f":"IF(C32684=base!$AC$2,ROW()+1,\"\")","v":{"$error":"#REF!"}},{"$f":"IF(C32684=base!$W$2,ROW()+1,\"\")","v":{"$error":"#REF!"}},34670,"Sapiorís","Ranchería","San Dimas","Durango",null,34691,10,34691,null,29,26,741,"Rural"]
[{"$f":"IF(C32810=base!$AC$2,ROW()+1,\"\")","v":{"$error":"#REF!"}},{"$f":"IF(C32810=base!$W$2,ROW()+1,\"\")","v":{"$error":"#REF!"}},34675,"Espadañal de San Jerónimo","Pueblo","San Dimas","Durango",null,34691,10,34691,null,28,26,4129,"Rural"]
[{"$f":"IF(C32837=base!$AC$2,ROW()+1,\"\")","v":{"$error":"#REF!"}},{"$f":"IF(C32837=base!$W$2,ROW()+1,\"\")","v":{"$error":"#REF!"}},34677,"La Vinata","Ranchería","San Dimas","Durango",null,34691,10,34691,null,29,26,4241,"Rural"]
[{"$f":"IF(C32897=base!$AC$2,ROW()+1,\"\")","v":{"$error":"#REF!"}},{"$f":"IF(C32897=base!$W$2,ROW()+1,\"\")","v":{"$error":"#REF!"}},34680,"La Hedionda","Ranchería","San Dimas","Durango",null,34691,10,34691,null,29,26,4180,"Rural"]
[{"$f":"IF(C32990=base!$AC$2,ROW()+1,\"\")","v":{"$error":"#REF!"}},{"$f":"IF(C32990=base!$W$2,ROW()+1,\"\")","v":{"$error":"#REF!"}},34685,"San José de Miravalles (El Baluarte)","Pueblo","San Dimas","Durango",null,34691,10,34691,null,28,26,752,"Rural"]
[{"$f":"IF(C33046=base!$AC$2,ROW()+1,\"\")","v":{"$error":"#REF!"}},{"$f":"IF(C33046=base!$W$2,ROW()+1,\"\")","v":{"$error":"#REF!"}},34687,"La Cebadilla","Ranchería","San Dimas","Durango",null,34691,10,34691,null,29,26,4150,"Rural"]
[{"$f":"IF(C33143=base!$AC$2,ROW()+1,\"\")","v":{"$error":"#REF!"}},{"$f":"IF(C33143=base!$W$2,ROW()+1,\"\")","v":{"$error":"#REF!"}},34694,"El Limón","Ranchería","San Dimas","Durango",null,34691,10,34691,null,29,26,4045,"Rural"]
[{"$f":"IF(C33204=base!$AC$2,ROW()+1,\"\")","v":{"$error":"#REF!"}},{"$f":"IF(C33204=base!$W$2,ROW()+1,\"\")","v":{"$error":"#REF!"}},34697,"San José","Ranchería","San Dimas","Durango",null,34691,10,34691,null,29,26,4375,"Rural"]
[{"$f":"IF(C33256=base!$AC$2,ROW()+1,\"\")","v":{"$error":"#REF!"}},{"$f":"IF(C33256=base!$W$2,ROW()+1,\"\")","v":{"$error":"#REF!"}},34710,"Lucio Saldívar","Ranchería","Guadalupe Victoria","Durango",null,34702,10,34702,null,29,8,3534,"Rural"]
[{"$f":"IF(C33362=base!$AC$2,ROW()+1,\"\")","v":{"$error":"#REF!"}},{"$f":"IF(C33362=base!$W$2,ROW()+1,\"\")","v":{"$error":"#REF!"}},34765,"Altavista","Colonia","Peñón Blanco","Durango","Peñón Blanco",34761,10,34761,null,9,21,1936,"Urbano",7]
[{"$f":"IF(C33409=base!$AC$2,ROW()+1,\"\")","v":{"$error":"#REF!"}},{"$f":"IF(C33409=base!$W$2,ROW()+1,\"\")","v":{"$error":"#REF!"}},34800,"El Refugio","Pueblo","Poanas","Durango",null,34801,10,34801,null,28,22,844,"Rural"]
[{"$f":"IF(C33520=base!$AC$2,ROW()+1,\"\")","v":{"$error":"#REF!"}},{"$f":"IF(C33520=base!$W$2,ROW()+1,\"\")","v":{"$error":"#REF!"}},34893,"Nueva España","Colonia","Vicente Guerrero","Durango","Vicente Guerrero",34891,10,34891,null,9,38,1960,"Urbano",10]
[{"$f":"IF(C33562=base!$AC$2,ROW()+1,\"\")","v":{"$error":"#REF!"}},{"$f":"IF(C33562=base!$W$2,ROW()+1,\"\")","v":{"$error":"#REF!"}},34913,"Hacienda El Mortero","Hacienda","Súchil","Durango",null,34901,10,34901,null,24,33,908,"Rural"]
[{"$f":"IF(C33669=base!$AC$2,ROW()+1,\"\")","v":{"$error":"#REF!"}},{"$f":"IF(C33669=base!$W$2,ROW()+1,\"\")","v":{"$error":"#REF!"}},34955,"Los Estanques","Ranchería","Pueblo Nuevo","Durango",null,34941,10,34941,null,29,23,3863,"Rural"]
[{"$f":"IF(C33715=base!$AC$2,ROW()+1,\"\")","v":{"$error":"#REF!"}},{"$f":"IF(C33715=base!$W$2,ROW()+1,\"\")","v":{"$error":"#REF!"}},34956,"La Trampa","Ranchería","Pueblo Nuevo","Durango",null,34941,10,34941,null,29,23,3820,"Rural"]
[{"$f":"IF(C33756=base!$AC$2,ROW()+1,\"\")","v":{"$error":"#REF!"}},{"$f":"IF(C33756=base!$W$2,ROW()+1,\"\")","v":{"$error":"#REF!"}},34963,"Tierras Blancas","Ranchería","Pueblo Nuevo","Durango",null,34941,10,34941,null,29,23,3917,"Rural"]
[{"$f":"IF(C33828=base!$AC$2,ROW()+1,\"\")","v":{"$error":"#REF!"}},{"$f":"IF(C33828=base!$W$2,ROW()+1,\"\")","v":{"$error":"#REF!"}},34965,"Los Platanos","Ranchería","Pueblo Nuevo","Durango",null,34941,10,34941,null,29,23,5051,"Rural"]
[{"$f":"IF(C33914=base!$AC$2,ROW()+1,\"\")","v":{"$error":"#REF!"}},{"$f":"IF(C33914=base!$W$2,ROW()+1,\"\")","v":{"$error":"#REF!"}},34967,"El Encinal ( Tres Encinos)","Ranchería","Pueblo Nuevo","Durango",null,34941,10,34941,null,29,23,3718,"Rural"]
[{"$f":"IF(C33981=base!$AC$2,ROW()+1,\"\")","v":{"$error":"#REF!"}},{"$f":"IF(C33981=base!$W$2,ROW()+1,\"\")","v":{"$error":"#REF!"}},34968,"La Formación","Ranchería","Pueblo Nuevo","Durango",null,34941,10,34941,null,29,23,3792,"Rural"]
[{"$f":"IF(C34072=base!$AC$2,ROW()+1,\"\")","v":{"$error":"#REF!"}},{"$f":"IF(C34072=base!$W$2,ROW()+1,\"\")","v":{"$error":"#REF!"}},34975,"Pénjamo","Ranchería","Mezquital","Durango",null,34971,10,34971,null,29,14,7147,"Rural"]
[{"$f":"IF(C34134=base!$AC$2,ROW()+1,\"\")","v":{"$error":"#REF!"}},{"$f":"IF(C34134=base!$W$2,ROW()+1,\"\")","v":{"$error":"#REF!"}},34977,"La Mesa del Jacal","Ranchería","Mezquital","Durango",null,34971,10,34971,null,29,14,6654,"Rural"]
[{"$f":"IF(C34221=base!$AC$2,ROW()+1,\"\")","v":{"$error":"#REF!"}},{"$f":"IF(C34221=base!$W$2,ROW()+1,\"\")","v":{"$error":"#REF!"}},34980,"Ceja de Toyana","Ranchería","Mezquital","Durango",null,34971,10,34971,null,29,14,6203,"Rural"]
[{"$f":"IF(C34287=base!$AC$2,ROW()+1,\"\")","v":{"$error":"#REF!"}},{"$f":"IF(C34287=base!$W$2,ROW()+1,\"\")","v":{"$error":"#REF!"}},34983,"El Patio","Ranchería","Mezquital","Durango",null,34971,10,34971,null,29,14,6401,"Rural"]
[{"$f":"IF(C34379=base!$AC$2,ROW()+1,\"\")","v":{"$error":"#REF!"}},{"$f":"IF(C34379=base!$W$2,ROW()+1,\"\")","v":{"$error":"#REF!"}},34984,"Los Barrancos","Ranchería","Mezquital","Durango",null,34971,10,34971,null,29,14,6917,"Rural"]
[{"$f":"IF(C34440=base!$AC$2,ROW()+1,\"\")","v":{"$error":"#REF!"}},{"$f":"IF(C34440=base!$W$2,ROW()+1,\"\")","v":{"$error":"#REF!"}},34985,"Sombrero Quemado","Ranchería","Mezquital","Durango",null,34971,10,34971,null,29,14,7258,"Rural"]
[{"$f":"IF(C34466=base!$AC$2,ROW()+1,\"\")","v":{"$error":"#REF!"}},{"$f":"IF(C34466=base!$W$2,ROW()+1,\"\")","v":{"$error":"#REF!"}},34985,"La Mesita del Rincón","Ranchería","Mezquital","Durango",null,34971,10,34971,null,29,14,6664,"Rural"]
[{"$f":"IF(C34553=base!$AC$2,ROW()+1,\"\")","v":{"$error":"#REF!"}},{"$f":"IF(C34553=base!$W$2,ROW()+1,\"\")","v":{"$error":"#REF!"}},34985,"Llanito los Arroyitos","Ranchería","Mezquital","Durango",null,34971,10,34971,null,29,14,6873,"Rural"]
[{"$f":"IF(C34624=base!$AC$2,ROW()+1,\"\")","v":{"$error":"#REF!"}},{"$f":"IF(C34624=base!$W$2,ROW()+1,\"\")","v":{"$error":"#REF!"}},34986,"Tierras Coloradas","Ranchería","Mezquital","Durango",null,34971,10,34971,null,29,14,7312,"Rural"]
[{"$f":"IF(C34706=base!$AC$2,ROW()+1,\"\")","v":{"$error":"#REF!"}},{"$f":"IF(C34706=base!$W$2,ROW()+1,\"\")","v":{"$error":"#REF!"}},34987,"Llano de Jerusalén","Ranchería","Mezquital","Durango",null,34971,10,34971,null,29,14,6877,"Rural"]
[{"$f":"IF(C34773=base!$AC$2,ROW()+1,\"\")","v":{"$error":"#REF!"}},{"$f":"IF(C34773=base!$W$2,ROW()+1,\"\")","v":{"$error":"#REF!"}},34988,"Los Charcos","Ranchería","Mezquital","Durango",null,34971,10,34971,null,29,14,974,"Rural"]
[{"$f":"IF(C34859=base!$AC$2,ROW()+1,\"\")","v":{"$error":"#REF!"}},{"$f":"IF(C34859=base!$W$2,ROW()+1,\"\")","v":{"$error":"#REF!"}},34990,"El Cordón","Ejido","Mezquital","Durango",null,34971,10,34971,null,15,14,6345,"Rural"]
[{"$f":"IF(C34931=base!$AC$2,ROW()+1,\"\")","v":{"$error":"#REF!"}},{"$f":"IF(C34931=base!$W$2,ROW()+1,\"\")","v":{"$error":"#REF!"}},34993,"Los Picachos","Ranchería","Mezquital","Durango",null,34971,10,34971,null,29,14,7027,"Rural"]
[{"$f":"IF(C35012=base!$AC$2,ROW()+1,\"\")","v":{"$error":"#REF!"}},{"$f":"IF(C35012=base!$W$2,ROW()+1,\"\")","v":{"$error":"#REF!"}},34994,"El Cotorro","Ranchería","Mezquital","Durango",null,34971,10,34971,null,29,14,6348,"Rural"]
[{"$f":"IF(C35089=base!$AC$2,ROW()+1,\"\")","v":{"$error":"#REF!"}},{"$f":"IF(C35089=base!$W$2,ROW()+1,\"\")","v":{"$error":"#REF!"}},34995,"Bajío de la China","Ranchería","Mezquital","Durango",null,34971,10,34971,null,29,14,6147,"Rural"]
[{"$f":"IF(C35125=base!$AC$2,ROW()+1,\"\")","v":{"$error":"#REF!"}},{"$f":"IF(C35125=base!$W$2,ROW()+1,\"\")","v":{"$error":"#REF!"}},34995,"Las Joyas (Guayabitos)","Ranchería","Mezquital","Durango",null,34971,10,34971,null,29,14,6799,"Rural"]
[{"$f":"IF(C35176=base!$AC$2,ROW()+1,\"\")","v":{"$error":"#REF!"}},{"$f":"IF(C35176=base!$W$2,ROW()+1,\"\")","v":{"$error":"#REF!"}},34996,"La Ventana","Ejido","Mezquital","Durango",null,34971,10,34971,null,15,14,6708,"Rural"]
[{"$f":"IF(C35278=base!$AC$2,ROW()+1,\"\")","v":{"$error":"#REF!"}},{"$f":"IF(C35278=base!$W$2,ROW()+1,\"\")","v":{"$error":"#REF!"}},35010,"Bugambilias","Fraccionamiento","Gómez Palacio","Durango","Gómez Palacio",35001,10,35001,null,21,7,1002,"Urbano",2]
[{"$f":"IF(C35325=base!$AC$2,ROW()+1,\"\")","v":{"$error":"#REF!"}},{"$f":"IF(C35325=base!$W$2,ROW()+1,\"\")","v":{"$error":"#REF!"}},35020,"La Esperanza","Colonia","Gómez Palacio","Durango","Gómez Palacio",35001,10,35001,null,9,7,1024,"Urbano",2]
[{"$f":"IF(C35431=base!$AC$2,ROW()+1,\"\")","v":{"$error":"#REF!"}},{"$f":"IF(C35431=base!$W$2,ROW()+1,\"\")","v":{"$error":"#REF!"}},35072,"Asociación de Médicos Mexicanos AC","Gran usuario","Gómez Palacio","Durango","Gómez Palacio",35001,10,35001,null,22,7,1112,"Urbano",2]
[{"$f":"IF(C35483=base!$AC$2,ROW()+1,\"\")","v":{"$error":"#REF!"}},{"$f":"IF(C35483=base!$W$2,ROW()+1,\"\")","v":{"$error":"#REF!"}},35112,"Arturo Martínez Adame","Ejido","Gómez Palacio","Durango",null,35001,10,35001,null,15,7,1151,"Rural"]
[{"$f":"IF(C35584=base!$AC$2,ROW()+1,\"\")","v":{"$error":"#REF!"}},{"$f":"IF(C35584=base!$W$2,ROW()+1,\"\")","v":{"$error":"#REF!"}},35157,"Jardín","Colonia","Lerdo","Durango","Ciudad Lerdo",35151,10,35151,null,9,12,1250,"Urbano",3]
[{"$f":"IF(C35641=base!$AC$2,ROW()+1,\"\")","v":{"$error":"#REF!"}},{"$f":"IF(C35641=base!$W$2,ROW()+1,\"\")","v":{"$error":"#REF!"}},35160,"Villa de las Flores","Colonia","Lerdo","Durango","Ciudad Lerdo",35151,10,35151,null,9,12,1280,"Urbano",3]
[{"$f":"IF(C35715=base!$AC$2,ROW()+1,\"\")","v":{"$error":"#REF!"}},{"$f":"IF(C35715=base!$W$2,ROW()+1,\"\")","v":{"$error":"#REF!"}},35213,"San Juan de Cañitas","Ejido","Mapimí","Durango",null,35201,10,35201,null,15,13,1347,"Rural"]
[{"$f":"IF(C35793=base!$AC$2,ROW()+1,\"\")","v":{"$error":"#REF!"}},{"$f":"IF(C35793=base!$W$2,ROW()+1,\"\")","v":{"$error":"#REF!"}},35264,"Tres Postes","Ranchería","Tlahualilo","Durango",null,35251,10,35251,null,29,36,4862,"Rural"]
[{"$f":"IF(C35873=base!$AC$2,ROW()+1,\"\")","v":{"$error":"#REF!"}},{"$f":"IF(C35873=base!$W$2,ROW()+1,\"\")","v":{"$error":"#REF!"}},35317,"El Huizache","Ejido","Hidalgo","Durango",null,35691,10,35691,null,15,10,3367,"Rural"]
[{"$f":"IF(C35946=base!$AC$2,ROW()+1,\"\")","v":{"$error":"#REF!"}},{"$f":"IF(C35946=base!$W$2,ROW()+1,\"\")","v":{"$error":"#REF!"}},35360,"México y los Lirios","Villa","Ocampo","Durango",null,35691,10,35691,null,32,17,1451,"Rural"]
[{"$f":"IF(C35960=base!$AC$2,ROW()+1,\"\")","v":{"$error":"#REF!"}},{"$f":"IF(C35960=base!$W$2,ROW()+1,\"\")","v":{"$error":"#REF!"}},35380,"Torreón de Cañas","Ejido","Ocampo","Durango",null,35691,10,35691,null,15,17,1467,"Rural"]
[{"$f":"IF(C36059=base!$AC$2,ROW()+1,\"\")","v":{"$error":"#REF!"}},{"$f":"IF(C36059=base!$W$2,ROW()+1,\"\")","v":{"$error":"#REF!"}},35426,"Escobar y Anexos","Ranchería","Guanaceví","Durango",null,35601,10,35601,null,29,9,2412,"Rural"]
[{"$f":"IF(C36118=base!$AC$2,ROW()+1,\"\")","v":{"$error":"#REF!"}},{"$f":"IF(C36118=base!$W$2,ROW()+1,\"\")","v":{"$error":"#REF!"}},35435,"Rancho Nuevo","Ranchería","Guanaceví","Durango",null,35601,10,35601,null,29,9,2596,"Rural"]
[{"$f":"IF(C36212=base!$AC$2,ROW()+1,\"\")","v":{"$error":"#REF!"}},{"$f":"IF(C36212=base!$W$2,ROW()+1,\"\")","v":{"$error":"#REF!"}},35444,"El Cebollín","Pueblo","Guanaceví","Durango",null,35601,10,35601,null,28,9,2437,"Rural"]
[{"$f":"IF(C36267=base!$AC$2,ROW()+1,\"\")","v":{"$error":"#REF!"}},{"$f":"IF(C36267=base!$W$2,ROW()+1,\"\")","v":{"$error":"#REF!"}},35465,"San Simón","Ejido","San Bernardo","Durango",null,35691,10,35691,null,15,25,1510,"Rural"]
[{"$f":"IF(C36365=base!$AC$2,ROW()+1,\"\")","v":{"$error":"#REF!"}},{"$f":"IF(C36365=base!$W$2,ROW()+1,\"\")","v":{"$error":"#REF!"}},35530,"El Palmito","Pueblo","Indé","Durango",null,35507,10,35507,null,28,11,1552,"Rural"]
[{"$f":"IF(C36425=base!$AC$2,ROW()+1,\"\")","v":{"$error":"#REF!"}},{"$f":"IF(C36425=base!$W$2,ROW()+1,\"\")","v":{"$error":"#REF!"}},35616,"Carreras","Pueblo","Tepehuanes","Durango",null,35601,10,35601,null,28,35,1600,"Rural"]
[{"$f":"IF(C36518=base!$AC$2,ROW()+1,\"\")","v":{"$error":"#REF!"}},{"$f":"IF(C36518=base!$W$2,ROW()+1,\"\")","v":{"$error":"#REF!"}},35633,"El Metate","Ranchería","Tepehuanes","Durango",null,35601,10,35601,null,29,35,3205,"Rural"]
[{"$f":"IF(C36583=base!$AC$2,ROW()+1,\"\")","v":{"$error":"#REF!"}},{"$f":"IF(C36583=base!$W$2,ROW()+1,\"\")","v":{"$error":"#REF!"}},35636,"La Mesa Redondeada (El Tule Uno)","Ranchería","Tepehuanes","Durango",null,35601,10,35601,null,29,35,3172,"Rural"]
[{"$f":"IF(C36631=base!$AC$2,ROW()+1,\"\")","v":{"$error":"#REF!"}},{"$f":"IF(C36631=base!$W$2,ROW()+1,\"\")","v":{"$error":"#REF!"}},35640,"Cruz de Piedra","Ranchería","Tepehuanes","Durango",null,35601,10,35601,null,29,35,3151,"Rural"]
[{"$f":"IF(C36741=base!$AC$2,ROW()+1,\"\")","v":{"$error":"#REF!"}},{"$f":"IF(C36741=base!$W$2,ROW()+1,\"\")","v":{"$error":"#REF!"}},35683,"Jesús María","Colonia","El Oro","Durango",null,35691,10,35691,null,9,18,3334,"Rural"]
[{"$f":"IF(C36784=base!$AC$2,ROW()+1,\"\")","v":{"$error":"#REF!"}},{"$f":"IF(C36784=base!$W$2,ROW()+1,\"\")","v":{"$error":"#REF!"}},35704,"Lomas Verdes","Colonia","Nazas","Durango",null,35701,10,35701,null,9,15,5170,"Urbano"]
[{"$f":"IF(C36828=base!$AC$2,ROW()+1,\"\")","v":{"$error":"#REF!"}},{"$f":"IF(C36828=base!$W$2,ROW()+1,\"\")","v":{"$error":"#REF!"}},35730,"Dolores Hidalgo","Pueblo","Nazas","Durango",null,35701,10,35701,null,28,15,1659,"Rural"]
[{"$f":"IF(C36937=base!$AC$2,ROW()+1,\"\")","v":{"$error":"#REF!"}},{"$f":"IF(C36937=base!$W$2,ROW()+1,\"\")","v":{"$error":"#REF!"}},35805,"Pirules","Colonia","Cuencamé","Durango",null,35801,10,35801,null,9,4,5992,"Urbano"]
[{"$f":"IF(C36977=base!$AC$2,ROW()+1,\"\")","v":{"$error":"#REF!"}},{"$f":"IF(C36977=base!$W$2,ROW()+1,\"\")","v":{"$error":"#REF!"}},35827,"Vista Hermosa","Congregación","Cuencamé","Durango",null,35801,10,35801,null,11,4,1747,"Rural"]
[{"$f":"IF(C37090=base!$AC$2,ROW()+1,\"\")","v":{"$error":"#REF!"}},{"$f":"IF(C37090=base!$W$2,ROW()+1,\"\")","v":{"$error":"#REF!"}},35894,"Colonia el Rosario","Colonia","Santa Clara","Durango",null,98331,10,98331,null,9,31,7350,"Rural"]
[{"$f":"IF(C37135=base!$AC$2,ROW()+1,\"\")","v":{"$error":"#REF!"}},{"$f":"IF(C37135=base!$W$2,ROW()+1,\"\")","v":{"$error":"#REF!"}},35950,"Gral. Simón Bolívar","Pueblo","General Simón Bolívar","Durango",null,35801,10,35801,null,28,6,1820,"Rural"]
[{"$f":"IF(C37203=base!$AC$2,ROW()+1,\"\")","v":{"$error":"#REF!"}},{"$f":"IF(C37203=base!$W$2,ROW()+1,\"\")","v":{"$error":"#REF!"}},36030,"Panteón","Colonia","Guanajuato","Guanajuato","Guanajuato",36001,11,36001,null,9,15,4428,"Urbano",5]
[{"$f":"IF(C37293=base!$AC$2,ROW()+1,\"\")","v":{"$error":"#REF!"}},{"$f":"IF(C37293=base!$W$2,ROW()+1,\"\")","v":{"$error":"#REF!"}},36135,"Progreso","Colonia","Silao de la Victoria","Guanajuato","Silao",36101,11,36101,null,9,37,32,"Semiurbano",11]
[{"$f":"IF(C37356=base!$AC$2,ROW()+1,\"\")","v":{"$error":"#REF!"}},{"$f":"IF(C37356=base!$W$2,ROW()+1,\"\")","v":{"$error":"#REF!"}},36210,"San Isidro (Jerónimo Hernández)","Ejido","Romita","Guanajuato",null,36201,11,36201,null,15,26,5910,"Rural"]
[{"$f":"IF(C37451=base!$AC$2,ROW()+1,\"\")","v":{"$error":"#REF!"}},{"$f":"IF(C37451=base!$W$2,ROW()+1,\"\")","v":{"$error":"#REF!"}},36212,"El Maguey (Rancho de los Silva)","Ejido","Romita","Guanajuato",null,36201,11,36201,null,15,26,5688,"Rural"]
[{"$f":"IF(C37509=base!$AC$2,ROW()+1,\"\")","v":{"$error":"#REF!"}},{"$f":"IF(C37509=base!$W$2,ROW()+1,\"\")","v":{"$error":"#REF!"}},36212,"Los Mendoza (La Resolana)","Ejido","Romita","Guanajuato",null,36201,11,36201,null,15,26,5836,"Rural"]
[{"$f":"IF(C37600=base!$AC$2,ROW()+1,\"\")","v":{"$error":"#REF!"}},{"$f":"IF(C37600=base!$W$2,ROW()+1,\"\")","v":{"$error":"#REF!"}},36215,"Pedregal de Barroso","Ejido","Romita","Guanajuato",null,36201,11,36201,null,15,26,71,"Rural"]
[{"$f":"IF(C37662=base!$AC$2,ROW()+1,\"\")","v":{"$error":"#REF!"}},{"$f":"IF(C37662=base!$W$2,ROW()+1,\"\")","v":{"$error":"#REF!"}},36217,"Las Tablas Nuevas (La Oreja)","Ranchería","Romita","Guanajuato",null,36201,11,36201,null,29,26,4696,"Rural"]
[{"$f":"IF(C37687=base!$AC$2,ROW()+1,\"\")","v":{"$error":"#REF!"}},{"$f":"IF(C37687=base!$W$2,ROW()+1,\"\")","v":{"$error":"#REF!"}},36218,"San Antonio Loma de Portillo","Poblado comunal","Romita","Guanajuato",null,36201,11,36201,null,27,26,5901,"Rural"]
[{"$f":"IF(C37775=base!$AC$2,ROW()+1,\"\")","v":{"$error":"#REF!"}},{"$f":"IF(C37775=base!$W$2,ROW()+1,\"\")","v":{"$error":"#REF!"}},36237,"Carbonera","Ranchería","Guanajuato","Guanajuato",null,36001,11,36001,null,29,15,6938,"Rural"]
[{"$f":"IF(C37845=base!$AC$2,ROW()+1,\"\")","v":{"$error":"#REF!"}},{"$f":"IF(C37845=base!$W$2,ROW()+1,\"\")","v":{"$error":"#REF!"}},36246,"Presa de la Soledad","Ranchería","Guanajuato","Guanajuato",null,36001,11,36001,null,29,15,7078,"Rural"]
[{"$f":"IF(C37928=base!$AC$2,ROW()+1,\"\")","v":{"$error":"#REF!"}},{"$f":"IF(C37928=base!$W$2,ROW()+1,\"\")","v":{"$error":"#REF!"}},36257,"Lomas de Santa Fe","Fraccionamiento","Guanajuato","Guanajuato","Marfil",36251,11,36251,null,21,15,4454,"Urbano",31]
[{"$f":"IF(C38003=base!$AC$2,ROW()+1,\"\")","v":{"$error":"#REF!"}},{"$f":"IF(C38003=base!$W$2,ROW()+1,\"\")","v":{"$error":"#REF!"}},36267,"El Capulín de Bustos","Ranchería","Guanajuato","Guanajuato",null,36251,11,36251,null,29,15,127,"Rural"]
[{"$f":"IF(C38081=base!$AC$2,ROW()+1,\"\")","v":{"$error":"#REF!"}},{"$f":"IF(C38081=base!$W$2,ROW()+1,\"\")","v":{"$error":"#REF!"}},36274,"Fraccionamiento Colinas del Sur","Fraccionamiento","Silao de la Victoria","Guanajuato",null,36101,11,36101,null,21,37,8985,"Rural"]
[{"$f":"IF(C38152=base!$AC$2,ROW()+1,\"\")","v":{"$error":"#REF!"}},{"$f":"IF(C38152=base!$W$2,ROW()+1,\"\")","v":{"$error":"#REF!"}},36283,"Fracción la Aldeíta","Ejido","Silao de la Victoria","Guanajuato",null,36101,11,36101,null,15,37,8980,"Rural"]
[{"$f":"IF(C38234=base!$AC$2,ROW()+1,\"\")","v":{"$error":"#REF!"}},{"$f":"IF(C38234=base!$W$2,ROW()+1,\"\")","v":{"$error":"#REF!"}},36285,"Unión de San Diego (San Dieguillo)","Ejido","Silao de la Victoria","Guanajuato",null,36101,11,36101,null,15,37,174,"Rural"]
[{"$f":"IF(C38310=base!$AC$2,ROW()+1,\"\")","v":{"$error":"#REF!"}},{"$f":"IF(C38310=base!$W$2,ROW()+1,\"\")","v":{"$error":"#REF!"}},36293,"Granja Guadalupe","Granja","Silao de la Victoria","Guanajuato",null,36101,11,36101,null,23,37,9004,"Rural"]
[{"$f":"IF(C38387=base!$AC$2,ROW()+1,\"\")","v":{"$error":"#REF!"}},{"$f":"IF(C38387=base!$W$2,ROW()+1,\"\")","v":{"$error":"#REF!"}},36297,"El Campamento","Ejido","Silao de la Victoria","Guanajuato",null,36101,11,36101,null,15,37,8937,"Rural"]
[{"$f":"IF(C38397=base!$AC$2,ROW()+1,\"\")","v":{"$error":"#REF!"}},{"$f":"IF(C38397=base!$W$2,ROW()+1,\"\")","v":{"$error":"#REF!"}},36297,"El Sabino (Capulín del Arco)","Ejido","Silao de la Victoria","Guanajuato",null,36101,11,36101,null,15,37,8961,"Rural"]
[{"$f":"IF(C38500=base!$AC$2,ROW()+1,\"\")","v":{"$error":"#REF!"}},{"$f":"IF(C38500=base!$W$2,ROW()+1,\"\")","v":{"$error":"#REF!"}},36403,"Los Arcos","Fraccionamiento","Purísima del Rincón","Guanajuato","Purísima de Bustos",36301,11,36301,null,21,25,5401,"Urbano",29]
[{"$f":"IF(C38555=base!$AC$2,ROW()+1,\"\")","v":{"$error":"#REF!"}},{"$f":"IF(C38555=base!$W$2,ROW()+1,\"\")","v":{"$error":"#REF!"}},36423,"Los Pinos","Ranchería","Purísima del Rincón","Guanajuato",null,36301,11,36301,null,29,25,8310,"Rural"]
[{"$f":"IF(C38653=base!$AC$2,ROW()+1,\"\")","v":{"$error":"#REF!"}},{"$f":"IF(C38653=base!$W$2,ROW()+1,\"\")","v":{"$error":"#REF!"}},36436,"San Roque de Torres","Poblado comunal","Purísima del Rincón","Guanajuato",null,36301,11,36301,null,27,25,8339,"Rural"]
[{"$f":"IF(C38704=base!$AC$2,ROW()+1,\"\")","v":{"$error":"#REF!"}},{"$f":"IF(C38704=base!$W$2,ROW()+1,\"\")","v":{"$error":"#REF!"}},36450,"San Ignacio de Peñuelas","Ejido","San Francisco del Rincón","Guanajuato",null,36301,11,36301,null,15,31,298,"Rural"]
[{"$f":"IF(C38806=base!$AC$2,ROW()+1,\"\")","v":{"$error":"#REF!"}},{"$f":"IF(C38806=base!$W$2,ROW()+1,\"\")","v":{"$error":"#REF!"}},36483,"Rancho los Hernández","Ranchería","Manuel Doblado","Guanajuato",null,36301,11,36301,null,29,8,148,"Rural"]
[{"$f":"IF(C38862=base!$AC$2,ROW()+1,\"\")","v":{"$error":"#REF!"}},{"$f":"IF(C38862=base!$W$2,ROW()+1,\"\")","v":{"$error":"#REF!"}},36485,"Los Juncos","Finca","Manuel Doblado","Guanajuato",null,36301,11,36301,null,20,8,118,"Rural"]
[{"$f":"IF(C38959=base!$AC$2,ROW()+1,\"\")","v":{"$error":"#REF!"}},{"$f":"IF(C38959=base!$W$2,ROW()+1,\"\")","v":{"$error":"#REF!"}},36494,"Potrerillo","Finca","Manuel Doblado","Guanajuato",null,36301,11,36301,null,20,8,136,"Rural"]
[{"$f":"IF(C39020=base!$AC$2,ROW()+1,\"\")","v":{"$error":"#REF!"}},{"$f":"IF(C39020=base!$W$2,ROW()+1,\"\")","v":{"$error":"#REF!"}},36512,"Las Ladrilleras","Colonia","Irapuato","Guanajuato","Irapuato",36501,11,36501,null,9,17,375,"Urbano",6]
[{"$f":"IF(C39072=base!$AC$2,ROW()+1,\"\")","v":{"$error":"#REF!"}},{"$f":"IF(C39072=base!$W$2,ROW()+1,\"\")","v":{"$error":"#REF!"}},36545,"Constitución de Apatzingan","Colonia","Irapuato","Guanajuato","Irapuato",36501,11,36501,null,9,17,3515,"Urbano",6]
[{"$f":"IF(C39107=base!$AC$2,ROW()+1,\"\")","v":{"$error":"#REF!"}},{"$f":"IF(C39107=base!$W$2,ROW()+1,\"\")","v":{"$error":"#REF!"}},36555,"Valle Verde","Fraccionamiento","Irapuato","Guanajuato","Irapuato",36501,11,36501,null,21,17,3459,"Rural",6]
[{"$f":"IF(C39225=base!$AC$2,ROW()+1,\"\")","v":{"$error":"#REF!"}},{"$f":"IF(C39225=base!$W$2,ROW()+1,\"\")","v":{"$error":"#REF!"}},36610,"Bernardo Cobos","Colonia","Irapuato","Guanajuato","Irapuato",36501,11,36501,null,9,17,3561,"Urbano",6]
[{"$f":"IF(C39265=base!$AC$2,ROW()+1,\"\")","v":{"$error":"#REF!"}},{"$f":"IF(C39265=base!$W$2,ROW()+1,\"\")","v":{"$error":"#REF!"}},36626,"Jardines de Arandas","Colonia","Irapuato","Guanajuato","Irapuato",36501,11,36501,null,9,17,5391,"Urbano",6]
[{"$f":"IF(C39378=base!$AC$2,ROW()+1,\"\")","v":{"$error":"#REF!"}},{"$f":"IF(C39378=base!$W$2,ROW()+1,\"\")","v":{"$error":"#REF!"}},36717,"Lomas del Prado 3er Seccion","Fraccionamiento","Salamanca","Guanajuato","Salamanca",36701,11,36701,null,21,27,6807,"Urbano",9]
[{"$f":"IF(C39414=base!$AC$2,ROW()+1,\"\")","v":{"$error":"#REF!"}},{"$f":"IF(C39414=base!$W$2,ROW()+1,\"\")","v":{"$error":"#REF!"}},36743,"Deportivo","Fraccionamiento","Salamanca","Guanajuato","Salamanca",36701,11,36701,null,21,27,539,"Urbano",9]
[{"$f":"IF(C39531=base!$AC$2,ROW()+1,\"\")","v":{"$error":"#REF!"}},{"$f":"IF(C39531=base!$W$2,ROW()+1,\"\")","v":{"$error":"#REF!"}},36786,"Ampliación 18 de Marzo","Colonia","Salamanca","Guanajuato","Salamanca",36701,11,36701,null,9,27,5120,"Urbano",9]
[{"$f":"IF(C39572=base!$AC$2,ROW()+1,\"\")","v":{"$error":"#REF!"}},{"$f":"IF(C39572=base!$W$2,ROW()+1,\"\")","v":{"$error":"#REF!"}},36807,"Nuevo Ejido San Lorenzo","Ejido","Irapuato","Guanajuato",null,36501,11,36501,null,15,17,627,"Rural"]
[{"$f":"IF(C39644=base!$AC$2,ROW()+1,\"\")","v":{"$error":"#REF!"}},{"$f":"IF(C39644=base!$W$2,ROW()+1,\"\")","v":{"$error":"#REF!"}},36826,"El Carrizalito","Congregación","Irapuato","Guanajuato",null,36501,11,36501,null,11,17,663,"Rural"]
[{"$f":"IF(C39730=base!$AC$2,ROW()+1,\"\")","v":{"$error":"#REF!"}},{"$f":"IF(C39730=base!$W$2,ROW()+1,\"\")","v":{"$error":"#REF!"}},36846,"Colonia la Soledad","Colonia","Irapuato","Guanajuato",null,36501,11,36501,null,9,17,6825,"Rural"]
[{"$f":"IF(C39797=base!$AC$2,ROW()+1,\"\")","v":{"$error":"#REF!"}},{"$f":"IF(C39797=base!$W$2,ROW()+1,\"\")","v":{"$error":"#REF!"}},36860,"San Rafael Cerro Gordo","Ejido","Salamanca","Guanajuato",null,36701,11,36701,null,15,27,729,"Rural"]
[{"$f":"IF(C39888=base!$AC$2,ROW()+1,\"\")","v":{"$error":"#REF!"}},{"$f":"IF(C39888=base!$W$2,ROW()+1,\"\")","v":{"$error":"#REF!"}},36878,"Los Ángeles de Arriba","Ranchería","Salamanca","Guanajuato",null,36701,11,36701,null,29,27,6736,"Rural"]
[{"$f":"IF(C39891=base!$AC$2,ROW()+1,\"\")","v":{"$error":"#REF!"}},{"$f":"IF(C39891=base!$W$2,ROW()+1,\"\")","v":{"$error":"#REF!"}},36878,"Las Antenas","Ranchería","Salamanca","Guanajuato",null,36701,11,36701,null,29,27,6729,"Rural"]
[{"$f":"IF(C40006=base!$AC$2,ROW()+1,\"\")","v":{"$error":"#REF!"}},{"$f":"IF(C40006=base!$W$2,ROW()+1,\"\")","v":{"$error":"#REF!"}},36890,"Quinta Las Huertas","Ranchería","Pueblo Nuevo","Guanajuato",null,36501,11,36501,null,29,24,5948,"Rural"]
[{"$f":"IF(C40049=base!$AC$2,ROW()+1,\"\")","v":{"$error":"#REF!"}},{"$f":"IF(C40049=base!$W$2,ROW()+1,\"\")","v":{"$error":"#REF!"}},36896,"Granja San Rafael","Granja","Pueblo Nuevo","Guanajuato",null,36501,11,36501,null,23,24,5974,"Rural"]
[{"$f":"IF(C40159=base!$AC$2,ROW()+1,\"\")","v":{"$error":"#REF!"}},{"$f":"IF(C40159=base!$W$2,ROW()+1,\"\")","v":{"$error":"#REF!"}},36917,"El Pirul","Ranchería","Pénjamo","Guanajuato",null,36901,11,36901,null,29,23,7510,"Rural"]
[{"$f":"IF(C40198=base!$AC$2,ROW()+1,\"\")","v":{"$error":"#REF!"}},{"$f":"IF(C40198=base!$W$2,ROW()+1,\"\")","v":{"$error":"#REF!"}},36923,"El Fresno de la Peña","Ranchería","Pénjamo","Guanajuato",null,36901,11,36901,null,29,23,7485,"Rural"]
[{"$f":"IF(C40312=base!$AC$2,ROW()+1,\"\")","v":{"$error":"#REF!"}},{"$f":"IF(C40312=base!$W$2,ROW()+1,\"\")","v":{"$error":"#REF!"}},36927,"El Jagüey (Manantiales)","Ranchería","Pénjamo","Guanajuato",null,36901,11,36901,null,29,23,7495,"Rural"]
[{"$f":"IF(C40356=base!$AC$2,ROW()+1,\"\")","v":{"$error":"#REF!"}},{"$f":"IF(C40356=base!$W$2,ROW()+1,\"\")","v":{"$error":"#REF!"}},36935,"El Cobre","Ranchería","Pénjamo","Guanajuato",null,36901,11,36901,null,29,23,4985,"Rural"]
[{"$f":"IF(C40393=base!$AC$2,ROW()+1,\"\")","v":{"$error":"#REF!"}},{"$f":"IF(C40393=base!$W$2,ROW()+1,\"\")","v":{"$error":"#REF!"}},36940,"La Villa de Guadalupe","Ranchería","Pénjamo","Guanajuato",null,36901,11,36901,null,29,23,7583,"Rural"]
[{"$f":"IF(C40514=base!$AC$2,ROW()+1,\"\")","v":{"$error":"#REF!"}},{"$f":"IF(C40514=base!$W$2,ROW()+1,\"\")","v":{"$error":"#REF!"}},36960,"San Francisco","Colonia","Cuerámaro","Guanajuato","Cuerámaro",36961,11,36961,null,9,12,3825,"Semiurbano",20]
[{"$f":"IF(C40578=base!$AC$2,ROW()+1,\"\")","v":{"$error":"#REF!"}},{"$f":"IF(C40578=base!$W$2,ROW()+1,\"\")","v":{"$error":"#REF!"}},36966,"Bordo Blanco","Ranchería","Cuerámaro","Guanajuato",null,36961,11,36961,null,29,12,5546,"Rural"]
[{"$f":"IF(C40672=base!$AC$2,ROW()+1,\"\")","v":{"$error":"#REF!"}},{"$f":"IF(C40672=base!$W$2,ROW()+1,\"\")","v":{"$error":"#REF!"}},36976,"Morelos","Colonia","Abasolo","Guanajuato","Abasolo",36971,11,36971,null,9,1,6581,"Urbano",24]
[{"$f":"IF(C40731=base!$AC$2,ROW()+1,\"\")","v":{"$error":"#REF!"}},{"$f":"IF(C40731=base!$W$2,ROW()+1,\"\")","v":{"$error":"#REF!"}},36984,"La Pequeña de las Cruces","Ranchería","Abasolo","Guanajuato",null,36971,11,36971,null,29,1,6432,"Rural"]
[{"$f":"IF(C40759=base!$AC$2,ROW()+1,\"\")","v":{"$error":"#REF!"}},{"$f":"IF(C40759=base!$W$2,ROW()+1,\"\")","v":{"$error":"#REF!"}},36984,"La Nueva Lobera","Ranchería","Abasolo","Guanajuato",null,36971,11,36971,null,29,1,6428,"Rural"]
[{"$f":"IF(C40884=base!$AC$2,ROW()+1,\"\")","v":{"$error":"#REF!"}},{"$f":"IF(C40884=base!$W$2,ROW()+1,\"\")","v":{"$error":"#REF!"}},36986,"El Peñón","Ranchería","Abasolo","Guanajuato",null,36971,11,36971,null,29,1,6368,"Rural"]
[{"$f":"IF(C40908=base!$AC$2,ROW()+1,\"\")","v":{"$error":"#REF!"}},{"$f":"IF(C40908=base!$W$2,ROW()+1,\"\")","v":{"$error":"#REF!"}},36986,"San Aparicio","Ranchería","Abasolo","Guanajuato",null,36971,11,36971,null,29,1,962,"Rural"]
[{"$f":"IF(C40965=base!$AC$2,ROW()+1,\"\")","v":{"$error":"#REF!"}},{"$f":"IF(C40965=base!$W$2,ROW()+1,\"\")","v":{"$error":"#REF!"}},36987,"Salitre de Saavedra","Ejido","Abasolo","Guanajuato",null,36971,11,36971,null,15,1,965,"Rural"]
[{"$f":"IF(C41066=base!$AC$2,ROW()+1,\"\")","v":{"$error":"#REF!"}},{"$f":"IF(C41066=base!$W$2,ROW()+1,\"\")","v":{"$error":"#REF!"}},37106,"La Lagunita","Fraccionamiento","León","Guanajuato","León de los Aldama",37161,11,37161,null,21,20,1038,"Urbano",7]
[{"$f":"IF(C41150=base!$AC$2,ROW()+1,\"\")","v":{"$error":"#REF!"}},{"$f":"IF(C41150=base!$W$2,ROW()+1,\"\")","v":{"$error":"#REF!"}},37149,"Valle del Sol","Colonia","León","Guanajuato","León de los Aldama",37161,11,37161,null,9,20,1115,"Urbano",7]
[{"$f":"IF(C41224=base!$AC$2,ROW()+1,\"\")","v":{"$error":"#REF!"}},{"$f":"IF(C41224=base!$W$2,ROW()+1,\"\")","v":{"$error":"#REF!"}},37204,"Plaza Hidalgo","Fraccionamiento","León","Guanajuato","León de los Aldama",37001,11,37001,null,21,20,1185,"Urbano",7]
[{"$f":"IF(C41303=base!$AC$2,ROW()+1,\"\")","v":{"$error":"#REF!"}},{"$f":"IF(C41303=base!$W$2,ROW()+1,\"\")","v":{"$error":"#REF!"}},37217,"San José del Consuelo II","Colonia","León","Guanajuato","León de los Aldama",37001,11,37001,null,9,20,1254,"Urbano",7]
[{"$f":"IF(C41382=base!$AC$2,ROW()+1,\"\")","v":{"$error":"#REF!"}},{"$f":"IF(C41382=base!$W$2,ROW()+1,\"\")","v":{"$error":"#REF!"}},37257,"Jardines de Oriente","Colonia","León","Guanajuato","León de los Aldama",37001,11,37001,null,9,20,1339,"Urbano",7]
[{"$f":"IF(C41456=base!$AC$2,ROW()+1,\"\")","v":{"$error":"#REF!"}},{"$f":"IF(C41456=base!$W$2,ROW()+1,\"\")","v":{"$error":"#REF!"}},37290,"Industrial Julián de Obregón","Zona industrial","León","Guanajuato","León de los Aldama",37371,11,37371,null,37,20,1405,"Urbano",7]
[{"$f":"IF(C41531=base!$AC$2,ROW()+1,\"\")","v":{"$error":"#REF!"}},{"$f":"IF(C41531=base!$W$2,ROW()+1,\"\")","v":{"$error":"#REF!"}},37306,"Granada","Colonia","León","Guanajuato","León de los Aldama",37331,11,37331,null,9,20,1439,"Urbano",7]
[{"$f":"IF(C41537=base!$AC$2,ROW()+1,\"\")","v":{"$error":"#REF!"}},{"$f":"IF(C41537=base!$W$2,ROW()+1,\"\")","v":{"$error":"#REF!"}},37318,"Desarrollo Baleares","Colonia","León","Guanajuato","León de los Aldama",37331,11,37331,null,9,20,1446,"Urbano",7]
[{"$f":"IF(C41618=base!$AC$2,ROW()+1,\"\")","v":{"$error":"#REF!"}},{"$f":"IF(C41618=base!$W$2,ROW()+1,\"\")","v":{"$error":"#REF!"}},37358,"Villas de Palermo","Fraccionamiento","León","Guanajuato","León de los Aldama",37331,11,37331,null,21,20,42,"Urbano",7]
[{"$f":"IF(C41722=base!$AC$2,ROW()+1,\"\")","v":{"$error":"#REF!"}},{"$f":"IF(C41722=base!$W$2,ROW()+1,\"\")","v":{"$error":"#REF!"}},37448,"Portales de San Sebastián","Colonia","León","Guanajuato","León de los Aldama",37382,11,37382,null,9,20,1583,"Urbano",7]
[{"$f":"IF(C41776=base!$AC$2,ROW()+1,\"\")","v":{"$error":"#REF!"}},{"$f":"IF(C41776=base!$W$2,ROW()+1,\"\")","v":{"$error":"#REF!"}},37520,"Santa María del Granjeno","Colonia","León","Guanajuato","León de los Aldama",37371,11,37371,null,9,20,1653,"Urbano",7]
[{"$f":"IF(C41875=base!$AC$2,ROW()+1,\"\")","v":{"$error":"#REF!"}},{"$f":"IF(C41875=base!$W$2,ROW()+1,\"\")","v":{"$error":"#REF!"}},37550,"María Dolores","Colonia","León","Guanajuato","León de los Aldama",37371,11,37371,null,9,20,1724,"Urbano",7]
[{"$f":"IF(C41934=base!$AC$2,ROW()+1,\"\")","v":{"$error":"#REF!"}},{"$f":"IF(C41934=base!$W$2,ROW()+1,\"\")","v":{"$error":"#REF!"}},37600,"Los Diaz","Ranchería","San Felipe","Guanajuato",null,37607,11,37607,null,29,30,1742,"Rural"]
[{"$f":"IF(C42028=base!$AC$2,ROW()+1,\"\")","v":{"$error":"#REF!"}},{"$f":"IF(C42028=base!$W$2,ROW()+1,\"\")","v":{"$error":"#REF!"}},37644,"El Puerquito","Congregación","Ocampo","Guanajuato",null,37607,11,37607,null,11,22,1828,"Rural"]
[{"$f":"IF(C42083=base!$AC$2,ROW()+1,\"\")","v":{"$error":"#REF!"}},{"$f":"IF(C42083=base!$W$2,ROW()+1,\"\")","v":{"$error":"#REF!"}},37672,"La Herradura","Fraccionamiento","León","Guanajuato",null,37371,11,37371,null,21,20,4375,"Rural"]
[{"$f":"IF(C42109=base!$AC$2,ROW()+1,\"\")","v":{"$error":"#REF!"}},{"$f":"IF(C42109=base!$W$2,ROW()+1,\"\")","v":{"$error":"#REF!"}},37683,"San Isidro de los Sauces","Colonia","León","Guanajuato",null,37371,11,37371,null,9,20,3451,"Rural"]
[{"$f":"IF(C42241=base!$AC$2,ROW()+1,\"\")","v":{"$error":"#REF!"}},{"$f":"IF(C42241=base!$W$2,ROW()+1,\"\")","v":{"$error":"#REF!"}},37753,"Las Cuevitas","Barrio","San Miguel de Allende","Guanajuato","San miguel de Allende",37701,11,37701,null,2,3,5020,"Urbano",2]
[{"$f":"IF(C42262=base!$AC$2,ROW()+1,\"\")","v":{"$error":"#REF!"}},{"$f":"IF(C42262=base!$W$2,ROW()+1,\"\")","v":{"$error":"#REF!"}},37773,"Villas del Parque","Fraccionamiento","San Miguel de Allende","Guanajuato","San miguel de Allende",37701,11,37701,null,21,3,5021,"Urbano",2]
[{"$f":"IF(C42328=base!$AC$2,ROW()+1,\"\")","v":{"$error":"#REF!"}},{"$f":"IF(C42328=base!$W$2,ROW()+1,\"\")","v":{"$error":"#REF!"}},37805,"Jesús María","Ejido","Dolores Hidalgo Cuna de la Independencia Nacional","Guanajuato","Dolores Hidalgo Cuna de la Independencia Nacional",37801,11,37801,null,15,14,4,"Urbano",39]
[{"$f":"IF(C42447=base!$AC$2,ROW()+1,\"\")","v":{"$error":"#REF!"}},{"$f":"IF(C42447=base!$W$2,ROW()+1,\"\")","v":{"$error":"#REF!"}},37842,"El Campanario","Fraccionamiento","Dolores Hidalgo Cuna de la Independencia Nacional","Guanajuato",null,37801,11,37801,null,21,14,51,"Rural"]
[{"$f":"IF(C42486=base!$AC$2,ROW()+1,\"\")","v":{"$error":"#REF!"}},{"$f":"IF(C42486=base!$W$2,ROW()+1,\"\")","v":{"$error":"#REF!"}},37866,"San Pedro","Hacienda","San Diego de la Unión","Guanajuato",null,37851,11,37851,null,24,29,2058,"Rural"]
[{"$f":"IF(C42600=base!$AC$2,ROW()+1,\"\")","v":{"$error":"#REF!"}},{"$f":"IF(C42600=base!$W$2,ROW()+1,\"\")","v":{"$error":"#REF!"}},37875,"Los Castillos","Ranchería","San Diego de la Unión","Guanajuato",null,37851,11,37851,null,29,29,115,"Rural"]
[{"$f":"IF(C42635=base!$AC$2,ROW()+1,\"\")","v":{"$error":"#REF!"}},{"$f":"IF(C42635=base!$W$2,ROW()+1,\"\")","v":{"$error":"#REF!"}},37876,"Catalán del Refugio (Catalanes)","Ranchería","San Diego de la Unión","Guanajuato",null,37851,11,37851,null,29,29,2053,"Rural"]
[{"$f":"IF(C42681=base!$AC$2,ROW()+1,\"\")","v":{"$error":"#REF!"}},{"$f":"IF(C42681=base!$W$2,ROW()+1,\"\")","v":{"$error":"#REF!"}},37877,"La Granjita de la Luz","Ranchería","San Diego de la Unión","Guanajuato",null,37851,11,37851,null,29,29,95,"Rural"]
[{"$f":"IF(C42793=base!$AC$2,ROW()+1,\"\")","v":{"$error":"#REF!"}},{"$f":"IF(C42793=base!$W$2,ROW()+1,\"\")","v":{"$error":"#REF!"}},37886,"Providencia de los Urbina","Poblado comunal","San Miguel de Allende","Guanajuato",null,37701,11,37701,null,27,3,7359,"Rural"]
[{"$f":"IF(C42834=base!$AC$2,ROW()+1,\"\")","v":{"$error":"#REF!"}},{"$f":"IF(C42834=base!$W$2,ROW()+1,\"\")","v":{"$error":"#REF!"}},37888,"Cerritos","Ranchería","San Miguel de Allende","Guanajuato",null,37701,11,37701,null,29,3,2069,"Rural"]
[{"$f":"IF(C42951=base!$AC$2,ROW()+1,\"\")","v":{"$error":"#REF!"}},{"$f":"IF(C42951=base!$W$2,ROW()+1,\"\")","v":{"$error":"#REF!"}},37897,"Santas Marías","Ejido","San Miguel de Allende","Guanajuato",null,37701,11,37701,null,15,3,2099,"Rural"]
[{"$f":"IF(C43019=base!$AC$2,ROW()+1,\"\")","v":{"$error":"#REF!"}},{"$f":"IF(C43019=base!$W$2,ROW()+1,\"\")","v":{"$error":"#REF!"}},37903,"San Luisito","Colonia","San Luis de la Paz","Guanajuato","San Luis de la Paz",37901,11,37901,null,9,33,3872,"Urbano",22]
[{"$f":"IF(C43038=base!$AC$2,ROW()+1,\"\")","v":{"$error":"#REF!"}},{"$f":"IF(C43038=base!$W$2,ROW()+1,\"\")","v":{"$error":"#REF!"}},37905,"Benito Juárez","Colonia","San Luis de la Paz","Guanajuato","San Luis de la Paz",37901,11,37901,null,9,33,3889,"Urbano",22]
[{"$f":"IF(C43172=base!$AC$2,ROW()+1,\"\")","v":{"$error":"#REF!"}},{"$f":"IF(C43172=base!$W$2,ROW()+1,\"\")","v":{"$error":"#REF!"}},37914,"Santa Isabel","Ranchería","San Luis de la Paz","Guanajuato",null,37901,11,37901,null,29,33,8762,"Rural"]
[{"$f":"IF(C43196=base!$AC$2,ROW()+1,\"\")","v":{"$error":"#REF!"}},{"$f":"IF(C43196=base!$W$2,ROW()+1,\"\")","v":{"$error":"#REF!"}},37914,"Nueva Luz","Ranchería","San Luis de la Paz","Guanajuato",null,37901,11,37901,null,29,33,8627,"Rural"]
[{"$f":"IF(C43253=base!$AC$2,ROW()+1,\"\")","v":{"$error":"#REF!"}},{"$f":"IF(C43253=base!$W$2,ROW()+1,\"\")","v":{"$error":"#REF!"}},37915,"Pozo del Huizache","Ranchería","San Luis de la Paz","Guanajuato",null,37901,11,37901,null,29,33,8651,"Rural"]
[{"$f":"IF(C43345=base!$AC$2,ROW()+1,\"\")","v":{"$error":"#REF!"}},{"$f":"IF(C43345=base!$W$2,ROW()+1,\"\")","v":{"$error":"#REF!"}},37916,"San Antonio de las Viejas","Ranchería","San Luis de la Paz","Guanajuato",null,37901,11,37901,null,29,33,8710,"Rural"]
[{"$f":"IF(C43406=base!$AC$2,ROW()+1,\"\")","v":{"$error":"#REF!"}},{"$f":"IF(C43406=base!$W$2,ROW()+1,\"\")","v":{"$error":"#REF!"}},37917,"Rancho Brasil","Ranchería","San Luis de la Paz","Guanajuato",null,37901,11,37901,null,29,33,8675,"Rural"]
[{"$f":"IF(C43503=base!$AC$2,ROW()+1,\"\")","v":{"$error":"#REF!"}},{"$f":"IF(C43503=base!$W$2,ROW()+1,\"\")","v":{"$error":"#REF!"}},37918,"Bernalejo","Ranchería","San Luis de la Paz","Guanajuato",null,37901,11,37901,null,29,33,8375,"Rural"]
[{"$f":"IF(C43591=base!$AC$2,ROW()+1,\"\")","v":{"$error":"#REF!"}},{"$f":"IF(C43591=base!$W$2,ROW()+1,\"\")","v":{"$error":"#REF!"}},37925,"Los Nogales","Finca","Victoria","Guanajuato",null,37981,11,37981,null,20,43,75,"Rural"]
[{"$f":"IF(C43661=base!$AC$2,ROW()+1,\"\")","v":{"$error":"#REF!"}},{"$f":"IF(C43661=base!$W$2,ROW()+1,\"\")","v":{"$error":"#REF!"}},37927,"El Peltre","Granja","Victoria","Guanajuato",null,37981,11,37981,null,23,43,27,"Rural"]
[{"$f":"IF(C43744=base!$AC$2,ROW()+1,\"\")","v":{"$error":"#REF!"}},{"$f":"IF(C43744=base!$W$2,ROW()+1,\"\")","v":{"$error":"#REF!"}},37946,"Puerto la Escondida","Ranchería","Atarjea","Guanajuato",null,37981,11,37981,null,29,6,6014,"Rural"]
[{"$f":"IF(C43819=base!$AC$2,ROW()+1,\"\")","v":{"$error":"#REF!"}},{"$f":"IF(C43819=base!$W$2,ROW()+1,\"\")","v":{"$error":"#REF!"}},37965,"Puerto del Obispo de Arriba","Ranchería","Doctor Mora","Guanajuato",null,37961,11,37961,null,29,13,2284,"Rural"]
[{"$f":"IF(C43825=base!$AC$2,ROW()+1,\"\")","v":{"$error":"#REF!"}},{"$f":"IF(C43825=base!$W$2,ROW()+1,\"\")","v":{"$error":"#REF!"}},37965,"Rancho Nuevo de Guadalupe (El Hurón)","Ranchería","Doctor Mora","Guanajuato",null,37961,11,37961,null,29,13,2287,"Rural"]
[{"$f":"IF(C43897=base!$AC$2,ROW()+1,\"\")","v":{"$error":"#REF!"}},{"$f":"IF(C43897=base!$W$2,ROW()+1,\"\")","v":{"$error":"#REF!"}},37974,"Las Moras","Congregación","Tierra Blanca","Guanajuato",null,37981,11,37981,null,11,40,2329,"Rural"]
[{"$f":"IF(C43978=base!$AC$2,ROW()+1,\"\")","v":{"$error":"#REF!"}},{"$f":"IF(C43978=base!$W$2,ROW()+1,\"\")","v":{"$error":"#REF!"}},37985,"El Panteón","Colonia","San José Iturbide","Guanajuato","San José Iturbide",37981,11,37981,null,9,32,8101,"Urbano",32]
[{"$f":"IF(C44055=base!$AC$2,ROW()+1,\"\")","v":{"$error":"#REF!"}},{"$f":"IF(C44055=base!$W$2,ROW()+1,\"\")","v":{"$error":"#REF!"}},37993,"Granja María Luisa","Ranchería","San José Iturbide","Guanajuato",null,37981,11,37981,null,29,32,8011,"Rural"]
[{"$f":"IF(C44129=base!$AC$2,ROW()+1,\"\")","v":{"$error":"#REF!"}},{"$f":"IF(C44129=base!$W$2,ROW()+1,\"\")","v":{"$error":"#REF!"}},37997,"Colonia San Francisco","Colonia","San José Iturbide","Guanajuato",null,37981,11,37981,null,9,32,7956,"Rural"]
[{"$f":"IF(C44187=base!$AC$2,ROW()+1,\"\")","v":{"$error":"#REF!"}},{"$f":"IF(C44187=base!$W$2,ROW()+1,\"\")","v":{"$error":"#REF!"}},38013,"Reforma","Fraccionamiento","Celaya","Guanajuato","Celaya",38001,11,38001,null,21,7,3633,"Urbano",3]
[{"$f":"IF(C44287=base!$AC$2,ROW()+1,\"\")","v":{"$error":"#REF!"}},{"$f":"IF(C44287=base!$W$2,ROW()+1,\"\")","v":{"$error":"#REF!"}},38035,"Moctezuma","Colonia","Celaya","Guanajuato","Celaya",38001,11,38001,null,9,7,2441,"Rural",3]
[{"$f":"IF(C44340=base!$AC$2,ROW()+1,\"\")","v":{"$error":"#REF!"}},{"$f":"IF(C44340=base!$W$2,ROW()+1,\"\")","v":{"$error":"#REF!"}},38060,"Arboledas de San Rafael","Fraccionamiento","Celaya","Guanajuato","Celaya",38001,11,38001,null,21,7,5087,"Urbano",3]
[{"$f":"IF(C44445=base!$AC$2,ROW()+1,\"\")","v":{"$error":"#REF!"}},{"$f":"IF(C44445=base!$W$2,ROW()+1,\"\")","v":{"$error":"#REF!"}},38115,"Gran Hacienda","Fraccionamiento","Celaya","Guanajuato",null,38001,11,38001,null,21,7,6602,"Rural"]
[{"$f":"IF(C44525=base!$AC$2,ROW()+1,\"\")","v":{"$error":"#REF!"}},{"$f":"IF(C44525=base!$W$2,ROW()+1,\"\")","v":{"$error":"#REF!"}},38163,"Antonio Plaza","Colonia","Apaseo el Grande","Guanajuato","Apaseo el Grande",38161,11,38161,null,9,5,4000,"Urbano",28]
[{"$f":"IF(C44603=base!$AC$2,ROW()+1,\"\")","v":{"$error":"#REF!"}},{"$f":"IF(C44603=base!$W$2,ROW()+1,\"\")","v":{"$error":"#REF!"}},38183,"Colunga","Ranchería","Apaseo el Grande","Guanajuato",null,38161,11,38161,null,29,5,7844,"Rural"]
[{"$f":"IF(C44678=base!$AC$2,ROW()+1,\"\")","v":{"$error":"#REF!"}},{"$f":"IF(C44678=base!$W$2,ROW()+1,\"\")","v":{"$error":"#REF!"}},38196,"La Palma","Ejido","Apaseo el Grande","Guanajuato",null,38161,11,38161,null,15,5,2646,"Rural"]
[{"$f":"IF(C44690=base!$AC$2,ROW()+1,\"\")","v":{"$error":"#REF!"}},{"$f":"IF(C44690=base!$W$2,ROW()+1,\"\")","v":{"$error":"#REF!"}},38197,"Héctor Obregón","Ranchería","Apaseo el Grande","Guanajuato",null,38161,11,38161,null,29,5,7870,"Rural"]
[{"$f":"IF(C44759=base!$AC$2,ROW()+1,\"\")","v":{"$error":"#REF!"}},{"$f":"IF(C44759=base!$W$2,ROW()+1,\"\")","v":{"$error":"#REF!"}},38205,"Vicente López Arriaga","Ranchería","Comonfort","Guanajuato",null,38201,11,38201,null,29,9,8238,"Rural"]
[{"$f":"IF(C44839=base!$AC$2,ROW()+1,\"\")","v":{"$error":"#REF!"}},{"$f":"IF(C44839=base!$W$2,ROW()+1,\"\")","v":{"$error":"#REF!"}},38217,"Mateo Irineo Calvario","Ranchería","Comonfort","Guanajuato",null,38201,11,38201,null,29,9,8203,"Rural"]
[{"$f":"IF(C44912=base!$AC$2,ROW()+1,\"\")","v":{"$error":"#REF!"}},{"$f":"IF(C44912=base!$W$2,ROW()+1,\"\")","v":{"$error":"#REF!"}},38243,"Loma Bonita de América","Colonia","Santa Cruz de Juventino Rosas","Guanajuato","Santa Cruz Juventino Rosas",38242,11,38242,null,9,35,109,"Urbano",37]
[{"$f":"IF(C44997=base!$AC$2,ROW()+1,\"\")","v":{"$error":"#REF!"}},{"$f":"IF(C44997=base!$W$2,ROW()+1,\"\")","v":{"$error":"#REF!"}},38254,"Salvador Maldonado Rangel","Granja","Santa Cruz de Juventino Rosas","Guanajuato",null,38242,11,38242,null,23,35,78,"Rural"]
[{"$f":"IF(C45097=base!$AC$2,ROW()+1,\"\")","v":{"$error":"#REF!"}},{"$f":"IF(C45097=base!$W$2,ROW()+1,\"\")","v":{"$error":"#REF!"}},38260,"Las Hadas","Colonia","Villagrán","Guanajuato","Villagrán",38261,11,38261,null,9,44,3962,"Rural",26]
[{"$f":"IF(C45155=base!$AC$2,ROW()+1,\"\")","v":{"$error":"#REF!"}},{"$f":"IF(C45155=base!$W$2,ROW()+1,\"\")","v":{"$error":"#REF!"}},38317,"Valle de las Espinas","Colonia","Cortazar","Guanajuato","Cortazar",38301,11,38301,null,9,11,4535,"Urbano",4]
[{"$f":"IF(C45250=base!$AC$2,ROW()+1,\"\")","v":{"$error":"#REF!"}},{"$f":"IF(C45250=base!$W$2,ROW()+1,\"\")","v":{"$error":"#REF!"}},38406,"Emiliano Zapata","Colonia","Valle de Santiago","Guanajuato","Valle de Santiago",38401,11,38401,null,9,42,3908,"Urbano",23]
[{"$f":"IF(C45313=base!$AC$2,ROW()+1,\"\")","v":{"$error":"#REF!"}},{"$f":"IF(C45313=base!$W$2,ROW()+1,\"\")","v":{"$error":"#REF!"}},38417,"Puerta de San Roque","Ranchería","Valle de Santiago","Guanajuato",null,38401,11,38401,null,29,42,2786,"Rural"]
[{"$f":"IF(C45331=base!$AC$2,ROW()+1,\"\")","v":{"$error":"#REF!"}},{"$f":"IF(C45331=base!$W$2,ROW()+1,\"\")","v":{"$error":"#REF!"}},38424,"Rancho los Molina","Ranchería","Valle de Santiago","Guanajuato",null,38401,11,38401,null,29,42,5383,"Urbano"]
[{"$f":"IF(C45462=base!$AC$2,ROW()+1,\"\")","v":{"$error":"#REF!"}},{"$f":"IF(C45462=base!$W$2,ROW()+1,\"\")","v":{"$error":"#REF!"}},38453,"Colonia Hoya de Álvarez","Colonia","Valle de Santiago","Guanajuato",null,38401,11,38401,null,9,42,7687,"Rural"]
[{"$f":"IF(C45484=base!$AC$2,ROW()+1,\"\")","v":{"$error":"#REF!"}},{"$f":"IF(C45484=base!$W$2,ROW()+1,\"\")","v":{"$error":"#REF!"}},38455,"Ninguno [Gasera]","Equipamiento","Valle de Santiago","Guanajuato",null,38401,11,38401,null,17,42,7778,"Rural"]
[{"$f":"IF(C45549=base!$AC$2,ROW()+1,\"\")","v":{"$error":"#REF!"}},{"$f":"IF(C45549=base!$W$2,ROW()+1,\"\")","v":{"$error":"#REF!"}},38485,"El Paraíso","Ranchería","Jaral del Progreso","Guanajuato",null,38471,11,38471,null,29,18,6,"Rural"]
[{"$f":"IF(C45669=base!$AC$2,ROW()+1,\"\")","v":{"$error":"#REF!"}},{"$f":"IF(C45669=base!$W$2,ROW()+1,\"\")","v":{"$error":"#REF!"}},38496,"La Soledad","Ranchería","Cortazar","Guanajuato",null,38301,11,38301,null,29,11,36,"Rural"]
[{"$f":"IF(C45707=base!$AC$2,ROW()+1,\"\")","v":{"$error":"#REF!"}},{"$f":"IF(C45707=base!$W$2,ROW()+1,\"\")","v":{"$error":"#REF!"}},38506,"La Mesita","Colonia","Apaseo el Alto","Guanajuato","Apaseo el Alto",38501,11,38501,null,9,4,9303,"Urbano",33]
[{"$f":"IF(C45822=base!$AC$2,ROW()+1,\"\")","v":{"$error":"#REF!"}},{"$f":"IF(C45822=base!$W$2,ROW()+1,\"\")","v":{"$error":"#REF!"}},38535,"El Terrero (Terrero de Paredones)","Ejido","Apaseo el Alto","Guanajuato",null,38501,11,38501,null,15,4,2958,"Rural"]
[{"$f":"IF(C45865=base!$AC$2,ROW()+1,\"\")","v":{"$error":"#REF!"}},{"$f":"IF(C45865=base!$W$2,ROW()+1,\"\")","v":{"$error":"#REF!"}},38544,"Rivera","Colonia","Jerécuaro","Guanajuato","Jerécuaro",38541,11,38541,null,9,19,3674,"Rural",12]
[{"$f":"IF(C45903=base!$AC$2,ROW()+1,\"\")","v":{"$error":"#REF!"}},{"$f":"IF(C45903=base!$W$2,ROW()+1,\"\")","v":{"$error":"#REF!"}},38555,"Rincón de San Isidro (Coyotera)","Ranchería","Jerécuaro","Guanajuato",null,38541,11,38541,null,29,19,6142,"Rural"]
[{"$f":"IF(C46014=base!$AC$2,ROW()+1,\"\")","v":{"$error":"#REF!"}},{"$f":"IF(C46014=base!$W$2,ROW()+1,\"\")","v":{"$error":"#REF!"}},38580,"La Joya de Puruagua","Ranchería","Jerécuaro","Guanajuato",null,38541,11,38541,null,29,19,6092,"Rural"]
[{"$f":"IF(C46056=base!$AC$2,ROW()+1,\"\")","v":{"$error":"#REF!"}},{"$f":"IF(C46056=base!$W$2,ROW()+1,\"\")","v":{"$error":"#REF!"}},38593,"La Presa","Ranchería","Coroneo","Guanajuato",null,38541,11,38541,null,29,10,4,"Rural"]
[{"$f":"IF(C46172=base!$AC$2,ROW()+1,\"\")","v":{"$error":"#REF!"}},{"$f":"IF(C46172=base!$W$2,ROW()+1,\"\")","v":{"$error":"#REF!"}},38717,"La Bóveda","Ranchería","Tarimoro","Guanajuato",null,38707,11,38707,null,29,39,3101,"Rural"]
[{"$f":"IF(C46209=base!$AC$2,ROW()+1,\"\")","v":{"$error":"#REF!"}},{"$f":"IF(C46209=base!$W$2,ROW()+1,\"\")","v":{"$error":"#REF!"}},38735,"Santa Fe","Ranchería","Acámbaro","Guanajuato",null,38601,11,38601,null,29,2,6316,"Rural"]
[{"$f":"IF(C46259=base!$AC$2,ROW()+1,\"\")","v":{"$error":"#REF!"}},{"$f":"IF(C46259=base!$W$2,ROW()+1,\"\")","v":{"$error":"#REF!"}},38740,"El Español","Ejido","Acámbaro","Guanajuato",null,38601,11,38601,null,15,2,3130,"Rural"]
[{"$f":"IF(C46394=base!$AC$2,ROW()+1,\"\")","v":{"$error":"#REF!"}},{"$f":"IF(C46394=base!$W$2,ROW()+1,\"\")","v":{"$error":"#REF!"}},38786,"La Mora (La Chumbacua)","Ranchería","Acámbaro","Guanajuato",null,38601,11,38601,null,29,2,6248,"Rural"]
[{"$f":"IF(C46417=base!$AC$2,ROW()+1,\"\")","v":{"$error":"#REF!"}},{"$f":"IF(C46417=base!$W$2,ROW()+1,\"\")","v":{"$error":"#REF!"}},38787,"Los Pinos","Ranchería","Acámbaro","Guanajuato",null,38601,11,38601,null,29,2,6272,"Rural"]
[{"$f":"IF(C46475=base!$AC$2,ROW()+1,\"\")","v":{"$error":"#REF!"}},{"$f":"IF(C46475=base!$W$2,ROW()+1,\"\")","v":{"$error":"#REF!"}},38810,"Fundadores de Moroleón","Colonia","Moroleón","Guanajuato","Moroleón",38801,11,38801,null,9,21,3196,"Semiurbano",8]
[{"$f":"IF(C46566=base!$AC$2,ROW()+1,\"\")","v":{"$error":"#REF!"}},{"$f":"IF(C46566=base!$W$2,ROW()+1,\"\")","v":{"$error":"#REF!"}},38887,"Lomas del Tepeyac","Colonia","Moroleón","Guanajuato","Moroleón",38801,11,38801,null,9,21,4331,"Semiurbano",8]
[{"$f":"IF(C46628=base!$AC$2,ROW()+1,\"\")","v":{"$error":"#REF!"}},{"$f":"IF(C46628=base!$W$2,ROW()+1,\"\")","v":{"$error":"#REF!"}},38903,"Urireo","Ejido","Salvatierra","Guanajuato",null,38901,11,38901,null,15,28,3218,"Rural"]
[{"$f":"IF(C46724=base!$AC$2,ROW()+1,\"\")","v":{"$error":"#REF!"}},{"$f":"IF(C46724=base!$W$2,ROW()+1,\"\")","v":{"$error":"#REF!"}},38954,"Puesto de Agua Fría (La Mojina)","Ranchería","Yuriria","Guanajuato",null,38941,11,38941,null,29,46,8880,"Rural"]
[{"$f":"IF(C46781=base!$AC$2,ROW()+1,\"\")","v":{"$error":"#REF!"}},{"$f":"IF(C46781=base!$W$2,ROW()+1,\"\")","v":{"$error":"#REF!"}},38961,"Cerano (San Juan Cerano)","Pueblo","Yuriria","Guanajuato",null,38962,11,38962,null,28,46,3307,"Rural"]
[{"$f":"IF(C46882=base!$AC$2,ROW()+1,\"\")","v":{"$error":"#REF!"}},{"$f":"IF(C46882=base!$W$2,ROW()+1,\"\")","v":{"$error":"#REF!"}},38984,"Loma Grande","Fraccionamiento","Uriangato","Guanajuato","Uriangato",38981,11,38981,null,21,41,5195,"Semiurbano",18]
[{"$f":"IF(C46966=base!$AC$2,ROW()+1,\"\")","v":{"$error":"#REF!"}},{"$f":"IF(C46966=base!$W$2,ROW()+1,\"\")","v":{"$error":"#REF!"}},39014,"La Floresta","Colonia","Chilpancingo de los Bravo","Guerrero","Chilpancingo de los Bravo",39001,12,39001,null,9,29,4634,"Urbano",2]
[{"$f":"IF(C46969=base!$AC$2,ROW()+1,\"\")","v":{"$error":"#REF!"}},{"$f":"IF(C46969=base!$W$2,ROW()+1,\"\")","v":{"$error":"#REF!"}},39014,"STTAISUAG","Colonia","Chilpancingo de los Bravo","Guerrero","Chilpancingo de los Bravo",39001,12,39001,null,9,29,4528,"Urbano",2]
[{"$f":"IF(C47047=base!$AC$2,ROW()+1,\"\")","v":{"$error":"#REF!"}},{"$f":"IF(C47047=base!$W$2,ROW()+1,\"\")","v":{"$error":"#REF!"}},39038,"Libertad","Colonia","Chilpancingo de los Bravo","Guerrero","Chilpancingo de los Bravo",39001,12,39001,null,9,29,85,"Urbano",2]
[{"$f":"IF(C47127=base!$AC$2,ROW()+1,\"\")","v":{"$error":"#REF!"}},{"$f":"IF(C47127=base!$W$2,ROW()+1,\"\")","v":{"$error":"#REF!"}},39074,"Los Lirios","Colonia","Chilpancingo de los Bravo","Guerrero","Chilpancingo de los Bravo",39001,12,39001,null,9,29,4445,"Urbano",2]
[{"$f":"IF(C47200=base!$AC$2,ROW()+1,\"\")","v":{"$error":"#REF!"}},{"$f":"IF(C47200=base!$W$2,ROW()+1,\"\")","v":{"$error":"#REF!"}},39096,"Valle Esmeralda","Colonia","Chilpancingo de los Bravo","Guerrero","Chilpancingo de los Bravo",39001,12,39001,null,9,29,4134,"Urbano",2]
[{"$f":"IF(C47276=base!$AC$2,ROW()+1,\"\")","v":{"$error":"#REF!"}},{"$f":"IF(C47276=base!$W$2,ROW()+1,\"\")","v":{"$error":"#REF!"}},39130,"Chichiltepec","Pueblo","General Heliodoro Castillo","Guerrero",null,39139,12,39139,null,28,32,228,"Rural"]
[{"$f":"IF(C47353=base!$AC$2,ROW()+1,\"\")","v":{"$error":"#REF!"}},{"$f":"IF(C47353=base!$W$2,ROW()+1,\"\")","v":{"$error":"#REF!"}},39169,"Tierra Colorada","Pueblo","Leonardo Bravo","Guerrero",null,39001,12,39001,null,28,40,295,"Rural"]
[{"$f":"IF(C47434=base!$AC$2,ROW()+1,\"\")","v":{"$error":"#REF!"}},{"$f":"IF(C47434=base!$W$2,ROW()+1,\"\")","v":{"$error":"#REF!"}},39204,"Tutepec","Campamento","Ayutla de los Libres","Guerrero",null,39201,12,39201,null,4,12,331,"Rural"]
[{"$f":"IF(C47538=base!$AC$2,ROW()+1,\"\")","v":{"$error":"#REF!"}},{"$f":"IF(C47538=base!$W$2,ROW()+1,\"\")","v":{"$error":"#REF!"}},39260,"San Antonio","Ranchería","Quechultenango","Guerrero",null,39001,12,39001,null,29,51,413,"Rural"]
[{"$f":"IF(C47592=base!$AC$2,ROW()+1,\"\")","v":{"$error":"#REF!"}},{"$f":"IF(C47592=base!$W$2,ROW()+1,\"\")","v":{"$error":"#REF!"}},39281,"Barrio Nuevo","Pueblo","Tecoanapa","Guerrero",null,39276,12,39276,null,28,56,459,"Rural"]
[{"$f":"IF(C47619=base!$AC$2,ROW()+1,\"\")","v":{"$error":"#REF!"}},{"$f":"IF(C47619=base!$W$2,ROW()+1,\"\")","v":{"$error":"#REF!"}},39350,"13 de Junio","Colonia","Acapulco de Juárez","Guerrero","Acapulco de Juárez",39559,12,39559,null,9,1,490,"Urbano",1]
[{"$f":"IF(C47750=base!$AC$2,ROW()+1,\"\")","v":{"$error":"#REF!"}},{"$f":"IF(C47750=base!$W$2,ROW()+1,\"\")","v":{"$error":"#REF!"}},39613,"Buenavista","Colonia","Acapulco de Juárez","Guerrero","Acapulco de Juárez",39559,12,39559,null,9,1,639,"Urbano",1]
[{"$f":"IF(C47772=base!$AC$2,ROW()+1,\"\")","v":{"$error":"#REF!"}},{"$f":"IF(C47772=base!$W$2,ROW()+1,\"\")","v":{"$error":"#REF!"}},39660,"20 de Noviembre","Colonia","Acapulco de Juárez","Guerrero","Acapulco de Juárez",39559,12,39559,null,9,1,673,"Urbano",1]
[{"$f":"IF(C47828=base!$AC$2,ROW()+1,\"\")","v":{"$error":"#REF!"}},{"$f":"IF(C47828=base!$W$2,ROW()+1,\"\")","v":{"$error":"#REF!"}},39713,"La Mica","Colonia","Acapulco de Juárez","Guerrero","Acapulco de Juárez",39791,12,39791,null,9,1,719,"Urbano",1]
[{"$f":"IF(C47925=base!$AC$2,ROW()+1,\"\")","v":{"$error":"#REF!"}},{"$f":"IF(C47925=base!$W$2,ROW()+1,\"\")","v":{"$error":"#REF!"}},39799,"Héroes de Guerrero","Colonia","Acapulco de Juárez","Guerrero","Acapulco de Juárez",39791,12,39791,null,9,1,804,"Urbano",1]
[{"$f":"IF(C47986=base!$AC$2,ROW()+1,\"\")","v":{"$error":"#REF!"}},{"$f":"IF(C47986=base!$W$2,ROW()+1,\"\")","v":{"$error":"#REF!"}},39890,"Granjas del Marqués","Colonia","Acapulco de Juárez","Guerrero","Acapulco de Juárez",39791,12,39791,null,9,1,866,"Urbano",1]
[{"$f":"IF(C48110=base!$AC$2,ROW()+1,\"\")","v":{"$error":"#REF!"}},{"$f":"IF(C48110=base!$W$2,ROW()+1,\"\")","v":{"$error":"#REF!"}},39934,"San Isidro","Pueblo","Acapulco de Juárez","Guerrero",null,39559,12,39559,null,28,1,974,"Rural"]
[{"$f":"IF(C48144=base!$AC$2,ROW()+1,\"\")","v":{"$error":"#REF!"}},{"$f":"IF(C48144=base!$W$2,ROW()+1,\"\")","v":{"$error":"#REF!"}},39950,"El Terrero","Pueblo","Juan R. Escudero","Guerrero",null,39943,12,39943,null,28,39,1004,"Rural"]
[{"$f":"IF(C48191=base!$AC$2,ROW()+1,\"\")","v":{"$error":"#REF!"}},{"$f":"IF(C48191=base!$W$2,ROW()+1,\"\")","v":{"$error":"#REF!"}},39981,"Las Minas","Pueblo","San Marcos","Guerrero",null,39961,12,39961,null,28,53,1037,"Rural"]
[{"$f":"IF(C48302=base!$AC$2,ROW()+1,\"\")","v":{"$error":"#REF!"}},{"$f":"IF(C48302=base!$W$2,ROW()+1,\"\")","v":{"$error":"#REF!"}},40034,"Lindavista","Colonia","Iguala de la Independencia","Guerrero","Iguala de la Independencia",40001,12,40001,null,9,35,4191,"Urbano",3]
[{"$f":"IF(C48376=base!$AC$2,ROW()+1,\"\")","v":{"$error":"#REF!"}},{"$f":"IF(C48376=base!$W$2,ROW()+1,\"\")","v":{"$error":"#REF!"}},40067,"Potrero","Colonia","Iguala de la Independencia","Guerrero","Iguala de la Independencia",40001,12,40001,null,9,35,4163,"Urbano",3]
[{"$f":"IF(C48400=base!$AC$2,ROW()+1,\"\")","v":{"$error":"#REF!"}},{"$f":"IF(C48400=base!$W$2,ROW()+1,\"\")","v":{"$error":"#REF!"}},40090,"5a Los Naranjos","Fraccionamiento","Iguala de la Independencia","Guerrero","Iguala de la Independencia",40001,12,40001,null,21,35,4586,"Urbano",3]
[{"$f":"IF(C48534=base!$AC$2,ROW()+1,\"\")","v":{"$error":"#REF!"}},{"$f":"IF(C48534=base!$W$2,ROW()+1,\"\")","v":{"$error":"#REF!"}},40186,"San Antonio","Colonia","Eduardo Neri","Guerrero","Zumpango del Río",40183,12,40183,null,9,75,1593,"Semiurbano",19]
[{"$f":"IF(C48553=base!$AC$2,ROW()+1,\"\")","v":{"$error":"#REF!"}},{"$f":"IF(C48553=base!$W$2,ROW()+1,\"\")","v":{"$error":"#REF!"}},40191,"Ahuelican","Pueblo","Eduardo Neri","Guerrero",null,40183,12,40183,null,28,75,1939,"Rural"]
[{"$f":"IF(C48621=base!$AC$2,ROW()+1,\"\")","v":{"$error":"#REF!"}},{"$f":"IF(C48621=base!$W$2,ROW()+1,\"\")","v":{"$error":"#REF!"}},40273,"Zacazontla","Colonia","Taxco de Alarcón","Guerrero","Taxco de Alarcón",40201,12,40201,null,9,55,1740,"Urbano",4]
[{"$f":"IF(C48706=base!$AC$2,ROW()+1,\"\")","v":{"$error":"#REF!"}},{"$f":"IF(C48706=base!$W$2,ROW()+1,\"\")","v":{"$error":"#REF!"}},40350,"Coxcatlan","Pueblo","Buenavista de Cuéllar","Guerrero",null,40332,12,40332,null,28,15,2040,"Rural"]
[{"$f":"IF(C48770=base!$AC$2,ROW()+1,\"\")","v":{"$error":"#REF!"}},{"$f":"IF(C48770=base!$W$2,ROW()+1,\"\")","v":{"$error":"#REF!"}},40400,"Ixcaltitlán","Colonia","Teloloapan","Guerrero","Teloloapan",40401,12,40401,null,9,58,1340,"Semiurbano",24]
[{"$f":"IF(C48859=base!$AC$2,ROW()+1,\"\")","v":{"$error":"#REF!"}},{"$f":"IF(C48859=base!$W$2,ROW()+1,\"\")","v":{"$error":"#REF!"}},40425,"San Lorenzo","Ranchería","Teloloapan","Guerrero",null,40401,12,40401,null,29,58,2157,"Rural"]
[{"$f":"IF(C48928=base!$AC$2,ROW()+1,\"\")","v":{"$error":"#REF!"}},{"$f":"IF(C48928=base!$W$2,ROW()+1,\"\")","v":{"$error":"#REF!"}},40491,"Cueva del Tigre","Ranchería","General Canuto A. Neri","Guerrero",null,40001,12,40001,null,29,31,2226,"Rural"]
[{"$f":"IF(C48972=base!$AC$2,ROW()+1,\"\")","v":{"$error":"#REF!"}},{"$f":"IF(C48972=base!$W$2,ROW()+1,\"\")","v":{"$error":"#REF!"}},40506,"Palapa","Pueblo","Arcelia","Guerrero",null,40501,12,40501,null,28,7,2251,"Rural"]
[{"$f":"IF(C49086=base!$AC$2,ROW()+1,\"\")","v":{"$error":"#REF!"}},{"$f":"IF(C49086=base!$W$2,ROW()+1,\"\")","v":{"$error":"#REF!"}},40598,"La Mohonera","Campamento","Cocula","Guerrero",null,40001,12,40001,null,4,17,2352,"Rural"]
[{"$f":"IF(C49125=base!$AC$2,ROW()+1,\"\")","v":{"$error":"#REF!"}},{"$f":"IF(C49125=base!$W$2,ROW()+1,\"\")","v":{"$error":"#REF!"}},40631,"Cuadrilla Nueva","Pueblo","Cutzamala de Pinzón","Guerrero",null,40637,12,40637,null,28,27,2377,"Rural"]
[{"$f":"IF(C49244=base!$AC$2,ROW()+1,\"\")","v":{"$error":"#REF!"}},{"$f":"IF(C49244=base!$W$2,ROW()+1,\"\")","v":{"$error":"#REF!"}},40692,"El Paso de Amatitlán","Ranchería","Tlalchapa","Guerrero",null,40501,12,40501,null,29,64,2459,"Rural"]
[{"$f":"IF(C49278=base!$AC$2,ROW()+1,\"\")","v":{"$error":"#REF!"}},{"$f":"IF(C49278=base!$W$2,ROW()+1,\"\")","v":{"$error":"#REF!"}},40703,"Pungarabatito","Ranchería","Coyuca de Catalán","Guerrero",null,40707,12,40707,null,29,22,2501,"Rural"]
[{"$f":"IF(C49393=base!$AC$2,ROW()+1,\"\")","v":{"$error":"#REF!"}},{"$f":"IF(C49393=base!$W$2,ROW()+1,\"\")","v":{"$error":"#REF!"}},40770,"San Rafael","Ranchería","Zirándaro","Guerrero",null,40763,12,40763,null,29,73,2578,"Rural"]
[{"$f":"IF(C49431=base!$AC$2,ROW()+1,\"\")","v":{"$error":"#REF!"}},{"$f":"IF(C49431=base!$W$2,ROW()+1,\"\")","v":{"$error":"#REF!"}},40796,"Laguna de Hueyanalco","Pueblo","San Miguel Totolapan","Guerrero",null,40501,12,40501,null,28,54,2617,"Rural"]
[{"$f":"IF(C49480=base!$AC$2,ROW()+1,\"\")","v":{"$error":"#REF!"}},{"$f":"IF(C49480=base!$W$2,ROW()+1,\"\")","v":{"$error":"#REF!"}},40820,"Joluta","Ranchería","La Unión de Isidoro Montes de Oca","Guerrero",null,40801,12,40801,null,29,68,2651,"Rural"]
[{"$f":"IF(C49584=base!$AC$2,ROW()+1,\"\")","v":{"$error":"#REF!"}},{"$f":"IF(C49584=base!$W$2,ROW()+1,\"\")","v":{"$error":"#REF!"}},40863,"La Madera","Ranchería","Coahuayutla de José María Izazaga","Guerrero",null,40801,12,40801,null,29,16,5364,"Rural"]
[{"$f":"IF(C49638=base!$AC$2,ROW()+1,\"\")","v":{"$error":"#REF!"}},{"$f":"IF(C49638=base!$W$2,ROW()+1,\"\")","v":{"$error":"#REF!"}},40865,"El Recodo","Ranchería","Coahuayutla de José María Izazaga","Guerrero",null,40801,12,40801,null,29,16,5304,"Rural"]
[{"$f":"IF(C49697=base!$AC$2,ROW()+1,\"\")","v":{"$error":"#REF!"}},{"$f":"IF(C49697=base!$W$2,ROW()+1,\"\")","v":{"$error":"#REF!"}},40866,"El Maguey","Ranchería","Coahuayutla de José María Izazaga","Guerrero",null,40801,12,40801,null,29,16,2708,"Rural"]
[{"$f":"IF(C49796=base!$AC$2,ROW()+1,\"\")","v":{"$error":"#REF!"}},{"$f":"IF(C49796=base!$W$2,ROW()+1,\"\")","v":{"$error":"#REF!"}},40874,"Soyamichi de Valle (Soyamichi)","Ranchería","Coahuayutla de José María Izazaga","Guerrero",null,40801,12,40801,null,29,16,5473,"Rural"]
[{"$f":"IF(C49850=base!$AC$2,ROW()+1,\"\")","v":{"$error":"#REF!"}},{"$f":"IF(C49850=base!$W$2,ROW()+1,\"\")","v":{"$error":"#REF!"}},40880,"El Hujal","Colonia","Zihuatanejo de Azueta","Guerrero",null,40891,12,40891,null,9,38,2743,"Urbano"]
[{"$f":"IF(C49945=base!$AC$2,ROW()+1,\"\")","v":{"$error":"#REF!"}},{"$f":"IF(C49945=base!$W$2,ROW()+1,\"\")","v":{"$error":"#REF!"}},40900,"Las Tunas","Colonia","Técpan de Galeana","Guerrero","Técpan de Galeana",40901,12,40901,null,9,57,1436,"Semiurbano",25]
[{"$f":"IF(C50003=base!$AC$2,ROW()+1,\"\")","v":{"$error":"#REF!"}},{"$f":"IF(C50003=base!$W$2,ROW()+1,\"\")","v":{"$error":"#REF!"}},40912,"Palo de Arco","Ranchería","Técpan de Galeana","Guerrero",null,40901,12,40901,null,29,57,2799,"Rural"]
[{"$f":"IF(C50103=base!$AC$2,ROW()+1,\"\")","v":{"$error":"#REF!"}},{"$f":"IF(C50103=base!$W$2,ROW()+1,\"\")","v":{"$error":"#REF!"}},40956,"Puerto Gallo","Pueblo","Atoyac de Álvarez","Guerrero",null,40931,12,40931,null,28,11,2892,"Rural"]
[{"$f":"IF(C50156=base!$AC$2,ROW()+1,\"\")","v":{"$error":"#REF!"}},{"$f":"IF(C50156=base!$W$2,ROW()+1,\"\")","v":{"$error":"#REF!"}},40977,"Lázaro Cárdenas","Colonia","Coyuca de Benítez","Guerrero","Coyuca de Benítez",40971,12,40971,null,9,21,1443,"Semiurbano",16]
[{"$f":"IF(C50190=base!$AC$2,ROW()+1,\"\")","v":{"$error":"#REF!"}},{"$f":"IF(C50190=base!$W$2,ROW()+1,\"\")","v":{"$error":"#REF!"}},40985,"Viejo","Ejido","Coyuca de Benítez","Guerrero",null,40971,12,40971,null,15,21,2943,"Rural"]
[{"$f":"IF(C50269=base!$AC$2,ROW()+1,\"\")","v":{"$error":"#REF!"}},{"$f":"IF(C50269=base!$W$2,ROW()+1,\"\")","v":{"$error":"#REF!"}},41007,"Rancho Hermelindo Patrón","Ranchería","Olinalá","Guerrero",null,41001,12,41001,null,29,45,4819,"Rural"]
[{"$f":"IF(C50348=base!$AC$2,ROW()+1,\"\")","v":{"$error":"#REF!"}},{"$f":"IF(C50348=base!$W$2,ROW()+1,\"\")","v":{"$error":"#REF!"}},41016,"Ocotitlán","Pueblo","Olinalá","Guerrero",null,41001,12,41001,null,28,45,2974,"Rural"]
[{"$f":"IF(C50422=base!$AC$2,ROW()+1,\"\")","v":{"$error":"#REF!"}},{"$f":"IF(C50422=base!$W$2,ROW()+1,\"\")","v":{"$error":"#REF!"}},41025,"Las Pilas","Ranchería","Olinalá","Guerrero",null,41001,12,41001,null,29,45,4769,"Rural"]
[{"$f":"IF(C50497=base!$AC$2,ROW()+1,\"\")","v":{"$error":"#REF!"}},{"$f":"IF(C50497=base!$W$2,ROW()+1,\"\")","v":{"$error":"#REF!"}},41091,"San Martín Jolalpan","Pueblo","Cualác","Guerrero",null,41101,12,41101,null,28,24,3023,"Rural"]
[{"$f":"IF(C50575=base!$AC$2,ROW()+1,\"\")","v":{"$error":"#REF!"}},{"$f":"IF(C50575=base!$W$2,ROW()+1,\"\")","v":{"$error":"#REF!"}},41106,"Rubén Figueroa","Colonia","Chilapa de Álvarez","Guerrero","Chilapa de Álvarez",41101,12,41101,null,9,28,3909,"Urbano",33]
[{"$f":"IF(C50655=base!$AC$2,ROW()+1,\"\")","v":{"$error":"#REF!"}},{"$f":"IF(C50655=base!$W$2,ROW()+1,\"\")","v":{"$error":"#REF!"}},41115,"Vista Hermosa","Campamento","Chilapa de Álvarez","Guerrero",null,41101,12,41101,null,4,28,3087,"Rural"]
[{"$f":"IF(C50728=base!$AC$2,ROW()+1,\"\")","v":{"$error":"#REF!"}},{"$f":"IF(C50728=base!$W$2,ROW()+1,\"\")","v":{"$error":"#REF!"}},41134,"Buena Vista","Ranchería","Ahuacuotzingo","Guerrero",null,41101,12,41101,null,29,2,4910,"Rural"]
[{"$f":"IF(C50813=base!$AC$2,ROW()+1,\"\")","v":{"$error":"#REF!"}},{"$f":"IF(C50813=base!$W$2,ROW()+1,\"\")","v":{"$error":"#REF!"}},41147,"La Tabernita","Ranchería","Ahuacuotzingo","Guerrero",null,41101,12,41101,null,29,2,4960,"Rural"]
[{"$f":"IF(C50841=base!$AC$2,ROW()+1,\"\")","v":{"$error":"#REF!"}},{"$f":"IF(C50841=base!$W$2,ROW()+1,\"\")","v":{"$error":"#REF!"}},41153,"El Limoncito","Ranchería","Ahuacuotzingo","Guerrero",null,41101,12,41101,null,29,2,4933,"Rural"]
[{"$f":"IF(C50971=base!$AC$2,ROW()+1,\"\")","v":{"$error":"#REF!"}},{"$f":"IF(C50971=base!$W$2,ROW()+1,\"\")","v":{"$error":"#REF!"}},41300,"Constitución","Colonia","Tlapa de Comonfort","Guerrero","Tlapa de Comonfort",41301,12,41301,null,9,66,1174,"Semiurbano",34]
[{"$f":"IF(C50994=base!$AC$2,ROW()+1,\"\")","v":{"$error":"#REF!"}},{"$f":"IF(C50994=base!$W$2,ROW()+1,\"\")","v":{"$error":"#REF!"}},41327,"Tlatzala","Pueblo","Tlapa de Comonfort","Guerrero",null,41301,12,41301,null,28,66,3198,"Rural"]
[{"$f":"IF(C51058=base!$AC$2,ROW()+1,\"\")","v":{"$error":"#REF!"}},{"$f":"IF(C51058=base!$W$2,ROW()+1,\"\")","v":{"$error":"#REF!"}},41408,"Yerba Santa","Pueblo","Zapotitlán Tablas","Guerrero",null,41301,12,41301,null,28,72,3246,"Rural"]
[{"$f":"IF(C51147=base!$AC$2,ROW()+1,\"\")","v":{"$error":"#REF!"}},{"$f":"IF(C51147=base!$W$2,ROW()+1,\"\")","v":{"$error":"#REF!"}},41516,"La Lucerna","Ranchería","Malinaltepec","Guerrero",null,41301,12,41301,null,29,41,4638,"Rural"]
[{"$f":"IF(C51207=base!$AC$2,ROW()+1,\"\")","v":{"$error":"#REF!"}},{"$f":"IF(C51207=base!$W$2,ROW()+1,\"\")","v":{"$error":"#REF!"}},41613,"Hondura Tigre","Ranchería","San Luis Acatlán","Guerrero",null,41601,12,41601,null,29,52,4419,"Rural"]
[{"$f":"IF(C51300=base!$AC$2,ROW()+1,\"\")","v":{"$error":"#REF!"}},{"$f":"IF(C51300=base!$W$2,ROW()+1,\"\")","v":{"$error":"#REF!"}},41664,"Yozo Chun Chiquito","Ranchería","Cochoapa el Grande","Guerrero",null,41301,12,41301,null,29,78,5158,"Rural"]
[{"$f":"IF(C51365=base!$AC$2,ROW()+1,\"\")","v":{"$error":"#REF!"}},{"$f":"IF(C51365=base!$W$2,ROW()+1,\"\")","v":{"$error":"#REF!"}},41666,"El Ocotito","Ranchería","Cochoapa el Grande","Guerrero",null,41301,12,41301,null,29,78,5068,"Rural"]
[{"$f":"IF(C51413=base!$AC$2,ROW()+1,\"\")","v":{"$error":"#REF!"}},{"$f":"IF(C51413=base!$W$2,ROW()+1,\"\")","v":{"$error":"#REF!"}},41668,"Rancho de las Flores","Ranchería","Cochoapa el Grande","Guerrero",null,41301,12,41301,null,29,78,5119,"Rural"]
[{"$f":"IF(C51523=base!$AC$2,ROW()+1,\"\")","v":{"$error":"#REF!"}},{"$f":"IF(C51523=base!$W$2,ROW()+1,\"\")","v":{"$error":"#REF!"}},41753,"San Isidro","Pueblo","Tlacoachistlahuaca","Guerrero",null,41706,12,41706,null,28,62,3471,"Rural"]
[{"$f":"IF(C51566=base!$AC$2,ROW()+1,\"\")","v":{"$error":"#REF!"}},{"$f":"IF(C51566=base!$W$2,ROW()+1,\"\")","v":{"$error":"#REF!"}},41811,"Porvenir","Ranchería","Florencio Villarreal","Guerrero",null,41801,12,41801,null,29,30,3506,"Rural"]
[{"$f":"IF(C51681=base!$AC$2,ROW()+1,\"\")","v":{"$error":"#REF!"}},{"$f":"IF(C51681=base!$W$2,ROW()+1,\"\")","v":{"$error":"#REF!"}},41916,"Rancho Herrera Martínez","Ranchería","Azoyú","Guerrero",null,41901,12,41901,null,29,13,4403,"Rural"]
[{"$f":"IF(C51719=base!$AC$2,ROW()+1,\"\")","v":{"$error":"#REF!"}},{"$f":"IF(C51719=base!$W$2,ROW()+1,\"\")","v":{"$error":"#REF!"}},41928,"La Cuchilla","Ranchería","Juchitán","Guerrero",null,41931,12,41931,null,29,80,3551,"Rural"]
[{"$f":"IF(C51759=base!$AC$2,ROW()+1,\"\")","v":{"$error":"#REF!"}},{"$f":"IF(C51759=base!$W$2,ROW()+1,\"\")","v":{"$error":"#REF!"}},41949,"La Gloria","Colonia","Cuajinicuilapa","Guerrero","Cuajinicuilapa",41941,12,41941,null,9,23,3744,"Semiurbano",36]
[{"$f":"IF(C51872=base!$AC$2,ROW()+1,\"\")","v":{"$error":"#REF!"}},{"$f":"IF(C51872=base!$W$2,ROW()+1,\"\")","v":{"$error":"#REF!"}},42039,"Venecia","Colonia","Pachuca de Soto","Hidalgo","Pachuca de Soto",42001,13,42001,null,9,48,6079,"Urbano",3]
[{"$f":"IF(C51917=base!$AC$2,ROW()+1,\"\")","v":{"$error":"#REF!"}},{"$f":"IF(C51917=base!$W$2,ROW()+1,\"\")","v":{"$error":"#REF!"}},42064,"Colonial","Colonia","Pachuca de Soto","Hidalgo","Pachuca de Soto",42001,13,42001,null,9,48,86,"Urbano",3]
[{"$f":"IF(C51985=base!$AC$2,ROW()+1,\"\")","v":{"$error":"#REF!"}},{"$f":"IF(C51985=base!$W$2,ROW()+1,\"\")","v":{"$error":"#REF!"}},42082,"Villa del León","Conjunto habitacional","Pachuca de Soto","Hidalgo","Pachuca de Soto",42091,13,42091,null,12,48,2148,"Urbano",3]
[{"$f":"IF(C52075=base!$AC$2,ROW()+1,\"\")","v":{"$error":"#REF!"}},{"$f":"IF(C52075=base!$W$2,ROW()+1,\"\")","v":{"$error":"#REF!"}},42088,"Jardines de Colosio","Colonia","Pachuca de Soto","Hidalgo","Pachuca de Soto",42001,13,42001,null,9,48,6151,"Urbano",3]
[{"$f":"IF(C52138=base!$AC$2,ROW()+1,\"\")","v":{"$error":"#REF!"}},{"$f":"IF(C52138=base!$W$2,ROW()+1,\"\")","v":{"$error":"#REF!"}},42119,"Las Torres","Fraccionamiento","Pachuca de Soto","Hidalgo",null,42091,13,42091,null,21,48,5562,"Urbano"]
[{"$f":"IF(C52233=base!$AC$2,ROW()+1,\"\")","v":{"$error":"#REF!"}},{"$f":"IF(C52233=base!$W$2,ROW()+1,\"\")","v":{"$error":"#REF!"}},42143,"Los Cajones","Poblado comunal","Mineral del Monte","Hidalgo",null,42131,13,42131,null,27,39,5580,"Rural"]
[{"$f":"IF(C52291=base!$AC$2,ROW()+1,\"\")","v":{"$error":"#REF!"}},{"$f":"IF(C52291=base!$W$2,ROW()+1,\"\")","v":{"$error":"#REF!"}},42163,"El Botho","Poblado comunal","San Agustín Tlaxiaca","Hidalgo",null,42001,13,42001,null,27,52,5092,"Rural"]
[{"$f":"IF(C52382=base!$AC$2,ROW()+1,\"\")","v":{"$error":"#REF!"}},{"$f":"IF(C52382=base!$W$2,ROW()+1,\"\")","v":{"$error":"#REF!"}},42184,"Rinconada los Álamos","Fraccionamiento","Mineral de la Reforma","Hidalgo",null,42001,13,42001,null,21,51,14,"Urbano"]
[{"$f":"IF(C52465=base!$AC$2,ROW()+1,\"\")","v":{"$error":"#REF!"}},{"$f":"IF(C52465=base!$W$2,ROW()+1,\"\")","v":{"$error":"#REF!"}},42186,"Pedregal de los Ángeles","Fraccionamiento","Mineral de la Reforma","Hidalgo",null,42001,13,42001,null,21,51,6155,"Urbano"]
[{"$f":"IF(C52500=base!$AC$2,ROW()+1,\"\")","v":{"$error":"#REF!"}},{"$f":"IF(C52500=base!$W$2,ROW()+1,\"\")","v":{"$error":"#REF!"}},42190,"Zapotlán de Juárez Centro","Colonia","Zapotlán de Juárez","Hidalgo",null,42091,13,42091,null,9,82,280,"Urbano"]
[{"$f":"IF(C52552=base!$AC$2,ROW()+1,\"\")","v":{"$error":"#REF!"}},{"$f":"IF(C52552=base!$W$2,ROW()+1,\"\")","v":{"$error":"#REF!"}},42204,"La Mohonera (La Colmena)","Ranchería","Jacala de Ledezma","Hidalgo",null,42202,13,42202,null,29,31,5897,"Rural"]
[{"$f":"IF(C52653=base!$AC$2,ROW()+1,\"\")","v":{"$error":"#REF!"}},{"$f":"IF(C52653=base!$W$2,ROW()+1,\"\")","v":{"$error":"#REF!"}},42239,"El Chililite","Ranchería","Pisaflores","Hidalgo",null,42281,13,42281,null,29,49,5129,"Rural"]
[{"$f":"IF(C52701=base!$AC$2,ROW()+1,\"\")","v":{"$error":"#REF!"}},{"$f":"IF(C52701=base!$W$2,ROW()+1,\"\")","v":{"$error":"#REF!"}},42263,"Ocote de Pilas","Ranchería","La Misión","Hidalgo",null,42202,13,42202,null,29,40,4957,"Rural"]
[{"$f":"IF(C52806=base!$AC$2,ROW()+1,\"\")","v":{"$error":"#REF!"}},{"$f":"IF(C52806=base!$W$2,ROW()+1,\"\")","v":{"$error":"#REF!"}},42284,"La Joya del Zopilote","Ranchería","Chapulhuacán","Hidalgo",null,42281,13,42281,null,29,18,5618,"Rural"]
[{"$f":"IF(C52859=base!$AC$2,ROW()+1,\"\")","v":{"$error":"#REF!"}},{"$f":"IF(C52859=base!$W$2,ROW()+1,\"\")","v":{"$error":"#REF!"}},42294,"Palomas","Ranchería","Chapulhuacán","Hidalgo",null,42281,13,42281,null,29,18,376,"Rural"]
[{"$f":"IF(C52919=base!$AC$2,ROW()+1,\"\")","v":{"$error":"#REF!"}},{"$f":"IF(C52919=base!$W$2,ROW()+1,\"\")","v":{"$error":"#REF!"}},42306,"Cantamaye","Ranchería","Ixmiquilpan","Hidalgo",null,42301,13,42301,null,29,30,410,"Rural"]
[{"$f":"IF(C53017=base!$AC$2,ROW()+1,\"\")","v":{"$error":"#REF!"}},{"$f":"IF(C53017=base!$W$2,ROW()+1,\"\")","v":{"$error":"#REF!"}},42327,"La Loma (La Loma López Rayón)","Poblado comunal","Ixmiquilpan","Hidalgo",null,42301,13,42301,null,27,30,6028,"Rural"]
[{"$f":"IF(C53072=base!$AC$2,ROW()+1,\"\")","v":{"$error":"#REF!"}},{"$f":"IF(C53072=base!$W$2,ROW()+1,\"\")","v":{"$error":"#REF!"}},42344,"Xindhó San Pedro","Ranchería","Zimapán","Hidalgo",null,42331,13,42331,null,29,84,5833,"Rural"]
[{"$f":"IF(C53175=base!$AC$2,ROW()+1,\"\")","v":{"$error":"#REF!"}},{"$f":"IF(C53175=base!$W$2,ROW()+1,\"\")","v":{"$error":"#REF!"}},42357,"Los Pilares","Ranchería","Zimapán","Hidalgo",null,42331,13,42331,null,29,84,5801,"Rural"]
[{"$f":"IF(C53225=base!$AC$2,ROW()+1,\"\")","v":{"$error":"#REF!"}},{"$f":"IF(C53225=base!$W$2,ROW()+1,\"\")","v":{"$error":"#REF!"}},42366,"Los Lirios","Ranchería","Nicolás Flores","Hidalgo",null,42301,13,42301,null,29,43,3539,"Rural"]
[{"$f":"IF(C53324=base!$AC$2,ROW()+1,\"\")","v":{"$error":"#REF!"}},{"$f":"IF(C53324=base!$W$2,ROW()+1,\"\")","v":{"$error":"#REF!"}},42379,"El Sauz (Juxmaye)","Pueblo","Cardonal","Hidalgo",null,42301,13,42301,null,28,15,3920,"Rural"]
[{"$f":"IF(C53378=base!$AC$2,ROW()+1,\"\")","v":{"$error":"#REF!"}},{"$f":"IF(C53378=base!$W$2,ROW()+1,\"\")","v":{"$error":"#REF!"}},42392,"El Espíritu","Pueblo","Alfajayucan","Hidalgo",null,42301,13,42301,null,28,6,559,"Rural"]
[{"$f":"IF(C53411=base!$AC$2,ROW()+1,\"\")","v":{"$error":"#REF!"}},{"$f":"IF(C53411=base!$W$2,ROW()+1,\"\")","v":{"$error":"#REF!"}},42396,"Segunda Manzana Zundhó","Ranchería","Alfajayucan","Hidalgo",null,42301,13,42301,null,29,6,4168,"Rural"]
[{"$f":"IF(C53531=base!$AC$2,ROW()+1,\"\")","v":{"$error":"#REF!"}},{"$f":"IF(C53531=base!$W$2,ROW()+1,\"\")","v":{"$error":"#REF!"}},42437,"La Güera","Ranchería","Huichapan","Hidalgo",null,42401,13,42401,null,29,29,3691,"Rural"]
[{"$f":"IF(C53569=base!$AC$2,ROW()+1,\"\")","v":{"$error":"#REF!"}},{"$f":"IF(C53569=base!$W$2,ROW()+1,\"\")","v":{"$error":"#REF!"}},42445,"El Huizachal (El Sombrerete)","Ranchería","Tecozautla","Hidalgo",null,42441,13,42441,null,29,59,5323,"Rural"]
[{"$f":"IF(C53644=base!$AC$2,ROW()+1,\"\")","v":{"$error":"#REF!"}},{"$f":"IF(C53644=base!$W$2,ROW()+1,\"\")","v":{"$error":"#REF!"}},42473,"La Presa Dañu","Ranchería","Nopala de Villagrán","Hidalgo",null,42401,13,42401,null,29,44,5041,"Rural"]
[{"$f":"IF(C53727=base!$AC$2,ROW()+1,\"\")","v":{"$error":"#REF!"}},{"$f":"IF(C53727=base!$W$2,ROW()+1,\"\")","v":{"$error":"#REF!"}},42494,"La Laja","Ranchería","Nopala de Villagrán","Hidalgo",null,42401,13,42401,null,29,44,5033,"Rural"]
[{"$f":"IF(C53797=base!$AC$2,ROW()+1,\"\")","v":{"$error":"#REF!"}},{"$f":"IF(C53797=base!$W$2,ROW()+1,\"\")","v":{"$error":"#REF!"}},42608,"El Apartadero","Ranchería","Actopan","Hidalgo",null,42501,13,42501,null,29,3,4095,"Rural"]
[{"$f":"IF(C53876=base!$AC$2,ROW()+1,\"\")","v":{"$error":"#REF!"}},{"$f":"IF(C53876=base!$W$2,ROW()+1,\"\")","v":{"$error":"#REF!"}},42646,"Santa María","Colonia","San Salvador","Hidalgo",null,42501,13,42501,null,9,54,2817,"Urbano"]
[{"$f":"IF(C53950=base!$AC$2,ROW()+1,\"\")","v":{"$error":"#REF!"}},{"$f":"IF(C53950=base!$W$2,ROW()+1,\"\")","v":{"$error":"#REF!"}},42682,"El Meje","Pueblo","El Arenal","Hidalgo",null,42501,13,42501,null,28,9,731,"Rural"]
[{"$f":"IF(C54034=base!$AC$2,ROW()+1,\"\")","v":{"$error":"#REF!"}},{"$f":"IF(C54034=base!$W$2,ROW()+1,\"\")","v":{"$error":"#REF!"}},42746,"Las Calvas","Ranchería","Progreso de Obregón","Hidalgo",null,42731,13,42731,null,29,50,3343,"Rural"]
[{"$f":"IF(C54103=base!$AC$2,ROW()+1,\"\")","v":{"$error":"#REF!"}},{"$f":"IF(C54103=base!$W$2,ROW()+1,\"\")","v":{"$error":"#REF!"}},42777,"Monte Alegre (Carranza)","Ranchería","Tezontepec de Aldama","Hidalgo",null,42701,13,42701,null,29,67,5459,"Rural"]
[{"$f":"IF(C54121=base!$AC$2,ROW()+1,\"\")","v":{"$error":"#REF!"}},{"$f":"IF(C54121=base!$W$2,ROW()+1,\"\")","v":{"$error":"#REF!"}},42795,"San Gregorio","Ranchería","Tlahuelilpan","Hidalgo",null,42781,13,42781,null,29,70,3144,"Rural"]
[{"$f":"IF(C54216=base!$AC$2,ROW()+1,\"\")","v":{"$error":"#REF!"}},{"$f":"IF(C54216=base!$W$2,ROW()+1,\"\")","v":{"$error":"#REF!"}},42833,"CFE","Fraccionamiento","Tula de Allende","Hidalgo",null,42801,13,42801,null,21,76,5474,"Urbano"]
[{"$f":"IF(C54279=base!$AC$2,ROW()+1,\"\")","v":{"$error":"#REF!"}},{"$f":"IF(C54279=base!$W$2,ROW()+1,\"\")","v":{"$error":"#REF!"}},42849,"Las Nueces","Colonia","Tula de Allende","Hidalgo","Cruz Azul",42841,13,42841,null,9,76,5836,"Urbano",14]
[{"$f":"IF(C54369=base!$AC$2,ROW()+1,\"\")","v":{"$error":"#REF!"}},{"$f":"IF(C54369=base!$W$2,ROW()+1,\"\")","v":{"$error":"#REF!"}},42903,"Toxthe","Ranchería","Chapantongo","Hidalgo",null,42801,13,42801,null,29,17,852,"Rural"]
[{"$f":"IF(C54428=base!$AC$2,ROW()+1,\"\")","v":{"$error":"#REF!"}},{"$f":"IF(C54428=base!$W$2,ROW()+1,\"\")","v":{"$error":"#REF!"}},42944,"Rojo Gómez","Colonia","Tetepango","Hidalgo",null,42951,13,42951,null,9,65,3219,"Urbano"]
[{"$f":"IF(C54522=base!$AC$2,ROW()+1,\"\")","v":{"$error":"#REF!"}},{"$f":"IF(C54522=base!$W$2,ROW()+1,\"\")","v":{"$error":"#REF!"}},42990,"El Cerrito","Colonia","Atotonilco de Tula","Hidalgo",null,42951,13,42951,null,9,13,2892,"Urbano"]
[{"$f":"IF(C54586=base!$AC$2,ROW()+1,\"\")","v":{"$error":"#REF!"}},{"$f":"IF(C54586=base!$W$2,ROW()+1,\"\")","v":{"$error":"#REF!"}},43000,"Bugambilias","Colonia","Huejutla de Reyes","Hidalgo","Huejutla de Reyes",43007,13,43007,null,9,28,2059,"Urbano",8]
[{"$f":"IF(C54675=base!$AC$2,ROW()+1,\"\")","v":{"$error":"#REF!"}},{"$f":"IF(C54675=base!$W$2,ROW()+1,\"\")","v":{"$error":"#REF!"}},43003,"Santa Cruz Coyuco","Ranchería","Huejutla de Reyes","Hidalgo",null,43007,13,43007,null,29,28,4717,"Rural"]
[{"$f":"IF(C54744=base!$AC$2,ROW()+1,\"\")","v":{"$error":"#REF!"}},{"$f":"IF(C54744=base!$W$2,ROW()+1,\"\")","v":{"$error":"#REF!"}},43014,"Oxtomal II","Ranchería","Huejutla de Reyes","Hidalgo",null,43007,13,43007,null,29,28,4704,"Rural"]
[{"$f":"IF(C54788=base!$AC$2,ROW()+1,\"\")","v":{"$error":"#REF!"}},{"$f":"IF(C54788=base!$W$2,ROW()+1,\"\")","v":{"$error":"#REF!"}},43018,"Temaxcaltitla","Poblado comunal","Huejutla de Reyes","Hidalgo",null,43007,13,43007,null,27,28,4726,"Rural"]
[{"$f":"IF(C54902=base!$AC$2,ROW()+1,\"\")","v":{"$error":"#REF!"}},{"$f":"IF(C54902=base!$W$2,ROW()+1,\"\")","v":{"$error":"#REF!"}},43033,"Tequexquilico","Poblado comunal","San Felipe Orizatlán","Hidalgo",null,43007,13,43007,null,27,46,3446,"Rural"]
[{"$f":"IF(C54941=base!$AC$2,ROW()+1,\"\")","v":{"$error":"#REF!"}},{"$f":"IF(C54941=base!$W$2,ROW()+1,\"\")","v":{"$error":"#REF!"}},43037,"Las Víboras","Ranchería","San Felipe Orizatlán","Hidalgo",null,43007,13,43007,null,29,46,3478,"Rural"]
[{"$f":"IF(C54989=base!$AC$2,ROW()+1,\"\")","v":{"$error":"#REF!"}},{"$f":"IF(C54989=base!$W$2,ROW()+1,\"\")","v":{"$error":"#REF!"}},43042,"Ojo de Agua","Ranchería","Jaltocán","Hidalgo",null,43007,13,43007,null,29,32,5921,"Rural"]
[{"$f":"IF(C55094=base!$AC$2,ROW()+1,\"\")","v":{"$error":"#REF!"}},{"$f":"IF(C55094=base!$W$2,ROW()+1,\"\")","v":{"$error":"#REF!"}},43062,"Granja Acuícola","Ranchería","Atlapexco","Hidalgo",null,43007,13,43007,null,29,11,3965,"Rural"]
[{"$f":"IF(C55138=base!$AC$2,ROW()+1,\"\")","v":{"$error":"#REF!"}},{"$f":"IF(C55138=base!$W$2,ROW()+1,\"\")","v":{"$error":"#REF!"}},43072,"Tetlicuil","Ranchería","Huazalingo","Hidalgo",null,43007,13,43007,null,29,26,3812,"Rural"]
[{"$f":"IF(C55247=base!$AC$2,ROW()+1,\"\")","v":{"$error":"#REF!"}},{"$f":"IF(C55247=base!$W$2,ROW()+1,\"\")","v":{"$error":"#REF!"}},43096,"Tonalixco","Poblado comunal","Xochiatipan","Hidalgo",null,43007,13,43007,null,27,78,6173,"Rural"]
[{"$f":"IF(C55296=base!$AC$2,ROW()+1,\"\")","v":{"$error":"#REF!"}},{"$f":"IF(C55296=base!$W$2,ROW()+1,\"\")","v":{"$error":"#REF!"}},43108,"Zacuala (Huixquilico)","Ranchería","Molango de Escamilla","Hidalgo",null,43207,13,43207,null,29,42,5002,"Rural"]
[{"$f":"IF(C55360=base!$AC$2,ROW()+1,\"\")","v":{"$error":"#REF!"}},{"$f":"IF(C55360=base!$W$2,ROW()+1,\"\")","v":{"$error":"#REF!"}},43130,"Tlalica (El Rancho del Padre)","Ranchería","Tepehuacán de Guerrero","Hidalgo",null,43007,13,43007,null,29,62,5425,"Rural"]
[{"$f":"IF(C55454=base!$AC$2,ROW()+1,\"\")","v":{"$error":"#REF!"}},{"$f":"IF(C55454=base!$W$2,ROW()+1,\"\")","v":{"$error":"#REF!"}},43150,"Loma Grande","Barrio","Tlanchinol","Hidalgo",null,43007,13,43007,null,2,73,3152,"Urbano"]
[{"$f":"IF(C55513=base!$AC$2,ROW()+1,\"\")","v":{"$error":"#REF!"}},{"$f":"IF(C55513=base!$W$2,ROW()+1,\"\")","v":{"$error":"#REF!"}},43162,"Amoxco","Poblado comunal","Tlanchinol","Hidalgo",null,43007,13,43007,null,27,73,3156,"Rural"]
[{"$f":"IF(C55612=base!$AC$2,ROW()+1,\"\")","v":{"$error":"#REF!"}},{"$f":"IF(C55612=base!$W$2,ROW()+1,\"\")","v":{"$error":"#REF!"}},43183,"Agua Zarca","Ranchería","Tlahuiltepa","Hidalgo",null,43207,13,43207,null,29,71,3010,"Rural"]
[{"$f":"IF(C55666=base!$AC$2,ROW()+1,\"\")","v":{"$error":"#REF!"}},{"$f":"IF(C55666=base!$W$2,ROW()+1,\"\")","v":{"$error":"#REF!"}},43194,"La Laguna","Barrio","Juárez Hidalgo","Hidalgo",null,43207,13,43207,null,2,33,4859,"Urbano"]
[{"$f":"IF(C55761=base!$AC$2,ROW()+1,\"\")","v":{"$error":"#REF!"}},{"$f":"IF(C55761=base!$W$2,ROW()+1,\"\")","v":{"$error":"#REF!"}},43236,"Piedras Blancas","Ranchería","Calnali","Hidalgo",null,43007,13,43007,null,29,14,4370,"Rural"]
[{"$f":"IF(C55819=base!$AC$2,ROW()+1,\"\")","v":{"$error":"#REF!"}},{"$f":"IF(C55819=base!$W$2,ROW()+1,\"\")","v":{"$error":"#REF!"}},43248,"Xontla","Ranchería","Calnali","Hidalgo",null,43007,13,43007,null,29,14,4390,"Rural"]
[{"$f":"IF(C55848=base!$AC$2,ROW()+1,\"\")","v":{"$error":"#REF!"}},{"$f":"IF(C55848=base!$W$2,ROW()+1,\"\")","v":{"$error":"#REF!"}},43264,"Tlaxcoya","Pueblo","Xochicoatlán","Hidalgo",null,43207,13,43207,null,28,79,1463,"Rural"]
[{"$f":"IF(C55972=base!$AC$2,ROW()+1,\"\")","v":{"$error":"#REF!"}},{"$f":"IF(C55972=base!$W$2,ROW()+1,\"\")","v":{"$error":"#REF!"}},43311,"El Sabino","Colonia","Atotonilco el Grande","Hidalgo",null,43303,13,43303,null,9,12,4301,"Rural"]
[{"$f":"IF(C56006=base!$AC$2,ROW()+1,\"\")","v":{"$error":"#REF!"}},{"$f":"IF(C56006=base!$W$2,ROW()+1,\"\")","v":{"$error":"#REF!"}},43327,"El Pedregal de San Juan","Ranchería","Atotonilco el Grande","Hidalgo",null,43303,13,43303,null,29,12,4306,"Rural"]
[{"$f":"IF(C56085=base!$AC$2,ROW()+1,\"\")","v":{"$error":"#REF!"}},{"$f":"IF(C56085=base!$W$2,ROW()+1,\"\")","v":{"$error":"#REF!"}},43356,"Agua Hedeonda","Poblado comunal","Metztitlán","Hidalgo",null,43207,13,43207,null,27,37,6248,"Rural"]
[{"$f":"IF(C56164=base!$AC$2,ROW()+1,\"\")","v":{"$error":"#REF!"}},{"$f":"IF(C56164=base!$W$2,ROW()+1,\"\")","v":{"$error":"#REF!"}},43380,"Tecorral","Barrio","San Agustín Metzquititlán","Hidalgo",null,43207,13,43207,null,2,36,4866,"Urbano"]
[{"$f":"IF(C56238=base!$AC$2,ROW()+1,\"\")","v":{"$error":"#REF!"}},{"$f":"IF(C56238=base!$W$2,ROW()+1,\"\")","v":{"$error":"#REF!"}},43410,"El Casco","Ranchería","Metepec","Hidalgo",null,43601,13,43601,null,29,35,3575,"Rural"]
[{"$f":"IF(C56313=base!$AC$2,ROW()+1,\"\")","v":{"$error":"#REF!"}},{"$f":"IF(C56313=base!$W$2,ROW()+1,\"\")","v":{"$error":"#REF!"}},43434,"Tierra Amarilla","Ranchería","Huehuetla","Hidalgo",null,43601,13,43601,null,29,27,3776,"Rural"]
[{"$f":"IF(C56391=base!$AC$2,ROW()+1,\"\")","v":{"$error":"#REF!"}},{"$f":"IF(C56391=base!$W$2,ROW()+1,\"\")","v":{"$error":"#REF!"}},43446,"El Jonotal","Ranchería","San Bartolo Tutotepec","Hidalgo",null,43601,13,43601,null,29,53,6335,"Rural"]
[{"$f":"IF(C56471=base!$AC$2,ROW()+1,\"\")","v":{"$error":"#REF!"}},{"$f":"IF(C56471=base!$W$2,ROW()+1,\"\")","v":{"$error":"#REF!"}},43463,"El Capulín","Colonia","Agua Blanca de Iturbide","Hidalgo",null,43601,13,43601,null,9,4,4063,"Urbano"]
[{"$f":"IF(C56544=base!$AC$2,ROW()+1,\"\")","v":{"$error":"#REF!"}},{"$f":"IF(C56544=base!$W$2,ROW()+1,\"\")","v":{"$error":"#REF!"}},43495,"San José del Valle","Ranchería","Tenango de Doria","Hidalgo",null,43601,13,43601,null,29,60,1688,"Rural"]
[{"$f":"IF(C56558=base!$AC$2,ROW()+1,\"\")","v":{"$error":"#REF!"}},{"$f":"IF(C56558=base!$W$2,ROW()+1,\"\")","v":{"$error":"#REF!"}},43496,"El Dixoy","Ranchería","Tenango de Doria","Hidalgo",null,43601,13,43601,null,29,60,3271,"Rural"]
[{"$f":"IF(C56632=base!$AC$2,ROW()+1,\"\")","v":{"$error":"#REF!"}},{"$f":"IF(C56632=base!$W$2,ROW()+1,\"\")","v":{"$error":"#REF!"}},43543,"Colonia 28 de Mayo (Santa Rosa)","Ranchería","Acatlán","Hidalgo",null,43601,13,43601,null,29,1,1718,"Rural"]
[{"$f":"IF(C56753=base!$AC$2,ROW()+1,\"\")","v":{"$error":"#REF!"}},{"$f":"IF(C56753=base!$W$2,ROW()+1,\"\")","v":{"$error":"#REF!"}},43590,"El Salto","Ranchería","Epazoyucan","Hidalgo",null,42001,13,42001,null,29,22,4781,"Rural"]
[{"$f":"IF(C56790=base!$AC$2,ROW()+1,\"\")","v":{"$error":"#REF!"}},{"$f":"IF(C56790=base!$W$2,ROW()+1,\"\")","v":{"$error":"#REF!"}},43612,"De los Electricistas","Fraccionamiento","Tulancingo de Bravo","Hidalgo","Tulancingo",43601,13,43601,null,21,77,953,"Urbano",6]
[{"$f":"IF(C56866=base!$AC$2,ROW()+1,\"\")","v":{"$error":"#REF!"}},{"$f":"IF(C56866=base!$W$2,ROW()+1,\"\")","v":{"$error":"#REF!"}},43645,"Ampliación Rojo Gómez","Colonia","Tulancingo de Bravo","Hidalgo","Tulancingo",43601,13,43601,null,9,77,2497,"Urbano",6]
[{"$f":"IF(C56948=base!$AC$2,ROW()+1,\"\")","v":{"$error":"#REF!"}},{"$f":"IF(C56948=base!$W$2,ROW()+1,\"\")","v":{"$error":"#REF!"}},43700,"Carlos Salinas de Gortari","Fraccionamiento","Tulancingo de Bravo","Hidalgo",null,43601,13,43601,null,21,77,2425,"Urbano"]
[{"$f":"IF(C57019=base!$AC$2,ROW()+1,\"\")","v":{"$error":"#REF!"}},{"$f":"IF(C57019=base!$W$2,ROW()+1,\"\")","v":{"$error":"#REF!"}},43721,"San Martín","Ranchería","Acaxochitlán","Hidalgo",null,43601,13,43601,null,29,2,4429,"Rural"]
[{"$f":"IF(C57106=base!$AC$2,ROW()+1,\"\")","v":{"$error":"#REF!"}},{"$f":"IF(C57106=base!$W$2,ROW()+1,\"\")","v":{"$error":"#REF!"}},43734,"El Tejocotal","Poblado comunal","Acaxochitlán","Hidalgo",null,43601,13,43601,null,27,2,4414,"Rural"]
[{"$f":"IF(C57172=base!$AC$2,ROW()+1,\"\")","v":{"$error":"#REF!"}},{"$f":"IF(C57172=base!$W$2,ROW()+1,\"\")","v":{"$error":"#REF!"}},43748,"La Puerta del Yolo","Ejido","Cuautepec de Hinojosa","Hidalgo",null,43741,13,43741,null,15,16,1864,"Rural"]
[{"$f":"IF(C57255=base!$AC$2,ROW()+1,\"\")","v":{"$error":"#REF!"}},{"$f":"IF(C57255=base!$W$2,ROW()+1,\"\")","v":{"$error":"#REF!"}},43767,"Santa Ana del Monte","Ranchería","Santiago Tulantepec de Lugo Guerrero","Hidalgo",null,43601,13,43601,null,29,56,5992,"Rural"]
[{"$f":"IF(C57325=base!$AC$2,ROW()+1,\"\")","v":{"$error":"#REF!"}},{"$f":"IF(C57325=base!$W$2,ROW()+1,\"\")","v":{"$error":"#REF!"}},43786,"La Conchita (La Cantera)","Ranchería","Singuilucan","Hidalgo",null,43601,13,43601,null,29,57,5219,"Rural"]
[{"$f":"IF(C57342=base!$AC$2,ROW()+1,\"\")","v":{"$error":"#REF!"}},{"$f":"IF(C57342=base!$W$2,ROW()+1,\"\")","v":{"$error":"#REF!"}},43787,"Cerro Colorado","Ranchería","Singuilucan","Hidalgo",null,43601,13,43601,null,29,57,5186,"Rural"]
[{"$f":"IF(C57406=base!$AC$2,ROW()+1,\"\")","v":{"$error":"#REF!"}},{"$f":"IF(C57406=base!$W$2,ROW()+1,\"\")","v":{"$error":"#REF!"}},43802,"UAEH","Gran usuario","Tizayuca","Hidalgo","Tizayuca",43801,13,43801,null,22,69,2386,"Urbano",10]
[{"$f":"IF(C57500=base!$AC$2,ROW()+1,\"\")","v":{"$error":"#REF!"}},{"$f":"IF(C57500=base!$W$2,ROW()+1,\"\")","v":{"$error":"#REF!"}},43837,"Las Palmitas","Colonia","Zempoala","Hidalgo",null,43992,13,43992,null,9,83,6383,"Urbano"]
[{"$f":"IF(C57591=base!$AC$2,ROW()+1,\"\")","v":{"$error":"#REF!"}},{"$f":"IF(C57591=base!$W$2,ROW()+1,\"\")","v":{"$error":"#REF!"}},43880,"Villa de Tezontepec Centro","Colonia","Villa de Tezontepec","Hidalgo",null,43801,13,43801,null,9,66,1943,"Urbano"]
[{"$f":"IF(C57658=base!$AC$2,ROW()+1,\"\")","v":{"$error":"#REF!"}},{"$f":"IF(C57658=base!$W$2,ROW()+1,\"\")","v":{"$error":"#REF!"}},43916,"El Tejón","Ranchería","Apan","Hidalgo",null,43901,13,43901,null,29,8,4020,"Rural"]
[{"$f":"IF(C57744=base!$AC$2,ROW()+1,\"\")","v":{"$error":"#REF!"}},{"$f":"IF(C57744=base!$W$2,ROW()+1,\"\")","v":{"$error":"#REF!"}},43943,"Antonio P. Ramírez","Colonia","Almoloya","Hidalgo",null,43901,13,43901,null,9,7,4255,"Urbano"]
[{"$f":"IF(C57807=base!$AC$2,ROW()+1,\"\")","v":{"$error":"#REF!"}},{"$f":"IF(C57807=base!$W$2,ROW()+1,\"\")","v":{"$error":"#REF!"}},43949,"El Lindero Viejo","Ranchería","Almoloya","Hidalgo",null,43901,13,43901,null,29,7,4188,"Rural"]
[{"$f":"IF(C57897=base!$AC$2,ROW()+1,\"\")","v":{"$error":"#REF!"}},{"$f":"IF(C57897=base!$W$2,ROW()+1,\"\")","v":{"$error":"#REF!"}},43986,"San Ignacio de Loyola","Ranchería","Tepeapulco","Hidalgo",null,43992,13,43992,null,29,61,5391,"Rural"]
[{"$f":"IF(C57965=base!$AC$2,ROW()+1,\"\")","v":{"$error":"#REF!"}},{"$f":"IF(C57965=base!$W$2,ROW()+1,\"\")","v":{"$error":"#REF!"}},44158,"Deitz","Colonia","Guadalajara","Jalisco","Guadalajara",44101,14,44101,null,9,39,11,"Urbano",3]
[{"$f":"IF(C57978=base!$AC$2,ROW()+1,\"\")","v":{"$error":"#REF!"}},{"$f":"IF(C57978=base!$W$2,ROW()+1,\"\")","v":{"$error":"#REF!"}},44216,"Del Trabajo CTM","Unidad habitacional","Guadalajara","Jalisco","Guadalajara",44291,14,44291,null,31,39,29,"Urbano",3]
[{"$f":"IF(C58052=base!$AC$2,ROW()+1,\"\")","v":{"$error":"#REF!"}},{"$f":"IF(C58052=base!$W$2,ROW()+1,\"\")","v":{"$error":"#REF!"}},44306,"Bosques de La Cantera","Colonia","Guadalajara","Jalisco","Guadalajara",44308,14,44308,null,9,39,4937,"Urbano",3]
[{"$f":"IF(C58163=base!$AC$2,ROW()+1,\"\")","v":{"$error":"#REF!"}},{"$f":"IF(C58163=base!$W$2,ROW()+1,\"\")","v":{"$error":"#REF!"}},44657,"Lomas de Guevara","Colonia","Guadalajara","Jalisco","Guadalajara",44602,14,44602,null,9,39,264,"Urbano",3]
[{"$f":"IF(C58210=base!$AC$2,ROW()+1,\"\")","v":{"$error":"#REF!"}},{"$f":"IF(C58210=base!$W$2,ROW()+1,\"\")","v":{"$error":"#REF!"}},44720,"Lomas de Oblatos 2a Secc","Fraccionamiento","Guadalajara","Jalisco","Guadalajara",44721,14,44721,null,21,39,329,"Urbano",3]
[{"$f":"IF(C58316=base!$AC$2,ROW()+1,\"\")","v":{"$error":"#REF!"}},{"$f":"IF(C58316=base!$W$2,ROW()+1,\"\")","v":{"$error":"#REF!"}},44840,"Prados Del Nilo","Fraccionamiento","Guadalajara","Jalisco","Guadalajara",44891,14,44891,null,21,39,446,"Urbano",3]
[{"$f":"IF(C58359=base!$AC$2,ROW()+1,\"\")","v":{"$error":"#REF!"}},{"$f":"IF(C58359=base!$W$2,ROW()+1,\"\")","v":{"$error":"#REF!"}},44948,"Villa Hermosa","Colonia","Guadalajara","Jalisco","Guadalajara",44943,14,44943,null,9,39,498,"Urbano",3]
[{"$f":"IF(C58469=base!$AC$2,ROW()+1,\"\")","v":{"$error":"#REF!"}},{"$f":"IF(C58469=base!$W$2,ROW()+1,\"\")","v":{"$error":"#REF!"}},45036,"Nueva Galicia 2da Sección","Colonia","Zapopan","Jalisco","Zapopan",45021,14,45021,null,9,120,4228,"Urbano",10]
[{"$f":"IF(C58517=base!$AC$2,ROW()+1,\"\")","v":{"$error":"#REF!"}},{"$f":"IF(C58517=base!$W$2,ROW()+1,\"\")","v":{"$error":"#REF!"}},45066,"Citala","Fraccionamiento","Zapopan","Jalisco","Zapopan",44531,14,44531,null,21,120,36,"Urbano",10]
[{"$f":"IF(C58550=base!$AC$2,ROW()+1,\"\")","v":{"$error":"#REF!"}},{"$f":"IF(C58550=base!$W$2,ROW()+1,\"\")","v":{"$error":"#REF!"}},45078,"Periodistas","Colonia","Zapopan","Jalisco","Zapopan",45082,14,45082,null,9,120,658,"Urbano",10]
[{"$f":"IF(C58675=base!$AC$2,ROW()+1,\"\")","v":{"$error":"#REF!"}},{"$f":"IF(C58675=base!$W$2,ROW()+1,\"\")","v":{"$error":"#REF!"}},45134,"Campo Real","Fraccionamiento","Zapopan","Jalisco","Zapopan",45132,14,45132,null,21,120,4854,"Urbano",10]
[{"$f":"IF(C58735=base!$AC$2,ROW()+1,\"\")","v":{"$error":"#REF!"}},{"$f":"IF(C58735=base!$W$2,ROW()+1,\"\")","v":{"$error":"#REF!"}},45140,"Unidad Abastos Belenes","Colonia","Zapopan","Jalisco","Zapopan",45101,14,45101,null,9,120,754,"Urbano",10]
[{"$f":"IF(C58833=base!$AC$2,ROW()+1,\"\")","v":{"$error":"#REF!"}},{"$f":"IF(C58833=base!$W$2,ROW()+1,\"\")","v":{"$error":"#REF!"}},45186,"Nueva España","Colonia","Zapopan","Jalisco","Zapopan",45182,14,45182,null,9,120,869,"Urbano",10]
[{"$f":"IF(C58888=base!$AC$2,ROW()+1,\"\")","v":{"$error":"#REF!"}},{"$f":"IF(C58888=base!$W$2,ROW()+1,\"\")","v":{"$error":"#REF!"}},45200,"Los Angeles de Nextipac","Fraccionamiento","Zapopan","Jalisco",null,45202,14,45202,null,21,120,4400,"Urbano"]
[{"$f":"IF(C58920=base!$AC$2,ROW()+1,\"\")","v":{"$error":"#REF!"}},{"$f":"IF(C58920=base!$W$2,ROW()+1,\"\")","v":{"$error":"#REF!"}},45200,"Villas de Tesistán","Fraccionamiento","Zapopan","Jalisco",null,45202,14,45202,null,21,120,4502,"Urbano"]
[{"$f":"IF(C59041=base!$AC$2,ROW()+1,\"\")","v":{"$error":"#REF!"}},{"$f":"IF(C59041=base!$W$2,ROW()+1,\"\")","v":{"$error":"#REF!"}},45307,"Los Fresnos","Colonia","Tala","Jalisco","Tala",45301,14,45301,null,9,83,3620,"Semiurbano",31]
[{"$f":"IF(C59069=base!$AC$2,ROW()+1,\"\")","v":{"$error":"#REF!"}},{"$f":"IF(C59069=base!$W$2,ROW()+1,\"\")","v":{"$error":"#REF!"}},45349,"San Ignacio de Carboneras","Pueblo","Tala","Jalisco",null,45301,14,45301,null,28,83,975,"Rural"]
[{"$f":"IF(C59122=base!$AC$2,ROW()+1,\"\")","v":{"$error":"#REF!"}},{"$f":"IF(C59122=base!$W$2,ROW()+1,\"\")","v":{"$error":"#REF!"}},45400,"El Zapote","Colonia","Tonalá","Jalisco","Tonalá",45401,14,45401,null,9,101,988,"Urbano",12]
[{"$f":"IF(C59227=base!$AC$2,ROW()+1,\"\")","v":{"$error":"#REF!"}},{"$f":"IF(C59227=base!$W$2,ROW()+1,\"\")","v":{"$error":"#REF!"}},45404,"Valle de La Reyna","Fraccionamiento","Tonalá","Jalisco","Tonalá",45409,14,45409,null,21,101,4396,"Urbano",12]
[{"$f":"IF(C59307=base!$AC$2,ROW()+1,\"\")","v":{"$error":"#REF!"}},{"$f":"IF(C59307=base!$W$2,ROW()+1,\"\")","v":{"$error":"#REF!"}},45410,"Misión de los Viñedos","Fraccionamiento","Tonalá","Jalisco","Tonalá",45401,14,45401,null,21,101,1,"Urbano",12]
[{"$f":"IF(C59385=base!$AC$2,ROW()+1,\"\")","v":{"$error":"#REF!"}},{"$f":"IF(C59385=base!$W$2,ROW()+1,\"\")","v":{"$error":"#REF!"}},45420,"Residencial Misión de Guadalupe","Fraccionamiento","Tonalá","Jalisco","Tonalá",45401,14,45401,null,21,101,8,"Urbano",12]
[{"$f":"IF(C59460=base!$AC$2,ROW()+1,\"\")","v":{"$error":"#REF!"}},{"$f":"IF(C59460=base!$W$2,ROW()+1,\"\")","v":{"$error":"#REF!"}},45445,"Joya Del Camino","Ranchería","Zapotlanejo","Jalisco",null,45431,14,45431,null,29,124,1094,"Rural"]
[{"$f":"IF(C59543=base!$AC$2,ROW()+1,\"\")","v":{"$error":"#REF!"}},{"$f":"IF(C59543=base!$W$2,ROW()+1,\"\")","v":{"$error":"#REF!"}},45530,"Arroyo de Las Flores","Colonia","San Pedro Tlaquepaque","Jalisco","Tlaquepaque",44981,14,44981,null,9,98,4108,"Urbano",9]
[{"$f":"IF(C59613=base!$AC$2,ROW()+1,\"\")","v":{"$error":"#REF!"}},{"$f":"IF(C59613=base!$W$2,ROW()+1,\"\")","v":{"$error":"#REF!"}},45596,"La Guadalupana","Colonia","San Pedro Tlaquepaque","Jalisco","Tlaquepaque",45591,14,45591,null,9,98,1222,"Urbano",9]
[{"$f":"IF(C59692=base!$AC$2,ROW()+1,\"\")","v":{"$error":"#REF!"}},{"$f":"IF(C59692=base!$W$2,ROW()+1,\"\")","v":{"$error":"#REF!"}},45615,"Villa Fontana","Fraccionamiento","San Pedro Tlaquepaque","Jalisco","Tlaquepaque",45591,14,45591,null,21,98,4320,"Urbano",9]
[{"$f":"IF(C59694=base!$AC$2,ROW()+1,\"\")","v":{"$error":"#REF!"}},{"$f":"IF(C59694=base!$W$2,ROW()+1,\"\")","v":{"$error":"#REF!"}},45615,"Valle de La Misericordia","Pueblo","San Pedro Tlaquepaque","Jalisco","Tlaquepaque",45591,14,45591,null,28,98,1266,"Urbano",9]
[{"$f":"IF(C59779=base!$AC$2,ROW()+1,\"\")","v":{"$error":"#REF!"}},{"$f":"IF(C59779=base!$W$2,ROW()+1,\"\")","v":{"$error":"#REF!"}},45640,"Rinconadas del Sol","Fraccionamiento","Tlajomulco de Zúñiga","Jalisco","Tlajomulco de Zúñiga",45642,14,45642,null,21,97,14,"Urbano",11]
[{"$f":"IF(C59847=base!$AC$2,ROW()+1,\"\")","v":{"$error":"#REF!"}},{"$f":"IF(C59847=base!$W$2,ROW()+1,\"\")","v":{"$error":"#REF!"}},45645,"Naturezza","Fraccionamiento","Tlajomulco de Zúñiga","Jalisco","Tlajomulco de Zúñiga",45603,14,45603,null,21,97,13,"Urbano",11]
[{"$f":"IF(C59937=base!$AC$2,ROW()+1,\"\")","v":{"$error":"#REF!"}},{"$f":"IF(C59937=base!$W$2,ROW()+1,\"\")","v":{"$error":"#REF!"}},45653,"Villalta","Fraccionamiento","Tlajomulco de Zúñiga","Jalisco","Tlajomulco de Zúñiga",45649,14,45649,null,21,97,6,"Urbano",11]
[{"$f":"IF(C60032=base!$AC$2,ROW()+1,\"\")","v":{"$error":"#REF!"}},{"$f":"IF(C60032=base!$W$2,ROW()+1,\"\")","v":{"$error":"#REF!"}},45690,"Nuevo Paraíso","Colonia","El Salto","Jalisco",null,45648,14,45648,null,9,70,4566,"Rural"]
[{"$f":"IF(C60095=base!$AC$2,ROW()+1,\"\")","v":{"$error":"#REF!"}},{"$f":"IF(C60095=base!$W$2,ROW()+1,\"\")","v":{"$error":"#REF!"}},45753,"Magisterio","Fraccionamiento","Zacoalco de Torres","Jalisco","Zacoalco de Torres",45751,14,45751,null,21,119,3891,"Semiurbano",49]
[{"$f":"IF(C60185=base!$AC$2,ROW()+1,\"\")","v":{"$error":"#REF!"}},{"$f":"IF(C60185=base!$W$2,ROW()+1,\"\")","v":{"$error":"#REF!"}},45840,"San Cristóbal Zapotitlán","Pueblo","Jocotepec","Jalisco",null,45801,14,45801,null,28,50,1383,"Rural"]
[{"$f":"IF(C60244=base!$AC$2,ROW()+1,\"\")","v":{"$error":"#REF!"}},{"$f":"IF(C60244=base!$W$2,ROW()+1,\"\")","v":{"$error":"#REF!"}},45945,"Hacienda de la Labor","Ranchería","Chapala","Jalisco",null,45901,14,45901,null,29,30,5082,"Rural"]
[{"$f":"IF(C60266=base!$AC$2,ROW()+1,\"\")","v":{"$error":"#REF!"}},{"$f":"IF(C60266=base!$W$2,ROW()+1,\"\")","v":{"$error":"#REF!"}},45970,"Mezcala","Pueblo","Poncitlán","Jalisco",null,47801,14,47801,null,28,66,1426,"Rural"]
[{"$f":"IF(C60402=base!$AC$2,ROW()+1,\"\")","v":{"$error":"#REF!"}},{"$f":"IF(C60402=base!$W$2,ROW()+1,\"\")","v":{"$error":"#REF!"}},46072,"Codorniz","Ranchería","Mezquitic","Jalisco",null,46001,14,46001,null,29,61,15,"Rural"]
[{"$f":"IF(C60419=base!$AC$2,ROW()+1,\"\")","v":{"$error":"#REF!"}},{"$f":"IF(C60419=base!$W$2,ROW()+1,\"\")","v":{"$error":"#REF!"}},46084,"El Cajón","Rancho","Mezquitic","Jalisco",null,46001,14,46001,null,48,61,17,"Rural"]
[{"$f":"IF(C60489=base!$AC$2,ROW()+1,\"\")","v":{"$error":"#REF!"}},{"$f":"IF(C60489=base!$W$2,ROW()+1,\"\")","v":{"$error":"#REF!"}},46207,"Acaponeta","Barrio","Colotlán","Jalisco","Colotlán",46201,14,46201,null,2,25,3695,"Semiurbano",35]
[{"$f":"IF(C60604=base!$AC$2,ROW()+1,\"\")","v":{"$error":"#REF!"}},{"$f":"IF(C60604=base!$W$2,ROW()+1,\"\")","v":{"$error":"#REF!"}},46503,"Loma Bonita","Fraccionamiento","Etzatlán","Jalisco","Etzatlán",46501,14,46501,null,21,36,3465,"Semiurbano",22]
[{"$f":"IF(C60647=base!$AC$2,ROW()+1,\"\")","v":{"$error":"#REF!"}},{"$f":"IF(C60647=base!$W$2,ROW()+1,\"\")","v":{"$error":"#REF!"}},46688,"Reforma","Colonia","Ameca","Jalisco","Ameca",46601,14,46601,null,9,6,1610,"Semiurbano",1]
[{"$f":"IF(C60757=base!$AC$2,ROW()+1,\"\")","v":{"$error":"#REF!"}},{"$f":"IF(C60757=base!$W$2,ROW()+1,\"\")","v":{"$error":"#REF!"}},46850,"La Laja","Pueblo","Mixtlán","Jalisco",null,46801,14,46801,null,28,62,1705,"Rural"]
[{"$f":"IF(C60796=base!$AC$2,ROW()+1,\"\")","v":{"$error":"#REF!"}},{"$f":"IF(C60796=base!$W$2,ROW()+1,\"\")","v":{"$error":"#REF!"}},47002,"La Peña","Colonia","San Juan de los Lagos","Jalisco","San Juan de los Lagos",47001,14,47001,null,9,73,1734,"Rural",7]
[{"$f":"IF(C60879=base!$AC$2,ROW()+1,\"\")","v":{"$error":"#REF!"}},{"$f":"IF(C60879=base!$W$2,ROW()+1,\"\")","v":{"$error":"#REF!"}},47127,"Plan de La Llave","Fraccionamiento","Jalostotitlán","Jalisco","Jalostotitlán",47121,14,47121,null,21,46,3387,"Semiurbano",18]
[{"$f":"IF(C60966=base!$AC$2,ROW()+1,\"\")","v":{"$error":"#REF!"}},{"$f":"IF(C60966=base!$W$2,ROW()+1,\"\")","v":{"$error":"#REF!"}},47184,"El Carmen","Colonia","Arandas","Jalisco","Arandas",47181,14,47181,null,9,8,3434,"Semiurbano",20]
[{"$f":"IF(C61037=base!$AC$2,ROW()+1,\"\")","v":{"$error":"#REF!"}},{"$f":"IF(C61037=base!$W$2,ROW()+1,\"\")","v":{"$error":"#REF!"}},47203,"San Miguel Sur","Colonia","Teocaltiche","Jalisco","Teocaltiche",47201,14,47201,null,9,91,3803,"Semiurbano",39]
[{"$f":"IF(C61119=base!$AC$2,ROW()+1,\"\")","v":{"$error":"#REF!"}},{"$f":"IF(C61119=base!$W$2,ROW()+1,\"\")","v":{"$error":"#REF!"}},47239,"Mascua","Ranchería","Teocaltiche","Jalisco",null,47201,14,47201,null,29,91,1865,"Rural"]
[{"$f":"IF(C61186=base!$AC$2,ROW()+1,\"\")","v":{"$error":"#REF!"}},{"$f":"IF(C61186=base!$W$2,ROW()+1,\"\")","v":{"$error":"#REF!"}},47270,"Puente Chico","Colonia","Encarnación de Díaz","Jalisco",null,47271,14,47271,null,9,35,4129,"Rural"]
[{"$f":"IF(C61200=base!$AC$2,ROW()+1,\"\")","v":{"$error":"#REF!"}},{"$f":"IF(C61200=base!$W$2,ROW()+1,\"\")","v":{"$error":"#REF!"}},47275,"Las Pilas","Ranchería","Encarnación de Díaz","Jalisco",null,47271,14,47271,null,29,35,1888,"Rural"]
[{"$f":"IF(C61273=base!$AC$2,ROW()+1,\"\")","v":{"$error":"#REF!"}},{"$f":"IF(C61273=base!$W$2,ROW()+1,\"\")","v":{"$error":"#REF!"}},47384,"Aragón","Fraccionamiento","Valle de Guadalupe","Jalisco","Valle de Guadalupe",47381,14,47381,null,21,111,4050,"Rural",56]
[{"$f":"IF(C61353=base!$AC$2,ROW()+1,\"\")","v":{"$error":"#REF!"}},{"$f":"IF(C61353=base!$W$2,ROW()+1,\"\")","v":{"$error":"#REF!"}},47503,"El Ranchito de Guadalupe","Ranchería","Lagos de Moreno","Jalisco",null,47401,14,47401,null,29,53,5486,"Rural"]
[{"$f":"IF(C61431=base!$AC$2,ROW()+1,\"\")","v":{"$error":"#REF!"}},{"$f":"IF(C61431=base!$W$2,ROW()+1,\"\")","v":{"$error":"#REF!"}},47506,"El Reparo","Ranchería","Lagos de Moreno","Jalisco",null,47401,14,47401,null,29,53,5492,"Rural"]
[{"$f":"IF(C61538=base!$AC$2,ROW()+1,\"\")","v":{"$error":"#REF!"}},{"$f":"IF(C61538=base!$W$2,ROW()+1,\"\")","v":{"$error":"#REF!"}},47515,"Providencia","Ranchería","Lagos de Moreno","Jalisco",null,47401,14,47401,null,29,53,5683,"Rural"]
[{"$f":"IF(C61589=base!$AC$2,ROW()+1,\"\")","v":{"$error":"#REF!"}},{"$f":"IF(C61589=base!$W$2,ROW()+1,\"\")","v":{"$error":"#REF!"}},47524,"La Famosa","Ranchería","Lagos de Moreno","Jalisco",null,47401,14,47401,null,29,53,5551,"Rural"]
[{"$f":"IF(C61691=base!$AC$2,ROW()+1,\"\")","v":{"$error":"#REF!"}},{"$f":"IF(C61691=base!$W$2,ROW()+1,\"\")","v":{"$error":"#REF!"}},47532,"Loma de Prados","Ranchería","Lagos de Moreno","Jalisco",null,47401,14,47401,null,29,53,5630,"Rural"]
[{"$f":"IF(C61738=base!$AC$2,ROW()+1,\"\")","v":{"$error":"#REF!"}},{"$f":"IF(C61738=base!$W$2,ROW()+1,\"\")","v":{"$error":"#REF!"}},47535,"El Purgatorio","Ranchería","Lagos de Moreno","Jalisco",null,47401,14,47401,null,29,53,5483,"Rural"]
[{"$f":"IF(C61772=base!$AC$2,ROW()+1,\"\")","v":{"$error":"#REF!"}},{"$f":"IF(C61772=base!$W$2,ROW()+1,\"\")","v":{"$error":"#REF!"}},47537,"Rancho el Pirul","Ranchería","Lagos de Moreno","Jalisco",null,47401,14,47401,null,29,53,5693,"Rural"]
[{"$f":"IF(C61896=base!$AC$2,ROW()+1,\"\")","v":{"$error":"#REF!"}},{"$f":"IF(C61896=base!$W$2,ROW()+1,\"\")","v":{"$error":"#REF!"}},47675,"Saint Michel","Fraccionamiento","Tepatitlán de Morelos","Jalisco","Tepatitlán de Morelos",47601,14,47601,null,21,93,2088,"Semiurbano",8]
[{"$f":"IF(C61925=base!$AC$2,ROW()+1,\"\")","v":{"$error":"#REF!"}},{"$f":"IF(C61925=base!$W$2,ROW()+1,\"\")","v":{"$error":"#REF!"}},47720,"Milpillas","Pueblo","Tepatitlán de Morelos","Jalisco",null,47721,14,47721,null,28,93,2116,"Rural"]
[{"$f":"IF(C61983=base!$AC$2,ROW()+1,\"\")","v":{"$error":"#REF!"}},{"$f":"IF(C61983=base!$W$2,ROW()+1,\"\")","v":{"$error":"#REF!"}},47750,"El Mirador","Colonia","Atotonilco el Alto","Jalisco","Atotonilco el Alto",47751,14,47751,null,9,13,3351,"Semiurbano",17]
[{"$f":"IF(C62110=base!$AC$2,ROW()+1,\"\")","v":{"$error":"#REF!"}},{"$f":"IF(C62110=base!$W$2,ROW()+1,\"\")","v":{"$error":"#REF!"}},47912,"San Gabriel","Fraccionamiento","La Barca","Jalisco","La Barca",47911,14,47911,null,21,18,3680,"Semiurbano",32]
[{"$f":"IF(C62141=base!$AC$2,ROW()+1,\"\")","v":{"$error":"#REF!"}},{"$f":"IF(C62141=base!$W$2,ROW()+1,\"\")","v":{"$error":"#REF!"}},47925,"El Carmen","Hacienda","La Barca","Jalisco",null,47911,14,47911,null,24,18,2262,"Rural"]
[{"$f":"IF(C62263=base!$AC$2,ROW()+1,\"\")","v":{"$error":"#REF!"}},{"$f":"IF(C62263=base!$W$2,ROW()+1,\"\")","v":{"$error":"#REF!"}},48139,"Ahuacatepec","Hacienda","Atenguillo","Jalisco",null,48101,14,48101,null,24,12,2391,"Rural"]
[{"$f":"IF(C62290=base!$AC$2,ROW()+1,\"\")","v":{"$error":"#REF!"}},{"$f":"IF(C62290=base!$W$2,ROW()+1,\"\")","v":{"$error":"#REF!"}},48207,"San Francisco","Colonia","Talpa de Allende","Jalisco","Talpa de Allende",48201,14,48201,null,9,84,3462,"Rural",21]
[{"$f":"IF(C62344=base!$AC$2,ROW()+1,\"\")","v":{"$error":"#REF!"}},{"$f":"IF(C62344=base!$W$2,ROW()+1,\"\")","v":{"$error":"#REF!"}},48280,"Jardines","Colonia","Puerto Vallarta","Jalisco",null,48351,14,48351,null,9,67,4825,"Rural"]
[{"$f":"IF(C62448=base!$AC$2,ROW()+1,\"\")","v":{"$error":"#REF!"}},{"$f":"IF(C62448=base!$W$2,ROW()+1,\"\")","v":{"$error":"#REF!"}},48315,"Arboledas","Fraccionamiento","Puerto Vallarta","Jalisco","Puerto Vallarta",48293,14,48293,null,21,67,2487,"Urbano",6]
[{"$f":"IF(C62497=base!$AC$2,ROW()+1,\"\")","v":{"$error":"#REF!"}},{"$f":"IF(C62497=base!$W$2,ROW()+1,\"\")","v":{"$error":"#REF!"}},48334,"Puerto Iguanas","Colonia","Puerto Vallarta","Jalisco","Puerto Vallarta",48293,14,48293,null,9,67,2518,"Rural",6]
[{"$f":"IF(C62606=base!$AC$2,ROW()+1,\"\")","v":{"$error":"#REF!"}},{"$f":"IF(C62606=base!$W$2,ROW()+1,\"\")","v":{"$error":"#REF!"}},48495,"José María Morelos","Ranchería","Tomatlán","Jalisco",null,48452,14,48452,null,29,100,2597,"Rural"]
[{"$f":"IF(C62682=base!$AC$2,ROW()+1,\"\")","v":{"$error":"#REF!"}},{"$f":"IF(C62682=base!$W$2,ROW()+1,\"\")","v":{"$error":"#REF!"}},48725,"San Juan de Amula","Pueblo","El Limón","Jalisco",null,48701,14,48701,null,28,54,2669,"Rural"]
[{"$f":"IF(C62764=base!$AC$2,ROW()+1,\"\")","v":{"$error":"#REF!"}},{"$f":"IF(C62764=base!$W$2,ROW()+1,\"\")","v":{"$error":"#REF!"}},48820,"Tepeguaje","Ranchería","Villa Purificación","Jalisco",null,48931,14,48931,null,29,68,2709,"Rural"]
[{"$f":"IF(C62835=base!$AC$2,ROW()+1,\"\")","v":{"$error":"#REF!"}},{"$f":"IF(C62835=base!$W$2,ROW()+1,\"\")","v":{"$error":"#REF!"}},48876,"El Totole","Congregación","La Huerta","Jalisco",null,48851,14,48851,null,11,43,2728,"Rural"]
[{"$f":"IF(C62851=base!$AC$2,ROW()+1,\"\")","v":{"$error":"#REF!"}},{"$f":"IF(C62851=base!$W$2,ROW()+1,\"\")","v":{"$error":"#REF!"}},48902,"Rodriguez Alcaine","Colonia","Autlán de Navarro","Jalisco","Autlán de Navarro",48901,14,48901,null,9,15,3575,"Semiurbano",25]
[{"$f":"IF(C62916=base!$AC$2,ROW()+1,\"\")","v":{"$error":"#REF!"}},{"$f":"IF(C62916=base!$W$2,ROW()+1,\"\")","v":{"$error":"#REF!"}},48916,"La Aldaba","Congregación","Autlán de Navarro","Jalisco",null,48901,14,48901,null,11,15,2756,"Rural"]
[{"$f":"IF(C63000=base!$AC$2,ROW()+1,\"\")","v":{"$error":"#REF!"}},{"$f":"IF(C63000=base!$W$2,ROW()+1,\"\")","v":{"$error":"#REF!"}},48990,"El Aguacate","Congregación","Cihuatlán","Jalisco",null,48971,14,48971,null,11,22,2809,"Rural"]
[{"$f":"IF(C63069=base!$AC$2,ROW()+1,\"\")","v":{"$error":"#REF!"}},{"$f":"IF(C63069=base!$W$2,ROW()+1,\"\")","v":{"$error":"#REF!"}},49060,"La Giralda","Colonia","Zapotlán el Grande","Jalisco","Ciudad Guzmán",49001,14,49001,null,9,23,4029,"Urbano",2]
[{"$f":"IF(C63158=base!$AC$2,ROW()+1,\"\")","v":{"$error":"#REF!"}},{"$f":"IF(C63158=base!$W$2,ROW()+1,\"\")","v":{"$error":"#REF!"}},49120,"San Sebastián del Sur","Pueblo","Gómez Farías","Jalisco",null,49121,14,49121,null,28,79,4868,"Rural"]
[{"$f":"IF(C63254=base!$AC$2,ROW()+1,\"\")","v":{"$error":"#REF!"}},{"$f":"IF(C63254=base!$W$2,ROW()+1,\"\")","v":{"$error":"#REF!"}},49404,"Guízar","Colonia","Tizapán el Alto","Jalisco",null,49401,14,49401,null,9,96,4904,"Rural"]
[{"$f":"IF(C63316=base!$AC$2,ROW()+1,\"\")","v":{"$error":"#REF!"}},{"$f":"IF(C63316=base!$W$2,ROW()+1,\"\")","v":{"$error":"#REF!"}},49602,"La Cruz","Fraccionamiento","Zapotiltic","Jalisco","Zapotiltic",49601,14,49601,null,21,121,3711,"Semiurbano",37]
[{"$f":"IF(C63407=base!$AC$2,ROW()+1,\"\")","v":{"$error":"#REF!"}},{"$f":"IF(C63407=base!$W$2,ROW()+1,\"\")","v":{"$error":"#REF!"}},49738,"El Tepozal","Ranchería","San Gabriel","Jalisco",null,49701,14,49701,null,29,113,3083,"Rural"]
[{"$f":"IF(C63474=base!$AC$2,ROW()+1,\"\")","v":{"$error":"#REF!"}},{"$f":"IF(C63474=base!$W$2,ROW()+1,\"\")","v":{"$error":"#REF!"}},49870,"Magisterial","Colonia","Pihuamo","Jalisco",null,49871,14,49871,null,9,65,5345,"Urbano"]
[{"$f":"IF(C63488=base!$AC$2,ROW()+1,\"\")","v":{"$error":"#REF!"}},{"$f":"IF(C63488=base!$W$2,ROW()+1,\"\")","v":{"$error":"#REF!"}},49874,"El Guayabo","Congregación","Pihuamo","Jalisco",null,49871,14,49871,null,11,65,5988,"Rural"]
[{"$f":"IF(C63623=base!$AC$2,ROW()+1,\"\")","v":{"$error":"#REF!"}},{"$f":"IF(C63623=base!$W$2,ROW()+1,\"\")","v":{"$error":"#REF!"}},50010,"Galaxias de San Lorenzo","Fraccionamiento","Toluca","México","Toluca de Lerdo",50091,15,50091,null,21,106,5542,"Rural",20]
[{"$f":"IF(C63641=base!$AC$2,ROW()+1,\"\")","v":{"$error":"#REF!"}},{"$f":"IF(C63641=base!$W$2,ROW()+1,\"\")","v":{"$error":"#REF!"}},50020,"Santiago Miltepec","Pueblo","Toluca","México","Toluca de Lerdo",50091,15,50091,null,28,106,199,"Urbano",20]
[{"$f":"IF(C63710=base!$AC$2,ROW()+1,\"\")","v":{"$error":"#REF!"}},{"$f":"IF(C63710=base!$W$2,ROW()+1,\"\")","v":{"$error":"#REF!"}},50120,"Morelos 2a Secc","Colonia","Toluca","México","Toluca de Lerdo",50091,15,50091,null,9,106,283,"Urbano",20]
[{"$f":"IF(C63794=base!$AC$2,ROW()+1,\"\")","v":{"$error":"#REF!"}},{"$f":"IF(C63794=base!$W$2,ROW()+1,\"\")","v":{"$error":"#REF!"}},50210,"La Magdalena","Barrio","Toluca","México",null,50091,15,50091,null,2,106,8324,"Urbano"]
[{"$f":"IF(C63868=base!$AC$2,ROW()+1,\"\")","v":{"$error":"#REF!"}},{"$f":"IF(C63868=base!$W$2,ROW()+1,\"\")","v":{"$error":"#REF!"}},50245,"María Bonita","Fraccionamiento","Toluca","México",null,50091,15,50091,null,21,106,8286,"Rural"]
[{"$f":"IF(C63979=base!$AC$2,ROW()+1,\"\")","v":{"$error":"#REF!"}},{"$f":"IF(C63979=base!$W$2,ROW()+1,\"\")","v":{"$error":"#REF!"}},50283,"La Pena","Barrio","Toluca","México",null,50091,15,50091,null,2,106,8337,"Urbano"]
[{"$f":"IF(C64026=base!$AC$2,ROW()+1,\"\")","v":{"$error":"#REF!"}},{"$f":"IF(C64026=base!$W$2,ROW()+1,\"\")","v":{"$error":"#REF!"}},50295,"Real de San Pablo","Fraccionamiento","Toluca","México",null,50091,15,50091,null,21,106,7054,"Urbano"]
[{"$f":"IF(C64060=base!$AC$2,ROW()+1,\"\")","v":{"$error":"#REF!"}},{"$f":"IF(C64060=base!$W$2,ROW()+1,\"\")","v":{"$error":"#REF!"}},50313,"La Cumbre","Ranchería","Acambay de Ruíz Castañeda","México",null,50301,15,50301,null,29,1,8671,"Rural"]
[{"$f":"IF(C64175=base!$AC$2,ROW()+1,\"\")","v":{"$error":"#REF!"}},{"$f":"IF(C64175=base!$W$2,ROW()+1,\"\")","v":{"$error":"#REF!"}},50375,"Barrancas","Ejido","Aculco","México",null,50361,15,50361,null,15,3,477,"Rural"]
[{"$f":"IF(C64213=base!$AC$2,ROW()+1,\"\")","v":{"$error":"#REF!"}},{"$f":"IF(C64213=base!$W$2,ROW()+1,\"\")","v":{"$error":"#REF!"}},50397,"San Pedro Denxhi","Pueblo","Aculco","México",null,50361,15,50361,null,28,3,486,"Rural"]
[{"$f":"IF(C64333=base!$AC$2,ROW()+1,\"\")","v":{"$error":"#REF!"}},{"$f":"IF(C64333=base!$W$2,ROW()+1,\"\")","v":{"$error":"#REF!"}},50464,"Diximoxi","Pueblo","Atlacomulco","México",null,50451,15,50451,null,28,14,549,"Rural"]
[{"$f":"IF(C64366=base!$AC$2,ROW()+1,\"\")","v":{"$error":"#REF!"}},{"$f":"IF(C64366=base!$W$2,ROW()+1,\"\")","v":{"$error":"#REF!"}},50496,"Santa Rosa","Ranchería","Atlacomulco","México",null,50451,15,50451,null,29,14,7095,"Rural"]
[{"$f":"IF(C64420=base!$AC$2,ROW()+1,\"\")","v":{"$error":"#REF!"}},{"$f":"IF(C64420=base!$W$2,ROW()+1,\"\")","v":{"$error":"#REF!"}},50565,"Las Pilitas","Ranchería","Morelos","México",null,50451,15,50451,null,29,56,7192,"Rural"]
[{"$f":"IF(C64551=base!$AC$2,ROW()+1,\"\")","v":{"$error":"#REF!"}},{"$f":"IF(C64551=base!$W$2,ROW()+1,\"\")","v":{"$error":"#REF!"}},50664,"El Valerio","Pueblo","San José del Rincón","México",null,50661,15,50661,null,28,124,694,"Rural"]
[{"$f":"IF(C64578=base!$AC$2,ROW()+1,\"\")","v":{"$error":"#REF!"}},{"$f":"IF(C64578=base!$W$2,ROW()+1,\"\")","v":{"$error":"#REF!"}},50667,"Garatachea","Pueblo","San José del Rincón","México",null,50661,15,50661,null,28,124,5751,"Rural"]
[{"$f":"IF(C64632=base!$AC$2,ROW()+1,\"\")","v":{"$error":"#REF!"}},{"$f":"IF(C64632=base!$W$2,ROW()+1,\"\")","v":{"$error":"#REF!"}},50676,"Pundereje el Depósito","Barrio","San José del Rincón","México",null,50661,15,50661,null,2,124,5718,"Rural"]
[{"$f":"IF(C64727=base!$AC$2,ROW()+1,\"\")","v":{"$error":"#REF!"}},{"$f":"IF(C64727=base!$W$2,ROW()+1,\"\")","v":{"$error":"#REF!"}},50696,"La Carrera","Ranchería","San Felipe del Progreso","México",null,50641,15,50641,null,29,74,6935,"Rural"]
[{"$f":"IF(C64785=base!$AC$2,ROW()+1,\"\")","v":{"$error":"#REF!"}},{"$f":"IF(C64785=base!$W$2,ROW()+1,\"\")","v":{"$error":"#REF!"}},50734,"Guadalupe","Barrio","Jocotitlán","México",null,50701,15,50701,null,2,48,8162,"Urbano"]
[{"$f":"IF(C64885=base!$AC$2,ROW()+1,\"\")","v":{"$error":"#REF!"}},{"$f":"IF(C64885=base!$W$2,ROW()+1,\"\")","v":{"$error":"#REF!"}},50810,"Las Palomitas (Puerto Jiquipilli)","Poblado comunal","Jiquipilco","México",null,50801,15,50801,null,27,47,8745,"Rural"]
[{"$f":"IF(C64938=base!$AC$2,ROW()+1,\"\")","v":{"$error":"#REF!"}},{"$f":"IF(C64938=base!$W$2,ROW()+1,\"\")","v":{"$error":"#REF!"}},50844,"San Bartolo Oxtotitlán","Pueblo","Jiquipilco","México",null,50801,15,50801,null,28,47,798,"Rural"]
[{"$f":"IF(C65043=base!$AC$2,ROW()+1,\"\")","v":{"$error":"#REF!"}},{"$f":"IF(C65043=base!$W$2,ROW()+1,\"\")","v":{"$error":"#REF!"}},50907,"San Lorenzo Cuauhtenco","Pueblo","Almoloya de Juárez","México",null,50901,15,50901,null,28,5,850,"Rural"]
[{"$f":"IF(C65117=base!$AC$2,ROW()+1,\"\")","v":{"$error":"#REF!"}},{"$f":"IF(C65117=base!$W$2,ROW()+1,\"\")","v":{"$error":"#REF!"}},50946,"San Agustín Potege Centro","Pueblo","Almoloya de Juárez","México",null,50901,15,50901,null,28,5,888,"Rural"]
[{"$f":"IF(C65147=base!$AC$2,ROW()+1,\"\")","v":{"$error":"#REF!"}},{"$f":"IF(C65147=base!$W$2,ROW()+1,\"\")","v":{"$error":"#REF!"}},50967,"El Fresno la Manzana","Pueblo","Villa Victoria","México",null,50961,15,50961,null,28,114,7367,"Rural"]
[{"$f":"IF(C65204=base!$AC$2,ROW()+1,\"\")","v":{"$error":"#REF!"}},{"$f":"IF(C65204=base!$W$2,ROW()+1,\"\")","v":{"$error":"#REF!"}},50994,"Sitio Ejido","Pueblo","Villa Victoria","México",null,50961,15,50961,null,28,114,7350,"Rural"]
[{"$f":"IF(C65300=base!$AC$2,ROW()+1,\"\")","v":{"$error":"#REF!"}},{"$f":"IF(C65300=base!$W$2,ROW()+1,\"\")","v":{"$error":"#REF!"}},51030,"San Lucas Texcaltitlán","Pueblo","Donato Guerra","México",null,51031,15,51031,null,28,32,975,"Rural"]
[{"$f":"IF(C65362=base!$AC$2,ROW()+1,\"\")","v":{"$error":"#REF!"}},{"$f":"IF(C65362=base!$W$2,ROW()+1,\"\")","v":{"$error":"#REF!"}},51160,"Zacazonapan","Pueblo","Zacazonapan","México",null,51201,15,51201,null,28,116,1021,"Rural"]
[{"$f":"IF(C65413=base!$AC$2,ROW()+1,\"\")","v":{"$error":"#REF!"}},{"$f":"IF(C65413=base!$W$2,ROW()+1,\"\")","v":{"$error":"#REF!"}},51265,"Rincón de Guadalupe","Pueblo","Amanalco","México",null,51201,15,51201,null,28,7,1057,"Rural"]
[{"$f":"IF(C65520=base!$AC$2,ROW()+1,\"\")","v":{"$error":"#REF!"}},{"$f":"IF(C65520=base!$W$2,ROW()+1,\"\")","v":{"$error":"#REF!"}},51354,"Nevado Plus II","Fraccionamiento","Zinacantepec","México",null,51351,15,51351,null,21,118,1111,"Rural"]
[{"$f":"IF(C65566=base!$AC$2,ROW()+1,\"\")","v":{"$error":"#REF!"}},{"$f":"IF(C65566=base!$W$2,ROW()+1,\"\")","v":{"$error":"#REF!"}},51367,"Loma de San Francisco","Pueblo","Zinacantepec","México",null,51351,15,51351,null,28,118,1141,"Rural"]
[{"$f":"IF(C65669=base!$AC$2,ROW()+1,\"\")","v":{"$error":"#REF!"}},{"$f":"IF(C65669=base!$W$2,ROW()+1,\"\")","v":{"$error":"#REF!"}},51422,"Cerro Gordo","Ranchería","Tejupilco","México",null,51411,15,51411,null,29,82,5863,"Rural"]
[{"$f":"IF(C65719=base!$AC$2,ROW()+1,\"\")","v":{"$error":"#REF!"}},{"$f":"IF(C65719=base!$W$2,ROW()+1,\"\")","v":{"$error":"#REF!"}},51428,"El Potrero de Ixtapan (El Potrero)","Ranchería","Tejupilco","México",null,51411,15,51411,null,29,82,1210,"Rural"]
[{"$f":"IF(C65827=base!$AC$2,ROW()+1,\"\")","v":{"$error":"#REF!"}},{"$f":"IF(C65827=base!$W$2,ROW()+1,\"\")","v":{"$error":"#REF!"}},51454,"Las Paredes","Ranchería","Luvianos","México",null,51441,15,51441,null,29,123,6083,"Rural"]
[{"$f":"IF(C65872=base!$AC$2,ROW()+1,\"\")","v":{"$error":"#REF!"}},{"$f":"IF(C65872=base!$W$2,ROW()+1,\"\")","v":{"$error":"#REF!"}},51457,"El Tanque","Ranchería","Luvianos","México",null,51441,15,51441,null,29,123,6044,"Rural"]
[{"$f":"IF(C65914=base!$AC$2,ROW()+1,\"\")","v":{"$error":"#REF!"}},{"$f":"IF(C65914=base!$W$2,ROW()+1,\"\")","v":{"$error":"#REF!"}},51462,"El Capire de Acatitlán","Ranchería","Luvianos","México",null,51441,15,51441,null,29,123,6011,"Rural"]
[{"$f":"IF(C65985=base!$AC$2,ROW()+1,\"\")","v":{"$error":"#REF!"}},{"$f":"IF(C65985=base!$W$2,ROW()+1,\"\")","v":{"$error":"#REF!"}},51479,"Estancia Vieja","Hacienda","San Simón de Guerrero","México",null,51411,15,51411,null,24,77,1239,"Rural"]
[{"$f":"IF(C66072=base!$AC$2,ROW()+1,\"\")","v":{"$error":"#REF!"}},{"$f":"IF(C66072=base!$W$2,ROW()+1,\"\")","v":{"$error":"#REF!"}},51533,"Cerro del Coyol","Ranchería","Amatepec","México",null,51501,15,51501,null,29,8,7620,"Rural"]
[{"$f":"IF(C66138=base!$AC$2,ROW()+1,\"\")","v":{"$error":"#REF!"}},{"$f":"IF(C66138=base!$W$2,ROW()+1,\"\")","v":{"$error":"#REF!"}},51555,"Plan de la Cuadrilla","Poblado comunal","Tlatlaya","México",null,51571,15,51571,null,27,105,9528,"Rural"]
[{"$f":"IF(C66230=base!$AC$2,ROW()+1,\"\")","v":{"$error":"#REF!"}},{"$f":"IF(C66230=base!$W$2,ROW()+1,\"\")","v":{"$error":"#REF!"}},51583,"Pie del Cerro San Vicente","Poblado comunal","Tlatlaya","México",null,51571,15,51571,null,27,105,58,"Rural"]
[{"$f":"IF(C66291=base!$AC$2,ROW()+1,\"\")","v":{"$error":"#REF!"}},{"$f":"IF(C66291=base!$W$2,ROW()+1,\"\")","v":{"$error":"#REF!"}},51624,"Trojes","Pueblo","Sultepec","México",null,51601,15,51601,null,28,80,1374,"Rural"]
[{"$f":"IF(C66379=base!$AC$2,ROW()+1,\"\")","v":{"$error":"#REF!"}},{"$f":"IF(C66379=base!$W$2,ROW()+1,\"\")","v":{"$error":"#REF!"}},51723,"Agua Bendita","Pueblo","Coatepec Harinas","México",null,51701,15,51701,null,28,21,1431,"Rural"]
[{"$f":"IF(C66444=base!$AC$2,ROW()+1,\"\")","v":{"$error":"#REF!"}},{"$f":"IF(C66444=base!$W$2,ROW()+1,\"\")","v":{"$error":"#REF!"}},51777,"Cuajimalpa","Ranchería","Villa Guerrero","México",null,51761,15,51761,null,29,113,7427,"Rural"]
[{"$f":"IF(C66537=base!$AC$2,ROW()+1,\"\")","v":{"$error":"#REF!"}},{"$f":"IF(C66537=base!$W$2,ROW()+1,\"\")","v":{"$error":"#REF!"}},51867,"San Antonio Pachuquilla","Pueblo","Almoloya de Alquisiras","México",null,51801,15,51801,null,28,4,1498,"Rural"]
[{"$f":"IF(C66557=base!$AC$2,ROW()+1,\"\")","v":{"$error":"#REF!"}},{"$f":"IF(C66557=base!$W$2,ROW()+1,\"\")","v":{"$error":"#REF!"}},51906,"INFONAVIT","Unidad habitacional","Ixtapan de la Sal","México",null,51901,15,51901,null,31,40,5185,"Rural"]
[{"$f":"IF(C66695=base!$AC$2,ROW()+1,\"\")","v":{"$error":"#REF!"}},{"$f":"IF(C66695=base!$W$2,ROW()+1,\"\")","v":{"$error":"#REF!"}},52030,"San Pedro Tultepec","Pueblo","Lerma","México",null,52001,15,52001,null,28,51,1584,"Rural"]
[{"$f":"IF(C66710=base!$AC$2,ROW()+1,\"\")","v":{"$error":"#REF!"}},{"$f":"IF(C66710=base!$W$2,ROW()+1,\"\")","v":{"$error":"#REF!"}},52045,"Cañada de Alférez","Pueblo","Lerma","México",null,52001,15,52001,null,28,51,1587,"Rural"]
[{"$f":"IF(C66782=base!$AC$2,ROW()+1,\"\")","v":{"$error":"#REF!"}},{"$f":"IF(C66782=base!$W$2,ROW()+1,\"\")","v":{"$error":"#REF!"}},52088,"Guadalupe Victoria","Colonia","Otzolotepec","México",null,52081,15,52081,null,9,67,1610,"Rural"]
[{"$f":"IF(C66863=base!$AC$2,ROW()+1,\"\")","v":{"$error":"#REF!"}},{"$f":"IF(C66863=base!$W$2,ROW()+1,\"\")","v":{"$error":"#REF!"}},52149,"Magnolias","Fraccionamiento","Metepec","México","Metepec",50161,15,50161,null,21,54,8509,"Urbano",8]
[{"$f":"IF(C66931=base!$AC$2,ROW()+1,\"\")","v":{"$error":"#REF!"}},{"$f":"IF(C66931=base!$W$2,ROW()+1,\"\")","v":{"$error":"#REF!"}},52166,"Dr. Jorge Jiménez Cantú","Colonia","Metepec","México","Metepec",50161,15,50161,null,9,54,1789,"Urbano",8]
[{"$f":"IF(C67016=base!$AC$2,ROW()+1,\"\")","v":{"$error":"#REF!"}},{"$f":"IF(C67016=base!$W$2,ROW()+1,\"\")","v":{"$error":"#REF!"}},52176,"Izcalli Cuauhtémoc I","Fraccionamiento","Metepec","México","Metepec",50161,15,50161,null,21,54,1856,"Urbano",8]
[{"$f":"IF(C67089=base!$AC$2,ROW()+1,\"\")","v":{"$error":"#REF!"}},{"$f":"IF(C67089=base!$W$2,ROW()+1,\"\")","v":{"$error":"#REF!"}},52226,"El Mesón","Ranchería","Calimaya","México",null,52201,15,52201,null,29,18,9457,"Rural"]
[{"$f":"IF(C67129=base!$AC$2,ROW()+1,\"\")","v":{"$error":"#REF!"}},{"$f":"IF(C67129=base!$W$2,ROW()+1,\"\")","v":{"$error":"#REF!"}},52303,"La Soya","Colonia","Tenango del Valle","México",null,52301,15,52301,null,9,90,9042,"Urbano"]
[{"$f":"IF(C67247=base!$AC$2,ROW()+1,\"\")","v":{"$error":"#REF!"}},{"$f":"IF(C67247=base!$W$2,ROW()+1,\"\")","v":{"$error":"#REF!"}},52423,"San Juan Xochiaca (Xochiaca)","Pueblo","Tenancingo","México",null,52401,15,52401,null,28,88,1933,"Rural"]
[{"$f":"IF(C67282=base!$AC$2,ROW()+1,\"\")","v":{"$error":"#REF!"}},{"$f":"IF(C67282=base!$W$2,ROW()+1,\"\")","v":{"$error":"#REF!"}},52437,"La Loma","Pueblo","Tenancingo","México",null,52401,15,52401,null,28,88,7487,"Rural"]
[{"$f":"IF(C67405=base!$AC$2,ROW()+1,\"\")","v":{"$error":"#REF!"}},{"$f":"IF(C67405=base!$W$2,ROW()+1,\"\")","v":{"$error":"#REF!"}},52664,"Pueblo Nuevo","Colonia","Tianguistenco","México",null,52601,15,52601,null,9,101,8606,"Rural"]
[{"$f":"IF(C67435=base!$AC$2,ROW()+1,\"\")","v":{"$error":"#REF!"}},{"$f":"IF(C67435=base!$W$2,ROW()+1,\"\")","v":{"$error":"#REF!"}},52685,"Santa Fe Mezapa","Pueblo","Xalatlaco","México",null,52681,15,52681,null,28,43,2015,"Rural"]
[{"$f":"IF(C67554=base!$AC$2,ROW()+1,\"\")","v":{"$error":"#REF!"}},{"$f":"IF(C67554=base!$W$2,ROW()+1,\"\")","v":{"$error":"#REF!"}},52776,"La Unidad","Colonia","Huixquilucan","México","Huixquilucan de Degollado",52761,15,52761,null,9,37,5058,"Urbano",6]
[{"$f":"IF(C67588=base!$AC$2,ROW()+1,\"\")","v":{"$error":"#REF!"}},{"$f":"IF(C67588=base!$W$2,ROW()+1,\"\")","v":{"$error":"#REF!"}},52788,"Conjunto Urbano El Bosque","Fraccionamiento","Huixquilucan","México","Huixquilucan de Degollado",11002,15,11002,null,21,37,7888,"Urbano",6]
[{"$f":"IF(C67641=base!$AC$2,ROW()+1,\"\")","v":{"$error":"#REF!"}},{"$f":"IF(C67641=base!$W$2,ROW()+1,\"\")","v":{"$error":"#REF!"}},52920,"Peñitas","Colonia","Atizapán de Zaragoza","México","Ciudad Adolfo López Mateos",52901,15,52901,null,9,13,2136,"Urbano",1]
[{"$f":"IF(C67741=base!$AC$2,ROW()+1,\"\")","v":{"$error":"#REF!"}},{"$f":"IF(C67741=base!$W$2,ROW()+1,\"\")","v":{"$error":"#REF!"}},52975,"El Potrero","Colonia","Atizapán de Zaragoza","México","Ciudad Adolfo López Mateos",52901,15,52901,null,9,13,2229,"Urbano",1]
[{"$f":"IF(C67799=base!$AC$2,ROW()+1,\"\")","v":{"$error":"#REF!"}},{"$f":"IF(C67799=base!$W$2,ROW()+1,\"\")","v":{"$error":"#REF!"}},53100,"Ciudad Satélite","Fraccionamiento","Naucalpan de Juárez","México","Naucalpan de Juárez",53101,15,53101,null,21,57,2290,"Urbano",9]
[{"$f":"IF(C67854=base!$AC$2,ROW()+1,\"\")","v":{"$error":"#REF!"}},{"$f":"IF(C67854=base!$W$2,ROW()+1,\"\")","v":{"$error":"#REF!"}},53220,"La Joyita","Fraccionamiento","Naucalpan de Juárez","México","Naucalpan de Juárez",53001,15,53001,null,21,57,9145,"Urbano",9]
[{"$f":"IF(C67957=base!$AC$2,ROW()+1,\"\")","v":{"$error":"#REF!"}},{"$f":"IF(C67957=base!$W$2,ROW()+1,\"\")","v":{"$error":"#REF!"}},53427,"Las Huertas 1a Secc","Colonia","Naucalpan de Juárez","México","Naucalpan de Juárez",53001,15,53001,null,9,57,2420,"Urbano",9]
[{"$f":"IF(C68007=base!$AC$2,ROW()+1,\"\")","v":{"$error":"#REF!"}},{"$f":"IF(C68007=base!$W$2,ROW()+1,\"\")","v":{"$error":"#REF!"}},53580,"Piedras Negras","Colonia","Naucalpan de Juárez","México","Naucalpan de Juárez",53001,15,53001,null,9,57,9136,"Urbano",9]
[{"$f":"IF(C68106=base!$AC$2,ROW()+1,\"\")","v":{"$error":"#REF!"}},{"$f":"IF(C68106=base!$W$2,ROW()+1,\"\")","v":{"$error":"#REF!"}},53713,"Vicente Guerrero","Colonia","Naucalpan de Juárez","México","Naucalpan de Juárez",53681,15,53681,null,9,57,2521,"Urbano",9]
[{"$f":"IF(C68160=base!$AC$2,ROW()+1,\"\")","v":{"$error":"#REF!"}},{"$f":"IF(C68160=base!$W$2,ROW()+1,\"\")","v":{"$error":"#REF!"}},54020,"Tequexquinahuac Parte Alta","Colonia","Tlalnepantla de Baz","México","Tlalnepantla de Baz",54001,15,54001,null,9,104,2583,"Urbano",14]
[{"$f":"IF(C68264=base!$AC$2,ROW()+1,\"\")","v":{"$error":"#REF!"}},{"$f":"IF(C68264=base!$W$2,ROW()+1,\"\")","v":{"$error":"#REF!"}},54090,"Puente de Vigas","Zona industrial","Tlalnepantla de Baz","México","Tlalnepantla de Baz",54001,15,54001,null,37,104,7918,"Urbano",14]
[{"$f":"IF(C68313=base!$AC$2,ROW()+1,\"\")","v":{"$error":"#REF!"}},{"$f":"IF(C68313=base!$W$2,ROW()+1,\"\")","v":{"$error":"#REF!"}},54120,"Los Parajes","Colonia","Tlalnepantla de Baz","México","Tlalnepantla de Baz",54001,15,54001,null,9,104,2715,"Urbano",14]
[{"$f":"IF(C68351=base!$AC$2,ROW()+1,\"\")","v":{"$error":"#REF!"}},{"$f":"IF(C68351=base!$W$2,ROW()+1,\"\")","v":{"$error":"#REF!"}},54147,"Valle del Tenayo","Unidad habitacional","Tlalnepantla de Baz","México","Tlalnepantla de Baz",54001,15,54001,null,31,104,2750,"Urbano",14]
[{"$f":"IF(C68426=base!$AC$2,ROW()+1,\"\")","v":{"$error":"#REF!"}},{"$f":"IF(C68426=base!$W$2,ROW()+1,\"\")","v":{"$error":"#REF!"}},54234,"Estación Polotitlán (Casas Viejas)","Pueblo","Polotitlán","México",null,54201,15,54201,null,28,71,7329,"Rural"]
[{"$f":"IF(C68509=base!$AC$2,ROW()+1,\"\")","v":{"$error":"#REF!"}},{"$f":"IF(C68509=base!$W$2,ROW()+1,\"\")","v":{"$error":"#REF!"}},54286,"El Atoron","Colonia","Soyaniquilpan de Juárez","México",null,54281,15,54281,null,9,79,7163,"Semiurbano"]
[{"$f":"IF(C68579=base!$AC$2,ROW()+1,\"\")","v":{"$error":"#REF!"}},{"$f":"IF(C68579=base!$W$2,ROW()+1,\"\")","v":{"$error":"#REF!"}},54346,"El Águila","Pueblo","Villa del Carbón","México",null,54301,15,54301,null,28,112,7216,"Rural"]
[{"$f":"IF(C68658=base!$AC$2,ROW()+1,\"\")","v":{"$error":"#REF!"}},{"$f":"IF(C68658=base!$W$2,ROW()+1,\"\")","v":{"$error":"#REF!"}},54434,"Hidalgo","Colonia","Nicolás Romero","México","Villa Nicolás Romero",54401,15,54401,null,9,60,2947,"Urbano",11]
[{"$f":"IF(C68732=base!$AC$2,ROW()+1,\"\")","v":{"$error":"#REF!"}},{"$f":"IF(C68732=base!$W$2,ROW()+1,\"\")","v":{"$error":"#REF!"}},54484,"Miraflores","Colonia","Isidro Fabela","México",null,54481,15,54481,null,9,38,2978,"Rural"]
[{"$f":"IF(C68816=base!$AC$2,ROW()+1,\"\")","v":{"$error":"#REF!"}},{"$f":"IF(C68816=base!$W$2,ROW()+1,\"\")","v":{"$error":"#REF!"}},54658,"Cañada de Cisneros","Ejido","Tepotzotlán","México","Tepotzotlán",54601,15,54601,null,15,95,7965,"Urbano",13]
[{"$f":"IF(C68885=base!$AC$2,ROW()+1,\"\")","v":{"$error":"#REF!"}},{"$f":"IF(C68885=base!$W$2,ROW()+1,\"\")","v":{"$error":"#REF!"}},54710,"San Pablo de los Gallos","Colonia","Cuautitlán Izcalli","México","Cuautitlán Izcalli",54701,15,54701,null,9,121,3059,"Urbano",4]
[{"$f":"IF(C68974=base!$AC$2,ROW()+1,\"\")","v":{"$error":"#REF!"}},{"$f":"IF(C68974=base!$W$2,ROW()+1,\"\")","v":{"$error":"#REF!"}},54744,"Jorge Jiménez Cantú","Colonia","Cuautitlán Izcalli","México","Cuautitlán Izcalli",54701,15,54701,null,9,121,3153,"Urbano",4]
[{"$f":"IF(C68998=base!$AC$2,ROW()+1,\"\")","v":{"$error":"#REF!"}},{"$f":"IF(C68998=base!$W$2,ROW()+1,\"\")","v":{"$error":"#REF!"}},54763,"Las Gaviotas","Unidad habitacional","Cuautitlán Izcalli","México","Cuautitlán Izcalli",54801,15,54801,null,31,121,6475,"Urbano",4]
[{"$f":"IF(C69061=base!$AC$2,ROW()+1,\"\")","v":{"$error":"#REF!"}},{"$f":"IF(C69061=base!$W$2,ROW()+1,\"\")","v":{"$error":"#REF!"}},54786,"Acolco","Barrio","Teoloyucan","México",null,54771,15,54771,null,2,91,5136,"Urbano"]
[{"$f":"IF(C69151=base!$AC$2,ROW()+1,\"\")","v":{"$error":"#REF!"}},{"$f":"IF(C69151=base!$W$2,ROW()+1,\"\")","v":{"$error":"#REF!"}},54893,"Lomas de Tenapalco","Colonia","Melchor Ocampo","México",null,54881,15,54881,null,9,53,8213,"Urbano"]
[{"$f":"IF(C69219=base!$AC$2,ROW()+1,\"\")","v":{"$error":"#REF!"}},{"$f":"IF(C69219=base!$W$2,ROW()+1,\"\")","v":{"$error":"#REF!"}},54929,"Unidad Morelos 3ra. Sección INFONAVIT","Fraccionamiento","Tultitlán","México","Tultitlán de Mariano Escobedo",54931,15,54931,null,21,109,3317,"Urbano",16]
[{"$f":"IF(C69293=base!$AC$2,ROW()+1,\"\")","v":{"$error":"#REF!"}},{"$f":"IF(C69293=base!$W$2,ROW()+1,\"\")","v":{"$error":"#REF!"}},54938,"Ampliación San Pablo de las Salinas","Colonia","Tultitlán","México","Tultitlán de Mariano Escobedo",54931,15,54931,null,9,109,3358,"Urbano",16]
[{"$f":"IF(C69360=base!$AC$2,ROW()+1,\"\")","v":{"$error":"#REF!"}},{"$f":"IF(C69360=base!$W$2,ROW()+1,\"\")","v":{"$error":"#REF!"}},54955,"Ampliación Buenavista 1ra. Sección","Colonia","Tultitlán","México","Tultitlán de Mariano Escobedo",54901,15,54901,null,9,109,6306,"Urbano",16]
[{"$f":"IF(C69451=base!$AC$2,ROW()+1,\"\")","v":{"$error":"#REF!"}},{"$f":"IF(C69451=base!$W$2,ROW()+1,\"\")","v":{"$error":"#REF!"}},55010,"Camino Nacional","Fraccionamiento","Ecatepec de Morelos","México","Ecatepec de Morelos",55031,15,55031,null,21,33,4,"Urbano",5]
[{"$f":"IF(C69513=base!$AC$2,ROW()+1,\"\")","v":{"$error":"#REF!"}},{"$f":"IF(C69513=base!$W$2,ROW()+1,\"\")","v":{"$error":"#REF!"}},55029,"Ehécatl (Paseos de Ecatepec)","Unidad habitacional","Ecatepec de Morelos","México","Ecatepec de Morelos",55031,15,55031,null,31,33,4751,"Urbano",5]
[{"$f":"IF(C69600=base!$AC$2,ROW()+1,\"\")","v":{"$error":"#REF!"}},{"$f":"IF(C69600=base!$W$2,ROW()+1,\"\")","v":{"$error":"#REF!"}},55066,"Santo Tomás Chiconautla","Pueblo","Ecatepec de Morelos","México","Ecatepec de Morelos",55061,15,55061,null,28,33,3522,"Urbano",5]
[{"$f":"IF(C69666=base!$AC$2,ROW()+1,\"\")","v":{"$error":"#REF!"}},{"$f":"IF(C69666=base!$W$2,ROW()+1,\"\")","v":{"$error":"#REF!"}},55074,"Viento Nuevo","Colonia","Ecatepec de Morelos","México","Ecatepec de Morelos",55031,15,55031,null,9,33,4783,"Urbano",5]
[{"$f":"IF(C69758=base!$AC$2,ROW()+1,\"\")","v":{"$error":"#REF!"}},{"$f":"IF(C69758=base!$W$2,ROW()+1,\"\")","v":{"$error":"#REF!"}},55148,"Alborada de Aragón","Unidad habitacional","Ecatepec de Morelos","México","Ecatepec de Morelos",55121,15,55121,null,31,33,6259,"Urbano",5]
[{"$f":"IF(C69819=base!$AC$2,ROW()+1,\"\")","v":{"$error":"#REF!"}},{"$f":"IF(C69819=base!$W$2,ROW()+1,\"\")","v":{"$error":"#REF!"}},55267,"Ciudad Amanecer","Colonia","Ecatepec de Morelos","México","Ecatepec de Morelos",55121,15,55121,null,9,33,3673,"Urbano",5]
[{"$f":"IF(C69916=base!$AC$2,ROW()+1,\"\")","v":{"$error":"#REF!"}},{"$f":"IF(C69916=base!$W$2,ROW()+1,\"\")","v":{"$error":"#REF!"}},55415,"Buenos Aires","Colonia","Ecatepec de Morelos","México","Ecatepec de Morelos",55541,15,55541,null,9,33,12,"Urbano",5]
[{"$f":"IF(C69932=base!$AC$2,ROW()+1,\"\")","v":{"$error":"#REF!"}},{"$f":"IF(C69932=base!$W$2,ROW()+1,\"\")","v":{"$error":"#REF!"}},55418,"Progreso Chico Tulpetlac","Colonia","Ecatepec de Morelos","México","Ecatepec de Morelos",55541,15,55541,null,9,33,5669,"Urbano",5]
[{"$f":"IF(C70003=base!$AC$2,ROW()+1,\"\")","v":{"$error":"#REF!"}},{"$f":"IF(C70003=base!$W$2,ROW()+1,\"\")","v":{"$error":"#REF!"}},55606,"Aguirre","Fraccionamiento","Zumpango","México","Zumpango",55601,15,55601,null,21,120,8023,"Urbano",41]
[{"$f":"IF(C70085=base!$AC$2,ROW()+1,\"\")","v":{"$error":"#REF!"}},{"$f":"IF(C70085=base!$W$2,ROW()+1,\"\")","v":{"$error":"#REF!"}},55665,"Perez de Galeana","Pueblo","Apaxco","México",null,55651,15,55651,null,28,10,3841,"Rural"]
[{"$f":"IF(C70161=base!$AC$2,ROW()+1,\"\")","v":{"$error":"#REF!"}},{"$f":"IF(C70161=base!$W$2,ROW()+1,\"\")","v":{"$error":"#REF!"}},55710,"Residencial Las Dalias I,II,III Y IV","Fraccionamiento","Coacalco de Berriozábal","México","Coacalco de Berriozabal",55711,15,55711,null,21,20,3872,"Urbano",3]
[{"$f":"IF(C70238=base!$AC$2,ROW()+1,\"\")","v":{"$error":"#REF!"}},{"$f":"IF(C70238=base!$W$2,ROW()+1,\"\")","v":{"$error":"#REF!"}},55729,"Sitatyr Arboledas","Condominio","Coacalco de Berriozábal","México","Coacalco de Berriozabal",55701,15,55701,null,10,20,3905,"Urbano",3]
[{"$f":"IF(C70310=base!$AC$2,ROW()+1,\"\")","v":{"$error":"#REF!"}},{"$f":"IF(C70310=base!$W$2,ROW()+1,\"\")","v":{"$error":"#REF!"}},55757,"San Lucas Xolox","Pueblo","Tecámac","México","Tecamac de Felipe Villanueva",55601,15,55601,null,28,81,3927,"Urbano",12]
[{"$f":"IF(C70391=base!$AC$2,ROW()+1,\"\")","v":{"$error":"#REF!"}},{"$f":"IF(C70391=base!$W$2,ROW()+1,\"\")","v":{"$error":"#REF!"}},55799,"Cuatro Caballerías","Colonia","Nextlalpan","México",null,55601,15,55601,null,9,59,8788,"Rural"]
[{"$f":"IF(C70468=base!$AC$2,ROW()+1,\"\")","v":{"$error":"#REF!"}},{"$f":"IF(C70468=base!$W$2,ROW()+1,\"\")","v":{"$error":"#REF!"}},55876,"Ampliación Santa Catarina","Colonia","Acolman","México",null,55871,15,55871,null,9,2,8916,"Rural"]
[{"$f":"IF(C70504=base!$AC$2,ROW()+1,\"\")","v":{"$error":"#REF!"}},{"$f":"IF(C70504=base!$W$2,ROW()+1,\"\")","v":{"$error":"#REF!"}},55885,"La Lagunilla","Unidad habitacional","Acolman","México",null,55871,15,55871,null,31,2,7780,"Rural"]
[{"$f":"IF(C70626=base!$AC$2,ROW()+1,\"\")","v":{"$error":"#REF!"}},{"$f":"IF(C70626=base!$W$2,ROW()+1,\"\")","v":{"$error":"#REF!"}},55975,"San Felipe Teotitlán Centro","Pueblo","Nopaltepec","México",null,55901,15,55901,null,28,61,4050,"Rural"]
[{"$f":"IF(C70657=base!$AC$2,ROW()+1,\"\")","v":{"$error":"#REF!"}},{"$f":"IF(C70657=base!$W$2,ROW()+1,\"\")","v":{"$error":"#REF!"}},55994,"Axalpa","Colonia","Temascalapa","México",null,55981,15,55981,null,9,84,8874,"Rural"]
[{"$f":"IF(C70713=base!$AC$2,ROW()+1,\"\")","v":{"$error":"#REF!"}},{"$f":"IF(C70713=base!$W$2,ROW()+1,\"\")","v":{"$error":"#REF!"}},56040,"Tepetitlán","Pueblo","Chiautla","México",null,56271,15,56271,null,28,28,4069,"Rural"]
[{"$f":"IF(C70810=base!$AC$2,ROW()+1,\"\")","v":{"$error":"#REF!"}},{"$f":"IF(C70810=base!$W$2,ROW()+1,\"\")","v":{"$error":"#REF!"}},56233,"SUTEYN","Unidad habitacional","Texcoco","México",null,56101,15,56101,null,31,99,5600,"Rural"]
[{"$f":"IF(C70862=base!$AC$2,ROW()+1,\"\")","v":{"$error":"#REF!"}},{"$f":"IF(C70862=base!$W$2,ROW()+1,\"\")","v":{"$error":"#REF!"}},56266,"Santa Martha","Colonia","Texcoco","México",null,56101,15,56101,null,9,99,7803,"Semiurbano"]
[{"$f":"IF(C70963=base!$AC$2,ROW()+1,\"\")","v":{"$error":"#REF!"}},{"$f":"IF(C70963=base!$W$2,ROW()+1,\"\")","v":{"$error":"#REF!"}},56337,"El Capulín","Colonia","Chimalhuacán","México","Chimalhuacán",56331,15,56331,null,9,31,4768,"Urbano",2]
[{"$f":"IF(C71020=base!$AC$2,ROW()+1,\"\")","v":{"$error":"#REF!"}},{"$f":"IF(C71020=base!$W$2,ROW()+1,\"\")","v":{"$error":"#REF!"}},56360,"Xochitenco 2a Sección","Villa","Chimalhuacán","México","Chimalhuacán",56351,15,56351,null,32,31,4683,"Urbano",2]
[{"$f":"IF(C71076=base!$AC$2,ROW()+1,\"\")","v":{"$error":"#REF!"}},{"$f":"IF(C71076=base!$W$2,ROW()+1,\"\")","v":{"$error":"#REF!"}},56386,"Real de Costitlán I","Unidad habitacional","Chicoloapan","México","San Vicente Chicoloapan de Juárez",56371,15,56371,null,31,29,7743,"Urbano",27]
[{"$f":"IF(C71178=base!$AC$2,ROW()+1,\"\")","v":{"$error":"#REF!"}},{"$f":"IF(C71178=base!$W$2,ROW()+1,\"\")","v":{"$error":"#REF!"}},56537,"Capilla II","Unidad habitacional","Ixtapaluca","México","Ixtapaluca",56531,15,56531,null,31,39,4336,"Urbano",18]
[{"$f":"IF(C71229=base!$AC$2,ROW()+1,\"\")","v":{"$error":"#REF!"}},{"$f":"IF(C71229=base!$W$2,ROW()+1,\"\")","v":{"$error":"#REF!"}},56567,"Ampliación Escalerillas","Colonia","Ixtapaluca","México","Ixtapaluca",56561,15,56561,null,9,39,4368,"Urbano",18]
[{"$f":"IF(C71336=base!$AC$2,ROW()+1,\"\")","v":{"$error":"#REF!"}},{"$f":"IF(C71336=base!$W$2,ROW()+1,\"\")","v":{"$error":"#REF!"}},56600,"San Francisco","Barrio","Chalco","México","Chalco de Díaz Covarrubias",56601,15,56601,null,2,25,6400,"Urbano",23]
[{"$f":"IF(C71382=base!$AC$2,ROW()+1,\"\")","v":{"$error":"#REF!"}},{"$f":"IF(C71382=base!$W$2,ROW()+1,\"\")","v":{"$error":"#REF!"}},56616,"Guadalupana","Colonia","Valle de Chalco Solidaridad","México","Valle de Chalco Solidaridad",56601,15,56601,null,9,122,4430,"Urbano",21]
[{"$f":"IF(C71485=base!$AC$2,ROW()+1,\"\")","v":{"$error":"#REF!"}},{"$f":"IF(C71485=base!$W$2,ROW()+1,\"\")","v":{"$error":"#REF!"}},56700,"San Diego","Colonia","Tlalmanalco","México",null,56701,15,56701,null,9,103,5373,"Rural"]
[{"$f":"IF(C71535=base!$AC$2,ROW()+1,\"\")","v":{"$error":"#REF!"}},{"$f":"IF(C71535=base!$W$2,ROW()+1,\"\")","v":{"$error":"#REF!"}},56760,"La Capilla","Colonia","Ayapango","México",null,56901,15,56901,null,9,17,4490,"Rural"]
[{"$f":"IF(C71572=base!$AC$2,ROW()+1,\"\")","v":{"$error":"#REF!"}},{"$f":"IF(C71572=base!$W$2,ROW()+1,\"\")","v":{"$error":"#REF!"}},56800,"Del Cocol","Barrio","Ozumba","México",null,56801,15,56801,null,2,68,9308,"Rural"]
[{"$f":"IF(C71688=base!$AC$2,ROW()+1,\"\")","v":{"$error":"#REF!"}},{"$f":"IF(C71688=base!$W$2,ROW()+1,\"\")","v":{"$error":"#REF!"}},56973,"San Pedro","Barrio","Atlautla","México",null,56971,15,56971,null,2,15,9356,"Urbano"]
[{"$f":"IF(C71730=base!$AC$2,ROW()+1,\"\")","v":{"$error":"#REF!"}},{"$f":"IF(C71730=base!$W$2,ROW()+1,\"\")","v":{"$error":"#REF!"}},57138,"Emiliano Zapata","Unidad habitacional","Nezahualcóyotl","México","Ciudad Nezahualcoyotl",57121,15,57121,null,31,58,45,"Urbano",10]
[{"$f":"IF(C71801=base!$AC$2,ROW()+1,\"\")","v":{"$error":"#REF!"}},{"$f":"IF(C71801=base!$W$2,ROW()+1,\"\")","v":{"$error":"#REF!"}},57720,"Atlacomulco","Colonia","Nezahualcóyotl","México","Ciudad Nezahualcoyotl",57741,15,57741,null,9,58,4614,"Urbano",10]
[{"$f":"IF(C71888=base!$AC$2,ROW()+1,\"\")","v":{"$error":"#REF!"}},{"$f":"IF(C71888=base!$W$2,ROW()+1,\"\")","v":{"$error":"#REF!"}},58080,"Colonial Morelia","Colonia","Morelia","Michoacán de Ocampo","Morelia",58091,16,58091,null,9,53,57,"Urbano",6]
[{"$f":"IF(C71954=base!$AC$2,ROW()+1,\"\")","v":{"$error":"#REF!"}},{"$f":"IF(C71954=base!$W$2,ROW()+1,\"\")","v":{"$error":"#REF!"}},58095,"Los Tucanes","Colonia","Morelia","Michoacán de Ocampo","Morelia",58091,16,58091,null,9,53,4766,"Urbano",6]
[{"$f":"IF(C72037=base!$AC$2,ROW()+1,\"\")","v":{"$error":"#REF!"}},{"$f":"IF(C72037=base!$W$2,ROW()+1,\"\")","v":{"$error":"#REF!"}},58115,"Jardines del Quinceo","Fraccionamiento","Morelia","Michoacán de Ocampo","Morelia",58111,16,58111,null,21,53,3593,"Urbano",6]
[{"$f":"IF(C72107=base!$AC$2,ROW()+1,\"\")","v":{"$error":"#REF!"}},{"$f":"IF(C72107=base!$W$2,ROW()+1,\"\")","v":{"$error":"#REF!"}},58146,"José Trinidad Salgado","Colonia","Morelia","Michoacán de Ocampo","Morelia",58011,16,58011,null,9,53,169,"Urbano",6]
[{"$f":"IF(C72195=base!$AC$2,ROW()+1,\"\")","v":{"$error":"#REF!"}},{"$f":"IF(C72195=base!$W$2,ROW()+1,\"\")","v":{"$error":"#REF!"}},58187,"INFONAVIT Juan Aldama","Unidad habitacional","Morelia","Michoacán de Ocampo","Morelia",58011,16,58011,null,31,53,221,"Urbano",6]
[{"$f":"IF(C72260=base!$AC$2,ROW()+1,\"\")","v":{"$error":"#REF!"}},{"$f":"IF(C72260=base!$W$2,ROW()+1,\"\")","v":{"$error":"#REF!"}},58197,"Jardines de Torremolinos","Colonia","Morelia","Michoacán de Ocampo","Morelia",58011,16,58011,null,9,53,246,"Urbano",6]
[{"$f":"IF(C72282=base!$AC$2,ROW()+1,\"\")","v":{"$error":"#REF!"}},{"$f":"IF(C72282=base!$W$2,ROW()+1,\"\")","v":{"$error":"#REF!"}},58218,"Ampliación División del Norte","Colonia","Morelia","Michoacán de Ocampo","Morelia",58241,16,58241,null,9,53,126,"Urbano",6]
[{"$f":"IF(C72373=base!$AC$2,ROW()+1,\"\")","v":{"$error":"#REF!"}},{"$f":"IF(C72373=base!$W$2,ROW()+1,\"\")","v":{"$error":"#REF!"}},58258,"Villas de Lancaster","Conjunto habitacional","Morelia","Michoacán de Ocampo","Morelia",58241,16,58241,null,12,53,3804,"Urbano",6]
[{"$f":"IF(C72440=base!$AC$2,ROW()+1,\"\")","v":{"$error":"#REF!"}},{"$f":"IF(C72440=base!$W$2,ROW()+1,\"\")","v":{"$error":"#REF!"}},58301,"San José de las Torres","Poblado comunal","Morelia","Michoacán de Ocampo",null,58241,16,58241,null,27,53,361,"Rural"]
[{"$f":"IF(C72526=base!$AC$2,ROW()+1,\"\")","v":{"$error":"#REF!"}},{"$f":"IF(C72526=base!$W$2,ROW()+1,\"\")","v":{"$error":"#REF!"}},58335,"San Bernabé","Ranchería","Morelia","Michoacán de Ocampo",null,58011,16,58011,null,29,53,398,"Rural"]
[{"$f":"IF(C72598=base!$AC$2,ROW()+1,\"\")","v":{"$error":"#REF!"}},{"$f":"IF(C72598=base!$W$2,ROW()+1,\"\")","v":{"$error":"#REF!"}},58337,"Mariano Abasolo","Colonia","Morelia","Michoacán de Ocampo","Morelia",58011,16,58011,null,9,53,3615,"Urbano",6]
[{"$f":"IF(C72679=base!$AC$2,ROW()+1,\"\")","v":{"$error":"#REF!"}},{"$f":"IF(C72679=base!$W$2,ROW()+1,\"\")","v":{"$error":"#REF!"}},58348,"Coíntzio","Ranchería","Morelia","Michoacán de Ocampo",null,58091,16,58091,null,29,53,455,"Rural"]
[{"$f":"IF(C72747=base!$AC$2,ROW()+1,\"\")","v":{"$error":"#REF!"}},{"$f":"IF(C72747=base!$W$2,ROW()+1,\"\")","v":{"$error":"#REF!"}},58357,"Buenavista","Ranchería","Morelia","Michoacán de Ocampo",null,58091,16,58091,null,29,53,6309,"Rural"]
[{"$f":"IF(C72832=base!$AC$2,ROW()+1,\"\")","v":{"$error":"#REF!"}},{"$f":"IF(C72832=base!$W$2,ROW()+1,\"\")","v":{"$error":"#REF!"}},58412,"El Transval","Ranchería","Coeneo","Michoacán de Ocampo",null,58405,16,58405,null,29,16,510,"Rural"]
[{"$f":"IF(C72905=base!$AC$2,ROW()+1,\"\")","v":{"$error":"#REF!"}},{"$f":"IF(C72905=base!$W$2,ROW()+1,\"\")","v":{"$error":"#REF!"}},58448,"Ucasanastacua (El Espíritu)","Ranchería","Tzintzuntzan","Michoacán de Ocampo",null,58421,16,58421,null,29,100,6747,"Rural"]
[{"$f":"IF(C72945=base!$AC$2,ROW()+1,\"\")","v":{"$error":"#REF!"}},{"$f":"IF(C72945=base!$W$2,ROW()+1,\"\")","v":{"$error":"#REF!"}},58465,"Cruz Gorda","Ranchería","Acuitzio","Michoacán de Ocampo",null,58461,16,58461,null,29,1,5580,"Rural"]
[{"$f":"IF(C72992=base!$AC$2,ROW()+1,\"\")","v":{"$error":"#REF!"}},{"$f":"IF(C72992=base!$W$2,ROW()+1,\"\")","v":{"$error":"#REF!"}},58484,"El Gatal","Rancho","Madero","Michoacán de Ocampo",null,58482,16,58482,null,48,49,45,"Rural"]
[{"$f":"IF(C73098=base!$AC$2,ROW()+1,\"\")","v":{"$error":"#REF!"}},{"$f":"IF(C73098=base!$W$2,ROW()+1,\"\")","v":{"$error":"#REF!"}},58495,"El Real","Rancho","Madero","Michoacán de Ocampo",null,58482,16,58482,null,48,49,56,"Rural"]
[{"$f":"IF(C73150=base!$AC$2,ROW()+1,\"\")","v":{"$error":"#REF!"}},{"$f":"IF(C73150=base!$W$2,ROW()+1,\"\")","v":{"$error":"#REF!"}},58499,"Nogales","Rancho","Madero","Michoacán de Ocampo",null,58482,16,58482,null,48,49,122,"Rural"]
[{"$f":"IF(C73251=base!$AC$2,ROW()+1,\"\")","v":{"$error":"#REF!"}},{"$f":"IF(C73251=base!$W$2,ROW()+1,\"\")","v":{"$error":"#REF!"}},58532,"El Granjenal","Ranchería","Puruándiro","Michoacán de Ocampo",null,58501,16,58501,null,29,71,612,"Rural"]
[{"$f":"IF(C73299=base!$AC$2,ROW()+1,\"\")","v":{"$error":"#REF!"}},{"$f":"IF(C73299=base!$W$2,ROW()+1,\"\")","v":{"$error":"#REF!"}},58552,"San Ignacio de Loyola","Poblado comunal","Angamacutiro","Michoacán de Ocampo",null,58553,16,58553,null,27,4,6390,"Rural"]
[{"$f":"IF(C73404=base!$AC$2,ROW()+1,\"\")","v":{"$error":"#REF!"}},{"$f":"IF(C73404=base!$W$2,ROW()+1,\"\")","v":{"$error":"#REF!"}},58677,"Progreso Nacional","Colonia","Zacapu","Michoacán de Ocampo","Zacapu",58601,16,58601,null,9,107,721,"Urbano",10]
[{"$f":"IF(C73457=base!$AC$2,ROW()+1,\"\")","v":{"$error":"#REF!"}},{"$f":"IF(C73457=base!$W$2,ROW()+1,\"\")","v":{"$error":"#REF!"}},58746,"La Estancita","Ranchería","Tlazazalca","Michoacán de Ocampo",null,58747,16,58747,null,29,94,3906,"Rural"]
[{"$f":"IF(C73531=base!$AC$2,ROW()+1,\"\")","v":{"$error":"#REF!"}},{"$f":"IF(C73531=base!$W$2,ROW()+1,\"\")","v":{"$error":"#REF!"}},58786,"Las Granjas (Las Trojas)","Ranchería","Jiménez","Michoacán de Ocampo",null,58784,16,58784,null,29,44,6665,"Rural"]
[{"$f":"IF(C73613=base!$AC$2,ROW()+1,\"\")","v":{"$error":"#REF!"}},{"$f":"IF(C73613=base!$W$2,ROW()+1,\"\")","v":{"$error":"#REF!"}},58850,"Guanguillo (Ejido Cuitzeo)","Rancho","Cuitzeo","Michoacán de Ocampo",null,58841,16,58841,null,48,20,2,"Rural"]
[{"$f":"IF(C73689=base!$AC$2,ROW()+1,\"\")","v":{"$error":"#REF!"}},{"$f":"IF(C73689=base!$W$2,ROW()+1,\"\")","v":{"$error":"#REF!"}},58880,"Puerta del Sol","Colonia","Tarímbaro","Michoacán de Ocampo",null,58111,16,58111,null,9,88,3610,"Urbano"]
[{"$f":"IF(C73766=base!$AC$2,ROW()+1,\"\")","v":{"$error":"#REF!"}},{"$f":"IF(C73766=base!$W$2,ROW()+1,\"\")","v":{"$error":"#REF!"}},58893,"El Trébol","Fraccionamiento","Tarímbaro","Michoacán de Ocampo",null,58111,16,58111,null,21,88,3739,"Rural"]
[{"$f":"IF(C73847=base!$AC$2,ROW()+1,\"\")","v":{"$error":"#REF!"}},{"$f":"IF(C73847=base!$W$2,ROW()+1,\"\")","v":{"$error":"#REF!"}},58932,"Tierras Coloradas","Colonia","Zinapécuaro","Michoacán de Ocampo","Zinapécuaro de Figueroa",58934,16,58934,null,9,110,2994,"Urbano",16]
[{"$f":"IF(C73879=base!$AC$2,ROW()+1,\"\")","v":{"$error":"#REF!"}},{"$f":"IF(C73879=base!$W$2,ROW()+1,\"\")","v":{"$error":"#REF!"}},58948,"Ojo de Agua del Cuervo","Ranchería","Zinapécuaro","Michoacán de Ocampo",null,58934,16,58934,null,29,110,912,"Rural"]
[{"$f":"IF(C73934=base!$AC$2,ROW()+1,\"\")","v":{"$error":"#REF!"}},{"$f":"IF(C73934=base!$W$2,ROW()+1,\"\")","v":{"$error":"#REF!"}},58967,"Taimeo el Chico (La Yerbabuena)","Pueblo","Zinapécuaro","Michoacán de Ocampo",null,58934,16,58934,null,28,110,913,"Rural"]
[{"$f":"IF(C74032=base!$AC$2,ROW()+1,\"\")","v":{"$error":"#REF!"}},{"$f":"IF(C74032=base!$W$2,ROW()+1,\"\")","v":{"$error":"#REF!"}},59014,"Guadalupe","Fraccionamiento","Sahuayo","Michoacán de Ocampo","Sahuayo de Morelos",59001,16,59001,null,21,76,11,"Urbano",8]
[{"$f":"IF(C74092=base!$AC$2,ROW()+1,\"\")","v":{"$error":"#REF!"}},{"$f":"IF(C74092=base!$W$2,ROW()+1,\"\")","v":{"$error":"#REF!"}},59100,"Loma Bonita","Fraccionamiento","Sahuayo","Michoacán de Ocampo",null,59001,16,59001,null,21,76,19,"Rural"]
[{"$f":"IF(C74185=base!$AC$2,ROW()+1,\"\")","v":{"$error":"#REF!"}},{"$f":"IF(C74185=base!$W$2,ROW()+1,\"\")","v":{"$error":"#REF!"}},59200,"La Loma","Colonia","Vista Hermosa","Michoacán de Ocampo",null,59202,16,59202,null,9,105,7,"Urbano"]
[{"$f":"IF(C74241=base!$AC$2,ROW()+1,\"\")","v":{"$error":"#REF!"}},{"$f":"IF(C74241=base!$W$2,ROW()+1,\"\")","v":{"$error":"#REF!"}},59256,"Gabriel Ramos Millán","Colonia","Yurécuaro","Michoacán de Ocampo","Yurécuaro",59251,16,59251,null,9,106,3041,"Urbano",18]
[{"$f":"IF(C74338=base!$AC$2,ROW()+1,\"\")","v":{"$error":"#REF!"}},{"$f":"IF(C74338=base!$W$2,ROW()+1,\"\")","v":{"$error":"#REF!"}},59374,"Lomas del Cerro Grande","Colonia","La Piedad","Michoacán de Ocampo","La piedad de Cabadas",59301,16,59301,null,9,69,1166,"Urbano",5]
[{"$f":"IF(C74399=base!$AC$2,ROW()+1,\"\")","v":{"$error":"#REF!"}},{"$f":"IF(C74399=base!$W$2,ROW()+1,\"\")","v":{"$error":"#REF!"}},59410,"El Aguaje","Rancho","La Piedad","Michoacán de Ocampo",null,59301,16,59301,null,48,69,2,"Rural"]
[{"$f":"IF(C74451=base!$AC$2,ROW()+1,\"\")","v":{"$error":"#REF!"}},{"$f":"IF(C74451=base!$W$2,ROW()+1,\"\")","v":{"$error":"#REF!"}},59443,"El Porvenir","Rancho","Churintzio","Michoacán de Ocampo",null,59441,16,59441,null,48,28,9,"Rural"]
[{"$f":"IF(C74557=base!$AC$2,ROW()+1,\"\")","v":{"$error":"#REF!"}},{"$f":"IF(C74557=base!$W$2,ROW()+1,\"\")","v":{"$error":"#REF!"}},59500,"Bellavista","Colonia","Marcos Castellanos","Michoacán de Ocampo",null,59501,16,59501,null,9,51,5021,"Urbano"]
[{"$f":"IF(C74604=base!$AC$2,ROW()+1,\"\")","v":{"$error":"#REF!"}},{"$f":"IF(C74604=base!$W$2,ROW()+1,\"\")","v":{"$error":"#REF!"}},59513,"La Lobera","Colonia","Jiquilpan","Michoacán de Ocampo","Jiquilpan de Juárez",59511,16,59511,null,9,45,4115,"Urbano",23]
[{"$f":"IF(C74644=base!$AC$2,ROW()+1,\"\")","v":{"$error":"#REF!"}},{"$f":"IF(C74644=base!$W$2,ROW()+1,\"\")","v":{"$error":"#REF!"}},59524,"Las Violetas","Ranchería","Jiquilpan","Michoacán de Ocampo",null,59511,16,59511,null,29,45,4136,"Rural"]
[{"$f":"IF(C74757=base!$AC$2,ROW()+1,\"\")","v":{"$error":"#REF!"}},{"$f":"IF(C74757=base!$W$2,ROW()+1,\"\")","v":{"$error":"#REF!"}},59618,"García Robles II","Colonia","Zamora","Michoacán de Ocampo","Zamora de Hidalgo",59692,16,59692,null,9,108,4417,"Urbano",11]
[{"$f":"IF(C74793=base!$AC$2,ROW()+1,\"\")","v":{"$error":"#REF!"}},{"$f":"IF(C74793=base!$W$2,ROW()+1,\"\")","v":{"$error":"#REF!"}},59634,"Media Luna","Fraccionamiento","Zamora","Michoacán de Ocampo","Zamora de Hidalgo",59692,16,59692,null,21,108,4908,"Urbano",11]
[{"$f":"IF(C74910=base!$AC$2,ROW()+1,\"\")","v":{"$error":"#REF!"}},{"$f":"IF(C74910=base!$W$2,ROW()+1,\"\")","v":{"$error":"#REF!"}},59714,"El Pochote (La Nutria)","Ranchería","Zamora","Michoacán de Ocampo",null,59692,16,59692,null,29,108,9,"Rural"]
[{"$f":"IF(C74951=base!$AC$2,ROW()+1,\"\")","v":{"$error":"#REF!"}},{"$f":"IF(C74951=base!$W$2,ROW()+1,\"\")","v":{"$error":"#REF!"}},59737,"Ucácuaro","Ranchería","Ecuandureo","Michoacán de Ocampo",null,59733,16,59733,null,29,30,1388,"Rural"]
[{"$f":"IF(C75023=base!$AC$2,ROW()+1,\"\")","v":{"$error":"#REF!"}},{"$f":"IF(C75023=base!$W$2,ROW()+1,\"\")","v":{"$error":"#REF!"}},59800,"Quinta Napoli","Fraccionamiento","Jacona","Michoacán de Ocampo","Jacona de Plancarte",59801,16,59801,null,21,43,3429,"Urbano",4]
[{"$f":"IF(C75109=base!$AC$2,ROW()+1,\"\")","v":{"$error":"#REF!"}},{"$f":"IF(C75109=base!$W$2,ROW()+1,\"\")","v":{"$error":"#REF!"}},59893,"Los Fresnos","Fraccionamiento","Jacona","Michoacán de Ocampo","Jacona de Plancarte",59801,16,59801,null,21,43,3786,"Urbano",4]
[{"$f":"IF(C75176=base!$AC$2,ROW()+1,\"\")","v":{"$error":"#REF!"}},{"$f":"IF(C75176=base!$W$2,ROW()+1,\"\")","v":{"$error":"#REF!"}},59937,"Cenáculo de María","Poblado comunal","Tangamandapio","Michoacán de Ocampo",null,59924,16,59924,null,27,84,4982,"Rural"]
[{"$f":"IF(C75267=base!$AC$2,ROW()+1,\"\")","v":{"$error":"#REF!"}},{"$f":"IF(C75267=base!$W$2,ROW()+1,\"\")","v":{"$error":"#REF!"}},59957,"San Nicolás","Ranchería","Cotija","Michoacán de Ocampo",null,59941,16,59941,null,29,19,1484,"Rural"]
[{"$f":"IF(C75329=base!$AC$2,ROW()+1,\"\")","v":{"$error":"#REF!"}},{"$f":"IF(C75329=base!$W$2,ROW()+1,\"\")","v":{"$error":"#REF!"}},59993,"Los Laureles","Ranchería","Tingüindín","Michoacán de Ocampo",null,59982,16,59982,null,29,91,6608,"Rural"]
[{"$f":"IF(C75416=base!$AC$2,ROW()+1,\"\")","v":{"$error":"#REF!"}},{"$f":"IF(C75416=base!$W$2,ROW()+1,\"\")","v":{"$error":"#REF!"}},60090,"Granjas Del Pedregal","Colonia","Uruapan","Michoacán de Ocampo","Uruapan",60053,16,60053,null,9,102,1575,"Urbano",9]
[{"$f":"IF(C75482=base!$AC$2,ROW()+1,\"\")","v":{"$error":"#REF!"}},{"$f":"IF(C75482=base!$W$2,ROW()+1,\"\")","v":{"$error":"#REF!"}},60136,"Santa Catarina","Colonia","Uruapan","Michoacán de Ocampo","Uruapan",60053,16,60053,null,9,102,4662,"Urbano",9]
[{"$f":"IF(C75503=base!$AC$2,ROW()+1,\"\")","v":{"$error":"#REF!"}},{"$f":"IF(C75503=base!$W$2,ROW()+1,\"\")","v":{"$error":"#REF!"}},60153,"Enrique Ramírez","Colonia","Uruapan","Michoacán de Ocampo","Uruapan",60053,16,60053,null,9,102,1640,"Urbano",9]
[{"$f":"IF(C75635=base!$AC$2,ROW()+1,\"\")","v":{"$error":"#REF!"}},{"$f":"IF(C75635=base!$W$2,ROW()+1,\"\")","v":{"$error":"#REF!"}},60210,"San Francisco","Barrio","Uruapan","Michoacán de Ocampo",null,60053,16,60053,null,2,102,5715,"Urbano"]
[{"$f":"IF(C75661=base!$AC$2,ROW()+1,\"\")","v":{"$error":"#REF!"}},{"$f":"IF(C75661=base!$W$2,ROW()+1,\"\")","v":{"$error":"#REF!"}},60223,"Huitzicho (Huizicho)","Pueblo","Uruapan","Michoacán de Ocampo",null,60053,16,60053,null,28,102,5642,"Rural"]
[{"$f":"IF(C75748=base!$AC$2,ROW()+1,\"\")","v":{"$error":"#REF!"}},{"$f":"IF(C75748=base!$W$2,ROW()+1,\"\")","v":{"$error":"#REF!"}},60244,"Cocucho","Pueblo","Charapan","Michoacán de Ocampo",null,60053,16,60053,null,28,21,1721,"Urbano"]
[{"$f":"IF(C75819=base!$AC$2,ROW()+1,\"\")","v":{"$error":"#REF!"}},{"$f":"IF(C75819=base!$W$2,ROW()+1,\"\")","v":{"$error":"#REF!"}},60284,"La Mojonera","Pueblo","Nahuatzen","Michoacán de Ocampo",null,60272,16,60272,null,28,56,1742,"Rural"]
[{"$f":"IF(C75901=base!$AC$2,ROW()+1,\"\")","v":{"$error":"#REF!"}},{"$f":"IF(C75901=base!$W$2,ROW()+1,\"\")","v":{"$error":"#REF!"}},60430,"Pamatácuaro","Pueblo","Los Reyes","Michoacán de Ocampo",null,60301,16,60301,null,28,75,1789,"Urbano"]
[{"$f":"IF(C75968=base!$AC$2,ROW()+1,\"\")","v":{"$error":"#REF!"}},{"$f":"IF(C75968=base!$W$2,ROW()+1,\"\")","v":{"$error":"#REF!"}},60445,"San José la Coyotera","Ranchería","Peribán","Michoacán de Ocampo",null,60444,16,60444,null,29,68,46,"Rural"]
[{"$f":"IF(C76054=base!$AC$2,ROW()+1,\"\")","v":{"$error":"#REF!"}},{"$f":"IF(C76054=base!$W$2,ROW()+1,\"\")","v":{"$error":"#REF!"}},60477,"Apúndaro","Ranchería","Tancítaro","Michoacán de Ocampo",null,60463,16,60463,null,29,83,1823,"Rural"]
[{"$f":"IF(C76126=base!$AC$2,ROW()+1,\"\")","v":{"$error":"#REF!"}},{"$f":"IF(C76126=base!$W$2,ROW()+1,\"\")","v":{"$error":"#REF!"}},60490,"Felix Irrieta","Colonia","Nuevo Parangaricutiro","Michoacán de Ocampo",null,60491,16,60491,null,9,58,5,"Urbano"]
[{"$f":"IF(C76207=base!$AC$2,ROW()+1,\"\")","v":{"$error":"#REF!"}},{"$f":"IF(C76207=base!$W$2,ROW()+1,\"\")","v":{"$error":"#REF!"}},60501,"Tamayo","Colonia","Buenavista","Michoacán de Ocampo",null,60502,16,60502,null,9,12,5457,"Urbano"]
[{"$f":"IF(C76213=base!$AC$2,ROW()+1,\"\")","v":{"$error":"#REF!"}},{"$f":"IF(C76213=base!$W$2,ROW()+1,\"\")","v":{"$error":"#REF!"}},60520,"La Esmeralda","Ejido","Buenavista","Michoacán de Ocampo",null,60502,16,60502,null,15,12,5398,"Rural"]
[{"$f":"IF(C76320=base!$AC$2,ROW()+1,\"\")","v":{"$error":"#REF!"}},{"$f":"IF(C76320=base!$W$2,ROW()+1,\"\")","v":{"$error":"#REF!"}},60539,"La Laguna","Ranchería","Buenavista","Michoacán de Ocampo",null,60502,16,60502,null,29,12,1851,"Rural"]
[{"$f":"IF(C76371=base!$AC$2,ROW()+1,\"\")","v":{"$error":"#REF!"}},{"$f":"IF(C76371=base!$W$2,ROW()+1,\"\")","v":{"$error":"#REF!"}},60563,"Pancha López","Pueblo","Tepalcatepec","Michoacán de Ocampo",null,60541,16,60541,null,28,89,41,"Rural"]
[{"$f":"IF(C76473=base!$AC$2,ROW()+1,\"\")","v":{"$error":"#REF!"}},{"$f":"IF(C76473=base!$W$2,ROW()+1,\"\")","v":{"$error":"#REF!"}},60577,"La Joyita","Ranchería","Aguililla","Michoacán de Ocampo",null,60572,16,60572,null,29,2,5249,"Rural"]
[{"$f":"IF(C76529=base!$AC$2,ROW()+1,\"\")","v":{"$error":"#REF!"}},{"$f":"IF(C76529=base!$W$2,ROW()+1,\"\")","v":{"$error":"#REF!"}},60587,"El Reparito","Ranchería","Aguililla","Michoacán de Ocampo",null,60572,16,60572,null,29,2,5205,"Rural"]
[{"$f":"IF(C76626=base!$AC$2,ROW()+1,\"\")","v":{"$error":"#REF!"}},{"$f":"IF(C76626=base!$W$2,ROW()+1,\"\")","v":{"$error":"#REF!"}},60630,"Independencia","Colonia","Apatzingán","Michoacán de Ocampo","Apatzingán de la Constitución",60601,16,60601,null,9,6,1895,"Urbano",1]
[{"$f":"IF(C76678=base!$AC$2,ROW()+1,\"\")","v":{"$error":"#REF!"}},{"$f":"IF(C76678=base!$W$2,ROW()+1,\"\")","v":{"$error":"#REF!"}},60696,"Apatzingán","Colonia","Apatzingán","Michoacán de Ocampo","Apatzingán de la Constitución",60601,16,60601,null,9,6,3502,"Urbano",1]
[{"$f":"IF(C76779=base!$AC$2,ROW()+1,\"\")","v":{"$error":"#REF!"}},{"$f":"IF(C76779=base!$W$2,ROW()+1,\"\")","v":{"$error":"#REF!"}},60760,"Agraria","Colonia","Parácuaro","Michoacán de Ocampo",null,60601,16,60601,null,9,64,1,"Urbano"]
[{"$f":"IF(C76836=base!$AC$2,ROW()+1,\"\")","v":{"$error":"#REF!"}},{"$f":"IF(C76836=base!$W$2,ROW()+1,\"\")","v":{"$error":"#REF!"}},60794,"Cueramo Alto","Rancho","Parácuaro","Michoacán de Ocampo",null,60601,16,60601,null,48,64,18,"Rural"]
[{"$f":"IF(C76892=base!$AC$2,ROW()+1,\"\")","v":{"$error":"#REF!"}},{"$f":"IF(C76892=base!$W$2,ROW()+1,\"\")","v":{"$error":"#REF!"}},60823,"Puerto del Caimán (La Granadita)","Rancho","Chinicuila","Michoacán de Ocampo",null,60841,16,60841,null,48,26,83,"Rural"]
[{"$f":"IF(C76994=base!$AC$2,ROW()+1,\"\")","v":{"$error":"#REF!"}},{"$f":"IF(C76994=base!$W$2,ROW()+1,\"\")","v":{"$error":"#REF!"}},60840,"Lomas del Valle","Colonia","Coalcomán de Vázquez Pallares","Michoacán de Ocampo",null,60841,16,60841,null,9,15,16,"Urbano"]
[{"$f":"IF(C77045=base!$AC$2,ROW()+1,\"\")","v":{"$error":"#REF!"}},{"$f":"IF(C77045=base!$W$2,ROW()+1,\"\")","v":{"$error":"#REF!"}},60845,"El Mirador","Rancho","Coalcomán de Vázquez Pallares","Michoacán de Ocampo",null,60841,16,60841,null,48,15,66,"Rural"]
[{"$f":"IF(C77081=base!$AC$2,ROW()+1,\"\")","v":{"$error":"#REF!"}},{"$f":"IF(C77081=base!$W$2,ROW()+1,\"\")","v":{"$error":"#REF!"}},60847,"Chantomas","Rancho","Coalcomán de Vázquez Pallares","Michoacán de Ocampo",null,60841,16,60841,null,48,15,41,"Rural"]
[{"$f":"IF(C77198=base!$AC$2,ROW()+1,\"\")","v":{"$error":"#REF!"}},{"$f":"IF(C77198=base!$W$2,ROW()+1,\"\")","v":{"$error":"#REF!"}},60870,"Toril Viejo","Colonia","Aquila","Michoacán de Ocampo",null,28101,16,28101,null,9,8,7,"Urbano"]
[{"$f":"IF(C77230=base!$AC$2,ROW()+1,\"\")","v":{"$error":"#REF!"}},{"$f":"IF(C77230=base!$W$2,ROW()+1,\"\")","v":{"$error":"#REF!"}},60875,"Corral Viejo Uno","Rancho","Aquila","Michoacán de Ocampo",null,28101,16,28101,null,48,8,55,"Rural"]
[{"$f":"IF(C77351=base!$AC$2,ROW()+1,\"\")","v":{"$error":"#REF!"}},{"$f":"IF(C77351=base!$W$2,ROW()+1,\"\")","v":{"$error":"#REF!"}},60885,"El Cangrejal (Ticuixila)","Rancho","Aquila","Michoacán de Ocampo",null,28901,16,28901,null,48,8,82,"Rural"]
[{"$f":"IF(C77388=base!$AC$2,ROW()+1,\"\")","v":{"$error":"#REF!"}},{"$f":"IF(C77388=base!$W$2,ROW()+1,\"\")","v":{"$error":"#REF!"}},60887,"Los Cuires","Rancho","Aquila","Michoacán de Ocampo",null,28101,16,28101,null,48,8,242,"Rural"]
[{"$f":"IF(C77464=base!$AC$2,ROW()+1,\"\")","v":{"$error":"#REF!"}},{"$f":"IF(C77464=base!$W$2,ROW()+1,\"\")","v":{"$error":"#REF!"}},60896,"La Ocotera","Rancho","Aquila","Michoacán de Ocampo",null,60984,16,60984,null,48,8,200,"Rural"]
[{"$f":"IF(C77546=base!$AC$2,ROW()+1,\"\")","v":{"$error":"#REF!"}},{"$f":"IF(C77546=base!$W$2,ROW()+1,\"\")","v":{"$error":"#REF!"}},60910,"General Francisco Villa (Las Cruces)","Ranchería","Tumbiscatío","Michoacán de Ocampo",null,60922,16,60922,null,29,96,2009,"Rural"]
[{"$f":"IF(C77617=base!$AC$2,ROW()+1,\"\")","v":{"$error":"#REF!"}},{"$f":"IF(C77617=base!$W$2,ROW()+1,\"\")","v":{"$error":"#REF!"}},60923,"Cuachalatal","Ranchería","Arteaga","Michoacán de Ocampo",null,60922,16,60922,null,29,10,5761,"Rural"]
[{"$f":"IF(C77704=base!$AC$2,ROW()+1,\"\")","v":{"$error":"#REF!"}},{"$f":"IF(C77704=base!$W$2,ROW()+1,\"\")","v":{"$error":"#REF!"}},60926,"El Ahijadero de Abajo","Ranchería","Arteaga","Michoacán de Ocampo",null,60922,16,60922,null,29,10,5770,"Rural"]
[{"$f":"IF(C77778=base!$AC$2,ROW()+1,\"\")","v":{"$error":"#REF!"}},{"$f":"IF(C77778=base!$W$2,ROW()+1,\"\")","v":{"$error":"#REF!"}},60927,"El Limón de Cornejo","Ranchería","Arteaga","Michoacán de Ocampo",null,60922,16,60922,null,29,10,5809,"Rural"]
[{"$f":"IF(C77826=base!$AC$2,ROW()+1,\"\")","v":{"$error":"#REF!"}},{"$f":"IF(C77826=base!$W$2,ROW()+1,\"\")","v":{"$error":"#REF!"}},60936,"Cobanito","Ranchería","Arteaga","Michoacán de Ocampo",null,60922,16,60922,null,29,10,5760,"Rural"]
[{"$f":"IF(C77865=base!$AC$2,ROW()+1,\"\")","v":{"$error":"#REF!"}},{"$f":"IF(C77865=base!$W$2,ROW()+1,\"\")","v":{"$error":"#REF!"}},60940,"José María Morelos","Colonia","Arteaga","Michoacán de Ocampo",null,60922,16,60922,null,9,10,2019,"Urbano"]
[{"$f":"IF(C77979=base!$AC$2,ROW()+1,\"\")","v":{"$error":"#REF!"}},{"$f":"IF(C77979=base!$W$2,ROW()+1,\"\")","v":{"$error":"#REF!"}},60954,"Jarene","Colonia","Lázaro Cárdenas","Michoacán de Ocampo","Ciudad Lázaro Cárdenas",60951,16,60951,null,9,52,3264,"Urbano",21]
[{"$f":"IF(C78023=base!$AC$2,ROW()+1,\"\")","v":{"$error":"#REF!"}},{"$f":"IF(C78023=base!$W$2,ROW()+1,\"\")","v":{"$error":"#REF!"}},60956,"Unidad 5.9","Colonia","Lázaro Cárdenas","Michoacán de Ocampo","Ciudad Lázaro Cárdenas",60951,16,60951,null,9,52,3266,"Urbano",21]
[{"$f":"IF(C78132=base!$AC$2,ROW()+1,\"\")","v":{"$error":"#REF!"}},{"$f":"IF(C78132=base!$W$2,ROW()+1,\"\")","v":{"$error":"#REF!"}},60987,"Solera de Agua","Poblado comunal","Lázaro Cárdenas","Michoacán de Ocampo",null,60984,16,60984,null,27,52,5539,"Rural"]
[{"$f":"IF(C78172=base!$AC$2,ROW()+1,\"\")","v":{"$error":"#REF!"}},{"$f":"IF(C78172=base!$W$2,ROW()+1,\"\")","v":{"$error":"#REF!"}},60994,"Presidencial","Colonia","Lázaro Cárdenas","Michoacán de Ocampo","Las Guacamayas",60991,16,60991,null,9,52,4,"Urbano",22]
[{"$f":"IF(C78213=base!$AC$2,ROW()+1,\"\")","v":{"$error":"#REF!"}},{"$f":"IF(C78213=base!$W$2,ROW()+1,\"\")","v":{"$error":"#REF!"}},60995,"Ampliación Ignacio Allende","Colonia","Lázaro Cárdenas","Michoacán de Ocampo","Las Guacamayas",60991,16,60991,null,9,52,4291,"Urbano",22]
[{"$f":"IF(C78330=base!$AC$2,ROW()+1,\"\")","v":{"$error":"#REF!"}},{"$f":"IF(C78330=base!$W$2,ROW()+1,\"\")","v":{"$error":"#REF!"}},61016,"Temascales (Bellotal Loma de en Medio)","Rancho","Epitacio Huerta","Michoacán de Ocampo",null,76852,16,76852,null,48,31,48,"Rural"]
[{"$f":"IF(C78398=base!$AC$2,ROW()+1,\"\")","v":{"$error":"#REF!"}},{"$f":"IF(C78398=base!$W$2,ROW()+1,\"\")","v":{"$error":"#REF!"}},61046,"Los Artones","Ranchería","Contepec","Michoacán de Ocampo",null,61251,16,61251,null,29,17,6217,"Rural"]
[{"$f":"IF(C78488=base!$AC$2,ROW()+1,\"\")","v":{"$error":"#REF!"}},{"$f":"IF(C78488=base!$W$2,ROW()+1,\"\")","v":{"$error":"#REF!"}},61083,"La Loma","Ranchería","Tlalpujahua","Michoacán de Ocampo",null,61251,16,61251,null,29,93,6163,"Rural"]
[{"$f":"IF(C78551=base!$AC$2,ROW()+1,\"\")","v":{"$error":"#REF!"}},{"$f":"IF(C78551=base!$W$2,ROW()+1,\"\")","v":{"$error":"#REF!"}},61137,"Insurgentes","Fraccionamiento","Hidalgo","Michoacán de Ocampo","Ciudad Hidalgo",61101,16,61101,null,21,34,3208,"Urbano",3]
[{"$f":"IF(C78575=base!$AC$2,ROW()+1,\"\")","v":{"$error":"#REF!"}},{"$f":"IF(C78575=base!$W$2,ROW()+1,\"\")","v":{"$error":"#REF!"}},61155,"La Loma de José Álvarez","Colonia","Hidalgo","Michoacán de Ocampo","Ciudad Hidalgo",61101,16,61101,null,9,34,4162,"Urbano",3]
[{"$f":"IF(C78704=base!$AC$2,ROW()+1,\"\")","v":{"$error":"#REF!"}},{"$f":"IF(C78704=base!$W$2,ROW()+1,\"\")","v":{"$error":"#REF!"}},61205,"La Alborada (El Pavo)","Rancho","Hidalgo","Michoacán de Ocampo",null,61101,16,61101,null,48,34,33,"Rural"]
[{"$f":"IF(C78724=base!$AC$2,ROW()+1,\"\")","v":{"$error":"#REF!"}},{"$f":"IF(C78724=base!$W$2,ROW()+1,\"\")","v":{"$error":"#REF!"}},61211,"Paraíso","Colonia","Hidalgo","Michoacán de Ocampo",null,61101,16,61101,null,9,34,18,"Urbano"]
[{"$f":"IF(C78785=base!$AC$2,ROW()+1,\"\")","v":{"$error":"#REF!"}},{"$f":"IF(C78785=base!$W$2,ROW()+1,\"\")","v":{"$error":"#REF!"}},61230,"San Isidro","Rancho","Hidalgo","Michoacán de Ocampo",null,61101,16,61101,null,48,34,144,"Rural"]
[{"$f":"IF(C78882=base!$AC$2,ROW()+1,\"\")","v":{"$error":"#REF!"}},{"$f":"IF(C78882=base!$W$2,ROW()+1,\"\")","v":{"$error":"#REF!"}},61247,"La Tecata","Rancho","Hidalgo","Michoacán de Ocampo",null,61101,16,61101,null,48,34,85,"Rural"]
[{"$f":"IF(C78970=base!$AC$2,ROW()+1,\"\")","v":{"$error":"#REF!"}},{"$f":"IF(C78970=base!$W$2,ROW()+1,\"\")","v":{"$error":"#REF!"}},61260,"La Tuna Mansa","Rancho","Maravatío","Michoacán de Ocampo",null,61251,16,61251,null,48,50,48,"Rural"]
[{"$f":"IF(C79040=base!$AC$2,ROW()+1,\"\")","v":{"$error":"#REF!"}},{"$f":"IF(C79040=base!$W$2,ROW()+1,\"\")","v":{"$error":"#REF!"}},61274,"La Coyota","Rancho","Maravatío","Michoacán de Ocampo",null,61251,16,61251,null,48,50,38,"Rural"]
[{"$f":"IF(C79123=base!$AC$2,ROW()+1,\"\")","v":{"$error":"#REF!"}},{"$f":"IF(C79123=base!$W$2,ROW()+1,\"\")","v":{"$error":"#REF!"}},61290,"Senguio","Pueblo","Senguio","Michoacán de Ocampo",null,61251,16,61251,null,28,80,2309,"Urbano"]
[{"$f":"IF(C79198=base!$AC$2,ROW()+1,\"\")","v":{"$error":"#REF!"}},{"$f":"IF(C79198=base!$W$2,ROW()+1,\"\")","v":{"$error":"#REF!"}},61314,"Pino Real","Ranchería","Charo","Michoacán de Ocampo",null,58241,16,58241,null,29,22,2327,"Rural"]
[{"$f":"IF(C79276=base!$AC$2,ROW()+1,\"\")","v":{"$error":"#REF!"}},{"$f":"IF(C79276=base!$W$2,ROW()+1,\"\")","v":{"$error":"#REF!"}},61336,"Palacio","Rancho","Tzitzio","Michoacán de Ocampo",null,58241,16,58241,null,48,101,120,"Rural"]
[{"$f":"IF(C79347=base!$AC$2,ROW()+1,\"\")","v":{"$error":"#REF!"}},{"$f":"IF(C79347=base!$W$2,ROW()+1,\"\")","v":{"$error":"#REF!"}},61360,"Los Planes (El Plan)","Rancho","Tzitzio","Michoacán de Ocampo",null,58241,16,58241,null,48,101,109,"Rural"]
[{"$f":"IF(C79357=base!$AC$2,ROW()+1,\"\")","v":{"$error":"#REF!"}},{"$f":"IF(C79357=base!$W$2,ROW()+1,\"\")","v":{"$error":"#REF!"}},61363,"Mesa del Nopal","Rancho","Tzitzio","Michoacán de Ocampo",null,58241,16,58241,null,48,101,118,"Rural"]
[{"$f":"IF(C79434=base!$AC$2,ROW()+1,\"\")","v":{"$error":"#REF!"}},{"$f":"IF(C79434=base!$W$2,ROW()+1,\"\")","v":{"$error":"#REF!"}},61376,"La Crucita","Rancho","Tiquicheo de Nicolás Romero","Michoacán de Ocampo",null,61941,16,61941,null,48,92,64,"Rural"]
[{"$f":"IF(C79510=base!$AC$2,ROW()+1,\"\")","v":{"$error":"#REF!"}},{"$f":"IF(C79510=base!$W$2,ROW()+1,\"\")","v":{"$error":"#REF!"}},61397,"Cerro el Paisano","Rancho","Tiquicheo de Nicolás Romero","Michoacán de Ocampo",null,61941,16,61941,null,48,92,15,"Rural"]
[{"$f":"IF(C79592=base!$AC$2,ROW()+1,\"\")","v":{"$error":"#REF!"}},{"$f":"IF(C79592=base!$W$2,ROW()+1,\"\")","v":{"$error":"#REF!"}},61427,"Río Grande","Colonia","Tuxpan","Michoacán de Ocampo","Tuxpan",61421,16,61421,null,9,98,3944,"Urbano",24]
[{"$f":"IF(C79695=base!$AC$2,ROW()+1,\"\")","v":{"$error":"#REF!"}},{"$f":"IF(C79695=base!$W$2,ROW()+1,\"\")","v":{"$error":"#REF!"}},61468,"La Volante","Rancho","Ocampo","Michoacán de Ocampo",null,61501,16,61501,null,48,61,10,"Rural"]
[{"$f":"IF(C79750=base!$AC$2,ROW()+1,\"\")","v":{"$error":"#REF!"}},{"$f":"IF(C79750=base!$W$2,ROW()+1,\"\")","v":{"$error":"#REF!"}},61485,"Los Sauces","Rancho","Jungapeo","Michoacán de Ocampo",null,61476,16,61476,null,48,47,52,"Rural"]
[{"$f":"IF(C79848=base!$AC$2,ROW()+1,\"\")","v":{"$error":"#REF!"}},{"$f":"IF(C79848=base!$W$2,ROW()+1,\"\")","v":{"$error":"#REF!"}},61525,"Los Escobales (Quinta Manz. de Crescencio Morales)","Ranchería","Zitácuaro","Michoacán de Ocampo",null,61501,16,61501,null,29,112,4624,"Rural"]
[{"$f":"IF(C79899=base!$AC$2,ROW()+1,\"\")","v":{"$error":"#REF!"}},{"$f":"IF(C79899=base!$W$2,ROW()+1,\"\")","v":{"$error":"#REF!"}},61529,"La Resistol (Segunda Manzana de San Felipe)","Rancho","Zitácuaro","Michoacán de Ocampo",null,61501,16,61501,null,48,112,60,"Rural"]
[{"$f":"IF(C79929=base!$AC$2,ROW()+1,\"\")","v":{"$error":"#REF!"}},{"$f":"IF(C79929=base!$W$2,ROW()+1,\"\")","v":{"$error":"#REF!"}},61535,"Kilómetro Once","Ranchería","Zitácuaro","Michoacán de Ocampo",null,61501,16,61501,null,29,112,4629,"Rural"]
[{"$f":"IF(C80057=base!$AC$2,ROW()+1,\"\")","v":{"$error":"#REF!"}},{"$f":"IF(C80057=base!$W$2,ROW()+1,\"\")","v":{"$error":"#REF!"}},61550,"Cerrillal","Rancho","Tuzantla","Michoacán de Ocampo",null,61501,16,61501,null,48,99,20,"Rural"]
[{"$f":"IF(C80082=base!$AC$2,ROW()+1,\"\")","v":{"$error":"#REF!"}},{"$f":"IF(C80082=base!$W$2,ROW()+1,\"\")","v":{"$error":"#REF!"}},61556,"San Patricio Buenavista","Rancho","Tuzantla","Michoacán de Ocampo",null,61501,16,61501,null,48,99,126,"Rural"]
[{"$f":"IF(C80144=base!$AC$2,ROW()+1,\"\")","v":{"$error":"#REF!"}},{"$f":"IF(C80144=base!$W$2,ROW()+1,\"\")","v":{"$error":"#REF!"}},61577,"Landero","Ranchería","Juárez","Michoacán de Ocampo",null,61501,16,61501,null,29,46,2471,"Rural"]
[{"$f":"IF(C80267=base!$AC$2,ROW()+1,\"\")","v":{"$error":"#REF!"}},{"$f":"IF(C80267=base!$W$2,ROW()+1,\"\")","v":{"$error":"#REF!"}},61605,"Mercado de Abastos Tariácuri","Fraccionamiento","Pátzcuaro","Michoacán de Ocampo","Pátzcuaro",61601,16,61601,null,21,66,4324,"Urbano",7]
[{"$f":"IF(C80302=base!$AC$2,ROW()+1,\"\")","v":{"$error":"#REF!"}},{"$f":"IF(C80302=base!$W$2,ROW()+1,\"\")","v":{"$error":"#REF!"}},61608,"Villas del Sol","Colonia","Pátzcuaro","Michoacán de Ocampo","Pátzcuaro",61601,16,61601,null,9,66,4332,"Urbano",7]
[{"$f":"IF(C80420=base!$AC$2,ROW()+1,\"\")","v":{"$error":"#REF!"}},{"$f":"IF(C80420=base!$W$2,ROW()+1,\"\")","v":{"$error":"#REF!"}},61650,"Tacambaro de Codallos Centro","Colonia","Tacámbaro","Michoacán de Ocampo","Tacámbaro de Codallos",61651,16,61651,null,9,82,2601,"Urbano",20]
[{"$f":"IF(C80460=base!$AC$2,ROW()+1,\"\")","v":{"$error":"#REF!"}},{"$f":"IF(C80460=base!$W$2,ROW()+1,\"\")","v":{"$error":"#REF!"}},61652,"San José Aramútaro","Pueblo","Tacámbaro","Michoacán de Ocampo",null,61651,16,61651,null,28,82,4039,"Rural"]
[{"$f":"IF(C80501=base!$AC$2,ROW()+1,\"\")","v":{"$error":"#REF!"}},{"$f":"IF(C80501=base!$W$2,ROW()+1,\"\")","v":{"$error":"#REF!"}},61655,"El Rosal","Ranchería","Tacámbaro","Michoacán de Ocampo",null,61651,16,61651,null,29,82,4510,"Rural"]
[{"$f":"IF(C80609=base!$AC$2,ROW()+1,\"\")","v":{"$error":"#REF!"}},{"$f":"IF(C80609=base!$W$2,ROW()+1,\"\")","v":{"$error":"#REF!"}},61673,"La Laguna (Laguna la Magdalena)","Ranchería","Tacámbaro","Michoacán de Ocampo",null,61651,16,61651,null,29,82,4537,"Rural"]
[{"$f":"IF(C80654=base!$AC$2,ROW()+1,\"\")","v":{"$error":"#REF!"}},{"$f":"IF(C80654=base!$W$2,ROW()+1,\"\")","v":{"$error":"#REF!"}},61682,"Lázaro Cárdenas","Colonia","Turicato","Michoacán de Ocampo",null,61651,16,61651,null,9,97,7,"Urbano"]
[{"$f":"IF(C80767=base!$AC$2,ROW()+1,\"\")","v":{"$error":"#REF!"}},{"$f":"IF(C80767=base!$W$2,ROW()+1,\"\")","v":{"$error":"#REF!"}},61693,"El Guayabo","Rancho","Turicato","Michoacán de Ocampo",null,61651,16,61651,null,48,97,64,"Rural"]
[{"$f":"IF(C80839=base!$AC$2,ROW()+1,\"\")","v":{"$error":"#REF!"}},{"$f":"IF(C80839=base!$W$2,ROW()+1,\"\")","v":{"$error":"#REF!"}},61696,"El Arenal","Rancho","Turicato","Michoacán de Ocampo",null,61651,16,61651,null,48,97,45,"Rural"]
[{"$f":"IF(C80925=base!$AC$2,ROW()+1,\"\")","v":{"$error":"#REF!"}},{"$f":"IF(C80925=base!$W$2,ROW()+1,\"\")","v":{"$error":"#REF!"}},61718,"La Lagunilla","Poblado comunal","Taretan","Michoacán de Ocampo",null,61715,16,61715,null,27,87,5000,"Rural"]
[{"$f":"IF(C80992=base!$AC$2,ROW()+1,\"\")","v":{"$error":"#REF!"}},{"$f":"IF(C80992=base!$W$2,ROW()+1,\"\")","v":{"$error":"#REF!"}},61757,"El Calvario","Ejido","Nuevo Urecho","Michoacán de Ocampo",null,61761,16,61761,null,15,59,2695,"Rural"]
[{"$f":"IF(C81012=base!$AC$2,ROW()+1,\"\")","v":{"$error":"#REF!"}},{"$f":"IF(C81012=base!$W$2,ROW()+1,\"\")","v":{"$error":"#REF!"}},61763,"Estación Nueva Italia","Ranchería","Múgica","Michoacán de Ocampo",null,61761,16,61761,null,29,55,5482,"Rural"]
[{"$f":"IF(C81073=base!$AC$2,ROW()+1,\"\")","v":{"$error":"#REF!"}},{"$f":"IF(C81073=base!$W$2,ROW()+1,\"\")","v":{"$error":"#REF!"}},61800,"El Artesano","Colonia","Salvador Escalante","Michoacán de Ocampo",null,61808,16,61808,null,9,79,7,"Urbano"]
[{"$f":"IF(C81161=base!$AC$2,ROW()+1,\"\")","v":{"$error":"#REF!"}},{"$f":"IF(C81161=base!$W$2,ROW()+1,\"\")","v":{"$error":"#REF!"}},61830,"Los Fresnos","Colonia","Ario","Michoacán de Ocampo",null,61831,16,61831,null,9,9,16,"Urbano"]
[{"$f":"IF(C81226=base!$AC$2,ROW()+1,\"\")","v":{"$error":"#REF!"}},{"$f":"IF(C81226=base!$W$2,ROW()+1,\"\")","v":{"$error":"#REF!"}},61839,"El Caracol","Rancho","Ario","Michoacán de Ocampo",null,61831,16,61831,null,48,9,32,"Rural"]
[{"$f":"IF(C81319=base!$AC$2,ROW()+1,\"\")","v":{"$error":"#REF!"}},{"$f":"IF(C81319=base!$W$2,ROW()+1,\"\")","v":{"$error":"#REF!"}},61854,"Ojo de Agua de San Ignacio (San Ignacio)","Ranchería","La Huacana","Michoacán de Ocampo",null,61853,16,61853,null,29,35,6546,"Rural"]
[{"$f":"IF(C81411=base!$AC$2,ROW()+1,\"\")","v":{"$error":"#REF!"}},{"$f":"IF(C81411=base!$W$2,ROW()+1,\"\")","v":{"$error":"#REF!"}},61868,"La Gallina (Vista Hermosa)","Ranchería","La Huacana","Michoacán de Ocampo",null,61761,16,61761,null,29,35,6513,"Rural"]
[{"$f":"IF(C81477=base!$AC$2,ROW()+1,\"\")","v":{"$error":"#REF!"}},{"$f":"IF(C81477=base!$W$2,ROW()+1,\"\")","v":{"$error":"#REF!"}},61887,"Las Juntas","Ranchería","Churumuco","Michoacán de Ocampo",null,61853,16,61853,null,29,29,28,"Rural"]
[{"$f":"IF(C81564=base!$AC$2,ROW()+1,\"\")","v":{"$error":"#REF!"}},{"$f":"IF(C81564=base!$W$2,ROW()+1,\"\")","v":{"$error":"#REF!"}},61916,"Mariana","Ranchería","Nocupétaro","Michoacán de Ocampo",null,58482,16,58482,null,29,57,61,"Rural"]
[{"$f":"IF(C81635=base!$AC$2,ROW()+1,\"\")","v":{"$error":"#REF!"}},{"$f":"IF(C81635=base!$W$2,ROW()+1,\"\")","v":{"$error":"#REF!"}},61924,"El Sauz","Ranchería","Carácuaro","Michoacán de Ocampo",null,58482,16,58482,null,29,13,44,"Rural"]
[{"$f":"IF(C81645=base!$AC$2,ROW()+1,\"\")","v":{"$error":"#REF!"}},{"$f":"IF(C81645=base!$W$2,ROW()+1,\"\")","v":{"$error":"#REF!"}},61925,"La Arboleda","Ranchería","Carácuaro","Michoacán de Ocampo",null,58482,16,58482,null,29,13,55,"Rural"]
[{"$f":"IF(C81784=base!$AC$2,ROW()+1,\"\")","v":{"$error":"#REF!"}},{"$f":"IF(C81784=base!$W$2,ROW()+1,\"\")","v":{"$error":"#REF!"}},61948,"La Redonda (La Piedra Redonda)","Rancho","Huetamo","Michoacán de Ocampo",null,61941,16,61941,null,48,38,78,"Rural"]
[{"$f":"IF(C81798=base!$AC$2,ROW()+1,\"\")","v":{"$error":"#REF!"}},{"$f":"IF(C81798=base!$W$2,ROW()+1,\"\")","v":{"$error":"#REF!"}},61952,"J. David Tellitud (Santa Rita)","Ejido","Huetamo","Michoacán de Ocampo",null,61941,16,61941,null,15,38,2852,"Rural"]
[{"$f":"IF(C81871=base!$AC$2,ROW()+1,\"\")","v":{"$error":"#REF!"}},{"$f":"IF(C81871=base!$W$2,ROW()+1,\"\")","v":{"$error":"#REF!"}},61965,"Los Ciruelos","Rancho","Huetamo","Michoacán de Ocampo",null,61941,16,61941,null,48,38,143,"Rural"]
[{"$f":"IF(C81954=base!$AC$2,ROW()+1,\"\")","v":{"$error":"#REF!"}},{"$f":"IF(C81954=base!$W$2,ROW()+1,\"\")","v":{"$error":"#REF!"}},61985,"La Estancia","Ranchería","San Lucas","Michoacán de Ocampo",null,61941,16,61941,null,29,77,2882,"Rural"]
[{"$f":"IF(C82007=base!$AC$2,ROW()+1,\"\")","v":{"$error":"#REF!"}},{"$f":"IF(C82007=base!$W$2,ROW()+1,\"\")","v":{"$error":"#REF!"}},61998,"El Tamarindo","Pueblo","San Lucas","Michoacán de Ocampo",null,61941,16,61941,null,28,77,3989,"Rural"]
[{"$f":"IF(C82103=base!$AC$2,ROW()+1,\"\")","v":{"$error":"#REF!"}},{"$f":"IF(C82103=base!$W$2,ROW()+1,\"\")","v":{"$error":"#REF!"}},62164,"Tzompantle Norte","Colonia","Cuernavaca","Morelos","Cuernavaca",62001,17,62001,null,9,7,975,"Urbano",2]
[{"$f":"IF(C82160=base!$AC$2,ROW()+1,\"\")","v":{"$error":"#REF!"}},{"$f":"IF(C82160=base!$W$2,ROW()+1,\"\")","v":{"$error":"#REF!"}},62245,"Recursos Hidráulicos","Colonia","Cuernavaca","Morelos","Cuernavaca",62241,17,62241,null,9,7,95,"Urbano",2]
[{"$f":"IF(C82261=base!$AC$2,ROW()+1,\"\")","v":{"$error":"#REF!"}},{"$f":"IF(C82261=base!$W$2,ROW()+1,\"\")","v":{"$error":"#REF!"}},62380,"Zodiaco","Fraccionamiento","Cuernavaca","Morelos","Cuernavaca",62451,17,62451,null,21,7,133,"Rural",2]
[{"$f":"IF(C82345=base!$AC$2,ROW()+1,\"\")","v":{"$error":"#REF!"}},{"$f":"IF(C82345=base!$W$2,ROW()+1,\"\")","v":{"$error":"#REF!"}},62523,"Los Ocotes","Colonia","Tepoztlán","Morelos",null,62521,17,62521,null,9,20,1272,"Rural"]
[{"$f":"IF(C82419=base!$AC$2,ROW()+1,\"\")","v":{"$error":"#REF!"}},{"$f":"IF(C82419=base!$W$2,ROW()+1,\"\")","v":{"$error":"#REF!"}},62550,"Centro Jiutepec","Colonia","Jiutepec","Morelos",null,62551,17,62551,null,9,11,217,"Urbano"]
[{"$f":"IF(C82498=base!$AC$2,ROW()+1,\"\")","v":{"$error":"#REF!"}},{"$f":"IF(C82498=base!$W$2,ROW()+1,\"\")","v":{"$error":"#REF!"}},62564,"El Castillo","Colonia","Jiutepec","Morelos",null,62551,17,62551,null,9,11,1156,"Urbano"]
[{"$f":"IF(C82506=base!$AC$2,ROW()+1,\"\")","v":{"$error":"#REF!"}},{"$f":"IF(C82506=base!$W$2,ROW()+1,\"\")","v":{"$error":"#REF!"}},62565,"Atuey","Fraccionamiento","Jiutepec","Morelos",null,62551,17,62551,null,21,11,1136,"Urbano"]
[{"$f":"IF(C82579=base!$AC$2,ROW()+1,\"\")","v":{"$error":"#REF!"}},{"$f":"IF(C82579=base!$W$2,ROW()+1,\"\")","v":{"$error":"#REF!"}},62583,"Lomas del Carril","Pueblo","Temixco","Morelos",null,62581,17,62581,null,28,18,277,"Semiurbano"]
[{"$f":"IF(C82655=base!$AC$2,ROW()+1,\"\")","v":{"$error":"#REF!"}},{"$f":"IF(C82655=base!$W$2,ROW()+1,\"\")","v":{"$error":"#REF!"}},62606,"Tres de Mayo","Colonia","Miacatlán","Morelos",null,62621,17,62621,null,9,15,1318,"Rural"]
[{"$f":"IF(C82732=base!$AC$2,ROW()+1,\"\")","v":{"$error":"#REF!"}},{"$f":"IF(C82732=base!$W$2,ROW()+1,\"\")","v":{"$error":"#REF!"}},62636,"La Trilla","Colonia","Mazatepec","Morelos",null,62621,17,62621,null,9,14,1696,"Rural"]
[{"$f":"IF(C82813=base!$AC$2,ROW()+1,\"\")","v":{"$error":"#REF!"}},{"$f":"IF(C82813=base!$W$2,ROW()+1,\"\")","v":{"$error":"#REF!"}},62676,"Lomas Altas","Colonia","Puente de Ixtla","Morelos",null,62781,17,62781,null,9,17,1352,"Urbano"]
[{"$f":"IF(C82885=base!$AC$2,ROW()+1,\"\")","v":{"$error":"#REF!"}},{"$f":"IF(C82885=base!$W$2,ROW()+1,\"\")","v":{"$error":"#REF!"}},62723,"Palo Blanco","Ranchería","Ayala","Morelos",null,62726,17,62726,null,29,4,373,"Rural"]
[{"$f":"IF(C82971=base!$AC$2,ROW()+1,\"\")","v":{"$error":"#REF!"}},{"$f":"IF(C82971=base!$W$2,ROW()+1,\"\")","v":{"$error":"#REF!"}},62735,"La Joya","Colonia","Yautepec","Morelos",null,62571,17,62571,null,9,29,384,"Urbano"]
[{"$f":"IF(C83070=base!$AC$2,ROW()+1,\"\")","v":{"$error":"#REF!"}},{"$f":"IF(C83070=base!$W$2,ROW()+1,\"\")","v":{"$error":"#REF!"}},62744,"10 de Abril","Colonia","Cuautla","Morelos","Cuautla (Cuautla de Morelos)",62741,17,62741,null,9,6,426,"Urbano",1]
[{"$f":"IF(C83129=base!$AC$2,ROW()+1,\"\")","v":{"$error":"#REF!"}},{"$f":"IF(C83129=base!$W$2,ROW()+1,\"\")","v":{"$error":"#REF!"}},62755,"Puxtla","Colonia","Cuautla","Morelos",null,62741,17,62741,null,9,6,467,"Rural"]
[{"$f":"IF(C83151=base!$AC$2,ROW()+1,\"\")","v":{"$error":"#REF!"}},{"$f":"IF(C83151=base!$W$2,ROW()+1,\"\")","v":{"$error":"#REF!"}},62757,"Condominios del Bosque","Unidad habitacional","Cuautla","Morelos",null,62749,17,62749,null,31,6,1813,"Urbano"]
[{"$f":"IF(C83278=base!$AC$2,ROW()+1,\"\")","v":{"$error":"#REF!"}},{"$f":"IF(C83278=base!$W$2,ROW()+1,\"\")","v":{"$error":"#REF!"}},62774,"La Concepción","Ranchería","Tlaltizapán de Zapata","Morelos",null,62771,17,62771,null,29,24,1432,"Rural"]
[{"$f":"IF(C83304=base!$AC$2,ROW()+1,\"\")","v":{"$error":"#REF!"}},{"$f":"IF(C83304=base!$W$2,ROW()+1,\"\")","v":{"$error":"#REF!"}},62778,"Los Cajetes","Colonia","Tlaltizapán de Zapata","Morelos",null,62771,17,62771,null,9,24,1427,"Rural"]
[{"$f":"IF(C83365=base!$AC$2,ROW()+1,\"\")","v":{"$error":"#REF!"}},{"$f":"IF(C83365=base!$W$2,ROW()+1,\"\")","v":{"$error":"#REF!"}},62790,"Miguel Hidalgo","Colonia","Xochitepec","Morelos",null,62791,17,62791,null,9,28,890,"Rural"]
[{"$f":"IF(C83457=base!$AC$2,ROW()+1,\"\")","v":{"$error":"#REF!"}},{"$f":"IF(C83457=base!$W$2,ROW()+1,\"\")","v":{"$error":"#REF!"}},62835,"La Joya","Ranchería","Totolapan","Morelos",null,62541,17,62541,null,29,27,1399,"Rural"]
[{"$f":"IF(C83523=base!$AC$2,ROW()+1,\"\")","v":{"$error":"#REF!"}},{"$f":"IF(C83523=base!$W$2,ROW()+1,\"\")","v":{"$error":"#REF!"}},62855,"La Rosita","Ranchería","Ocuituco","Morelos",null,62801,17,62801,null,29,16,1558,"Rural"]
[{"$f":"IF(C83642=base!$AC$2,ROW()+1,\"\")","v":{"$error":"#REF!"}},{"$f":"IF(C83642=base!$W$2,ROW()+1,\"\")","v":{"$error":"#REF!"}},62926,"Las Joyas","Colonia","Tepalcingo","Morelos",null,62921,17,62921,null,9,19,1608,"Rural"]
[{"$f":"IF(C83681=base!$AC$2,ROW()+1,\"\")","v":{"$error":"#REF!"}},{"$f":"IF(C83681=base!$W$2,ROW()+1,\"\")","v":{"$error":"#REF!"}},62952,"Bugambilias","Colonia","Axochiapan","Morelos",null,62951,17,62951,null,9,3,929,"Semiurbano"]
[{"$f":"IF(C83723=base!$AC$2,ROW()+1,\"\")","v":{"$error":"#REF!"}},{"$f":"IF(C83723=base!$W$2,ROW()+1,\"\")","v":{"$error":"#REF!"}},62962,"La Nopalera ( Huayacan )","Ranchería","Axochiapan","Morelos",null,62951,17,62951,null,29,3,1482,"Rural"]
[{"$f":"IF(C83830=base!$AC$2,ROW()+1,\"\")","v":{"$error":"#REF!"}},{"$f":"IF(C83830=base!$W$2,ROW()+1,\"\")","v":{"$error":"#REF!"}},63037,"Tulipanes","Fraccionamiento","Tepic","Nayarit","Tepic",63001,18,63001,null,21,17,1045,"Urbano",2]
[{"$f":"IF(C83876=base!$AC$2,ROW()+1,\"\")","v":{"$error":"#REF!"}},{"$f":"IF(C83876=base!$W$2,ROW()+1,\"\")","v":{"$error":"#REF!"}},63066,"Florencia","Fraccionamiento","Tepic","Nayarit","Tepic",63001,18,63001,null,21,17,1858,"Urbano",2]
[{"$f":"IF(C83988=base!$AC$2,ROW()+1,\"\")","v":{"$error":"#REF!"}},{"$f":"IF(C83988=base!$W$2,ROW()+1,\"\")","v":{"$error":"#REF!"}},63174,"Flores Magón","Colonia","Tepic","Nayarit","Tepic",63001,18,63001,null,9,17,132,"Urbano",2]
[{"$f":"IF(C84029=base!$AC$2,ROW()+1,\"\")","v":{"$error":"#REF!"}},{"$f":"IF(C84029=base!$W$2,ROW()+1,\"\")","v":{"$error":"#REF!"}},63180,"Cuauhtémoc","Colonia","Tepic","Nayarit","Tepic",63001,18,63001,null,9,17,161,"Urbano",2]
[{"$f":"IF(C84075=base!$AC$2,ROW()+1,\"\")","v":{"$error":"#REF!"}},{"$f":"IF(C84075=base!$W$2,ROW()+1,\"\")","v":{"$error":"#REF!"}},63197,"Plan de Ayala","Zona industrial","Tepic","Nayarit","Tepic",63001,18,63001,null,37,17,952,"Urbano",2]
[{"$f":"IF(C84214=base!$AC$2,ROW()+1,\"\")","v":{"$error":"#REF!"}},{"$f":"IF(C84214=base!$W$2,ROW()+1,\"\")","v":{"$error":"#REF!"}},63434,"Antonio Chumacero","Colonia","Acaponeta","Nayarit","Acaponeta",63431,18,63431,null,9,1,785,"Semiurbano",4]
[{"$f":"IF(C84233=base!$AC$2,ROW()+1,\"\")","v":{"$error":"#REF!"}},{"$f":"IF(C84233=base!$W$2,ROW()+1,\"\")","v":{"$error":"#REF!"}},63444,"Los Morillos","Ejido","Tecuala","Nayarit",null,63451,18,63451,null,15,16,303,"Rural"]
[{"$f":"IF(C84295=base!$AC$2,ROW()+1,\"\")","v":{"$error":"#REF!"}},{"$f":"IF(C84295=base!$W$2,ROW()+1,\"\")","v":{"$error":"#REF!"}},63494,"La Murallita","Ranchería","Huajicori","Nayarit",null,63431,18,63431,null,29,5,10,"Rural"]
[{"$f":"IF(C84391=base!$AC$2,ROW()+1,\"\")","v":{"$error":"#REF!"}},{"$f":"IF(C84391=base!$W$2,ROW()+1,\"\")","v":{"$error":"#REF!"}},63533,"El Tesorero","Ranchería","Del Nayar","Nayarit",null,63621,18,63621,null,29,9,1532,"Rural"]
[{"$f":"IF(C84448=base!$AC$2,ROW()+1,\"\")","v":{"$error":"#REF!"}},{"$f":"IF(C84448=base!$W$2,ROW()+1,\"\")","v":{"$error":"#REF!"}},63534,"La Mezquitera","Ranchería","Del Nayar","Nayarit",null,63621,18,63621,null,29,9,1603,"Rural"]
[{"$f":"IF(C84540=base!$AC$2,ROW()+1,\"\")","v":{"$error":"#REF!"}},{"$f":"IF(C84540=base!$W$2,ROW()+1,\"\")","v":{"$error":"#REF!"}},63537,"El Rincón","Ranchería","Del Nayar","Nayarit",null,63001,18,63001,null,29,9,1508,"Rural"]
[{"$f":"IF(C84601=base!$AC$2,ROW()+1,\"\")","v":{"$error":"#REF!"}},{"$f":"IF(C84601=base!$W$2,ROW()+1,\"\")","v":{"$error":"#REF!"}},63538,"Las Guineas de Guadalupe","Ranchería","Del Nayar","Nayarit",null,63001,18,63001,null,29,9,1649,"Rural"]
[{"$f":"IF(C84698=base!$AC$2,ROW()+1,\"\")","v":{"$error":"#REF!"}},{"$f":"IF(C84698=base!$W$2,ROW()+1,\"\")","v":{"$error":"#REF!"}},63544,"Santa Gertrudis","Ranchería","Del Nayar","Nayarit",null,63621,18,63621,null,29,9,1821,"Rural"]
[{"$f":"IF(C84786=base!$AC$2,ROW()+1,\"\")","v":{"$error":"#REF!"}},{"$f":"IF(C84786=base!$W$2,ROW()+1,\"\")","v":{"$error":"#REF!"}},63547,"La Silleta","Ranchería","Del Nayar","Nayarit",null,63621,18,63621,null,29,9,1627,"Rural"]
[{"$f":"IF(C84856=base!$AC$2,ROW()+1,\"\")","v":{"$error":"#REF!"}},{"$f":"IF(C84856=base!$W$2,ROW()+1,\"\")","v":{"$error":"#REF!"}},63548,"Los Zapotes","Ranchería","Del Nayar","Nayarit",null,63621,18,63621,null,29,9,1748,"Rural"]
[{"$f":"IF(C84867=base!$AC$2,ROW()+1,\"\")","v":{"$error":"#REF!"}},{"$f":"IF(C84867=base!$W$2,ROW()+1,\"\")","v":{"$error":"#REF!"}},63549,"El Tenamaste","Ranchería","Del Nayar","Nayarit",null,63621,18,63621,null,29,9,1529,"Rural"]
[{"$f":"IF(C84943=base!$AC$2,ROW()+1,\"\")","v":{"$error":"#REF!"}},{"$f":"IF(C84943=base!$W$2,ROW()+1,\"\")","v":{"$error":"#REF!"}},63559,"Estación Nanchi (Peñasquillo)","Paraje","Santiago Ixcuintla","Nayarit",null,63301,18,63301,null,45,15,453,"Rural"]
[{"$f":"IF(C85020=base!$AC$2,ROW()+1,\"\")","v":{"$error":"#REF!"}},{"$f":"IF(C85020=base!$W$2,ROW()+1,\"\")","v":{"$error":"#REF!"}},63594,"La Manga","Ranchería","La Yesca","Nayarit",null,63001,18,63001,null,29,19,7,"Rural"]
[{"$f":"IF(C85092=base!$AC$2,ROW()+1,\"\")","v":{"$error":"#REF!"}},{"$f":"IF(C85092=base!$W$2,ROW()+1,\"\")","v":{"$error":"#REF!"}},63618,"Los Cimientos","Ranchería","Ruíz","Nayarit",null,63621,18,63621,null,29,11,1281,"Rural"]
[{"$f":"IF(C85173=base!$AC$2,ROW()+1,\"\")","v":{"$error":"#REF!"}},{"$f":"IF(C85173=base!$W$2,ROW()+1,\"\")","v":{"$error":"#REF!"}},63636,"San Miguelito","Ranchería","Rosamorada","Nayarit",null,63632,18,63632,null,29,10,513,"Rural"]
[{"$f":"IF(C85250=base!$AC$2,ROW()+1,\"\")","v":{"$error":"#REF!"}},{"$f":"IF(C85250=base!$W$2,ROW()+1,\"\")","v":{"$error":"#REF!"}},63702,"Luis Donaldo Colosio","Colonia","Compostela","Nayarit","Compostela",63701,18,63701,null,9,4,19,"Urbano",6]
[{"$f":"IF(C85358=base!$AC$2,ROW()+1,\"\")","v":{"$error":"#REF!"}},{"$f":"IF(C85358=base!$W$2,ROW()+1,\"\")","v":{"$error":"#REF!"}},63724,"Villa Morelos","Ranchería","Compostela","Nayarit",null,63721,18,63721,null,29,4,572,"Rural"]
[{"$f":"IF(C85408=base!$AC$2,ROW()+1,\"\")","v":{"$error":"#REF!"}},{"$f":"IF(C85408=base!$W$2,ROW()+1,\"\")","v":{"$error":"#REF!"}},63734,"Cruz de Huanacaxtle","Colonia","Bahía de Banderas","Nayarit",null,63733,18,63733,null,9,20,599,"Urbano"]
[{"$f":"IF(C85439=base!$AC$2,ROW()+1,\"\")","v":{"$error":"#REF!"}},{"$f":"IF(C85439=base!$W$2,ROW()+1,\"\")","v":{"$error":"#REF!"}},63737,"Tulipanes","Fraccionamiento","Bahía de Banderas","Nayarit",null,63731,18,63731,null,21,20,22,"Urbano"]
[{"$f":"IF(C85566=base!$AC$2,ROW()+1,\"\")","v":{"$error":"#REF!"}},{"$f":"IF(C85566=base!$W$2,ROW()+1,\"\")","v":{"$error":"#REF!"}},63783,"Guadalupe Victoria","Colonia","Xalisco","Nayarit","Xalisco",63781,18,63781,null,9,8,1155,"Urbano",14]
[{"$f":"IF(C85592=base!$AC$2,ROW()+1,\"\")","v":{"$error":"#REF!"}},{"$f":"IF(C85592=base!$W$2,ROW()+1,\"\")","v":{"$error":"#REF!"}},63787,"Ampliación Xalisco","Colonia","Xalisco","Nayarit","Xalisco",63781,18,63781,null,9,8,1127,"Urbano",14]
[{"$f":"IF(C85715=base!$AC$2,ROW()+1,\"\")","v":{"$error":"#REF!"}},{"$f":"IF(C85715=base!$W$2,ROW()+1,\"\")","v":{"$error":"#REF!"}},63927,"El Chiquiliqui","Colonia","Ahuacatlán","Nayarit","Ahuacatlán",63901,18,63901,null,9,2,4,"Urbano",18]
[{"$f":"IF(C85745=base!$AC$2,ROW()+1,\"\")","v":{"$error":"#REF!"}},{"$f":"IF(C85745=base!$W$2,ROW()+1,\"\")","v":{"$error":"#REF!"}},63954,"Cristo Rey","Colonia","Ixtlán del Río","Nayarit","Ixtlán del Río",63941,18,63941,null,9,6,1141,"Urbano",11]
[{"$f":"IF(C85802=base!$AC$2,ROW()+1,\"\")","v":{"$error":"#REF!"}},{"$f":"IF(C85802=base!$W$2,ROW()+1,\"\")","v":{"$error":"#REF!"}},63996,"El Zopilote","Ranchería","Amatlán de Cañas","Nayarit",null,63961,18,63961,null,29,3,11,"Rural"]
[{"$f":"IF(C85898=base!$AC$2,ROW()+1,\"\")","v":{"$error":"#REF!"}},{"$f":"IF(C85898=base!$W$2,ROW()+1,\"\")","v":{"$error":"#REF!"}},64103,"Los Nogales III (P-102)","Colonia","Monterrey","Nuevo León","Monterrey",64291,19,64291,null,9,39,3514,"Urbano",7]
[{"$f":"IF(C85960=base!$AC$2,ROW()+1,\"\")","v":{"$error":"#REF!"}},{"$f":"IF(C85960=base!$W$2,ROW()+1,\"\")","v":{"$error":"#REF!"}},64104,"San Bernabé II (F-120)","Colonia","Monterrey","Nuevo León","Monterrey",64291,19,64291,null,9,39,31,"Urbano",7]
[{"$f":"IF(C86011=base!$AC$2,ROW()+1,\"\")","v":{"$error":"#REF!"}},{"$f":"IF(C86011=base!$W$2,ROW()+1,\"\")","v":{"$error":"#REF!"}},64160,"Jardín Modelo","Colonia","Monterrey","Nuevo León","Monterrey",64291,19,64291,null,9,39,79,"Urbano",7]
[{"$f":"IF(C86118=base!$AC$2,ROW()+1,\"\")","v":{"$error":"#REF!"}},{"$f":"IF(C86118=base!$W$2,ROW()+1,\"\")","v":{"$error":"#REF!"}},64265,"Avila Camacho","Colonia","Monterrey","Nuevo León","Monterrey",64291,19,64291,null,9,39,184,"Urbano",7]
[{"$f":"IF(C86192=base!$AC$2,ROW()+1,\"\")","v":{"$error":"#REF!"}},{"$f":"IF(C86192=base!$W$2,ROW()+1,\"\")","v":{"$error":"#REF!"}},64347,"Valle de Las Cumbres 2 Sector","Colonia","Monterrey","Nuevo León","Monterrey",64361,19,64361,null,9,39,4683,"Urbano",7]
[{"$f":"IF(C86220=base!$AC$2,ROW()+1,\"\")","v":{"$error":"#REF!"}},{"$f":"IF(C86220=base!$W$2,ROW()+1,\"\")","v":{"$error":"#REF!"}},64366,"Condocasas Cumbres","Unidad habitacional","Monterrey","Nuevo León","Monterrey",64361,19,64361,null,31,39,237,"Urbano",7]
[{"$f":"IF(C86350=base!$AC$2,ROW()+1,\"\")","v":{"$error":"#REF!"}},{"$f":"IF(C86350=base!$W$2,ROW()+1,\"\")","v":{"$error":"#REF!"}},64636,"Colinas de San Jerónimo Sector Lomas","Colonia","Monterrey","Nuevo León","Monterrey",64008,19,64008,null,9,39,4368,"Urbano",7]
[{"$f":"IF(C86373=base!$AC$2,ROW()+1,\"\")","v":{"$error":"#REF!"}},{"$f":"IF(C86373=base!$W$2,ROW()+1,\"\")","v":{"$error":"#REF!"}},64649,"Residencial Galerías","Colonia","Monterrey","Nuevo León","Monterrey",64008,19,64008,null,9,39,346,"Urbano",7]
[{"$f":"IF(C86437=base!$AC$2,ROW()+1,\"\")","v":{"$error":"#REF!"}},{"$f":"IF(C86437=base!$W$2,ROW()+1,\"\")","v":{"$error":"#REF!"}},64754,"Jardín de las Torres","Colonia","Monterrey","Nuevo León","Monterrey",64821,19,64821,null,9,39,407,"Urbano",7]
[{"$f":"IF(C86526=base!$AC$2,ROW()+1,\"\")","v":{"$error":"#REF!"}},{"$f":"IF(C86526=base!$W$2,ROW()+1,\"\")","v":{"$error":"#REF!"}},64878,"Unión Canoas Ángel Sur","Colonia","Monterrey","Nuevo León","Monterrey",64821,19,64821,null,9,39,4583,"Urbano",7]
[{"$f":"IF(C86586=base!$AC$2,ROW()+1,\"\")","v":{"$error":"#REF!"}},{"$f":"IF(C86586=base!$W$2,ROW()+1,\"\")","v":{"$error":"#REF!"}},64968,"Satélite 6 Sector Acueducto","Colonia","Monterrey","Nuevo León","Monterrey",64821,19,64821,null,9,39,2639,"Urbano",7]
[{"$f":"IF(C86679=base!$AC$2,ROW()+1,\"\")","v":{"$error":"#REF!"}},{"$f":"IF(C86679=base!$W$2,ROW()+1,\"\")","v":{"$error":"#REF!"}},64988,"Bosques de la Estanzuela","Fraccionamiento","Monterrey","Nuevo León","Monterrey",64821,19,64821,null,21,39,3869,"Urbano",7]
[{"$f":"IF(C86744=base!$AC$2,ROW()+1,\"\")","v":{"$error":"#REF!"}},{"$f":"IF(C86744=base!$W$2,ROW()+1,\"\")","v":{"$error":"#REF!"}},65032,"Revolución","Colonia","Anáhuac","Nuevo León","Anáhuac",65031,19,65031,null,9,5,3025,"Semiurbano",20]
[{"$f":"IF(C86832=base!$AC$2,ROW()+1,\"\")","v":{"$error":"#REF!"}},{"$f":"IF(C86832=base!$W$2,ROW()+1,\"\")","v":{"$error":"#REF!"}},65289,"Josefa Zozaya","Colonia","Sabinas Hidalgo","Nuevo León","Ciudad Sabinas Hidalgo",65201,19,65201,null,9,44,647,"Semiurbano",8]
[{"$f":"IF(C86902=base!$AC$2,ROW()+1,\"\")","v":{"$error":"#REF!"}},{"$f":"IF(C86902=base!$W$2,ROW()+1,\"\")","v":{"$error":"#REF!"}},65513,"Los Morillos","Ranchería","Salinas Victoria","Nuevo León",null,65551,19,65551,null,29,45,5459,"Rural"]
[{"$f":"IF(C86945=base!$AC$2,ROW()+1,\"\")","v":{"$error":"#REF!"}},{"$f":"IF(C86945=base!$W$2,ROW()+1,\"\")","v":{"$error":"#REF!"}},65515,"Valle del Norte","Fraccionamiento","Salinas Victoria","Nuevo León",null,65551,19,65551,null,21,45,4876,"Rural"]
[{"$f":"IF(C87060=base!$AC$2,ROW()+1,\"\")","v":{"$error":"#REF!"}},{"$f":"IF(C87060=base!$W$2,ROW()+1,\"\")","v":{"$error":"#REF!"}},65530,"Los Morales","Hacienda","Salinas Victoria","Nuevo León",null,65551,19,65551,null,24,45,680,"Rural"]
[{"$f":"IF(C87098=base!$AC$2,ROW()+1,\"\")","v":{"$error":"#REF!"}},{"$f":"IF(C87098=base!$W$2,ROW()+1,\"\")","v":{"$error":"#REF!"}},65533,"El Lindero","Ranchería","Salinas Victoria","Nuevo León",null,65551,19,65551,null,29,45,5636,"Rural"]
[{"$f":"IF(C87209=base!$AC$2,ROW()+1,\"\")","v":{"$error":"#REF!"}},{"$f":"IF(C87209=base!$W$2,ROW()+1,\"\")","v":{"$error":"#REF!"}},65545,"San Manuel","Ranchería","Salinas Victoria","Nuevo León",null,65551,19,65551,null,29,45,5763,"Rural"]
[{"$f":"IF(C87251=base!$AC$2,ROW()+1,\"\")","v":{"$error":"#REF!"}},{"$f":"IF(C87251=base!$W$2,ROW()+1,\"\")","v":{"$error":"#REF!"}},65560,"Valle de las Flores","Colonia","Ciénega de Flores","Nuevo León","Ciénega de Flores",65551,19,65551,null,9,12,2950,"Semiurbano",12]
[{"$f":"IF(C87296=base!$AC$2,ROW()+1,\"\")","v":{"$error":"#REF!"}},{"$f":"IF(C87296=base!$W$2,ROW()+1,\"\")","v":{"$error":"#REF!"}},65650,"Abasolo Centro","Colonia","Abasolo","Nuevo León",null,65601,19,65601,null,9,1,686,"Urbano"]
[{"$f":"IF(C87404=base!$AC$2,ROW()+1,\"\")","v":{"$error":"#REF!"}},{"$f":"IF(C87404=base!$W$2,ROW()+1,\"\")","v":{"$error":"#REF!"}},66004,"Real de Capellanía","Fraccionamiento","García","Nuevo León","García",66001,19,66001,null,21,18,5821,"Urbano",21]
[{"$f":"IF(C87454=base!$AC$2,ROW()+1,\"\")","v":{"$error":"#REF!"}},{"$f":"IF(C87454=base!$W$2,ROW()+1,\"\")","v":{"$error":"#REF!"}},66020,"La Soledad Estación","Ejido","García","Nuevo León",null,66001,19,66001,null,15,18,711,"Rural"]
[{"$f":"IF(C87517=base!$AC$2,ROW()+1,\"\")","v":{"$error":"#REF!"}},{"$f":"IF(C87517=base!$W$2,ROW()+1,\"\")","v":{"$error":"#REF!"}},66052,"Los Olivos","Fraccionamiento","General Escobedo","Nuevo León","Ciudad General Escobedo",66066,19,66066,null,21,21,2919,"Urbano",3]
[{"$f":"IF(C87612=base!$AC$2,ROW()+1,\"\")","v":{"$error":"#REF!"}},{"$f":"IF(C87612=base!$W$2,ROW()+1,\"\")","v":{"$error":"#REF!"}},66058,"Los Girasoles III","Colonia","General Escobedo","Nuevo León","Ciudad General Escobedo",66066,19,66066,null,9,21,2846,"Urbano",3]
[{"$f":"IF(C87670=base!$AC$2,ROW()+1,\"\")","v":{"$error":"#REF!"}},{"$f":"IF(C87670=base!$W$2,ROW()+1,\"\")","v":{"$error":"#REF!"}},66064,"Villas de San Martín 1er Etapa","Colonia","General Escobedo","Nuevo León","Ciudad General Escobedo",66066,19,66066,null,9,21,4125,"Urbano",3]
[{"$f":"IF(C87761=base!$AC$2,ROW()+1,\"\")","v":{"$error":"#REF!"}},{"$f":"IF(C87761=base!$W$2,ROW()+1,\"\")","v":{"$error":"#REF!"}},66114,"Raul Salinas","Ampliación","Santa Catarina","Nuevo León","Ciudad Santa Catarina",66351,19,66351,null,38,48,3319,"Urbano",10]
[{"$f":"IF(C87823=base!$AC$2,ROW()+1,\"\")","v":{"$error":"#REF!"}},{"$f":"IF(C87823=base!$W$2,ROW()+1,\"\")","v":{"$error":"#REF!"}},66195,"Nueva Fortaleza","Colonia","Santa Catarina","Nuevo León","Ciudad Santa Catarina",66351,19,66351,null,9,48,851,"Urbano",10]
[{"$f":"IF(C87919=base!$AC$2,ROW()+1,\"\")","v":{"$error":"#REF!"}},{"$f":"IF(C87919=base!$W$2,ROW()+1,\"\")","v":{"$error":"#REF!"}},66236,"Jardines de Mirasierra","Colonia","San Pedro Garza García","Nuevo León","San Pedro Garza García",66231,19,66231,null,9,19,896,"Urbano",2]
[{"$f":"IF(C87976=base!$AC$2,ROW()+1,\"\")","v":{"$error":"#REF!"}},{"$f":"IF(C87976=base!$W$2,ROW()+1,\"\")","v":{"$error":"#REF!"}},66250,"Bosques del Valle 1er Sector","Colonia","San Pedro Garza García","Nuevo León","San Pedro Garza García",66231,19,66231,null,9,19,926,"Urbano",2]
[{"$f":"IF(C88006=base!$AC$2,ROW()+1,\"\")","v":{"$error":"#REF!"}},{"$f":"IF(C88006=base!$W$2,ROW()+1,\"\")","v":{"$error":"#REF!"}},66260,"Jardines de Campestre","Colonia","San Pedro Garza García","Nuevo León","San Pedro Garza García",66231,19,66231,null,9,19,2663,"Urbano",2]
[{"$f":"IF(C88089=base!$AC$2,ROW()+1,\"\")","v":{"$error":"#REF!"}},{"$f":"IF(C88089=base!$W$2,ROW()+1,\"\")","v":{"$error":"#REF!"}},66278,"Colonia Valle Oriente Sur","Colonia","San Pedro Garza García","Nuevo León","San Pedro Garza García",66231,19,66231,null,9,19,5010,"Urbano",2]
[{"$f":"IF(C88164=base!$AC$2,ROW()+1,\"\")","v":{"$error":"#REF!"}},{"$f":"IF(C88164=base!$W$2,ROW()+1,\"\")","v":{"$error":"#REF!"}},66295,"Comercial Alpino Chipinque","Colonia","San Pedro Garza García","Nuevo León","San Pedro Garza García",66231,19,66231,null,9,19,4212,"Urbano",2]
[{"$f":"IF(C88242=base!$AC$2,ROW()+1,\"\")","v":{"$error":"#REF!"}},{"$f":"IF(C88242=base!$W$2,ROW()+1,\"\")","v":{"$error":"#REF!"}},66359,"Inf Lomas de Santa Catarina","Colonia","Santa Catarina","Nuevo León","Ciudad Santa Catarina",66351,19,66351,null,9,48,2891,"Urbano",10]
[{"$f":"IF(C88322=base!$AC$2,ROW()+1,\"\")","v":{"$error":"#REF!"}},{"$f":"IF(C88322=base!$W$2,ROW()+1,\"\")","v":{"$error":"#REF!"}},66368,"Micro Empresarios","Colonia","Santa Catarina","Nuevo León","Ciudad Santa Catarina",66351,19,66351,null,9,48,2918,"Urbano",10]
[{"$f":"IF(C88395=base!$AC$2,ROW()+1,\"\")","v":{"$error":"#REF!"}},{"$f":"IF(C88395=base!$W$2,ROW()+1,\"\")","v":{"$error":"#REF!"}},66418,"Viejo Roble Sector 2","Colonia","San Nicolás de los Garza","Nuevo León","San Nicolás de los Garza",66451,19,66451,null,9,46,4713,"Urbano",9]
[{"$f":"IF(C88471=base!$AC$2,ROW()+1,\"\")","v":{"$error":"#REF!"}},{"$f":"IF(C88471=base!$W$2,ROW()+1,\"\")","v":{"$error":"#REF!"}},66443,"Sin Nombre","Colonia","San Nicolás de los Garza","Nuevo León","San Nicolás de los Garza",66491,19,66491,null,9,46,4833,"Urbano",9]
[{"$f":"IF(C88548=base!$AC$2,ROW()+1,\"\")","v":{"$error":"#REF!"}},{"$f":"IF(C88548=base!$W$2,ROW()+1,\"\")","v":{"$error":"#REF!"}},66460,"Valle de las Puentes","Colonia","San Nicolás de los Garza","Nuevo León","San Nicolás de los Garza",66451,19,66451,null,9,46,1224,"Urbano",9]
[{"$f":"IF(C88629=base!$AC$2,ROW()+1,\"\")","v":{"$error":"#REF!"}},{"$f":"IF(C88629=base!$W$2,ROW()+1,\"\")","v":{"$error":"#REF!"}},66475,"Los Ángeles Sector 7","Fraccionamiento","San Nicolás de los Garza","Nuevo León","San Nicolás de los Garza",66491,19,66491,null,21,46,1262,"Urbano",9]
[{"$f":"IF(C88661=base!$AC$2,ROW()+1,\"\")","v":{"$error":"#REF!"}},{"$f":"IF(C88661=base!$W$2,ROW()+1,\"\")","v":{"$error":"#REF!"}},66478,"Los Angeles Sector 4","Unidad habitacional","San Nicolás de los Garza","Nuevo León","San Nicolás de los Garza",66491,19,66491,null,31,46,1276,"Urbano",9]
[{"$f":"IF(C88787=base!$AC$2,ROW()+1,\"\")","v":{"$error":"#REF!"}},{"$f":"IF(C88787=base!$W$2,ROW()+1,\"\")","v":{"$error":"#REF!"}},66605,"Benito Juárez","Colonia","Apodaca","Nuevo León","Ciudad Apodaca",66601,19,66601,null,9,6,1364,"Urbano",1]
[{"$f":"IF(C88814=base!$AC$2,ROW()+1,\"\")","v":{"$error":"#REF!"}},{"$f":"IF(C88814=base!$W$2,ROW()+1,\"\")","v":{"$error":"#REF!"}},66607,"Hacienda los Guajardo","Fraccionamiento","Apodaca","Nuevo León","Ciudad Apodaca",66601,19,66601,null,21,6,4173,"Urbano",1]
[{"$f":"IF(C88874=base!$AC$2,ROW()+1,\"\")","v":{"$error":"#REF!"}},{"$f":"IF(C88874=base!$W$2,ROW()+1,\"\")","v":{"$error":"#REF!"}},66612,"Privadas del Rey","Colonia","Apodaca","Nuevo León","Ciudad Apodaca",66601,19,66601,null,9,6,5129,"Urbano",1]
[{"$f":"IF(C88967=base!$AC$2,ROW()+1,\"\")","v":{"$error":"#REF!"}},{"$f":"IF(C88967=base!$W$2,ROW()+1,\"\")","v":{"$error":"#REF!"}},66632,"Ex Hacienda San Francisco","Fraccionamiento","Apodaca","Nuevo León","Ciudad Apodaca",66601,19,66601,null,21,6,4034,"Urbano",1]
[{"$f":"IF(C89023=base!$AC$2,ROW()+1,\"\")","v":{"$error":"#REF!"}},{"$f":"IF(C89023=base!$W$2,ROW()+1,\"\")","v":{"$error":"#REF!"}},66635,"Villa Sol","Colonia","Apodaca","Nuevo León","Ciudad Apodaca",66601,19,66601,null,9,6,1416,"Rural",1]
[{"$f":"IF(C89120=base!$AC$2,ROW()+1,\"\")","v":{"$error":"#REF!"}},{"$f":"IF(C89120=base!$W$2,ROW()+1,\"\")","v":{"$error":"#REF!"}},66645,"Padilla","Colonia","Apodaca","Nuevo León","Ciudad Apodaca",66601,19,66601,null,9,6,1434,"Urbano",1]
[{"$f":"IF(C89181=base!$AC$2,ROW()+1,\"\")","v":{"$error":"#REF!"}},{"$f":"IF(C89181=base!$W$2,ROW()+1,\"\")","v":{"$error":"#REF!"}},66648,"San Miguel","Fraccionamiento","Apodaca","Nuevo León","Ciudad Apodaca",66601,19,66601,null,21,6,4947,"Urbano",1]
[{"$f":"IF(C89233=base!$AC$2,ROW()+1,\"\")","v":{"$error":"#REF!"}},{"$f":"IF(C89233=base!$W$2,ROW()+1,\"\")","v":{"$error":"#REF!"}},66820,"Garza Gonzalez","Congregación","Los Ramones","Nuevo León",null,66801,19,66801,null,11,42,1469,"Rural"]
[{"$f":"IF(C89339=base!$AC$2,ROW()+1,\"\")","v":{"$error":"#REF!"}},{"$f":"IF(C89339=base!$W$2,ROW()+1,\"\")","v":{"$error":"#REF!"}},67115,"Viga","Parque industrial","Guadalupe","Nuevo León","Guadalupe",67121,19,67121,null,26,26,3334,"Urbano",4]
[{"$f":"IF(C89386=base!$AC$2,ROW()+1,\"\")","v":{"$error":"#REF!"}},{"$f":"IF(C89386=base!$W$2,ROW()+1,\"\")","v":{"$error":"#REF!"}},67124,"Escamilla","Colonia","Guadalupe","Nuevo León","Guadalupe",67121,19,67121,null,9,26,1591,"Urbano",4]
[{"$f":"IF(C89497=base!$AC$2,ROW()+1,\"\")","v":{"$error":"#REF!"}},{"$f":"IF(C89497=base!$W$2,ROW()+1,\"\")","v":{"$error":"#REF!"}},67168,"Las Sabinas (Solidaridad Fomerrey)","Colonia","Guadalupe","Nuevo León","Guadalupe",67121,19,67121,null,9,26,1689,"Urbano",4]
[{"$f":"IF(C89539=base!$AC$2,ROW()+1,\"\")","v":{"$error":"#REF!"}},{"$f":"IF(C89539=base!$W$2,ROW()+1,\"\")","v":{"$error":"#REF!"}},67176,"Mirador de la Silla","Colonia","Guadalupe","Nuevo León","Guadalupe",67181,19,67181,null,9,26,3231,"Urbano",4]
[{"$f":"IF(C89646=base!$AC$2,ROW()+1,\"\")","v":{"$error":"#REF!"}},{"$f":"IF(C89646=base!$W$2,ROW()+1,\"\")","v":{"$error":"#REF!"}},67190,"Residencial Guadalupe","Fraccionamiento","Guadalupe","Nuevo León","Guadalupe",67191,19,67191,null,21,26,1843,"Urbano",4]
[{"$f":"IF(C89692=base!$AC$2,ROW()+1,\"\")","v":{"$error":"#REF!"}},{"$f":"IF(C89692=base!$W$2,ROW()+1,\"\")","v":{"$error":"#REF!"}},67197,"Hacienda de Guadalupe","Colonia","Guadalupe","Nuevo León","Guadalupe",67191,19,67191,null,9,26,1867,"Urbano",4]
[{"$f":"IF(C89733=base!$AC$2,ROW()+1,\"\")","v":{"$error":"#REF!"}},{"$f":"IF(C89733=base!$W$2,ROW()+1,\"\")","v":{"$error":"#REF!"}},67250,"Hacienda Santa Lucia","Colonia","Juárez","Nuevo León","Ciudad Benito Juárez",67251,19,67251,null,9,31,2920,"Urbano",22]
[{"$f":"IF(C89845=base!$AC$2,ROW()+1,\"\")","v":{"$error":"#REF!"}},{"$f":"IF(C89845=base!$W$2,ROW()+1,\"\")","v":{"$error":"#REF!"}},67277,"Cerradas del Rey","Fraccionamiento","Juárez","Nuevo León","Ciudad Benito Juárez",67251,19,67251,null,21,31,4878,"Urbano",22]
[{"$f":"IF(C89891=base!$AC$2,ROW()+1,\"\")","v":{"$error":"#REF!"}},{"$f":"IF(C89891=base!$W$2,ROW()+1,\"\")","v":{"$error":"#REF!"}},67287,"Jardines de La Silla","Colonia","Juárez","Nuevo León","Ciudad Benito Juárez",67251,19,67251,null,9,31,1931,"Urbano",22]
[{"$f":"IF(C89958=base!$AC$2,ROW()+1,\"\")","v":{"$error":"#REF!"}},{"$f":"IF(C89958=base!$W$2,ROW()+1,\"\")","v":{"$error":"#REF!"}},67318,"Santa Rosalía","Colonia","Santiago","Nuevo León","Santiago",67321,19,67321,null,9,49,2971,"Semiurbano",17]
[{"$f":"IF(C90049=base!$AC$2,ROW()+1,\"\")","v":{"$error":"#REF!"}},{"$f":"IF(C90049=base!$W$2,ROW()+1,\"\")","v":{"$error":"#REF!"}},67400,"Alegres de Terán","Colonia","General Terán","Nuevo León",null,67501,19,67501,null,9,22,3291,"Rural"]
[{"$f":"IF(C90111=base!$AC$2,ROW()+1,\"\")","v":{"$error":"#REF!"}},{"$f":"IF(C90111=base!$W$2,ROW()+1,\"\")","v":{"$error":"#REF!"}},67474,"Sabarado","Hacienda","Cadereyta Jiménez","Nuevo León",null,67481,19,67481,null,24,9,2023,"Rural"]
[{"$f":"IF(C90198=base!$AC$2,ROW()+1,\"\")","v":{"$error":"#REF!"}},{"$f":"IF(C90198=base!$W$2,ROW()+1,\"\")","v":{"$error":"#REF!"}},67497,"El Matorral","Colonia","Cadereyta Jiménez","Nuevo León",null,67481,19,67481,null,9,9,5845,"Rural"]
[{"$f":"IF(C90264=base!$AC$2,ROW()+1,\"\")","v":{"$error":"#REF!"}},{"$f":"IF(C90264=base!$W$2,ROW()+1,\"\")","v":{"$error":"#REF!"}},67612,"El Bajío","Pueblo","Montemorelos","Nuevo León",null,67501,19,67501,null,28,38,2117,"Rural"]
[{"$f":"IF(C90356=base!$AC$2,ROW()+1,\"\")","v":{"$error":"#REF!"}},{"$f":"IF(C90356=base!$W$2,ROW()+1,\"\")","v":{"$error":"#REF!"}},67803,"Santa Rosa","Ejido","Linares","Nuevo León",null,67701,19,67701,null,15,33,2174,"Rural"]
[{"$f":"IF(C90368=base!$AC$2,ROW()+1,\"\")","v":{"$error":"#REF!"}},{"$f":"IF(C90368=base!$W$2,ROW()+1,\"\")","v":{"$error":"#REF!"}},67812,"Gatos Gueros","Ejido","Linares","Nuevo León",null,67701,19,67701,null,15,33,2185,"Rural"]
[{"$f":"IF(C90473=base!$AC$2,ROW()+1,\"\")","v":{"$error":"#REF!"}},{"$f":"IF(C90473=base!$W$2,ROW()+1,\"\")","v":{"$error":"#REF!"}},67870,"Presita de Berlanga","Ranchería","Galeana","Nuevo León",null,67851,19,67851,null,29,17,2279,"Rural"]
[{"$f":"IF(C90517=base!$AC$2,ROW()+1,\"\")","v":{"$error":"#REF!"}},{"$f":"IF(C90517=base!$W$2,ROW()+1,\"\")","v":{"$error":"#REF!"}},67900,"Las Brisas","Colonia","Doctor Arroyo","Nuevo León","Doctor Arroyo",67901,19,67901,null,9,14,2921,"Rural",11]
[{"$f":"IF(C90626=base!$AC$2,ROW()+1,\"\")","v":{"$error":"#REF!"}},{"$f":"IF(C90626=base!$W$2,ROW()+1,\"\")","v":{"$error":"#REF!"}},67943,"La Paila","Poblado comunal","Aramberri","Nuevo León",null,67901,19,67901,null,27,7,5326,"Rural"]
[{"$f":"IF(C90675=base!$AC$2,ROW()+1,\"\")","v":{"$error":"#REF!"}},{"$f":"IF(C90675=base!$W$2,ROW()+1,\"\")","v":{"$error":"#REF!"}},67947,"El Pinalito","Poblado comunal","Aramberri","Nuevo León",null,67901,19,67901,null,27,7,5273,"Rural"]
[{"$f":"IF(C90779=base!$AC$2,ROW()+1,\"\")","v":{"$error":"#REF!"}},{"$f":"IF(C90779=base!$W$2,ROW()+1,\"\")","v":{"$error":"#REF!"}},67958,"Las Mulas","Poblado comunal","Aramberri","Nuevo León",null,67901,19,67901,null,27,7,5347,"Rural"]
[{"$f":"IF(C90833=base!$AC$2,ROW()+1,\"\")","v":{"$error":"#REF!"}},{"$f":"IF(C90833=base!$W$2,ROW()+1,\"\")","v":{"$error":"#REF!"}},68010,"Ejidal","Colonia","Oaxaca de Juárez","Oaxaca","Oaxaca de Juárez",68005,20,68005,null,9,67,3944,"Urbano",2]
[{"$f":"IF(C90892=base!$AC$2,ROW()+1,\"\")","v":{"$error":"#REF!"}},{"$f":"IF(C90892=base!$W$2,ROW()+1,\"\")","v":{"$error":"#REF!"}},68030,"Cuauhtémoc","Colonia","Oaxaca de Juárez","Oaxaca","Oaxaca de Juárez",68005,20,68005,null,9,67,57,"Urbano",2]
[{"$f":"IF(C90991=base!$AC$2,ROW()+1,\"\")","v":{"$error":"#REF!"}},{"$f":"IF(C90991=base!$W$2,ROW()+1,\"\")","v":{"$error":"#REF!"}},68140,"El Arroyo","Colonia","Oaxaca de Juárez","Oaxaca","Oaxaca de Juárez",68005,20,68005,null,9,67,168,"Urbano",2]
[{"$f":"IF(C91045=base!$AC$2,ROW()+1,\"\")","v":{"$error":"#REF!"}},{"$f":"IF(C91045=base!$W$2,ROW()+1,\"\")","v":{"$error":"#REF!"}},68157,"Las Campanas","Fraccionamiento","Oaxaca de Juárez","Oaxaca","Oaxaca de Juárez",68005,20,68005,null,21,67,3847,"Urbano",2]
[{"$f":"IF(C91140=base!$AC$2,ROW()+1,\"\")","v":{"$error":"#REF!"}},{"$f":"IF(C91140=base!$W$2,ROW()+1,\"\")","v":{"$error":"#REF!"}},68232,"Santo Domingo Tlaltinango","Pueblo","Santiago Suchilquitongo","Oaxaca",null,68202,20,68202,null,28,483,231,"Rural"]
[{"$f":"IF(C91198=base!$AC$2,ROW()+1,\"\")","v":{"$error":"#REF!"}},{"$f":"IF(C91198=base!$W$2,ROW()+1,\"\")","v":{"$error":"#REF!"}},68259,"La Esmeralda","Fraccionamiento","San Pablo Etla","Oaxaca",null,68202,20,68202,null,21,293,3780,"Urbano"]
[{"$f":"IF(C91227=base!$AC$2,ROW()+1,\"\")","v":{"$error":"#REF!"}},{"$f":"IF(C91227=base!$W$2,ROW()+1,\"\")","v":{"$error":"#REF!"}},68264,"Guadalupe Hidalgo","Ranchería","San Lorenzo Cacaotepec","Oaxaca",null,68202,20,68202,null,29,227,257,"Rural"]
[{"$f":"IF(C91351=base!$AC$2,ROW()+1,\"\")","v":{"$error":"#REF!"}},{"$f":"IF(C91351=base!$W$2,ROW()+1,\"\")","v":{"$error":"#REF!"}},68285,"Arbolada Brenamiel","Fraccionamiento","San Jacinto Amilpas","Oaxaca",null,68005,20,68005,null,21,157,869,"Urbano"]
[{"$f":"IF(C91385=base!$AC$2,ROW()+1,\"\")","v":{"$error":"#REF!"}},{"$f":"IF(C91385=base!$W$2,ROW()+1,\"\")","v":{"$error":"#REF!"}},68297,"El Retiro 2da Etapa","Fraccionamiento","Santa María del Tule","Oaxaca",null,68298,20,68298,null,21,409,3591,"Urbano"]
[{"$f":"IF(C91464=base!$AC$2,ROW()+1,\"\")","v":{"$error":"#REF!"}},{"$f":"IF(C91464=base!$W$2,ROW()+1,\"\")","v":{"$error":"#REF!"}},68336,"Obrera Benito Juárez","Ejido","San Juan Bautista Tuxtepec","Oaxaca","San Juan Bautista Tuxtepec",68301,20,68301,null,15,184,427,"Urbano",4]
[{"$f":"IF(C91543=base!$AC$2,ROW()+1,\"\")","v":{"$error":"#REF!"}},{"$f":"IF(C91543=base!$W$2,ROW()+1,\"\")","v":{"$error":"#REF!"}},68402,"Josefa Ortiz de Dominguez 3a Sección","Colonia","Loma Bonita","Oaxaca","Loma Bonita",68401,20,68401,null,9,44,3558,"Semiurbano",7]
[{"$f":"IF(C91617=base!$AC$2,ROW()+1,\"\")","v":{"$error":"#REF!"}},{"$f":"IF(C91617=base!$W$2,ROW()+1,\"\")","v":{"$error":"#REF!"}},68418,"Floresta","Colonia","Cosolapa","Oaxaca","Cosolapa",68414,20,68414,null,9,21,3330,"Rural",15]
[{"$f":"IF(C91692=base!$AC$2,ROW()+1,\"\")","v":{"$error":"#REF!"}},{"$f":"IF(C91692=base!$W$2,ROW()+1,\"\")","v":{"$error":"#REF!"}},68432,"Isla Soyaltepec","Pueblo","San Miguel Soyaltepec","Oaxaca",null,68431,20,68431,null,28,278,390,"Rural"]
[{"$f":"IF(C91770=base!$AC$2,ROW()+1,\"\")","v":{"$error":"#REF!"}},{"$f":"IF(C91770=base!$W$2,ROW()+1,\"\")","v":{"$error":"#REF!"}},68460,"Chico I 3a Sección","Barrio","San Felipe Jalapa de Díaz","Oaxaca","San Felipe Jalapa de Díaz",68301,20,68301,null,2,134,3302,"Urbano",12]
[{"$f":"IF(C91850=base!$AC$2,ROW()+1,\"\")","v":{"$error":"#REF!"}},{"$f":"IF(C91850=base!$W$2,ROW()+1,\"\")","v":{"$error":"#REF!"}},68491,"Santa Flora","Congregación","San Felipe Usila","Oaxaca",null,68301,20,68301,null,11,136,522,"Rural"]
[{"$f":"IF(C91923=base!$AC$2,ROW()+1,\"\")","v":{"$error":"#REF!"}},{"$f":"IF(C91923=base!$W$2,ROW()+1,\"\")","v":{"$error":"#REF!"}},68540,"San Miguel","Colonia","Teotitlán de Flores Magón","Oaxaca","Teotitlán de Flores Magón",68541,20,68541,null,9,545,3313,"Rural",19]
[{"$f":"IF(C91937=base!$AC$2,ROW()+1,\"\")","v":{"$error":"#REF!"}},{"$f":"IF(C91937=base!$W$2,ROW()+1,\"\")","v":{"$error":"#REF!"}},68548,"Capultitla","Pueblo","San Martín Toxpalan","Oaxaca",null,68541,20,68541,null,28,244,581,"Rural"]
[{"$f":"IF(C92036=base!$AC$2,ROW()+1,\"\")","v":{"$error":"#REF!"}},{"$f":"IF(C92036=base!$W$2,ROW()+1,\"\")","v":{"$error":"#REF!"}},68618,"Wilfredo Hernández","Ranchería","Chiquihuitlán de Benito Juárez","Oaxaca",null,68608,20,68608,null,29,27,5546,"Rural"]
[{"$f":"IF(C92095=base!$AC$2,ROW()+1,\"\")","v":{"$error":"#REF!"}},{"$f":"IF(C92095=base!$W$2,ROW()+1,\"\")","v":{"$error":"#REF!"}},68695,"San Juan Tonaltepec","Congregación","Santiago Nacaltepec","Oaxaca",null,68215,20,68215,null,11,478,682,"Rural"]
[{"$f":"IF(C92189=base!$AC$2,ROW()+1,\"\")","v":{"$error":"#REF!"}},{"$f":"IF(C92189=base!$W$2,ROW()+1,\"\")","v":{"$error":"#REF!"}},68807,"La Chachalaca","Ranchería","Santiago Camotlán","Oaxaca",null,68301,20,68301,null,29,457,4324,"Rural"]
[{"$f":"IF(C92253=base!$AC$2,ROW()+1,\"\")","v":{"$error":"#REF!"}},{"$f":"IF(C92253=base!$W$2,ROW()+1,\"\")","v":{"$error":"#REF!"}},68924,"Plan Mata de Caña","Ranchería","Santiago Jocotepec","Oaxaca",null,68301,20,68301,null,29,468,4341,"Rural"]
[{"$f":"IF(C92342=base!$AC$2,ROW()+1,\"\")","v":{"$error":"#REF!"}},{"$f":"IF(C92342=base!$W$2,ROW()+1,\"\")","v":{"$error":"#REF!"}},69005,"San Diego","Colonia","Heroica Ciudad de Huajuapan de León","Oaxaca","Heroica Ciudad de Huajuapan de León",69001,20,69001,null,9,39,3579,"Semiurbano",6]
[{"$f":"IF(C92402=base!$AC$2,ROW()+1,\"\")","v":{"$error":"#REF!"}},{"$f":"IF(C92402=base!$W$2,ROW()+1,\"\")","v":{"$error":"#REF!"}},69008,"El Castillo","Ranchería","Heroica Ciudad de Huajuapan de León","Oaxaca",null,69001,20,69001,null,29,39,5,"Rural"]
[{"$f":"IF(C92495=base!$AC$2,ROW()+1,\"\")","v":{"$error":"#REF!"}},{"$f":"IF(C92495=base!$W$2,ROW()+1,\"\")","v":{"$error":"#REF!"}},69123,"San Miguel Hidalgo","Ranchería","Zapotitlán Lagunas","Oaxaca",null,69251,20,69251,null,29,567,1472,"Rural"]
[{"$f":"IF(C92560=base!$AC$2,ROW()+1,\"\")","v":{"$error":"#REF!"}},{"$f":"IF(C92560=base!$W$2,ROW()+1,\"\")","v":{"$error":"#REF!"}},69244,"Santa Cruz el Limón","Ranchería","San Miguel Amatitlán","Oaxaca",null,69251,20,69251,null,29,261,4580,"Rural"]
[{"$f":"IF(C92608=base!$AC$2,ROW()+1,\"\")","v":{"$error":"#REF!"}},{"$f":"IF(C92608=base!$W$2,ROW()+1,\"\")","v":{"$error":"#REF!"}},69345,"San Francisco Teopan","Pueblo","San Francisco Teopan","Oaxaca",null,69511,20,69511,null,28,151,1564,"Rural"]
[{"$f":"IF(C92718=base!$AC$2,ROW()+1,\"\")","v":{"$error":"#REF!"}},{"$f":"IF(C92718=base!$W$2,ROW()+1,\"\")","v":{"$error":"#REF!"}},69569,"San Pedro Añane","Ranchería","San Bartolo Soyaltepec","Oaxaca",null,69601,20,69601,null,29,121,1662,"Rural"]
[{"$f":"IF(C92761=base!$AC$2,ROW()+1,\"\")","v":{"$error":"#REF!"}},{"$f":"IF(C92761=base!$W$2,ROW()+1,\"\")","v":{"$error":"#REF!"}},69608,"San Miguel Adéquez (Adequés)","Ranchería","Asunción Nochixtlán","Oaxaca",null,69601,20,69601,null,29,6,4,"Rural"]
[{"$f":"IF(C92805=base!$AC$2,ROW()+1,\"\")","v":{"$error":"#REF!"}},{"$f":"IF(C92805=base!$W$2,ROW()+1,\"\")","v":{"$error":"#REF!"}},69700,"San Pedro El Alto","Barrio","Santiago Juxtlahuaca","Oaxaca","Santiago Juxtlahuaca",69701,20,69701,null,2,469,3489,"Rural",50]
[{"$f":"IF(C92914=base!$AC$2,ROW()+1,\"\")","v":{"$error":"#REF!"}},{"$f":"IF(C92914=base!$W$2,ROW()+1,\"\")","v":{"$error":"#REF!"}},69776,"Río Verde","Ranchería","San Juan Mixtepec -Dto. 08 -","Oaxaca",null,69771,20,69771,null,29,208,5634,"Rural"]
[{"$f":"IF(C92954=base!$AC$2,ROW()+1,\"\")","v":{"$error":"#REF!"}},{"$f":"IF(C92954=base!$W$2,ROW()+1,\"\")","v":{"$error":"#REF!"}},69793,"Los Ángeles","Ranchería","Coicoyán de las Flores","Oaxaca",null,69701,20,69701,null,29,16,4427,"Rural"]
[{"$f":"IF(C93067=base!$AC$2,ROW()+1,\"\")","v":{"$error":"#REF!"}},{"$f":"IF(C93067=base!$W$2,ROW()+1,\"\")","v":{"$error":"#REF!"}},69834,"Santa Catarina Tayata","Pueblo","Santa Catarina Tayata","Oaxaca",null,69801,20,69801,null,28,370,1852,"Rural"]
[{"$f":"IF(C93112=base!$AC$2,ROW()+1,\"\")","v":{"$error":"#REF!"}},{"$f":"IF(C93112=base!$W$2,ROW()+1,\"\")","v":{"$error":"#REF!"}},69868,"Mexicalzingo de los Granados","Ranchería","Santo Tomás Ocotepec","Oaxaca",null,69801,20,69801,null,29,532,2681,"Rural"]
[{"$f":"IF(C93220=base!$AC$2,ROW()+1,\"\")","v":{"$error":"#REF!"}},{"$f":"IF(C93220=base!$W$2,ROW()+1,\"\")","v":{"$error":"#REF!"}},70020,"3a Sección","Colonia","Heroica Ciudad de Juchitán de Zaragoza","Oaxaca","Juchitán (Juchitán de Zaragoza)",70001,20,70001,null,9,43,4753,"Urbano",1]
[{"$f":"IF(C93270=base!$AC$2,ROW()+1,\"\")","v":{"$error":"#REF!"}},{"$f":"IF(C93270=base!$W$2,ROW()+1,\"\")","v":{"$error":"#REF!"}},70054,"Arboledas","Fraccionamiento","Heroica Ciudad de Juchitán de Zaragoza","Oaxaca","Juchitán (Juchitán de Zaragoza)",70001,20,70001,null,21,43,4328,"Urbano",1]
[{"$f":"IF(C93333=base!$AC$2,ROW()+1,\"\")","v":{"$error":"#REF!"}},{"$f":"IF(C93333=base!$W$2,ROW()+1,\"\")","v":{"$error":"#REF!"}},70130,"Guadalupe","Colonia","Santiago Niltepec","Oaxaca",null,70162,20,70162,null,9,66,4980,"Urbano"]
[{"$f":"IF(C93428=base!$AC$2,ROW()+1,\"\")","v":{"$error":"#REF!"}},{"$f":"IF(C93428=base!$W$2,ROW()+1,\"\")","v":{"$error":"#REF!"}},70190,"Barrio Guachaco","Barrio","Chahuites","Oaxaca","Chahuites",70191,20,70191,null,2,25,4852,"Urbano",30]
[{"$f":"IF(C93486=base!$AC$2,ROW()+1,\"\")","v":{"$error":"#REF!"}},{"$f":"IF(C93486=base!$W$2,ROW()+1,\"\")","v":{"$error":"#REF!"}},70253,"Santiago Tepitongo","Ranchería","Totontepec Villa de Morelos","Oaxaca",null,70285,20,70285,null,29,554,2059,"Rural"]
[{"$f":"IF(C93577=base!$AC$2,ROW()+1,\"\")","v":{"$error":"#REF!"}},{"$f":"IF(C93577=base!$W$2,ROW()+1,\"\")","v":{"$error":"#REF!"}},70317,"Martin Dehesa Rosado","Barrio","Matías Romero Avendaño","Oaxaca",null,70301,20,70301,null,2,57,2140,"Rural"]
[{"$f":"IF(C93639=base!$AC$2,ROW()+1,\"\")","v":{"$error":"#REF!"}},{"$f":"IF(C93639=base!$W$2,ROW()+1,\"\")","v":{"$error":"#REF!"}},70366,"San Antonio Nuevo Paraíso","Ranchería","Santa María Chimalapa","Oaxaca",null,70001,20,70001,null,29,407,1,"Rural"]
[{"$f":"IF(C93664=base!$AC$2,ROW()+1,\"\")","v":{"$error":"#REF!"}},{"$f":"IF(C93664=base!$W$2,ROW()+1,\"\")","v":{"$error":"#REF!"}},70392,"Rincón Vaquero","Ranchería","El Barrio de la Soledad","Oaxaca",null,70381,20,70381,null,29,10,2204,"Rural"]
[{"$f":"IF(C93792=base!$AC$2,ROW()+1,\"\")","v":{"$error":"#REF!"}},{"$f":"IF(C93792=base!$W$2,ROW()+1,\"\")","v":{"$error":"#REF!"}},70506,"La Baeza","Ranchería","San Carlos Yautepec","Oaxaca",null,70501,20,70501,null,29,125,2273,"Rural"]
[{"$f":"IF(C93822=base!$AC$2,ROW()+1,\"\")","v":{"$error":"#REF!"}},{"$f":"IF(C93822=base!$W$2,ROW()+1,\"\")","v":{"$error":"#REF!"}},70515,"La Concordia","Ranchería","San Carlos Yautepec","Oaxaca",null,70501,20,70501,null,29,125,5782,"Rural"]
[{"$f":"IF(C93905=base!$AC$2,ROW()+1,\"\")","v":{"$error":"#REF!"}},{"$f":"IF(C93905=base!$W$2,ROW()+1,\"\")","v":{"$error":"#REF!"}},70630,"Primero de Mayo","Colonia","Salina Cruz","Oaxaca","Salina Cruz",70601,20,70601,null,9,79,2323,"Urbano",3]
[{"$f":"IF(C93980=base!$AC$2,ROW()+1,\"\")","v":{"$error":"#REF!"}},{"$f":"IF(C93980=base!$W$2,ROW()+1,\"\")","v":{"$error":"#REF!"}},70736,"El Trapiche Guienagati","Ranchería","Santa María Guienagati","Oaxaca",null,70111,20,70111,null,29,412,4818,"Rural"]
[{"$f":"IF(C94058=base!$AC$2,ROW()+1,\"\")","v":{"$error":"#REF!"}},{"$f":"IF(C94058=base!$W$2,ROW()+1,\"\")","v":{"$error":"#REF!"}},70760,"Lopez Portillo","Colonia","Santo Domingo Tehuantepec","Oaxaca","Santo Domingo Tehuantepec",70761,20,70761,null,9,515,3512,"Urbano",55]
[{"$f":"IF(C94129=base!$AC$2,ROW()+1,\"\")","v":{"$error":"#REF!"}},{"$f":"IF(C94129=base!$W$2,ROW()+1,\"\")","v":{"$error":"#REF!"}},70805,"Manuel Altamirano","Fraccionamiento","Miahuatlán de Porfirio Díaz","Oaxaca","Miahuatlán de Porfirio Díaz",70804,20,70804,null,21,59,4282,"Semiurbano",25]
[{"$f":"IF(C94211=base!$AC$2,ROW()+1,\"\")","v":{"$error":"#REF!"}},{"$f":"IF(C94211=base!$W$2,ROW()+1,\"\")","v":{"$error":"#REF!"}},70868,"San Andres Paxtlan","Pueblo","San Andrés Paxtlán","Oaxaca",null,70804,20,70804,null,28,95,2463,"Rural"]
[{"$f":"IF(C94287=base!$AC$2,ROW()+1,\"\")","v":{"$error":"#REF!"}},{"$f":"IF(C94287=base!$W$2,ROW()+1,\"\")","v":{"$error":"#REF!"}},70905,"Benito Juárez","Ranchería","San Pedro Pochutla","Oaxaca",null,70901,20,70901,null,29,324,2494,"Rural"]
[{"$f":"IF(C94364=base!$AC$2,ROW()+1,\"\")","v":{"$error":"#REF!"}},{"$f":"IF(C94364=base!$W$2,ROW()+1,\"\")","v":{"$error":"#REF!"}},70935,"El Bajo","Congregación","Santa María Colotepec","Oaxaca",null,71981,20,71981,null,11,401,4641,"Rural"]
[{"$f":"IF(C94374=base!$AC$2,ROW()+1,\"\")","v":{"$error":"#REF!"}},{"$f":"IF(C94374=base!$W$2,ROW()+1,\"\")","v":{"$error":"#REF!"}},70936,"La Guitarra","Ranchería","Santa María Colotepec","Oaxaca",null,71981,20,71981,null,29,401,5730,"Rural"]
[{"$f":"IF(C94477=base!$AC$2,ROW()+1,\"\")","v":{"$error":"#REF!"}},{"$f":"IF(C94477=base!$W$2,ROW()+1,\"\")","v":{"$error":"#REF!"}},70945,"Valdeflores","Ranchería","Santa María Tonameca","Oaxaca",null,70901,20,70901,null,29,439,2538,"Rural"]
[{"$f":"IF(C94532=base!$AC$2,ROW()+1,\"\")","v":{"$error":"#REF!"}},{"$f":"IF(C94532=base!$W$2,ROW()+1,\"\")","v":{"$error":"#REF!"}},70949,"Arroyo la Puerta","Ranchería","Santa María Tonameca","Oaxaca",null,70901,20,70901,null,29,439,5221,"Rural"]
[{"$f":"IF(C94606=base!$AC$2,ROW()+1,\"\")","v":{"$error":"#REF!"}},{"$f":"IF(C94606=base!$W$2,ROW()+1,\"\")","v":{"$error":"#REF!"}},70964,"Las Vegas","Ejido","Pluma Hidalgo","Oaxaca",null,70901,20,70901,null,15,71,5465,"Rural"]
[{"$f":"IF(C94654=base!$AC$2,ROW()+1,\"\")","v":{"$error":"#REF!"}},{"$f":"IF(C94654=base!$W$2,ROW()+1,\"\")","v":{"$error":"#REF!"}},70964,"Rancho Alegre","Ranchería","Pluma Hidalgo","Oaxaca",null,70901,20,70901,null,29,71,5485,"Rural"]
[{"$f":"IF(C94764=base!$AC$2,ROW()+1,\"\")","v":{"$error":"#REF!"}},{"$f":"IF(C94764=base!$W$2,ROW()+1,\"\")","v":{"$error":"#REF!"}},70988,"Sector J","Colonia","Santa María Huatulco","Oaxaca","Bahias de Huatulco",70986,20,70986,null,9,413,1319,"Urbano",13]
[{"$f":"IF(C94839=base!$AC$2,ROW()+1,\"\")","v":{"$error":"#REF!"}},{"$f":"IF(C94839=base!$W$2,ROW()+1,\"\")","v":{"$error":"#REF!"}},71040,"San José de las Flores","Ranchería","Mesones Hidalgo","Oaxaca",null,71008,20,71008,null,29,37,2628,"Rural"]
[{"$f":"IF(C94922=base!$AC$2,ROW()+1,\"\")","v":{"$error":"#REF!"}},{"$f":"IF(C94922=base!$W$2,ROW()+1,\"\")","v":{"$error":"#REF!"}},71104,"Allende","Ranchería","Chalcatongo de Hidalgo","Oaxaca",null,71102,20,71102,null,29,26,2674,"Rural"]
[{"$f":"IF(C94992=base!$AC$2,ROW()+1,\"\")","v":{"$error":"#REF!"}},{"$f":"IF(C94992=base!$W$2,ROW()+1,\"\")","v":{"$error":"#REF!"}},71117,"Yuviyo","Ranchería","Santa María Yucuhiti","Oaxaca",null,69801,20,69801,null,29,446,5914,"Rural"]
[{"$f":"IF(C95071=base!$AC$2,ROW()+1,\"\")","v":{"$error":"#REF!"}},{"$f":"IF(C95071=base!$W$2,ROW()+1,\"\")","v":{"$error":"#REF!"}},71174,"Santa Ana Progreso","Ranchería","San Andrés Cabecera Nueva","Oaxaca",null,71102,20,71102,null,29,88,4476,"Rural"]
[{"$f":"IF(C95145=base!$AC$2,ROW()+1,\"\")","v":{"$error":"#REF!"}},{"$f":"IF(C95145=base!$W$2,ROW()+1,\"\")","v":{"$error":"#REF!"}},71196,"El Paraíso","Ejido","Santa Cruz Itundujia","Oaxaca",null,71102,20,71102,null,15,377,4767,"Rural"]
[{"$f":"IF(C95158=base!$AC$2,ROW()+1,\"\")","v":{"$error":"#REF!"}},{"$f":"IF(C95158=base!$W$2,ROW()+1,\"\")","v":{"$error":"#REF!"}},71205,"Santa María Vigallo","Pueblo","Zimatlán de Álvarez","Oaxaca",null,71201,20,71201,null,28,570,2750,"Rural"]
[{"$f":"IF(C95226=base!$AC$2,ROW()+1,\"\")","v":{"$error":"#REF!"}},{"$f":"IF(C95226=base!$W$2,ROW()+1,\"\")","v":{"$error":"#REF!"}},71230,"Villas Del Bosque","Fraccionamiento","Santa Cruz Xoxocotlán","Oaxaca",null,68005,20,68005,null,21,385,3935,"Urbano"]
[{"$f":"IF(C95316=base!$AC$2,ROW()+1,\"\")","v":{"$error":"#REF!"}},{"$f":"IF(C95316=base!$W$2,ROW()+1,\"\")","v":{"$error":"#REF!"}},71233,"3 de Octubre","Colonia","Santa Cruz Xoxocotlán","Oaxaca",null,68005,20,68005,null,9,385,1335,"Urbano"]
[{"$f":"IF(C95411=base!$AC$2,ROW()+1,\"\")","v":{"$error":"#REF!"}},{"$f":"IF(C95411=base!$W$2,ROW()+1,\"\")","v":{"$error":"#REF!"}},71254,"3a Sección del Panteón","Barrio","San Antonio de la Cal","Oaxaca","San Antonio de la Cal",68005,20,68005,null,2,107,4692,"Urbano",59]
[{"$f":"IF(C95474=base!$AC$2,ROW()+1,\"\")","v":{"$error":"#REF!"}},{"$f":"IF(C95474=base!$W$2,ROW()+1,\"\")","v":{"$error":"#REF!"}},71306,"Cañada de Mano","Ranchería","San Antonio Huitepec","Oaxaca",null,71311,20,71311,null,29,108,13,"Rural"]
[{"$f":"IF(C95564=base!$AC$2,ROW()+1,\"\")","v":{"$error":"#REF!"}},{"$f":"IF(C95564=base!$W$2,ROW()+1,\"\")","v":{"$error":"#REF!"}},71318,"24 de Julio","Colonia","Villa de Zaachila","Oaxaca",null,68131,20,68131,null,9,565,4899,"Urbano"]
[{"$f":"IF(C95623=base!$AC$2,ROW()+1,\"\")","v":{"$error":"#REF!"}},{"$f":"IF(C95623=base!$W$2,ROW()+1,\"\")","v":{"$error":"#REF!"}},71338,"El Carmen","Barrio","Santa Inés del Monte","Oaxaca",null,71311,20,71311,null,2,388,2829,"Rural"]
[{"$f":"IF(C95717=base!$AC$2,ROW()+1,\"\")","v":{"$error":"#REF!"}},{"$f":"IF(C95717=base!$W$2,ROW()+1,\"\")","v":{"$error":"#REF!"}},71366,"El Carrizal","Ranchería","Santa Cruz Zenzontepec","Oaxaca",null,68001,20,68001,null,29,386,2846,"Rural"]
[{"$f":"IF(C95781=base!$AC$2,ROW()+1,\"\")","v":{"$error":"#REF!"}},{"$f":"IF(C95781=base!$W$2,ROW()+1,\"\")","v":{"$error":"#REF!"}},71376,"El Frijol","Ranchería","San Mateo Yucutindoo","Oaxaca",null,71102,20,71102,null,29,566,4,"Rural"]
[{"$f":"IF(C95798=base!$AC$2,ROW()+1,\"\")","v":{"$error":"#REF!"}},{"$f":"IF(C95798=base!$W$2,ROW()+1,\"\")","v":{"$error":"#REF!"}},71382,"Yerba Santa","Ranchería","Santiago Textitlán","Oaxaca",null,71411,20,71411,null,29,491,26,"Rural"]
[{"$f":"IF(C95939=base!$AC$2,ROW()+1,\"\")","v":{"$error":"#REF!"}},{"$f":"IF(C95939=base!$W$2,ROW()+1,\"\")","v":{"$error":"#REF!"}},71407,"Libramiento a Jalpan","Ranchería","Cuilápam de Guerrero","Oaxaca",null,68005,20,68005,null,29,23,11,"Rural"]
[{"$f":"IF(C95983=base!$AC$2,ROW()+1,\"\")","v":{"$error":"#REF!"}},{"$f":"IF(C95983=base!$W$2,ROW()+1,\"\")","v":{"$error":"#REF!"}},71415,"La Yerba Buena","Ranchería","Villa Sola de Vega","Oaxaca",null,71411,20,71411,null,29,277,52,"Rural"]
[{"$f":"IF(C96026=base!$AC$2,ROW()+1,\"\")","v":{"$error":"#REF!"}},{"$f":"IF(C96026=base!$W$2,ROW()+1,\"\")","v":{"$error":"#REF!"}},71417,"Yogorente","Ranchería","Villa Sola de Vega","Oaxaca",null,71411,20,71411,null,29,277,87,"Rural"]
[{"$f":"IF(C96136=base!$AC$2,ROW()+1,\"\")","v":{"$error":"#REF!"}},{"$f":"IF(C96136=base!$W$2,ROW()+1,\"\")","v":{"$error":"#REF!"}},71507,"Santo Tomas Jalieza","Pueblo","Santo Tomás Jalieza","Oaxaca",null,71511,20,71511,null,28,530,2916,"Rural"]
[{"$f":"IF(C96184=base!$AC$2,ROW()+1,\"\")","v":{"$error":"#REF!"}},{"$f":"IF(C96184=base!$W$2,ROW()+1,\"\")","v":{"$error":"#REF!"}},71553,"Rancho de los Vásquez","Ranchería","San José del Progreso","Oaxaca",null,71511,20,71511,null,29,72,4463,"Rural"]
[{"$f":"IF(C96289=base!$AC$2,ROW()+1,\"\")","v":{"$error":"#REF!"}},{"$f":"IF(C96289=base!$W$2,ROW()+1,\"\")","v":{"$error":"#REF!"}},71608,"Mintán","Pueblo","Santiago Pinotepa Nacional","Oaxaca",null,71601,20,71601,null,28,482,4267,"Rural"]
[{"$f":"IF(C96333=base!$AC$2,ROW()+1,\"\")","v":{"$error":"#REF!"}},{"$f":"IF(C96333=base!$W$2,ROW()+1,\"\")","v":{"$error":"#REF!"}},71660,"Santiago Llano Grande","Pueblo","Santiago Llano Grande","Oaxaca",null,71601,20,71601,null,28,474,3046,"Rural"]
[{"$f":"IF(C96370=base!$AC$2,ROW()+1,\"\")","v":{"$error":"#REF!"}},{"$f":"IF(C96370=base!$W$2,ROW()+1,\"\")","v":{"$error":"#REF!"}},71707,"Paso de La Reyna","Pueblo","Santiago Jamiltepec","Oaxaca",null,71701,20,71701,null,28,467,3060,"Rural"]
[{"$f":"IF(C96491=base!$AC$2,ROW()+1,\"\")","v":{"$error":"#REF!"}},{"$f":"IF(C96491=base!$W$2,ROW()+1,\"\")","v":{"$error":"#REF!"}},71800,"Villa de Tututepec de Melchor Ocampo","Ranchería","Villa de Tututepec de Melchor Ocampo","Oaxaca",null,71811,20,71811,null,29,334,3146,"Rural"]
[{"$f":"IF(C96555=base!$AC$2,ROW()+1,\"\")","v":{"$error":"#REF!"}},{"$f":"IF(C96555=base!$W$2,ROW()+1,\"\")","v":{"$error":"#REF!"}},71853,"Plan del Aire","Ranchería","Tataltepec de Valdés","Oaxaca",null,71811,20,71811,null,29,543,5129,"Rural"]
[{"$f":"IF(C96649=base!$AC$2,ROW()+1,\"\")","v":{"$error":"#REF!"}},{"$f":"IF(C96649=base!$W$2,ROW()+1,\"\")","v":{"$error":"#REF!"}},71953,"Cañada de Guadalupe","Pueblo","Santa María Temaxcaltepec","Oaxaca",null,71981,20,71981,null,28,433,1,"Rural"]
[{"$f":"IF(C96708=base!$AC$2,ROW()+1,\"\")","v":{"$error":"#REF!"}},{"$f":"IF(C96708=base!$W$2,ROW()+1,\"\")","v":{"$error":"#REF!"}},71967,"Finca la Encinera","Ranchería","Santos Reyes Nopala","Oaxaca",null,71981,20,71981,null,29,526,5176,"Rural"]
[{"$f":"IF(C96736=base!$AC$2,ROW()+1,\"\")","v":{"$error":"#REF!"}},{"$f":"IF(C96736=base!$W$2,ROW()+1,\"\")","v":{"$error":"#REF!"}},71983,"Sector Libertad","Colonia","San Pedro Mixtepec -Dto. 22 -","Oaxaca","Puerto Escondido",71981,20,71981,null,9,318,3543,"Semiurbano",8]
[{"$f":"IF(C96861=base!$AC$2,ROW()+1,\"\")","v":{"$error":"#REF!"}},{"$f":"IF(C96861=base!$W$2,ROW()+1,\"\")","v":{"$error":"#REF!"}},71998,"Los Limones","Pueblo","San Pedro Mixtepec -Dto. 22 -","Oaxaca",null,71981,20,71981,null,28,318,4180,"Rural"]
[{"$f":"IF(C96885=base!$AC$2,ROW()+1,\"\")","v":{"$error":"#REF!"}},{"$f":"IF(C96885=base!$W$2,ROW()+1,\"\")","v":{"$error":"#REF!"}},72014,"La Condesa","Colonia","Puebla","Puebla","Puebla (Heroica Puebla)",72001,21,72001,null,9,114,6212,"Urbano",3]
[{"$f":"IF(C96942=base!$AC$2,ROW()+1,\"\")","v":{"$error":"#REF!"}},{"$f":"IF(C96942=base!$W$2,ROW()+1,\"\")","v":{"$error":"#REF!"}},72044,"Jorge Murad Macluf","Unidad habitacional","Puebla","Puebla","Puebla (Heroica Puebla)",72001,21,72001,null,31,114,2736,"Urbano",3]
[{"$f":"IF(C97043=base!$AC$2,ROW()+1,\"\")","v":{"$error":"#REF!"}},{"$f":"IF(C97043=base!$W$2,ROW()+1,\"\")","v":{"$error":"#REF!"}},72110,"Paraíso del Angel","Colonia","Puebla","Puebla","Puebla (Heroica Puebla)",72001,21,72001,null,9,114,2763,"Urbano",3]
[{"$f":"IF(C97095=base!$AC$2,ROW()+1,\"\")","v":{"$error":"#REF!"}},{"$f":"IF(C97095=base!$W$2,ROW()+1,\"\")","v":{"$error":"#REF!"}},72150,"Santa Cruz Buenavista","Fraccionamiento","Puebla","Puebla","Puebla (Heroica Puebla)",72001,21,72001,null,21,114,6139,"Urbano",3]
[{"$f":"IF(C97201=base!$AC$2,ROW()+1,\"\")","v":{"$error":"#REF!"}},{"$f":"IF(C97201=base!$W$2,ROW()+1,\"\")","v":{"$error":"#REF!"}},72227,"Cerro del Marqués","Colonia","Puebla","Puebla","Puebla (Heroica Puebla)",72261,21,72261,null,9,114,535,"Urbano",3]
[{"$f":"IF(C97280=base!$AC$2,ROW()+1,\"\")","v":{"$error":"#REF!"}},{"$f":"IF(C97280=base!$W$2,ROW()+1,\"\")","v":{"$error":"#REF!"}},72304,"Camino a Manzanilla","Zona industrial","Puebla","Puebla","Puebla (Heroica Puebla)",72261,21,72261,null,37,114,6328,"Urbano",3]
[{"$f":"IF(C97359=base!$AC$2,ROW()+1,\"\")","v":{"$error":"#REF!"}},{"$f":"IF(C97359=base!$W$2,ROW()+1,\"\")","v":{"$error":"#REF!"}},72400,"O´Farril","Unidad habitacional","Puebla","Puebla","Puebla (Heroica Puebla)",72431,21,72431,null,31,114,5864,"Urbano",3]
[{"$f":"IF(C97433=base!$AC$2,ROW()+1,\"\")","v":{"$error":"#REF!"}},{"$f":"IF(C97433=base!$W$2,ROW()+1,\"\")","v":{"$error":"#REF!"}},72464,"Ex-Rancho Vaquerías","Colonia","Puebla","Puebla","Puebla (Heroica Puebla)",72471,21,72471,null,9,114,3186,"Urbano",3]
[{"$f":"IF(C97508=base!$AC$2,ROW()+1,\"\")","v":{"$error":"#REF!"}},{"$f":"IF(C97508=base!$W$2,ROW()+1,\"\")","v":{"$error":"#REF!"}},72490,"Unidad Antorchista","Colonia","Puebla","Puebla","Puebla (Heroica Puebla)",72471,21,72471,null,9,114,679,"Urbano",3]
[{"$f":"IF(C97514=base!$AC$2,ROW()+1,\"\")","v":{"$error":"#REF!"}},{"$f":"IF(C97514=base!$W$2,ROW()+1,\"\")","v":{"$error":"#REF!"}},72490,"San Ramón 3a Sección","Colonia","Puebla","Puebla","Puebla (Heroica Puebla)",72471,21,72471,null,9,114,330,"Urbano",3]
[{"$f":"IF(C97595=base!$AC$2,ROW()+1,\"\")","v":{"$error":"#REF!"}},{"$f":"IF(C97595=base!$W$2,ROW()+1,\"\")","v":{"$error":"#REF!"}},72498,"Villa del Tratado","Conjunto habitacional","Puebla","Puebla","Puebla (Heroica Puebla)",72471,21,72471,null,12,114,2721,"Urbano",3]
[{"$f":"IF(C97667=base!$AC$2,ROW()+1,\"\")","v":{"$error":"#REF!"}},{"$f":"IF(C97667=base!$W$2,ROW()+1,\"\")","v":{"$error":"#REF!"}},72530,"Puebla","Residencial","Puebla","Puebla","Puebla (Heroica Puebla)",72471,21,72471,null,30,114,364,"Urbano",3]
[{"$f":"IF(C97753=base!$AC$2,ROW()+1,\"\")","v":{"$error":"#REF!"}},{"$f":"IF(C97753=base!$W$2,ROW()+1,\"\")","v":{"$error":"#REF!"}},72590,"Las Glorias","Colonia","Puebla","Puebla","Puebla (Heroica Puebla)",72471,21,72471,null,9,114,2730,"Urbano",3]
[{"$f":"IF(C97852=base!$AC$2,ROW()+1,\"\")","v":{"$error":"#REF!"}},{"$f":"IF(C97852=base!$W$2,ROW()+1,\"\")","v":{"$error":"#REF!"}},72702,"Estrella del Mar","Colonia","Cuautlancingo","Puebla","Cuautlancingo",72761,21,72761,null,9,41,6905,"Urbano",11]
[{"$f":"IF(C97911=base!$AC$2,ROW()+1,\"\")","v":{"$error":"#REF!"}},{"$f":"IF(C97911=base!$W$2,ROW()+1,\"\")","v":{"$error":"#REF!"}},72707,"Tribeca","Residencial","Cuautlancingo","Puebla","Cuautlancingo",72761,21,72761,null,30,41,6949,"Urbano",11]
[{"$f":"IF(C98005=base!$AC$2,ROW()+1,\"\")","v":{"$error":"#REF!"}},{"$f":"IF(C98005=base!$W$2,ROW()+1,\"\")","v":{"$error":"#REF!"}},72754,"San José","Conjunto habitacional","San Pedro Cholula","Puebla","San Pedro Cholula",72761,21,72761,null,12,140,6606,"Urbano",8]
[{"$f":"IF(C98060=base!$AC$2,ROW()+1,\"\")","v":{"$error":"#REF!"}},{"$f":"IF(C98060=base!$W$2,ROW()+1,\"\")","v":{"$error":"#REF!"}},72765,"Guadalupe","Colonia","San Pedro Cholula","Puebla","San Pedro Cholula",72761,21,72761,null,9,140,2925,"Semiurbano",8]
[{"$f":"IF(C98086=base!$AC$2,ROW()+1,\"\")","v":{"$error":"#REF!"}},{"$f":"IF(C98086=base!$W$2,ROW()+1,\"\")","v":{"$error":"#REF!"}},72775,"Villas Jardines","Condominio","San Pedro Cholula","Puebla","San Pedro Cholula",72761,21,72761,null,10,140,2941,"Urbano",8]
[{"$f":"IF(C98218=base!$AC$2,ROW()+1,\"\")","v":{"$error":"#REF!"}},{"$f":"IF(C98218=base!$W$2,ROW()+1,\"\")","v":{"$error":"#REF!"}},72825,"Rinconada de la Fortuna","Fraccionamiento","San Andrés Cholula","Puebla","San Andrés Cholula",72761,21,72761,null,21,119,6677,"Urbano",7]
[{"$f":"IF(C98239=base!$AC$2,ROW()+1,\"\")","v":{"$error":"#REF!"}},{"$f":"IF(C98239=base!$W$2,ROW()+1,\"\")","v":{"$error":"#REF!"}},72825,"Villa de los Angeles I","Fraccionamiento","San Andrés Cholula","Puebla","San Andrés Cholula",72761,21,72761,null,21,119,3431,"Urbano",7]
[{"$f":"IF(C98305=base!$AC$2,ROW()+1,\"\")","v":{"$error":"#REF!"}},{"$f":"IF(C98305=base!$W$2,ROW()+1,\"\")","v":{"$error":"#REF!"}},72848,"De Jesús","Barrio","San Andrés Cholula","Puebla","San Andrés Cholula",72761,21,72761,null,2,119,6806,"Rural",7]
[{"$f":"IF(C98424=base!$AC$2,ROW()+1,\"\")","v":{"$error":"#REF!"}},{"$f":"IF(C98424=base!$W$2,ROW()+1,\"\")","v":{"$error":"#REF!"}},72994,"Colosio","Colonia","Amozoc","Puebla","Amozoc",72981,21,72981,null,9,15,6031,"Urbano",17]
[{"$f":"IF(C98463=base!$AC$2,ROW()+1,\"\")","v":{"$error":"#REF!"}},{"$f":"IF(C98463=base!$W$2,ROW()+1,\"\")","v":{"$error":"#REF!"}},73028,"Agua Linda","Ranchería","Pantepec","Puebla",null,73081,21,73081,null,29,111,729,"Rural"]
[{"$f":"IF(C98577=base!$AC$2,ROW()+1,\"\")","v":{"$error":"#REF!"}},{"$f":"IF(C98577=base!$W$2,ROW()+1,\"\")","v":{"$error":"#REF!"}},73140,"Naupan","Pueblo","Naupan","Puebla",null,73171,21,73171,null,28,100,829,"Rural"]
[{"$f":"IF(C98621=base!$AC$2,ROW()+1,\"\")","v":{"$error":"#REF!"}},{"$f":"IF(C98621=base!$W$2,ROW()+1,\"\")","v":{"$error":"#REF!"}},73173,"La Cumbre","Colonia","Huauchinango","Puebla","Huauchinango",73171,21,73171,null,9,71,3309,"Semiurbano",9]
[{"$f":"IF(C98695=base!$AC$2,ROW()+1,\"\")","v":{"$error":"#REF!"}},{"$f":"IF(C98695=base!$W$2,ROW()+1,\"\")","v":{"$error":"#REF!"}},73193,"Tejamaniles","Ejido","Ahuazotepec","Puebla",null,73171,21,73171,null,15,8,866,"Rural"]
[{"$f":"IF(C98786=base!$AC$2,ROW()+1,\"\")","v":{"$error":"#REF!"}},{"$f":"IF(C98786=base!$W$2,ROW()+1,\"\")","v":{"$error":"#REF!"}},73247,"Los Tulipanes","Finca","Zihuateutla","Puebla",null,73081,21,73081,null,20,213,7994,"Rural"]
[{"$f":"IF(C98853=base!$AC$2,ROW()+1,\"\")","v":{"$error":"#REF!"}},{"$f":"IF(C98853=base!$W$2,ROW()+1,\"\")","v":{"$error":"#REF!"}},73285,"Zintlapal","Poblado comunal","Tlapacoya","Puebla",null,73201,21,73201,null,27,184,7455,"Rural"]
[{"$f":"IF(C98939=base!$AC$2,ROW()+1,\"\")","v":{"$error":"#REF!"}},{"$f":"IF(C98939=base!$W$2,ROW()+1,\"\")","v":{"$error":"#REF!"}},73310,"7 de Enero","Colonia","Zacatlán","Puebla","Zacatlán",73311,21,73311,null,9,208,3478,"Urbano",14]
[{"$f":"IF(C99002=base!$AC$2,ROW()+1,\"\")","v":{"$error":"#REF!"}},{"$f":"IF(C99002=base!$W$2,ROW()+1,\"\")","v":{"$error":"#REF!"}},73337,"Tlacotepec","Pueblo","Ahuacatlán","Puebla",null,73311,21,73311,null,28,6,999,"Rural"]
[{"$f":"IF(C99020=base!$AC$2,ROW()+1,\"\")","v":{"$error":"#REF!"}},{"$f":"IF(C99020=base!$W$2,ROW()+1,\"\")","v":{"$error":"#REF!"}},73355,"África Vieja","Rancho","San Felipe Tepatlán","Puebla",null,73311,21,73311,null,48,123,1,"Rural"]
[{"$f":"IF(C99089=base!$AC$2,ROW()+1,\"\")","v":{"$error":"#REF!"}},{"$f":"IF(C99089=base!$W$2,ROW()+1,\"\")","v":{"$error":"#REF!"}},73436,"Xanátl","Ranchería","Hueytlalpan","Puebla",null,73682,21,73682,null,29,77,7590,"Rural"]
[{"$f":"IF(C99173=base!$AC$2,ROW()+1,\"\")","v":{"$error":"#REF!"}},{"$f":"IF(C99173=base!$W$2,ROW()+1,\"\")","v":{"$error":"#REF!"}},73505,"Chacal","Ejido","Tenampulco","Puebla",null,73582,21,73582,null,15,158,1076,"Rural"]
[{"$f":"IF(C99247=base!$AC$2,ROW()+1,\"\")","v":{"$error":"#REF!"}},{"$f":"IF(C99247=base!$W$2,ROW()+1,\"\")","v":{"$error":"#REF!"}},73566,"Kapola","Ranchería","Cuetzalan del Progreso","Puebla",null,73561,21,73561,null,29,43,5771,"Rural"]
[{"$f":"IF(C99358=base!$AC$2,ROW()+1,\"\")","v":{"$error":"#REF!"}},{"$f":"IF(C99358=base!$W$2,ROW()+1,\"\")","v":{"$error":"#REF!"}},73620,"El Terrero","Ranchería","Aquixtla","Puebla",null,73291,21,73291,null,29,16,1156,"Rural"]
[{"$f":"IF(C99405=base!$AC$2,ROW()+1,\"\")","v":{"$error":"#REF!"}},{"$f":"IF(C99405=base!$W$2,ROW()+1,\"\")","v":{"$error":"#REF!"}},73666,"La Manzanilla","Barrio","Xochiapulco","Puebla",null,73682,21,73682,null,2,200,1194,"Rural"]
[{"$f":"IF(C99511=base!$AC$2,ROW()+1,\"\")","v":{"$error":"#REF!"}},{"$f":"IF(C99511=base!$W$2,ROW()+1,\"\")","v":{"$error":"#REF!"}},73743,"Ixtactenango","Barrio","Zautla","Puebla",null,73701,21,73701,null,2,212,1258,"Rural"]
[{"$f":"IF(C99563=base!$AC$2,ROW()+1,\"\")","v":{"$error":"#REF!"}},{"$f":"IF(C99563=base!$W$2,ROW()+1,\"\")","v":{"$error":"#REF!"}},73791,"Pedernales","Ranchería","Libres","Puebla",null,73781,21,73781,null,29,94,1283,"Rural"]
[{"$f":"IF(C99592=base!$AC$2,ROW()+1,\"\")","v":{"$error":"#REF!"}},{"$f":"IF(C99592=base!$W$2,ROW()+1,\"\")","v":{"$error":"#REF!"}},73811,"Las Arboledas de San Rafael Ahuateno","Colonia","Teziutlán","Puebla","Teziutlan",73801,21,73801,null,9,174,1297,"Rural",6]
[{"$f":"IF(C99712=base!$AC$2,ROW()+1,\"\")","v":{"$error":"#REF!"}},{"$f":"IF(C99712=base!$W$2,ROW()+1,\"\")","v":{"$error":"#REF!"}},73905,"Buena Vista","Poblado comunal","Tlatlauquitepec","Puebla",null,73901,21,73901,null,27,186,7413,"Rural"]
[{"$f":"IF(C99745=base!$AC$2,ROW()+1,\"\")","v":{"$error":"#REF!"}},{"$f":"IF(C99745=base!$W$2,ROW()+1,\"\")","v":{"$error":"#REF!"}},73907,"Plan de Guadalupe","Barrio","Tlatlauquitepec","Puebla",null,73901,21,73901,null,2,186,1341,"Rural"]
[{"$f":"IF(C99870=base!$AC$2,ROW()+1,\"\")","v":{"$error":"#REF!"}},{"$f":"IF(C99870=base!$W$2,ROW()+1,\"\")","v":{"$error":"#REF!"}},73968,"Cuaxoxpa","Colonia","Teziutlán","Puebla",null,73801,21,73801,null,9,174,3685,"Rural"]
[{"$f":"IF(C99930=base!$AC$2,ROW()+1,\"\")","v":{"$error":"#REF!"}},{"$f":"IF(C99930=base!$W$2,ROW()+1,\"\")","v":{"$error":"#REF!"}},73983,"San Nicolás Temextla","Colonia","Cuyoaco","Puebla",null,73781,21,73781,null,9,44,7700,"Rural"]
[{"$f":"IF(C99957=base!$AC$2,ROW()+1,\"\")","v":{"$error":"#REF!"}},{"$f":"IF(C99957=base!$W$2,ROW()+1,\"\")","v":{"$error":"#REF!"}},73990,"El Fuerte de la Unión","Pueblo","Tepeyahualco","Puebla",null,73781,21,73781,null,28,170,1407,"Rural"]
[{"$f":"IF(C100083=base!$AC$2,ROW()+1,\"\")","v":{"$error":"#REF!"}},{"$f":"IF(C100083=base!$W$2,ROW()+1,\"\")","v":{"$error":"#REF!"}},74122,"San Rafael Tlanalapan","Pueblo","San Martín Texmelucan","Puebla",null,74001,21,74001,null,28,132,1474,"Rural"]
[{"$f":"IF(C100115=base!$AC$2,ROW()+1,\"\")","v":{"$error":"#REF!"}},{"$f":"IF(C100115=base!$W$2,ROW()+1,\"\")","v":{"$error":"#REF!"}},74137,"La Ladrillera","Ranchería","San Salvador el Verde","Puebla",null,74001,21,74001,null,29,143,7792,"Rural"]
[{"$f":"IF(C100164=base!$AC$2,ROW()+1,\"\")","v":{"$error":"#REF!"}},{"$f":"IF(C100164=base!$W$2,ROW()+1,\"\")","v":{"$error":"#REF!"}},74166,"Santa María Tianguistenco","Pueblo","Huejotzingo","Puebla",null,74164,21,74164,null,28,74,1513,"Rural"]
[{"$f":"IF(C100264=base!$AC$2,ROW()+1,\"\")","v":{"$error":"#REF!"}},{"$f":"IF(C100264=base!$W$2,ROW()+1,\"\")","v":{"$error":"#REF!"}},74357,"Tlamapa","Barrio","Santa Isabel Cholula","Puebla",null,72761,21,72761,null,2,148,1592,"Rural"]
[{"$f":"IF(C100317=base!$AC$2,ROW()+1,\"\")","v":{"$error":"#REF!"}},{"$f":"IF(C100317=base!$W$2,ROW()+1,\"\")","v":{"$error":"#REF!"}},74376,"El Paraíso","Ranchería","Huaquechula","Puebla",null,74201,21,74201,null,29,69,1643,"Rural"]
[{"$f":"IF(C100422=base!$AC$2,ROW()+1,\"\")","v":{"$error":"#REF!"}},{"$f":"IF(C100422=base!$W$2,ROW()+1,\"\")","v":{"$error":"#REF!"}},74570,"San Sebastían Puctla","Pueblo","Izúcar de Matamoros","Puebla",null,74401,21,74401,null,28,85,1734,"Rural"]
[{"$f":"IF(C100502=base!$AC$2,ROW()+1,\"\")","v":{"$error":"#REF!"}},{"$f":"IF(C100502=base!$W$2,ROW()+1,\"\")","v":{"$error":"#REF!"}},74653,"Zaragoza","Ranchería","Coatzingo","Puebla",null,74401,21,74401,null,29,31,1793,"Rural"]
[{"$f":"IF(C100580=base!$AC$2,ROW()+1,\"\")","v":{"$error":"#REF!"}},{"$f":"IF(C100580=base!$W$2,ROW()+1,\"\")","v":{"$error":"#REF!"}},74770,"Totecamila","Pueblo","Ixcamilpa de Guerrero","Puebla",null,74731,21,74731,null,28,81,1856,"Rural"]
[{"$f":"IF(C100655=base!$AC$2,ROW()+1,\"\")","v":{"$error":"#REF!"}},{"$f":"IF(C100655=base!$W$2,ROW()+1,\"\")","v":{"$error":"#REF!"}},74850,"Ahuehuetitla","Pueblo","Ahuehuetitla","Puebla",null,74881,21,74881,null,28,9,1907,"Rural"]
[{"$f":"IF(C100667=base!$AC$2,ROW()+1,\"\")","v":{"$error":"#REF!"}},{"$f":"IF(C100667=base!$W$2,ROW()+1,\"\")","v":{"$error":"#REF!"}},74864,"Paso Guamúchil","Ranchería","San Pablo Anicano","Puebla",null,74948,21,74948,null,29,139,7855,"Rural"]
[{"$f":"IF(C100736=base!$AC$2,ROW()+1,\"\")","v":{"$error":"#REF!"}},{"$f":"IF(C100736=base!$W$2,ROW()+1,\"\")","v":{"$error":"#REF!"}},74928,"Cuajilote","Ranchería","Xayacatlán de Bravo","Puebla",null,74948,21,74948,null,29,196,7882,"Rural"]
[{"$f":"IF(C100816=base!$AC$2,ROW()+1,\"\")","v":{"$error":"#REF!"}},{"$f":"IF(C100816=base!$W$2,ROW()+1,\"\")","v":{"$error":"#REF!"}},74970,"Purísima","Barrio","Petlalcingo","Puebla",null,74948,21,74948,null,2,112,7851,"Rural"]
[{"$f":"IF(C100889=base!$AC$2,ROW()+1,\"\")","v":{"$error":"#REF!"}},{"$f":"IF(C100889=base!$W$2,ROW()+1,\"\")","v":{"$error":"#REF!"}},75033,"Pozo Guerra","Ranchería","San Nicolás Buenos Aires","Puebla",null,75161,21,75161,null,29,137,7043,"Rural"]
[{"$f":"IF(C100974=base!$AC$2,ROW()+1,\"\")","v":{"$error":"#REF!"}},{"$f":"IF(C100974=base!$W$2,ROW()+1,\"\")","v":{"$error":"#REF!"}},75070,"Manzanitos","Ranchería","Chilchotla","Puebla",null,75041,21,75041,null,29,58,2059,"Rural"]
[{"$f":"IF(C101042=base!$AC$2,ROW()+1,\"\")","v":{"$error":"#REF!"}},{"$f":"IF(C101042=base!$W$2,ROW()+1,\"\")","v":{"$error":"#REF!"}},75098,"Tizapa","Ranchería","Chichiquila","Puebla",null,75041,21,75041,null,29,50,2097,"Rural"]
[{"$f":"IF(C101132=base!$AC$2,ROW()+1,\"\")","v":{"$error":"#REF!"}},{"$f":"IF(C101132=base!$W$2,ROW()+1,\"\")","v":{"$error":"#REF!"}},75153,"La Coyotera","Ranchería","Acatzingo","Puebla",null,75152,21,75152,null,29,4,7197,"Rural"]
[{"$f":"IF(C101227=base!$AC$2,ROW()+1,\"\")","v":{"$error":"#REF!"}},{"$f":"IF(C101227=base!$W$2,ROW()+1,\"\")","v":{"$error":"#REF!"}},75205,"San José Carpinteros","Pueblo","Tepeaca","Puebla",null,75201,21,75201,null,28,164,2174,"Rural"]
[{"$f":"IF(C101290=base!$AC$2,ROW()+1,\"\")","v":{"$error":"#REF!"}},{"$f":"IF(C101290=base!$W$2,ROW()+1,\"\")","v":{"$error":"#REF!"}},75240,"Tecali de Herrera","Pueblo","Tecali de Herrera","Puebla",null,75201,21,75201,null,28,153,2195,"Rural"]
[{"$f":"IF(C101308=base!$AC$2,ROW()+1,\"\")","v":{"$error":"#REF!"}},{"$f":"IF(C101308=base!$W$2,ROW()+1,\"\")","v":{"$error":"#REF!"}},75301,"San Isidro Chiapa","Ranchería","Tzicatlacoyan","Puebla",null,72471,21,72471,null,29,193,8061,"Rural"]
[{"$f":"IF(C101439=base!$AC$2,ROW()+1,\"\")","v":{"$error":"#REF!"}},{"$f":"IF(C101439=base!$W$2,ROW()+1,\"\")","v":{"$error":"#REF!"}},75483,"INFONAVIT los Arcos","Fraccionamiento","Tecamachalco","Puebla","Tecamachalco",75481,21,75481,null,21,154,6005,"Semiurbano",13]
[{"$f":"IF(C101461=base!$AC$2,ROW()+1,\"\")","v":{"$error":"#REF!"}},{"$f":"IF(C101461=base!$W$2,ROW()+1,\"\")","v":{"$error":"#REF!"}},75490,"Juquila","Barrio","Tecamachalco","Puebla",null,75481,21,75481,null,2,154,7056,"Rural"]
[{"$f":"IF(C101526=base!$AC$2,ROW()+1,\"\")","v":{"$error":"#REF!"}},{"$f":"IF(C101526=base!$W$2,ROW()+1,\"\")","v":{"$error":"#REF!"}},75520,"SESMA","Colonia","Chalchicomula de Sesma","Puebla","Ciudad Serdán",75521,21,75521,null,9,45,6483,"Semiurbano",16]
[{"$f":"IF(C101614=base!$AC$2,ROW()+1,\"\")","v":{"$error":"#REF!"}},{"$f":"IF(C101614=base!$W$2,ROW()+1,\"\")","v":{"$error":"#REF!"}},75610,"San Pedro","Barrio","Tochtepec","Puebla",null,75481,21,75481,null,2,189,7473,"Urbano"]
[{"$f":"IF(C101684=base!$AC$2,ROW()+1,\"\")","v":{"$error":"#REF!"}},{"$f":"IF(C101684=base!$W$2,ROW()+1,\"\")","v":{"$error":"#REF!"}},75689,"Santa María la Alta","Ranchería","Tlacotepec de Benito Juárez","Puebla",null,75682,21,75682,null,29,177,2393,"Rural"]
[{"$f":"IF(C101799=base!$AC$2,ROW()+1,\"\")","v":{"$error":"#REF!"}},{"$f":"IF(C101799=base!$W$2,ROW()+1,\"\")","v":{"$error":"#REF!"}},75750,"Aquiles Serdán","Colonia","Tehuacán","Puebla","Tehuacan",75701,21,75701,null,9,156,2462,"Urbano",5]
[{"$f":"IF(C101842=base!$AC$2,ROW()+1,\"\")","v":{"$error":"#REF!"}},{"$f":"IF(C101842=base!$W$2,ROW()+1,\"\")","v":{"$error":"#REF!"}},75765,"3 de Mayo","Colonia","Tehuacán","Puebla","Tehuacan",75701,21,75701,null,9,156,2491,"Urbano",5]
[{"$f":"IF(C101880=base!$AC$2,ROW()+1,\"\")","v":{"$error":"#REF!"}},{"$f":"IF(C101880=base!$W$2,ROW()+1,\"\")","v":{"$error":"#REF!"}},75790,"La Paz","Colonia","Tehuacán","Puebla","Tehuacan",75701,21,75701,null,9,156,2521,"Urbano",5]
[{"$f":"IF(C101991=base!$AC$2,ROW()+1,\"\")","v":{"$error":"#REF!"}},{"$f":"IF(C101991=base!$W$2,ROW()+1,\"\")","v":{"$error":"#REF!"}},75890,"Atolotitlán","Pueblo","Caltepec","Puebla",null,75701,21,75701,null,28,27,2596,"Rural"]
[{"$f":"IF(C102033=base!$AC$2,ROW()+1,\"\")","v":{"$error":"#REF!"}},{"$f":"IF(C102033=base!$W$2,ROW()+1,\"\")","v":{"$error":"#REF!"}},75916,"Tepetlampa","Pueblo","Ajalpan","Puebla",null,75911,21,75911,null,28,10,5807,"Rural"]
[{"$f":"IF(C102149=base!$AC$2,ROW()+1,\"\")","v":{"$error":"#REF!"}},{"$f":"IF(C102149=base!$W$2,ROW()+1,\"\")","v":{"$error":"#REF!"}},76024,"Villa Los Arcos","Fraccionamiento","Querétaro","Querétaro","Querétaro",76021,22,76021,null,21,14,813,"Urbano",1]
[{"$f":"IF(C102186=base!$AC$2,ROW()+1,\"\")","v":{"$error":"#REF!"}},{"$f":"IF(C102186=base!$W$2,ROW()+1,\"\")","v":{"$error":"#REF!"}},76047,"Quintas del Marqués","Colonia","Querétaro","Querétaro","Querétaro",76021,22,76021,null,9,14,56,"Urbano",1]
[{"$f":"IF(C102236=base!$AC$2,ROW()+1,\"\")","v":{"$error":"#REF!"}},{"$f":"IF(C102236=base!$W$2,ROW()+1,\"\")","v":{"$error":"#REF!"}},76085,"Lázaro Cárdenas III","Colonia","Querétaro","Querétaro","Querétaro",76201,22,76201,null,9,14,833,"Urbano",1]
[{"$f":"IF(C102371=base!$AC$2,ROW()+1,\"\")","v":{"$error":"#REF!"}},{"$f":"IF(C102371=base!$W$2,ROW()+1,\"\")","v":{"$error":"#REF!"}},76116,"Ampliación Patria Nueva","Colonia","Querétaro","Querétaro","Querétaro",76132,22,76132,null,9,14,1617,"Urbano",1]
[{"$f":"IF(C102394=base!$AC$2,ROW()+1,\"\")","v":{"$error":"#REF!"}},{"$f":"IF(C102394=base!$W$2,ROW()+1,\"\")","v":{"$error":"#REF!"}},76117,"Centenario","Colonia","Querétaro","Querétaro","Querétaro",76132,22,76132,null,9,14,3100,"Urbano",1]
[{"$f":"IF(C102452=base!$AC$2,ROW()+1,\"\")","v":{"$error":"#REF!"}},{"$f":"IF(C102452=base!$W$2,ROW()+1,\"\")","v":{"$error":"#REF!"}},76121,"Tlanese","Colonia","Querétaro","Querétaro","Querétaro",76132,22,76132,null,9,14,1177,"Urbano",1]
[{"$f":"IF(C102552=base!$AC$2,ROW()+1,\"\")","v":{"$error":"#REF!"}},{"$f":"IF(C102552=base!$W$2,ROW()+1,\"\")","v":{"$error":"#REF!"}},76140,"Colinas del Parque","Colonia","Querétaro","Querétaro","Querétaro",76132,22,76132,null,9,14,126,"Urbano",1]
[{"$f":"IF(C102605=base!$AC$2,ROW()+1,\"\")","v":{"$error":"#REF!"}},{"$f":"IF(C102605=base!$W$2,ROW()+1,\"\")","v":{"$error":"#REF!"}},76147,"Privalia Ambienta","Fraccionamiento","Querétaro","Querétaro","Querétaro",76132,22,76132,null,21,14,134,"Urbano",1]
[{"$f":"IF(C102701=base!$AC$2,ROW()+1,\"\")","v":{"$error":"#REF!"}},{"$f":"IF(C102701=base!$W$2,ROW()+1,\"\")","v":{"$error":"#REF!"}},76156,"Los Alcanfores Sección Norte","Equipamiento","Querétaro","Querétaro","Querétaro",76021,22,76021,null,17,14,1676,"Urbano",1]
[{"$f":"IF(C102758=base!$AC$2,ROW()+1,\"\")","v":{"$error":"#REF!"}},{"$f":"IF(C102758=base!$W$2,ROW()+1,\"\")","v":{"$error":"#REF!"}},76169,"Plaza del Parque","Colonia","Querétaro","Querétaro","Querétaro",76021,22,76021,null,9,14,180,"Urbano",1]
[{"$f":"IF(C102859=base!$AC$2,ROW()+1,\"\")","v":{"$error":"#REF!"}},{"$f":"IF(C102859=base!$W$2,ROW()+1,\"\")","v":{"$error":"#REF!"}},76220,"Santa Lucia","Colonia","Querétaro","Querétaro",null,76222,22,76222,null,9,14,1554,"Urbano"]
[{"$f":"IF(C102933=base!$AC$2,ROW()+1,\"\")","v":{"$error":"#REF!"}},{"$f":"IF(C102933=base!$W$2,ROW()+1,\"\")","v":{"$error":"#REF!"}},76230,"Nuevo Paraíso","Fraccionamiento","Querétaro","Querétaro",null,76222,22,76222,null,21,14,1540,"Semiurbano"]
[{"$f":"IF(C102967=base!$AC$2,ROW()+1,\"\")","v":{"$error":"#REF!"}},{"$f":"IF(C102967=base!$W$2,ROW()+1,\"\")","v":{"$error":"#REF!"}},76237,"Campi","Colonia","Querétaro","Querétaro",null,76132,22,76132,null,9,14,294,"Rural"]
[{"$f":"IF(C103020=base!$AC$2,ROW()+1,\"\")","v":{"$error":"#REF!"}},{"$f":"IF(C103020=base!$W$2,ROW()+1,\"\")","v":{"$error":"#REF!"}},76246,"El Colorado","Pueblo","El Marqués","Querétaro",null,76061,22,76061,null,28,11,291,"Urbano"]
[{"$f":"IF(C103120=base!$AC$2,ROW()+1,\"\")","v":{"$error":"#REF!"}},{"$f":"IF(C103120=base!$W$2,ROW()+1,\"\")","v":{"$error":"#REF!"}},76276,"El Carrizal","Ranchería","Colón","Querétaro",null,76271,22,76271,null,29,5,327,"Rural"]
[{"$f":"IF(C103178=base!$AC$2,ROW()+1,\"\")","v":{"$error":"#REF!"}},{"$f":"IF(C103178=base!$W$2,ROW()+1,\"\")","v":{"$error":"#REF!"}},76295,"Ampliación Galeras Oeste","Ranchería","Colón","Querétaro",null,76271,22,76271,null,29,5,2464,"Rural"]
[{"$f":"IF(C103233=base!$AC$2,ROW()+1,\"\")","v":{"$error":"#REF!"}},{"$f":"IF(C103233=base!$W$2,ROW()+1,\"\")","v":{"$error":"#REF!"}},76316,"Loma de la Cañada","Ranchería","Pinal de Amoles","Querétaro",null,76301,22,76301,null,29,2,1975,"Rural"]
[{"$f":"IF(C103336=base!$AC$2,ROW()+1,\"\")","v":{"$error":"#REF!"}},{"$f":"IF(C103336=base!$W$2,ROW()+1,\"\")","v":{"$error":"#REF!"}},76327,"Huazquilíco","Ranchería","Pinal de Amoles","Querétaro",null,76301,22,76301,null,29,2,359,"Rural"]
[{"$f":"IF(C103386=base!$AC$2,ROW()+1,\"\")","v":{"$error":"#REF!"}},{"$f":"IF(C103386=base!$W$2,ROW()+1,\"\")","v":{"$error":"#REF!"}},76337,"Cuatro Palos","Ranchería","Pinal de Amoles","Querétaro",null,76301,22,76301,null,29,2,1900,"Rural"]
[{"$f":"IF(C103494=base!$AC$2,ROW()+1,\"\")","v":{"$error":"#REF!"}},{"$f":"IF(C103494=base!$W$2,ROW()+1,\"\")","v":{"$error":"#REF!"}},76350,"Espadañuela","Ranchería","Jalpan de Serra","Querétaro",null,76343,22,76343,null,29,9,2076,"Rural"]
[{"$f":"IF(C103539=base!$AC$2,ROW()+1,\"\")","v":{"$error":"#REF!"}},{"$f":"IF(C103539=base!$W$2,ROW()+1,\"\")","v":{"$error":"#REF!"}},76355,"San Francisco","Poblado comunal","Jalpan de Serra","Querétaro",null,76343,22,76343,null,27,9,2757,"Rural"]
[{"$f":"IF(C103643=base!$AC$2,ROW()+1,\"\")","v":{"$error":"#REF!"}},{"$f":"IF(C103643=base!$W$2,ROW()+1,\"\")","v":{"$error":"#REF!"}},76395,"El Retén","Ranchería","Landa de Matamoros","Querétaro",null,76343,22,76343,null,29,10,1712,"Rural"]
[{"$f":"IF(C103692=base!$AC$2,ROW()+1,\"\")","v":{"$error":"#REF!"}},{"$f":"IF(C103692=base!$W$2,ROW()+1,\"\")","v":{"$error":"#REF!"}},76413,"El Sabinito","Ranchería","Arroyo Seco","Querétaro",null,76343,22,76343,null,29,3,445,"Rural"]
[{"$f":"IF(C103801=base!$AC$2,ROW()+1,\"\")","v":{"$error":"#REF!"}},{"$f":"IF(C103801=base!$W$2,ROW()+1,\"\")","v":{"$error":"#REF!"}},76478,"La Estacada (Cruz del Milagro)","Ranchería","Peñamiller","Querétaro",null,76511,22,76511,null,29,13,2677,"Rural"]
[{"$f":"IF(C103805=base!$AC$2,ROW()+1,\"\")","v":{"$error":"#REF!"}},{"$f":"IF(C103805=base!$W$2,ROW()+1,\"\")","v":{"$error":"#REF!"}},76478,"Piedra Grande","Ranchería","Peñamiller","Querétaro",null,76511,22,76511,null,29,13,2674,"Rural"]
[{"$f":"IF(C103888=base!$AC$2,ROW()+1,\"\")","v":{"$error":"#REF!"}},{"$f":"IF(C103888=base!$W$2,ROW()+1,\"\")","v":{"$error":"#REF!"}},76499,"Cuesta del Vino","Ranchería","Peñamiller","Querétaro",null,76511,22,76511,null,29,13,2665,"Rural"]
[{"$f":"IF(C103958=base!$AC$2,ROW()+1,\"\")","v":{"$error":"#REF!"}},{"$f":"IF(C103958=base!$W$2,ROW()+1,\"\")","v":{"$error":"#REF!"}},76523,"Tuna Manza","Ranchería","Cadereyta de Montes","Querétaro",null,76511,22,76511,null,29,4,2974,"Rural"]
[{"$f":"IF(C104046=base!$AC$2,ROW()+1,\"\")","v":{"$error":"#REF!"}},{"$f":"IF(C104046=base!$W$2,ROW()+1,\"\")","v":{"$error":"#REF!"}},76535,"Las Joyas","Ranchería","Cadereyta de Montes","Querétaro",null,76511,22,76511,null,29,4,2917,"Rural"]
[{"$f":"IF(C104111=base!$AC$2,ROW()+1,\"\")","v":{"$error":"#REF!"}},{"$f":"IF(C104111=base!$W$2,ROW()+1,\"\")","v":{"$error":"#REF!"}},76546,"El Arbolito","Pueblo","Cadereyta de Montes","Querétaro",null,76511,22,76511,null,28,4,2898,"Rural"]
[{"$f":"IF(C104195=base!$AC$2,ROW()+1,\"\")","v":{"$error":"#REF!"}},{"$f":"IF(C104195=base!$W$2,ROW()+1,\"\")","v":{"$error":"#REF!"}},76575,"El Bordo","Ranchería","San Joaquín","Querétaro",null,76511,22,76511,null,29,15,19,"Rural"]
[{"$f":"IF(C104264=base!$AC$2,ROW()+1,\"\")","v":{"$error":"#REF!"}},{"$f":"IF(C104264=base!$W$2,ROW()+1,\"\")","v":{"$error":"#REF!"}},76633,"Sabino de San Ambrosio","Ranchería","Tolimán","Querétaro",null,76601,22,76601,null,29,18,553,"Rural"]
[{"$f":"IF(C104353=base!$AC$2,ROW()+1,\"\")","v":{"$error":"#REF!"}},{"$f":"IF(C104353=base!$W$2,ROW()+1,\"\")","v":{"$error":"#REF!"}},76681,"El Jagüey Grande","Ranchería","Ezequiel Montes","Querétaro",null,76652,22,76652,null,29,7,567,"Rural"]
[{"$f":"IF(C104377=base!$AC$2,ROW()+1,\"\")","v":{"$error":"#REF!"}},{"$f":"IF(C104377=base!$W$2,ROW()+1,\"\")","v":{"$error":"#REF!"}},76704,"El Toreo","Fraccionamiento","Pedro Escobedo","Querétaro",null,76701,22,76701,null,21,12,1359,"Urbano"]
[{"$f":"IF(C104511=base!$AC$2,ROW()+1,\"\")","v":{"$error":"#REF!"}},{"$f":"IF(C104511=base!$W$2,ROW()+1,\"\")","v":{"$error":"#REF!"}},76800,"Centro","Colonia","San Juan del Río","Querétaro","San Juan del Rio",76811,22,76811,null,9,16,614,"Urbano",2]
[{"$f":"IF(C104530=base!$AC$2,ROW()+1,\"\")","v":{"$error":"#REF!"}},{"$f":"IF(C104530=base!$W$2,ROW()+1,\"\")","v":{"$error":"#REF!"}},76803,"La Guitarrilla","Fraccionamiento","San Juan del Río","Querétaro","San Juan del Rio",76811,22,76811,null,21,16,1383,"Urbano",2]
[{"$f":"IF(C104598=base!$AC$2,ROW()+1,\"\")","v":{"$error":"#REF!"}},{"$f":"IF(C104598=base!$W$2,ROW()+1,\"\")","v":{"$error":"#REF!"}},76804,"Villas del Puente","Conjunto habitacional","San Juan del Río","Querétaro","San Juan del Rio",76811,22,76811,null,12,16,1455,"Urbano",2]
[{"$f":"IF(C104683=base!$AC$2,ROW()+1,\"\")","v":{"$error":"#REF!"}},{"$f":"IF(C104683=base!$W$2,ROW()+1,\"\")","v":{"$error":"#REF!"}},76807,"El Molino","Fraccionamiento","San Juan del Río","Querétaro","San Juan del Rio",76811,22,76811,null,21,16,2114,"Urbano",2]
[{"$f":"IF(C104747=base!$AC$2,ROW()+1,\"\")","v":{"$error":"#REF!"}},{"$f":"IF(C104747=base!$W$2,ROW()+1,\"\")","v":{"$error":"#REF!"}},76824,"Buenavista (Lindavista)","Colonia","San Juan del Río","Querétaro",null,76811,22,76811,null,9,16,12,"Urbano"]
[{"$f":"IF(C104836=base!$AC$2,ROW()+1,\"\")","v":{"$error":"#REF!"}},{"$f":"IF(C104836=base!$W$2,ROW()+1,\"\")","v":{"$error":"#REF!"}},76848,"Tuna Mansa","Ranchería","San Juan del Río","Querétaro",null,76811,22,76811,null,29,16,695,"Rural"]
[{"$f":"IF(C104905=base!$AC$2,ROW()+1,\"\")","v":{"$error":"#REF!"}},{"$f":"IF(C104905=base!$W$2,ROW()+1,\"\")","v":{"$error":"#REF!"}},76884,"El Atorón","Ranchería","Amealco de Bonfil","Querétaro",null,76852,22,76852,null,29,1,716,"Rural"]
[{"$f":"IF(C104989=base!$AC$2,ROW()+1,\"\")","v":{"$error":"#REF!"}},{"$f":"IF(C104989=base!$W$2,ROW()+1,\"\")","v":{"$error":"#REF!"}},76897,"Jacal de la Piedad","Ranchería","Amealco de Bonfil","Querétaro",null,76852,22,76852,null,29,1,2509,"Rural"]
[{"$f":"IF(C105063=base!$AC$2,ROW()+1,\"\")","v":{"$error":"#REF!"}},{"$f":"IF(C105063=base!$W$2,ROW()+1,\"\")","v":{"$error":"#REF!"}},76903,"Misión Mariana","Fraccionamiento","Corregidora","Querétaro","El Pueblito",76901,22,76901,null,21,6,1202,"Urbano",4]
[{"$f":"IF(C105102=base!$AC$2,ROW()+1,\"\")","v":{"$error":"#REF!"}},{"$f":"IF(C105102=base!$W$2,ROW()+1,\"\")","v":{"$error":"#REF!"}},76904,"Ampliación Huertas del Carmen","Colonia","Corregidora","Querétaro","El Pueblito",76901,22,76901,null,9,6,1778,"Urbano",4]
[{"$f":"IF(C105221=base!$AC$2,ROW()+1,\"\")","v":{"$error":"#REF!"}},{"$f":"IF(C105221=base!$W$2,ROW()+1,\"\")","v":{"$error":"#REF!"}},76926,"El Jaral","Ranchería","Corregidora","Querétaro",null,76901,22,76901,null,29,6,775,"Rural"]
[{"$f":"IF(C105255=base!$AC$2,ROW()+1,\"\")","v":{"$error":"#REF!"}},{"$f":"IF(C105255=base!$W$2,ROW()+1,\"\")","v":{"$error":"#REF!"}},76964,"La Presita (Palo Blanco)","Ranchería","Huimilpan","Querétaro",null,76959,22,76959,null,29,8,13,"Rural"]
[{"$f":"IF(C105370=base!$AC$2,ROW()+1,\"\")","v":{"$error":"#REF!"}},{"$f":"IF(C105370=base!$W$2,ROW()+1,\"\")","v":{"$error":"#REF!"}},77050,"Infonavit Álvaro Obregón","Unidad habitacional","Othón P. Blanco","Quintana Roo","Chetumal",77001,23,77001,null,31,4,52,"Urbano",4]
[{"$f":"IF(C105408=base!$AC$2,ROW()+1,\"\")","v":{"$error":"#REF!"}},{"$f":"IF(C105408=base!$W$2,ROW()+1,\"\")","v":{"$error":"#REF!"}},77086,"Andrés Quintana Roo","Colonia","Othón P. Blanco","Quintana Roo","Chetumal",77001,23,77001,null,9,4,29,"Urbano",4]
[{"$f":"IF(C105457=base!$AC$2,ROW()+1,\"\")","v":{"$error":"#REF!"}},{"$f":"IF(C105457=base!$W$2,ROW()+1,\"\")","v":{"$error":"#REF!"}},77148,"Filomeno Mata","Pueblo","Felipe Carrillo Puerto","Quintana Roo",null,77201,23,77201,null,28,2,102,"Rural"]
[{"$f":"IF(C105561=base!$AC$2,ROW()+1,\"\")","v":{"$error":"#REF!"}},{"$f":"IF(C105561=base!$W$2,ROW()+1,\"\")","v":{"$error":"#REF!"}},77410,"SMZA 1","Colonia","Isla Mujeres","Quintana Roo",null,77511,23,77511,null,9,3,4,"Urbano"]
[{"$f":"IF(C105615=base!$AC$2,ROW()+1,\"\")","v":{"$error":"#REF!"}},{"$f":"IF(C105615=base!$W$2,ROW()+1,\"\")","v":{"$error":"#REF!"}},77506,"Supermanzana 47","Colonia","Benito Juárez","Quintana Roo","Cancún",77511,23,77511,null,9,5,200,"Urbano",1]
[{"$f":"IF(C105674=base!$AC$2,ROW()+1,\"\")","v":{"$error":"#REF!"}},{"$f":"IF(C105674=base!$W$2,ROW()+1,\"\")","v":{"$error":"#REF!"}},77517,"Región 94","Colonia","Benito Juárez","Quintana Roo","Cancún",77511,23,77511,null,9,5,446,"Urbano",1]
[{"$f":"IF(C105773=base!$AC$2,ROW()+1,\"\")","v":{"$error":"#REF!"}},{"$f":"IF(C105773=base!$W$2,ROW()+1,\"\")","v":{"$error":"#REF!"}},77533,"Región 502","Colonia","Benito Juárez","Quintana Roo","Cancún",77511,23,77511,null,9,5,451,"Semiurbano",1]
[{"$f":"IF(C105827=base!$AC$2,ROW()+1,\"\")","v":{"$error":"#REF!"}},{"$f":"IF(C105827=base!$W$2,ROW()+1,\"\")","v":{"$error":"#REF!"}},77536,"Supermanzana 550","Colonia","Benito Juárez","Quintana Roo","Cancún",77511,23,77511,null,9,5,688,"Urbano",1]
[{"$f":"IF(C105922=base!$AC$2,ROW()+1,\"\")","v":{"$error":"#REF!"}},{"$f":"IF(C105922=base!$W$2,ROW()+1,\"\")","v":{"$error":"#REF!"}},77710,"Calica","Fraccionamiento","Solidaridad","Quintana Roo","Playa del Carmen",77711,23,77711,null,21,8,439,"Urbano",5]
[{"$f":"IF(C105980=base!$AC$2,ROW()+1,\"\")","v":{"$error":"#REF!"}},{"$f":"IF(C105980=base!$W$2,ROW()+1,\"\")","v":{"$error":"#REF!"}},77725,"Misión Villamar II","Fraccionamiento","Solidaridad","Quintana Roo","Playa del Carmen",77711,23,77711,null,21,8,788,"Urbano",5]
[{"$f":"IF(C106080=base!$AC$2,ROW()+1,\"\")","v":{"$error":"#REF!"}},{"$f":"IF(C106080=base!$W$2,ROW()+1,\"\")","v":{"$error":"#REF!"}},77895,"Pozo Pirata","Ranchería","José María Morelos","Quintana Roo",null,77891,23,77891,null,29,6,351,"Rural"]
[{"$f":"IF(C106133=base!$AC$2,ROW()+1,\"\")","v":{"$error":"#REF!"}},{"$f":"IF(C106133=base!$W$2,ROW()+1,\"\")","v":{"$error":"#REF!"}},77907,"La Herradura","Ranchería","Bacalar","Quintana Roo",null,77931,23,77931,null,29,10,1038,"Rural"]
[{"$f":"IF(C106167=base!$AC$2,ROW()+1,\"\")","v":{"$error":"#REF!"}},{"$f":"IF(C106167=base!$W$2,ROW()+1,\"\")","v":{"$error":"#REF!"}},77913,"Zamora","Ranchería","Bacalar","Quintana Roo",null,77931,23,77931,null,29,10,1188,"Rural"]
[{"$f":"IF(C106246=base!$AC$2,ROW()+1,\"\")","v":{"$error":"#REF!"}},{"$f":"IF(C106246=base!$W$2,ROW()+1,\"\")","v":{"$error":"#REF!"}},77926,"Manuel Raz","Ranchería","Bacalar","Quintana Roo",null,77931,23,77931,null,29,10,1093,"Rural"]
[{"$f":"IF(C106325=base!$AC$2,ROW()+1,\"\")","v":{"$error":"#REF!"}},{"$f":"IF(C106325=base!$W$2,ROW()+1,\"\")","v":{"$error":"#REF!"}},77937,"Rancho Valerio","Ranchería","Bacalar","Quintana Roo",null,77931,23,77931,null,29,10,1129,"Rural"]
[{"$f":"IF(C106399=base!$AC$2,ROW()+1,\"\")","v":{"$error":"#REF!"}},{"$f":"IF(C106399=base!$W$2,ROW()+1,\"\")","v":{"$error":"#REF!"}},77946,"El Calvario","Ranchería","Bacalar","Quintana Roo",null,77931,23,77931,null,29,10,961,"Rural"]
[{"$f":"IF(C106483=base!$AC$2,ROW()+1,\"\")","v":{"$error":"#REF!"}},{"$f":"IF(C106483=base!$W$2,ROW()+1,\"\")","v":{"$error":"#REF!"}},78048,"Juan Alvarez","Colonia","San Luis Potosí","San Luis Potosí","San Luis Potosí",78001,24,78001,null,9,28,23,"Urbano",5]
[{"$f":"IF(C106552=base!$AC$2,ROW()+1,\"\")","v":{"$error":"#REF!"}},{"$f":"IF(C106552=base!$W$2,ROW()+1,\"\")","v":{"$error":"#REF!"}},78117,"Los Pinos","Fraccionamiento","San Luis Potosí","San Luis Potosí","San Luis Potosí",78141,24,78141,null,21,28,2129,"Urbano",5]
[{"$f":"IF(C106632=base!$AC$2,ROW()+1,\"\")","v":{"$error":"#REF!"}},{"$f":"IF(C106632=base!$W$2,ROW()+1,\"\")","v":{"$error":"#REF!"}},78143,"Campesina Norte","Colonia","San Luis Potosí","San Luis Potosí","San Luis Potosí",78141,24,78141,null,9,28,8,"Urbano",5]
[{"$f":"IF(C106705=base!$AC$2,ROW()+1,\"\")","v":{"$error":"#REF!"}},{"$f":"IF(C106705=base!$W$2,ROW()+1,\"\")","v":{"$error":"#REF!"}},78174,"Los Vergeles","Colonia","San Luis Potosí","San Luis Potosí","San Luis Potosí",78141,24,78141,null,9,28,2257,"Urbano",5]
[{"$f":"IF(C106790=base!$AC$2,ROW()+1,\"\")","v":{"$error":"#REF!"}},{"$f":"IF(C106790=base!$W$2,ROW()+1,\"\")","v":{"$error":"#REF!"}},78250,"Jardines de La Rivera","Colonia","San Luis Potosí","San Luis Potosí","San Luis Potosí",78001,24,78001,null,9,28,130,"Urbano",5]
[{"$f":"IF(C106818=base!$AC$2,ROW()+1,\"\")","v":{"$error":"#REF!"}},{"$f":"IF(C106818=base!$W$2,ROW()+1,\"\")","v":{"$error":"#REF!"}},78295,"Cordillera","Fraccionamiento","San Luis Potosí","San Luis Potosí","San Luis Potosí",78211,24,78211,null,21,28,111,"Urbano",5]
[{"$f":"IF(C106948=base!$AC$2,ROW()+1,\"\")","v":{"$error":"#REF!"}},{"$f":"IF(C106948=base!$W$2,ROW()+1,\"\")","v":{"$error":"#REF!"}},78390,"Villas del Sol","Fraccionamiento","San Luis Potosí","San Luis Potosí","San Luis Potosí",78343,24,78343,null,21,28,1049,"Urbano",5]
[{"$f":"IF(C106971=base!$AC$2,ROW()+1,\"\")","v":{"$error":"#REF!"}},{"$f":"IF(C106971=base!$W$2,ROW()+1,\"\")","v":{"$error":"#REF!"}},78394,"Los Silos","Colonia","San Luis Potosí","San Luis Potosí","San Luis Potosí",78343,24,78343,null,9,28,2151,"Urbano",5]
[{"$f":"IF(C107035=base!$AC$2,ROW()+1,\"\")","v":{"$error":"#REF!"}},{"$f":"IF(C107035=base!$W$2,ROW()+1,\"\")","v":{"$error":"#REF!"}},78398,"El Aguaje","Fraccionamiento","San Luis Potosí","San Luis Potosí","San Luis Potosí",78343,24,78343,null,21,28,883,"Urbano",5]
[{"$f":"IF(C107109=base!$AC$2,ROW()+1,\"\")","v":{"$error":"#REF!"}},{"$f":"IF(C107109=base!$W$2,ROW()+1,\"\")","v":{"$error":"#REF!"}},78400,"Maravillas","Ranchería","San Luis Potosí","San Luis Potosí",null,78482,24,78482,null,29,28,3002,"Rural"]
[{"$f":"IF(C107180=base!$AC$2,ROW()+1,\"\")","v":{"$error":"#REF!"}},{"$f":"IF(C107180=base!$W$2,ROW()+1,\"\")","v":{"$error":"#REF!"}},78406,"Cuatro Vientos (Buenos Aires)","Poblado comunal","San Luis Potosí","San Luis Potosí",null,78482,24,78482,null,27,28,4058,"Rural"]
[{"$f":"IF(C107267=base!$AC$2,ROW()+1,\"\")","v":{"$error":"#REF!"}},{"$f":"IF(C107267=base!$W$2,ROW()+1,\"\")","v":{"$error":"#REF!"}},78414,"Fracción los Graneros","Poblado comunal","San Luis Potosí","San Luis Potosí",null,78141,24,78141,null,27,28,4111,"Rural"]
[{"$f":"IF(C107333=base!$AC$2,ROW()+1,\"\")","v":{"$error":"#REF!"}},{"$f":"IF(C107333=base!$W$2,ROW()+1,\"\")","v":{"$error":"#REF!"}},78423,"Urbi Villareal","Fraccionamiento","San Luis Potosí","San Luis Potosí",null,78422,24,78422,null,21,28,51,"Urbano"]
[{"$f":"IF(C107425=base!$AC$2,ROW()+1,\"\")","v":{"$error":"#REF!"}},{"$f":"IF(C107425=base!$W$2,ROW()+1,\"\")","v":{"$error":"#REF!"}},78433,"Covadonga","Fraccionamiento","Soledad de Graciano Sánchez","San Luis Potosí","Soledad de Graciano Sánchez",78431,24,78431,null,21,35,2853,"Urbano",6]
[{"$f":"IF(C107486=base!$AC$2,ROW()+1,\"\")","v":{"$error":"#REF!"}},{"$f":"IF(C107486=base!$W$2,ROW()+1,\"\")","v":{"$error":"#REF!"}},78434,"Priv. Iturbide","Fraccionamiento","Soledad de Graciano Sánchez","San Luis Potosí","Soledad de Graciano Sánchez",78431,24,78431,null,21,35,4803,"Urbano",6]
[{"$f":"IF(C107574=base!$AC$2,ROW()+1,\"\")","v":{"$error":"#REF!"}},{"$f":"IF(C107574=base!$W$2,ROW()+1,\"\")","v":{"$error":"#REF!"}},78438,"Colinas del Márquez","Colonia","Soledad de Graciano Sánchez","San Luis Potosí","Soledad de Graciano Sánchez",78343,24,78343,null,9,35,7,"Urbano",6]
[{"$f":"IF(C107639=base!$AC$2,ROW()+1,\"\")","v":{"$error":"#REF!"}},{"$f":"IF(C107639=base!$W$2,ROW()+1,\"\")","v":{"$error":"#REF!"}},78439,"Juan Tenorio Ramírez","Poblado comunal","Soledad de Graciano Sánchez","San Luis Potosí","Soledad de Graciano Sánchez",78431,24,78431,null,27,35,4879,"Rural",6]
[{"$f":"IF(C107732=base!$AC$2,ROW()+1,\"\")","v":{"$error":"#REF!"}},{"$f":"IF(C107732=base!$W$2,ROW()+1,\"\")","v":{"$error":"#REF!"}},78439,"Rivera Asociados [Granja Avícola]","Ranchería","Soledad de Graciano Sánchez","San Luis Potosí","Soledad de Graciano Sánchez",78431,24,78431,null,29,35,4937,"Rural",6]
[{"$f":"IF(C107752=base!$AC$2,ROW()+1,\"\")","v":{"$error":"#REF!"}},{"$f":"IF(C107752=base!$W$2,ROW()+1,\"\")","v":{"$error":"#REF!"}},78439,"El Diamante (El Tízar)","Poblado comunal","Soledad de Graciano Sánchez","San Luis Potosí","Soledad de Graciano Sánchez",78431,24,78431,null,27,35,4840,"Rural",6]
[{"$f":"IF(C107819=base!$AC$2,ROW()+1,\"\")","v":{"$error":"#REF!"}},{"$f":"IF(C107819=base!$W$2,ROW()+1,\"\")","v":{"$error":"#REF!"}},78454,"Ojo de Agua del Llano","Poblado comunal","Ahualulco","San Luis Potosí",null,78482,24,78482,null,27,1,4483,"Rural"]
[{"$f":"IF(C107905=base!$AC$2,ROW()+1,\"\")","v":{"$error":"#REF!"}},{"$f":"IF(C107905=base!$W$2,ROW()+1,\"\")","v":{"$error":"#REF!"}},78464,"Lechuguillas","Ranchería","Mexquitic de Carmona","San Luis Potosí",null,78482,24,78482,null,29,21,43,"Rural"]
[{"$f":"IF(C107977=base!$AC$2,ROW()+1,\"\")","v":{"$error":"#REF!"}},{"$f":"IF(C107977=base!$W$2,ROW()+1,\"\")","v":{"$error":"#REF!"}},78474,"Cañaditas","Ranchería","Mexquitic de Carmona","San Luis Potosí",null,78482,24,78482,null,29,21,8,"Rural"]
[{"$f":"IF(C108058=base!$AC$2,ROW()+1,\"\")","v":{"$error":"#REF!"}},{"$f":"IF(C108058=base!$W$2,ROW()+1,\"\")","v":{"$error":"#REF!"}},78493,"San Jerónimo","Poblado comunal","Villa de Arriaga","San Luis Potosí",null,78211,24,78211,null,27,46,3117,"Rural"]
[{"$f":"IF(C108126=base!$AC$2,ROW()+1,\"\")","v":{"$error":"#REF!"}},{"$f":"IF(C108126=base!$W$2,ROW()+1,\"\")","v":{"$error":"#REF!"}},78497,"Anexo al Tepetatillo","Poblado comunal","Villa de Arriaga","San Luis Potosí",null,78211,24,78211,null,27,46,3016,"Rural"]
[{"$f":"IF(C108211=base!$AC$2,ROW()+1,\"\")","v":{"$error":"#REF!"}},{"$f":"IF(C108211=base!$W$2,ROW()+1,\"\")","v":{"$error":"#REF!"}},78533,"Gallos Blancos","Poblado comunal","Cedral","San Luis Potosí",null,78521,24,78521,null,27,7,2826,"Rural"]
[{"$f":"IF(C108284=base!$AC$2,ROW()+1,\"\")","v":{"$error":"#REF!"}},{"$f":"IF(C108284=base!$W$2,ROW()+1,\"\")","v":{"$error":"#REF!"}},78544,"San Francisco del Refugio","Ranchería","Catorce","San Luis Potosí",null,78541,24,78541,null,29,6,71,"Rural"]
[{"$f":"IF(C108324=base!$AC$2,ROW()+1,\"\")","v":{"$error":"#REF!"}},{"$f":"IF(C108324=base!$W$2,ROW()+1,\"\")","v":{"$error":"#REF!"}},78560,"La Palma","Ranchería","Catorce","San Luis Potosí",null,78541,24,78541,null,29,6,41,"Rural"]
[{"$f":"IF(C108442=base!$AC$2,ROW()+1,\"\")","v":{"$error":"#REF!"}},{"$f":"IF(C108442=base!$W$2,ROW()+1,\"\")","v":{"$error":"#REF!"}},78577,"Fracción Palmas (Palmas)","Poblado comunal","Charcas","San Luis Potosí",null,78591,24,78591,null,27,15,3212,"Rural"]
[{"$f":"IF(C108477=base!$AC$2,ROW()+1,\"\")","v":{"$error":"#REF!"}},{"$f":"IF(C108477=base!$W$2,ROW()+1,\"\")","v":{"$error":"#REF!"}},78577,"Puerto de Ramos","Poblado comunal","Charcas","San Luis Potosí",null,78591,24,78591,null,27,15,3300,"Rural"]
[{"$f":"IF(C108529=base!$AC$2,ROW()+1,\"\")","v":{"$error":"#REF!"}},{"$f":"IF(C108529=base!$W$2,ROW()+1,\"\")","v":{"$error":"#REF!"}},78583,"Cerro Gordo","Poblado comunal","Charcas","San Luis Potosí",null,78591,24,78591,null,27,15,3157,"Rural"]
[{"$f":"IF(C108630=base!$AC$2,ROW()+1,\"\")","v":{"$error":"#REF!"}},{"$f":"IF(C108630=base!$W$2,ROW()+1,\"\")","v":{"$error":"#REF!"}},78602,"Palma Pegada","Ranchería","Salinas","San Luis Potosí",null,78621,24,78621,null,29,25,570,"Rural"]
[{"$f":"IF(C108678=base!$AC$2,ROW()+1,\"\")","v":{"$error":"#REF!"}},{"$f":"IF(C108678=base!$W$2,ROW()+1,\"\")","v":{"$error":"#REF!"}},78634,"Cerritos de Bernal","Ejido","Santo Domingo","San Luis Potosí",null,78591,24,78591,null,15,33,581,"Rural"]
[{"$f":"IF(C108783=base!$AC$2,ROW()+1,\"\")","v":{"$error":"#REF!"}},{"$f":"IF(C108783=base!$W$2,ROW()+1,\"\")","v":{"$error":"#REF!"}},78690,"Ramos Villa","Villa","Villa de Ramos","San Luis Potosí",null,78621,24,78621,null,32,49,608,"Rural"]
[{"$f":"IF(C108836=base!$AC$2,ROW()+1,\"\")","v":{"$error":"#REF!"}},{"$f":"IF(C108836=base!$W$2,ROW()+1,\"\")","v":{"$error":"#REF!"}},78724,"Los Magueyes de La Piedra","Colonia","Matehuala","San Luis Potosí","Matehuala",78701,24,78701,null,9,20,1981,"Semiurbano",3]
[{"$f":"IF(C108936=base!$AC$2,ROW()+1,\"\")","v":{"$error":"#REF!"}},{"$f":"IF(C108936=base!$W$2,ROW()+1,\"\")","v":{"$error":"#REF!"}},78812,"Noria de los Conos","Ranchería","Matehuala","San Luis Potosí",null,78701,24,78701,null,29,20,679,"Rural"]
[{"$f":"IF(C108994=base!$AC$2,ROW()+1,\"\")","v":{"$error":"#REF!"}},{"$f":"IF(C108994=base!$W$2,ROW()+1,\"\")","v":{"$error":"#REF!"}},78862,"San Bartolo","Ejido","Villa de Guadalupe","San Luis Potosí",null,78701,24,78701,null,15,47,719,"Rural"]
[{"$f":"IF(C109049=base!$AC$2,ROW()+1,\"\")","v":{"$error":"#REF!"}},{"$f":"IF(C109049=base!$W$2,ROW()+1,\"\")","v":{"$error":"#REF!"}},78885,"Minas de Plata","Ranchería","Guadalcázar","San Luis Potosí",null,78431,24,78431,null,29,17,55,"Rural"]
[{"$f":"IF(C109152=base!$AC$2,ROW()+1,\"\")","v":{"$error":"#REF!"}},{"$f":"IF(C109152=base!$W$2,ROW()+1,\"\")","v":{"$error":"#REF!"}},78906,"Salsipuedes","Poblado comunal","Moctezuma","San Luis Potosí",null,78591,24,78591,null,27,22,2801,"Rural"]
[{"$f":"IF(C109202=base!$AC$2,ROW()+1,\"\")","v":{"$error":"#REF!"}},{"$f":"IF(C109202=base!$W$2,ROW()+1,\"\")","v":{"$error":"#REF!"}},78930,"Palo Blanco","Poblado comunal","Venado","San Luis Potosí",null,78591,24,78591,null,27,45,2918,"Rural"]
[{"$f":"IF(C109301=base!$AC$2,ROW()+1,\"\")","v":{"$error":"#REF!"}},{"$f":"IF(C109301=base!$W$2,ROW()+1,\"\")","v":{"$error":"#REF!"}},78950,"Granja el Saucito","Poblado comunal","Villa de Arista","San Luis Potosí",null,78431,24,78431,null,27,56,3668,"Rural"]
[{"$f":"IF(C109355=base!$AC$2,ROW()+1,\"\")","v":{"$error":"#REF!"}},{"$f":"IF(C109355=base!$W$2,ROW()+1,\"\")","v":{"$error":"#REF!"}},78955,"Capillla de las Peñitas","Poblado comunal","Villa de Arista","San Luis Potosí",null,78431,24,78431,null,27,56,3637,"Rural"]
[{"$f":"IF(C109388=base!$AC$2,ROW()+1,\"\")","v":{"$error":"#REF!"}},{"$f":"IF(C109388=base!$W$2,ROW()+1,\"\")","v":{"$error":"#REF!"}},78957,"Peñita de Guadalupe","Poblado comunal","Villa de Arista","San Luis Potosí",null,78431,24,78431,null,27,56,3698,"Rural"]
[{"$f":"IF(C109508=base!$AC$2,ROW()+1,\"\")","v":{"$error":"#REF!"}},{"$f":"IF(C109508=base!$W$2,ROW()+1,\"\")","v":{"$error":"#REF!"}},78984,"Salazar (El Gringo)","Poblado comunal","Armadillo de los Infante","San Luis Potosí",null,78001,24,78001,null,27,4,4424,"Rural"]
[{"$f":"IF(C109546=base!$AC$2,ROW()+1,\"\")","v":{"$error":"#REF!"}},{"$f":"IF(C109546=base!$W$2,ROW()+1,\"\")","v":{"$error":"#REF!"}},78993,"Santa Lucía","Ranchería","Armadillo de los Infante","San Luis Potosí",null,78001,24,78001,null,29,4,4432,"Rural"]
[{"$f":"IF(C109621=base!$AC$2,ROW()+1,\"\")","v":{"$error":"#REF!"}},{"$f":"IF(C109621=base!$W$2,ROW()+1,\"\")","v":{"$error":"#REF!"}},79028,"S.C.T.","Colonia","Ciudad Valles","San Luis Potosí","Ciudad Valles",79001,24,79001,null,9,13,2944,"Urbano",1]
[{"$f":"IF(C109704=base!$AC$2,ROW()+1,\"\")","v":{"$error":"#REF!"}},{"$f":"IF(C109704=base!$W$2,ROW()+1,\"\")","v":{"$error":"#REF!"}},79082,"San Luis Poniente","Fraccionamiento","Ciudad Valles","San Luis Potosí","Ciudad Valles",79001,24,79001,null,21,13,28,"Urbano",1]
[{"$f":"IF(C109774=base!$AC$2,ROW()+1,\"\")","v":{"$error":"#REF!"}},{"$f":"IF(C109774=base!$W$2,ROW()+1,\"\")","v":{"$error":"#REF!"}},79202,"Morelos","Colonia","Tamuín","San Luis Potosí","Tamuin",79201,24,79201,null,9,40,1793,"Semiurbano",11]
[{"$f":"IF(C109862=base!$AC$2,ROW()+1,\"\")","v":{"$error":"#REF!"}},{"$f":"IF(C109862=base!$W$2,ROW()+1,\"\")","v":{"$error":"#REF!"}},79246,"Rancho Nuevo","Ejido","Ciudad Valles","San Luis Potosí",null,79001,24,79001,null,15,13,165,"Rural"]
[{"$f":"IF(C109927=base!$AC$2,ROW()+1,\"\")","v":{"$error":"#REF!"}},{"$f":"IF(C109927=base!$W$2,ROW()+1,\"\")","v":{"$error":"#REF!"}},79257,"San Antonio Huichimal","Ejido","Ciudad Valles","San Luis Potosí",null,79001,24,79001,null,15,13,1167,"Rural"]
[{"$f":"IF(C110011=base!$AC$2,ROW()+1,\"\")","v":{"$error":"#REF!"}},{"$f":"IF(C110011=base!$W$2,ROW()+1,\"\")","v":{"$error":"#REF!"}},79277,"Colonia Juan González","Ranchería","Ciudad Valles","San Luis Potosí",null,79001,24,79001,null,29,13,47,"Rural"]
[{"$f":"IF(C110080=base!$AC$2,ROW()+1,\"\")","v":{"$error":"#REF!"}},{"$f":"IF(C110080=base!$W$2,ROW()+1,\"\")","v":{"$error":"#REF!"}},79314,"El Naranjo","Congregación","El Naranjo","San Luis Potosí",null,79311,24,79311,null,11,58,1217,"Rural"]
[{"$f":"IF(C110098=base!$AC$2,ROW()+1,\"\")","v":{"$error":"#REF!"}},{"$f":"IF(C110098=base!$W$2,ROW()+1,\"\")","v":{"$error":"#REF!"}},79314,"Rancho los Cuates","Ranchería","El Naranjo","San Luis Potosí",null,79311,24,79311,null,29,58,3620,"Rural"]
[{"$f":"IF(C110193=base!$AC$2,ROW()+1,\"\")","v":{"$error":"#REF!"}},{"$f":"IF(C110193=base!$W$2,ROW()+1,\"\")","v":{"$error":"#REF!"}},79318,"Santa Cruz","Poblado comunal","El Naranjo","San Luis Potosí",null,79311,24,79311,null,27,58,3632,"Rural"]
[{"$f":"IF(C110256=base!$AC$2,ROW()+1,\"\")","v":{"$error":"#REF!"}},{"$f":"IF(C110256=base!$W$2,ROW()+1,\"\")","v":{"$error":"#REF!"}},79335,"Rancho Kansan","Ranchería","Ciudad del Maíz","San Luis Potosí",null,79321,24,79321,null,29,10,4004,"Rural"]
[{"$f":"IF(C110346=base!$AC$2,ROW()+1,\"\")","v":{"$error":"#REF!"}},{"$f":"IF(C110346=base!$W$2,ROW()+1,\"\")","v":{"$error":"#REF!"}},79354,"El Olivo","Ejido","Ciudad del Maíz","San Luis Potosí",null,79321,24,79321,null,15,10,1208,"Rural"]
[{"$f":"IF(C110414=base!$AC$2,ROW()+1,\"\")","v":{"$error":"#REF!"}},{"$f":"IF(C110414=base!$W$2,ROW()+1,\"\")","v":{"$error":"#REF!"}},79375,"El Infiernito","Ranchería","Alaquines","San Luis Potosí",null,79381,24,79381,null,29,2,12,"Rural"]
[{"$f":"IF(C110499=base!$AC$2,ROW()+1,\"\")","v":{"$error":"#REF!"}},{"$f":"IF(C110499=base!$W$2,ROW()+1,\"\")","v":{"$error":"#REF!"}},79396,"La Puerta de la Esperanza","Ranchería","Cárdenas","San Luis Potosí",null,79381,24,79381,null,29,5,43,"Rural"]
[{"$f":"IF(C110563=base!$AC$2,ROW()+1,\"\")","v":{"$error":"#REF!"}},{"$f":"IF(C110563=base!$W$2,ROW()+1,\"\")","v":{"$error":"#REF!"}},79460,"Villa Juárez","Villa","Villa Juárez","San Luis Potosí",null,79402,24,79402,null,32,52,1290,"Rural"]
[{"$f":"IF(C110652=base!$AC$2,ROW()+1,\"\")","v":{"$error":"#REF!"}},{"$f":"IF(C110652=base!$W$2,ROW()+1,\"\")","v":{"$error":"#REF!"}},79546,"La Lagunita","Ranchería","Zaragoza","San Luis Potosí",null,78001,24,78001,null,29,55,3440,"Rural"]
[{"$f":"IF(C110721=base!$AC$2,ROW()+1,\"\")","v":{"$error":"#REF!"}},{"$f":"IF(C110721=base!$W$2,ROW()+1,\"\")","v":{"$error":"#REF!"}},79554,"El Puerto Hondo","Poblado comunal","Zaragoza","San Luis Potosí",null,78001,24,78001,null,27,55,3409,"Rural"]
[{"$f":"IF(C110765=base!$AC$2,ROW()+1,\"\")","v":{"$error":"#REF!"}},{"$f":"IF(C110765=base!$W$2,ROW()+1,\"\")","v":{"$error":"#REF!"}},79556,"Ramiro Saldaña","Poblado comunal","Zaragoza","San Luis Potosí",null,78001,24,78001,null,27,55,3494,"Rural"]
[{"$f":"IF(C110879=base!$AC$2,ROW()+1,\"\")","v":{"$error":"#REF!"}},{"$f":"IF(C110879=base!$W$2,ROW()+1,\"\")","v":{"$error":"#REF!"}},79600,"Paso de los Herreros (Paso de Guadalupe)","Ejido","Rioverde","San Luis Potosí",null,79611,24,79611,null,15,24,5171,"Rural"]
[{"$f":"IF(C110918=base!$AC$2,ROW()+1,\"\")","v":{"$error":"#REF!"}},{"$f":"IF(C110918=base!$W$2,ROW()+1,\"\")","v":{"$error":"#REF!"}},79604,"Carlota Méndez","Poblado comunal","Rioverde","San Luis Potosí",null,79611,24,79611,null,27,24,4976,"Rural"]
[{"$f":"IF(C110966=base!$AC$2,ROW()+1,\"\")","v":{"$error":"#REF!"}},{"$f":"IF(C110966=base!$W$2,ROW()+1,\"\")","v":{"$error":"#REF!"}},79604,"Miguel Rodríguez","Ranchería","Rioverde","San Luis Potosí",null,79611,24,79611,null,29,24,5157,"Rural"]
[{"$f":"IF(C111071=base!$AC$2,ROW()+1,\"\")","v":{"$error":"#REF!"}},{"$f":"IF(C111071=base!$W$2,ROW()+1,\"\")","v":{"$error":"#REF!"}},79619,"Las Arboledas","Fraccionamiento","Rioverde","San Luis Potosí","Rioverde",79611,24,79611,null,21,24,923,"Urbano",4]
[{"$f":"IF(C111115=base!$AC$2,ROW()+1,\"\")","v":{"$error":"#REF!"}},{"$f":"IF(C111115=base!$W$2,ROW()+1,\"\")","v":{"$error":"#REF!"}},79636,"Benito Juárez","Poblado comunal","Rioverde","San Luis Potosí",null,79611,24,79611,null,27,24,4973,"Rural"]
[{"$f":"IF(C111224=base!$AC$2,ROW()+1,\"\")","v":{"$error":"#REF!"}},{"$f":"IF(C111224=base!$W$2,ROW()+1,\"\")","v":{"$error":"#REF!"}},79644,"Rancho San Fidel","Ranchería","Rioverde","San Luis Potosí",null,79611,24,79611,null,29,24,5224,"Rural"]
[{"$f":"IF(C111273=base!$AC$2,ROW()+1,\"\")","v":{"$error":"#REF!"}},{"$f":"IF(C111273=base!$W$2,ROW()+1,\"\")","v":{"$error":"#REF!"}},79646,"Malpaso Grande","Ranchería","Rioverde","San Luis Potosí",null,79611,24,79611,null,29,24,5152,"Rural"]
[{"$f":"IF(C111356=base!$AC$2,ROW()+1,\"\")","v":{"$error":"#REF!"}},{"$f":"IF(C111356=base!$W$2,ROW()+1,\"\")","v":{"$error":"#REF!"}},79670,"Joya de las Peñas","Poblado comunal","Ciudad Fernández","San Luis Potosí",null,79611,24,79611,null,27,11,40,"Rural"]
[{"$f":"IF(C111433=base!$AC$2,ROW()+1,\"\")","v":{"$error":"#REF!"}},{"$f":"IF(C111433=base!$W$2,ROW()+1,\"\")","v":{"$error":"#REF!"}},79677,"Huerta de Alfredo Martínez","Poblado comunal","Ciudad Fernández","San Luis Potosí",null,79611,24,79611,null,27,11,21,"Rural"]
[{"$f":"IF(C111505=base!$AC$2,ROW()+1,\"\")","v":{"$error":"#REF!"}},{"$f":"IF(C111505=base!$W$2,ROW()+1,\"\")","v":{"$error":"#REF!"}},79694,"Cerrito de la Cruz","Ranchería","San Ciro de Acosta","San Luis Potosí",null,79681,24,79681,null,29,27,9,"Rural"]
[{"$f":"IF(C111586=base!$AC$2,ROW()+1,\"\")","v":{"$error":"#REF!"}},{"$f":"IF(C111586=base!$W$2,ROW()+1,\"\")","v":{"$error":"#REF!"}},79730,"Obrera","Colonia","Tamasopo","San Luis Potosí",null,79711,24,79711,null,9,36,2206,"Rural"]
[{"$f":"IF(C111663=base!$AC$2,ROW()+1,\"\")","v":{"$error":"#REF!"}},{"$f":"IF(C111663=base!$W$2,ROW()+1,\"\")","v":{"$error":"#REF!"}},79767,"Jol Mom","Ejido","Aquismón","San Luis Potosí",null,79001,24,79001,null,15,3,4575,"Rural"]
[{"$f":"IF(C111699=base!$AC$2,ROW()+1,\"\")","v":{"$error":"#REF!"}},{"$f":"IF(C111699=base!$W$2,ROW()+1,\"\")","v":{"$error":"#REF!"}},79767,"Octujub o Campeche","Ejido","Aquismón","San Luis Potosí",null,79001,24,79001,null,15,3,4630,"Rural"]
[{"$f":"IF(C111750=base!$AC$2,ROW()+1,\"\")","v":{"$error":"#REF!"}},{"$f":"IF(C111750=base!$W$2,ROW()+1,\"\")","v":{"$error":"#REF!"}},79775,"Zanja Prieta (Los Támez)","Ejido","Aquismón","San Luis Potosí",null,79001,24,79001,null,15,3,4692,"Rural"]
[{"$f":"IF(C111852=base!$AC$2,ROW()+1,\"\")","v":{"$error":"#REF!"}},{"$f":"IF(C111852=base!$W$2,ROW()+1,\"\")","v":{"$error":"#REF!"}},79788,"La Presa","Poblado comunal","Lagunillas","San Luis Potosí",null,79681,24,79681,null,27,19,2732,"Rural"]
[{"$f":"IF(C111908=base!$AC$2,ROW()+1,\"\")","v":{"$error":"#REF!"}},{"$f":"IF(C111908=base!$W$2,ROW()+1,\"\")","v":{"$error":"#REF!"}},79796,"Tortugas","Ejido","Santa Catarina","San Luis Potosí",null,79741,24,79741,null,15,31,3863,"Rural"]
[{"$f":"IF(C112005=base!$AC$2,ROW()+1,\"\")","v":{"$error":"#REF!"}},{"$f":"IF(C112005=base!$W$2,ROW()+1,\"\")","v":{"$error":"#REF!"}},79820,"San Francisco Cuayalab","Ranchería","San Vicente Tancuayalab","San Luis Potosí",null,79801,24,79801,null,29,34,1601,"Rural"]
[{"$f":"IF(C112057=base!$AC$2,ROW()+1,\"\")","v":{"$error":"#REF!"}},{"$f":"IF(C112057=base!$W$2,ROW()+1,\"\")","v":{"$error":"#REF!"}},79840,"Alto de Las Flores","Colonia","Tanquián de Escobedo","San Luis Potosí",null,79801,24,79801,null,9,42,2777,"Urbano"]
[{"$f":"IF(C112158=base!$AC$2,ROW()+1,\"\")","v":{"$error":"#REF!"}},{"$f":"IF(C112158=base!$W$2,ROW()+1,\"\")","v":{"$error":"#REF!"}},79922,"Tlamimil","Ejido","Xilitla","San Luis Potosí",null,79001,24,79001,null,15,54,2412,"Rural"]
[{"$f":"IF(C112215=base!$AC$2,ROW()+1,\"\")","v":{"$error":"#REF!"}},{"$f":"IF(C112215=base!$W$2,ROW()+1,\"\")","v":{"$error":"#REF!"}},79934,"Chacuala","Ejido","Axtla de Terrazas","San Luis Potosí",null,79961,24,79961,null,15,53,4708,"Rural"]
[{"$f":"IF(C112271=base!$AC$2,ROW()+1,\"\")","v":{"$error":"#REF!"}},{"$f":"IF(C112271=base!$W$2,ROW()+1,\"\")","v":{"$error":"#REF!"}},79938,"La Mora","Poblado comunal","Axtla de Terrazas","San Luis Potosí",null,79961,24,79961,null,27,53,4751,"Rural"]
[{"$f":"IF(C112373=base!$AC$2,ROW()+1,\"\")","v":{"$error":"#REF!"}},{"$f":"IF(C112373=base!$W$2,ROW()+1,\"\")","v":{"$error":"#REF!"}},79960,"Benito Juárez","Colonia","Tamazunchale","San Luis Potosí","Tamazunchale",79961,24,79961,null,9,37,1940,"Rural",18]
[{"$f":"IF(C112424=base!$AC$2,ROW()+1,\"\")","v":{"$error":"#REF!"}},{"$f":"IF(C112424=base!$W$2,ROW()+1,\"\")","v":{"$error":"#REF!"}},79976,"Tamala","Poblado comunal","Matlapa","San Luis Potosí",null,79961,24,79961,null,27,57,2690,"Rural"]
[{"$f":"IF(C112460=base!$AC$2,ROW()+1,\"\")","v":{"$error":"#REF!"}},{"$f":"IF(C112460=base!$W$2,ROW()+1,\"\")","v":{"$error":"#REF!"}},79985,"Acuapich (Pixteyo)","Poblado comunal","Tamazunchale","San Luis Potosí",null,79961,24,79961,null,27,37,2745,"Rural"]
[{"$f":"IF(C112577=base!$AC$2,ROW()+1,\"\")","v":{"$error":"#REF!"}},{"$f":"IF(C112577=base!$W$2,ROW()+1,\"\")","v":{"$error":"#REF!"}},80020,"Desarrollo Urbano 3 Ríos","Zona comercial","Culiacán","Sinaloa","Culiacán Rosales",80021,25,80021,null,33,6,1351,"Urbano",2]
[{"$f":"IF(C112609=base!$AC$2,ROW()+1,\"\")","v":{"$error":"#REF!"}},{"$f":"IF(C112609=base!$W$2,ROW()+1,\"\")","v":{"$error":"#REF!"}},80028,"Villa Fontana","Fraccionamiento","Culiacán","Sinaloa","Culiacán Rosales",80021,25,80021,null,21,6,60,"Urbano",2]
[{"$f":"IF(C112730=base!$AC$2,ROW()+1,\"\")","v":{"$error":"#REF!"}},{"$f":"IF(C112730=base!$W$2,ROW()+1,\"\")","v":{"$error":"#REF!"}},80080,"INFONAVIT El Barrio","Fraccionamiento","Culiacán","Sinaloa","Culiacán Rosales",80061,25,80061,null,21,6,90,"Urbano",2]
[{"$f":"IF(C112767=base!$AC$2,ROW()+1,\"\")","v":{"$error":"#REF!"}},{"$f":"IF(C112767=base!$W$2,ROW()+1,\"\")","v":{"$error":"#REF!"}},80107,"Country Courts","Fraccionamiento","Culiacán","Sinaloa","Culiacán Rosales",80005,25,80005,null,21,6,2841,"Urbano",2]
[{"$f":"IF(C112883=base!$AC$2,ROW()+1,\"\")","v":{"$error":"#REF!"}},{"$f":"IF(C112883=base!$W$2,ROW()+1,\"\")","v":{"$error":"#REF!"}},80189,"Jardines Del Valle","Fraccionamiento","Culiacán","Sinaloa","Culiacán Rosales",80005,25,80005,null,21,6,153,"Urbano",2]
[{"$f":"IF(C112925=base!$AC$2,ROW()+1,\"\")","v":{"$error":"#REF!"}},{"$f":"IF(C112925=base!$W$2,ROW()+1,\"\")","v":{"$error":"#REF!"}},80199,"Real de Minas","Fraccionamiento","Culiacán","Sinaloa","Culiacán Rosales",80005,25,80005,null,21,6,3075,"Urbano",2]
[{"$f":"IF(C112996=base!$AC$2,ROW()+1,\"\")","v":{"$error":"#REF!"}},{"$f":"IF(C112996=base!$W$2,ROW()+1,\"\")","v":{"$error":"#REF!"}},80296,"12 de Diciembre","Colonia","Culiacán","Sinaloa","Culiacán Rosales",80001,25,80001,null,9,6,220,"Urbano",2]
[{"$f":"IF(C113083=base!$AC$2,ROW()+1,\"\")","v":{"$error":"#REF!"}},{"$f":"IF(C113083=base!$W$2,ROW()+1,\"\")","v":{"$error":"#REF!"}},80318,"Tepuche","Congregación","Culiacán","Sinaloa",null,80011,25,80011,null,11,6,258,"Rural"]
[{"$f":"IF(C113149=base!$AC$2,ROW()+1,\"\")","v":{"$error":"#REF!"}},{"$f":"IF(C113149=base!$W$2,ROW()+1,\"\")","v":{"$error":"#REF!"}},80336,"Campillo Veronica","Ejido","Navolato","Sinaloa",null,80321,25,80321,null,15,18,2357,"Rural"]
[{"$f":"IF(C113232=base!$AC$2,ROW()+1,\"\")","v":{"$error":"#REF!"}},{"$f":"IF(C113232=base!$W$2,ROW()+1,\"\")","v":{"$error":"#REF!"}},80373,"Rio Viejo","Ranchería","Navolato","Sinaloa",null,80321,25,80321,null,29,18,2352,"Rural"]
[{"$f":"IF(C113302=base!$AC$2,ROW()+1,\"\")","v":{"$error":"#REF!"}},{"$f":"IF(C113302=base!$W$2,ROW()+1,\"\")","v":{"$error":"#REF!"}},80398,"NCPE El 30","Ejido","Culiacán","Sinaloa",null,80001,25,80001,null,15,6,2608,"Rural"]
[{"$f":"IF(C113319=base!$AC$2,ROW()+1,\"\")","v":{"$error":"#REF!"}},{"$f":"IF(C113319=base!$W$2,ROW()+1,\"\")","v":{"$error":"#REF!"}},80409,"Aviación","Colonia","Culiacán","Sinaloa","Quila",80401,25,80401,null,9,6,1752,"Urbano",8]
[{"$f":"IF(C113455=base!$AC$2,ROW()+1,\"\")","v":{"$error":"#REF!"}},{"$f":"IF(C113455=base!$W$2,ROW()+1,\"\")","v":{"$error":"#REF!"}},80453,"Rebeca II (Metesaca)","Ejido","Culiacán","Sinaloa",null,80456,25,80456,null,15,6,2648,"Rural"]
[{"$f":"IF(C113477=base!$AC$2,ROW()+1,\"\")","v":{"$error":"#REF!"}},{"$f":"IF(C113477=base!$W$2,ROW()+1,\"\")","v":{"$error":"#REF!"}},80467,"El Conchal","Pueblo","Culiacán","Sinaloa",null,80456,25,80456,null,28,6,412,"Rural"]
[{"$f":"IF(C113568=base!$AC$2,ROW()+1,\"\")","v":{"$error":"#REF!"}},{"$f":"IF(C113568=base!$W$2,ROW()+1,\"\")","v":{"$error":"#REF!"}},80545,"Aguaje Grande","Ranchería","Badiraguato","Sinaloa",null,80501,25,80501,null,29,3,2273,"Rural"]
[{"$f":"IF(C113635=base!$AC$2,ROW()+1,\"\")","v":{"$error":"#REF!"}},{"$f":"IF(C113635=base!$W$2,ROW()+1,\"\")","v":{"$error":"#REF!"}},80584,"Las Canoas","Rancho","Badiraguato","Sinaloa",null,80501,25,80501,null,48,3,165,"Rural"]
[{"$f":"IF(C113721=base!$AC$2,ROW()+1,\"\")","v":{"$error":"#REF!"}},{"$f":"IF(C113721=base!$W$2,ROW()+1,\"\")","v":{"$error":"#REF!"}},80633,"El Tepehuán","Ranchería","Badiraguato","Sinaloa",null,80501,25,80501,null,29,3,134,"Rural"]
[{"$f":"IF(C113793=base!$AC$2,ROW()+1,\"\")","v":{"$error":"#REF!"}},{"$f":"IF(C113793=base!$W$2,ROW()+1,\"\")","v":{"$error":"#REF!"}},80673,"Batacomito","Ranchería","Badiraguato","Sinaloa",null,80501,25,80501,null,29,3,159,"Rural"]
[{"$f":"IF(C113874=base!$AC$2,ROW()+1,\"\")","v":{"$error":"#REF!"}},{"$f":"IF(C113874=base!$W$2,ROW()+1,\"\")","v":{"$error":"#REF!"}},80737,"El Vertedor","Rancho","Cosalá","Sinaloa",null,80701,25,80701,null,48,5,38,"Rural"]
[{"$f":"IF(C113942=base!$AC$2,ROW()+1,\"\")","v":{"$error":"#REF!"}},{"$f":"IF(C113942=base!$W$2,ROW()+1,\"\")","v":{"$error":"#REF!"}},80790,"Guadalupe de los Reyes","Ranchería","Cosalá","Sinaloa",null,80701,25,80701,null,29,5,11,"Rural"]
[{"$f":"IF(C114027=base!$AC$2,ROW()+1,\"\")","v":{"$error":"#REF!"}},{"$f":"IF(C114027=base!$W$2,ROW()+1,\"\")","v":{"$error":"#REF!"}},80853,"La Higuerita","Ranchería","Mocorito","Sinaloa",null,80801,25,80801,null,29,13,3130,"Rural"]
[{"$f":"IF(C114029=base!$AC$2,ROW()+1,\"\")","v":{"$error":"#REF!"}},{"$f":"IF(C114029=base!$W$2,ROW()+1,\"\")","v":{"$error":"#REF!"}},80853,"San Miguel","Ranchería","Mocorito","Sinaloa",null,80801,25,80801,null,29,13,3126,"Rural"]
[{"$f":"IF(C114140=base!$AC$2,ROW()+1,\"\")","v":{"$error":"#REF!"}},{"$f":"IF(C114140=base!$W$2,ROW()+1,\"\")","v":{"$error":"#REF!"}},80936,"Tepuche","Ejido","Mocorito","Sinaloa",null,80951,25,80951,null,15,13,1485,"Rural"]
[{"$f":"IF(C114187=base!$AC$2,ROW()+1,\"\")","v":{"$error":"#REF!"}},{"$f":"IF(C114187=base!$W$2,ROW()+1,\"\")","v":{"$error":"#REF!"}},81020,"Ejidal","Colonia","Guasave","Sinaloa","Guasave",81001,25,81001,null,9,11,588,"Urbano",4]
[{"$f":"IF(C114293=base!$AC$2,ROW()+1,\"\")","v":{"$error":"#REF!"}},{"$f":"IF(C114293=base!$W$2,ROW()+1,\"\")","v":{"$error":"#REF!"}},81124,"El Gallo","Colonia","Guasave","Sinaloa",null,81125,25,81125,null,9,11,3189,"Urbano"]
[{"$f":"IF(C114345=base!$AC$2,ROW()+1,\"\")","v":{"$error":"#REF!"}},{"$f":"IF(C114345=base!$W$2,ROW()+1,\"\")","v":{"$error":"#REF!"}},81170,"Cubiri (Cubiri del Amole)","Poblado comunal","Guasave","Sinaloa",null,81001,25,81001,null,27,11,2498,"Rural"]
[{"$f":"IF(C114446=base!$AC$2,ROW()+1,\"\")","v":{"$error":"#REF!"}},{"$f":"IF(C114446=base!$W$2,ROW()+1,\"\")","v":{"$error":"#REF!"}},81240,"Toledo Ceballos","Fraccionamiento","Ahome","Sinaloa","Los Mochis",81201,25,81201,null,21,1,2866,"Urbano",1]
[{"$f":"IF(C114494=base!$AC$2,ROW()+1,\"\")","v":{"$error":"#REF!"}},{"$f":"IF(C114494=base!$W$2,ROW()+1,\"\")","v":{"$error":"#REF!"}},81255,"Zona Industrial","Colonia","Ahome","Sinaloa","Los Mochis",81201,25,81201,null,9,1,726,"Urbano",1]
[{"$f":"IF(C114599=base!$AC$2,ROW()+1,\"\")","v":{"$error":"#REF!"}},{"$f":"IF(C114599=base!$W$2,ROW()+1,\"\")","v":{"$error":"#REF!"}},81290,"Ampliación Burócrata","Colonia","Ahome","Sinaloa","Los Mochis",81201,25,81201,null,9,1,2971,"Urbano",1]
[{"$f":"IF(C114652=base!$AC$2,ROW()+1,\"\")","v":{"$error":"#REF!"}},{"$f":"IF(C114652=base!$W$2,ROW()+1,\"\")","v":{"$error":"#REF!"}},81304,"Vallejo (Porvenir Vallejo)","Ejido","Ahome","Sinaloa",null,81301,25,81301,null,15,1,2666,"Rural"]
[{"$f":"IF(C114712=base!$AC$2,ROW()+1,\"\")","v":{"$error":"#REF!"}},{"$f":"IF(C114712=base!$W$2,ROW()+1,\"\")","v":{"$error":"#REF!"}},81343,"Gustavo Diaz Ordaz","Villa","Ahome","Sinaloa",null,81342,25,81342,null,32,1,761,"Rural"]
[{"$f":"IF(C114810=base!$AC$2,ROW()+1,\"\")","v":{"$error":"#REF!"}},{"$f":"IF(C114810=base!$W$2,ROW()+1,\"\")","v":{"$error":"#REF!"}},81448,"Conjunto Habitacional","Colonia","Salvador Alvarado","Sinaloa","Guamúchil",81402,25,81402,null,9,15,526,"Semiurbano",6]
[{"$f":"IF(C114865=base!$AC$2,ROW()+1,\"\")","v":{"$error":"#REF!"}},{"$f":"IF(C114865=base!$W$2,ROW()+1,\"\")","v":{"$error":"#REF!"}},81493,"Lomas de Los Achiris","Fraccionamiento","Salvador Alvarado","Sinaloa","Guamúchil",81402,25,81402,null,21,15,2873,"Semiurbano",6]
[{"$f":"IF(C114897=base!$AC$2,ROW()+1,\"\")","v":{"$error":"#REF!"}},{"$f":"IF(C114897=base!$W$2,ROW()+1,\"\")","v":{"$error":"#REF!"}},81624,"San Luciano","Ranchería","Angostura","Sinaloa",null,81601,25,81601,null,29,2,868,"Rural"]
[{"$f":"IF(C115018=base!$AC$2,ROW()+1,\"\")","v":{"$error":"#REF!"}},{"$f":"IF(C115018=base!$W$2,ROW()+1,\"\")","v":{"$error":"#REF!"}},81735,"El Sauz","Rancho","Choix","Sinaloa",null,81701,25,81701,null,48,7,103,"Rural"]
[{"$f":"IF(C115046=base!$AC$2,ROW()+1,\"\")","v":{"$error":"#REF!"}},{"$f":"IF(C115046=base!$W$2,ROW()+1,\"\")","v":{"$error":"#REF!"}},81746,"Buyubampo","Ranchería","Choix","Sinaloa",null,81701,25,81701,null,29,7,910,"Rural"]
[{"$f":"IF(C115171=base!$AC$2,ROW()+1,\"\")","v":{"$error":"#REF!"}},{"$f":"IF(C115171=base!$W$2,ROW()+1,\"\")","v":{"$error":"#REF!"}},81803,"Las Flores","Barrio","El Fuerte","Sinaloa","San Blas",81801,25,81801,null,2,10,1854,"Rural",16]
[{"$f":"IF(C115204=base!$AC$2,ROW()+1,\"\")","v":{"$error":"#REF!"}},{"$f":"IF(C115204=base!$W$2,ROW()+1,\"\")","v":{"$error":"#REF!"}},81815,"La Gavilana","Rancho","El Fuerte","Sinaloa",null,81821,25,81821,null,48,10,11,"Rural"]
[{"$f":"IF(C115252=base!$AC$2,ROW()+1,\"\")","v":{"$error":"#REF!"}},{"$f":"IF(C115252=base!$W$2,ROW()+1,\"\")","v":{"$error":"#REF!"}},81850,"La Misión Nueva","Ejido","El Fuerte","Sinaloa",null,81821,25,81821,null,15,10,2570,"Rural"]
[{"$f":"IF(C115362=base!$AC$2,ROW()+1,\"\")","v":{"$error":"#REF!"}},{"$f":"IF(C115362=base!$W$2,ROW()+1,\"\")","v":{"$error":"#REF!"}},81976,"San José de Gracia","Congregación","Sinaloa","Sinaloa",null,81911,25,81911,null,11,17,992,"Rural"]
[{"$f":"IF(C115437=base!$AC$2,ROW()+1,\"\")","v":{"$error":"#REF!"}},{"$f":"IF(C115437=base!$W$2,ROW()+1,\"\")","v":{"$error":"#REF!"}},82040,"Villas Playa Sur","Colonia","Mazatlán","Sinaloa","Mazatlán",82001,25,82001,null,9,12,1329,"Urbano",5]
[{"$f":"IF(C115520=base!$AC$2,ROW()+1,\"\")","v":{"$error":"#REF!"}},{"$f":"IF(C115520=base!$W$2,ROW()+1,\"\")","v":{"$error":"#REF!"}},82120,"Jardines del Toreo","Fraccionamiento","Mazatlán","Sinaloa","Mazatlán",82001,25,82001,null,21,12,1304,"Urbano",5]
[{"$f":"IF(C115594=base!$AC$2,ROW()+1,\"\")","v":{"$error":"#REF!"}},{"$f":"IF(C115594=base!$W$2,ROW()+1,\"\")","v":{"$error":"#REF!"}},82134,"Salinas de Gortari","Colonia","Mazatlán","Sinaloa","Mazatlán",82001,25,82001,null,9,12,1322,"Urbano",5]
[{"$f":"IF(C115646=base!$AC$2,ROW()+1,\"\")","v":{"$error":"#REF!"}},{"$f":"IF(C115646=base!$W$2,ROW()+1,\"\")","v":{"$error":"#REF!"}},82139,"Lomas de San Jorge","Fraccionamiento","Mazatlán","Sinaloa","Mazatlán",82181,25,82181,null,21,12,1962,"Urbano",5]
[{"$f":"IF(C115681=base!$AC$2,ROW()+1,\"\")","v":{"$error":"#REF!"}},{"$f":"IF(C115681=base!$W$2,ROW()+1,\"\")","v":{"$error":"#REF!"}},82157,"La Cima Residencial","Fraccionamiento","Mazatlán","Sinaloa","Mazatlán",82001,25,82001,null,21,12,10,"Urbano",5]
[{"$f":"IF(C115799=base!$AC$2,ROW()+1,\"\")","v":{"$error":"#REF!"}},{"$f":"IF(C115799=base!$W$2,ROW()+1,\"\")","v":{"$error":"#REF!"}},82270,"El Habal","Hacienda","Mazatlán","Sinaloa",null,82001,25,82001,null,24,12,1147,"Rural"]
[{"$f":"IF(C115839=base!$AC$2,ROW()+1,\"\")","v":{"$error":"#REF!"}},{"$f":"IF(C115839=base!$W$2,ROW()+1,\"\")","v":{"$error":"#REF!"}},82457,"13 de Septiembre","Colonia","Escuinapa","Sinaloa","Escuinapa de Hidalgo",82401,25,82401,null,9,9,2072,"Urbano",3]
[{"$f":"IF(C115952=base!$AC$2,ROW()+1,\"\")","v":{"$error":"#REF!"}},{"$f":"IF(C115952=base!$W$2,ROW()+1,\"\")","v":{"$error":"#REF!"}},82724,"Japuino","Pueblo","Elota","Sinaloa",null,82701,25,82701,null,28,8,2894,"Rural"]
[{"$f":"IF(C115988=base!$AC$2,ROW()+1,\"\")","v":{"$error":"#REF!"}},{"$f":"IF(C115988=base!$W$2,ROW()+1,\"\")","v":{"$error":"#REF!"}},82790,"Saladito","Ranchería","Elota","Sinaloa",null,82701,25,82701,null,29,8,1243,"Rural"]
[{"$f":"IF(C116033=base!$AC$2,ROW()+1,\"\")","v":{"$error":"#REF!"}},{"$f":"IF(C116033=base!$W$2,ROW()+1,\"\")","v":{"$error":"#REF!"}},82826,"Matadero","Ranchería","Rosario","Sinaloa",null,82801,25,82801,null,29,14,1256,"Rural"]
[{"$f":"IF(C116146=base!$AC$2,ROW()+1,\"\")","v":{"$error":"#REF!"}},{"$f":"IF(C116146=base!$W$2,ROW()+1,\"\")","v":{"$error":"#REF!"}},83079,"Chino Abelardo","Colonia","Hermosillo","Sonora","Hermosillo",83002,26,83002,null,9,30,2769,"Urbano",7]
[{"$f":"IF(C116218=base!$AC$2,ROW()+1,\"\")","v":{"$error":"#REF!"}},{"$f":"IF(C116218=base!$W$2,ROW()+1,\"\")","v":{"$error":"#REF!"}},83106,"Alto Valle","Fraccionamiento","Hermosillo","Sonora","Hermosillo",83101,26,83101,null,21,30,429,"Urbano",7]
[{"$f":"IF(C116304=base!$AC$2,ROW()+1,\"\")","v":{"$error":"#REF!"}},{"$f":"IF(C116304=base!$W$2,ROW()+1,\"\")","v":{"$error":"#REF!"}},83118,"Parque Central","Fraccionamiento","Hermosillo","Sonora","Hermosillo",83131,26,83131,null,21,30,221,"Urbano",7]
[{"$f":"IF(C116371=base!$AC$2,ROW()+1,\"\")","v":{"$error":"#REF!"}},{"$f":"IF(C116371=base!$W$2,ROW()+1,\"\")","v":{"$error":"#REF!"}},83144,"Sacramento Residencial","Colonia","Hermosillo","Sonora","Hermosillo",83101,26,83101,null,9,30,75,"Urbano",7]
[{"$f":"IF(C116391=base!$AC$2,ROW()+1,\"\")","v":{"$error":"#REF!"}},{"$f":"IF(C116391=base!$W$2,ROW()+1,\"\")","v":{"$error":"#REF!"}},83147,"Cerrada Cucurpe","Colonia","Hermosillo","Sonora","Hermosillo",83101,26,83101,null,9,30,1696,"Urbano",7]
[{"$f":"IF(C116524=base!$AC$2,ROW()+1,\"\")","v":{"$error":"#REF!"}},{"$f":"IF(C116524=base!$W$2,ROW()+1,\"\")","v":{"$error":"#REF!"}},83180,"Olivares","Colonia","Hermosillo","Sonora","Hermosillo",83181,26,83181,null,9,30,106,"Urbano",7]
[{"$f":"IF(C116540=base!$AC$2,ROW()+1,\"\")","v":{"$error":"#REF!"}},{"$f":"IF(C116540=base!$W$2,ROW()+1,\"\")","v":{"$error":"#REF!"}},83204,"Alameda","Colonia","Hermosillo","Sonora","Hermosillo",83002,26,83002,null,9,30,117,"Urbano",7]
[{"$f":"IF(C116605=base!$AC$2,ROW()+1,\"\")","v":{"$error":"#REF!"}},{"$f":"IF(C116605=base!$W$2,ROW()+1,\"\")","v":{"$error":"#REF!"}},83247,"Puerta Grande","Residencial","Hermosillo","Sonora","Hermosillo",83241,26,83241,null,30,30,2176,"Urbano",7]
[{"$f":"IF(C116698=base!$AC$2,ROW()+1,\"\")","v":{"$error":"#REF!"}},{"$f":"IF(C116698=base!$W$2,ROW()+1,\"\")","v":{"$error":"#REF!"}},83287,"Arcángel Residencial","Residencial","Hermosillo","Sonora","Hermosillo",83291,26,83291,null,30,30,3014,"Urbano",7]
[{"$f":"IF(C116758=base!$AC$2,ROW()+1,\"\")","v":{"$error":"#REF!"}},{"$f":"IF(C116758=base!$W$2,ROW()+1,\"\")","v":{"$error":"#REF!"}},83293,"Central de Abastos","Colonia","Hermosillo","Sonora","Hermosillo",83291,26,83291,null,9,30,2158,"Urbano",7]
[{"$f":"IF(C116856=base!$AC$2,ROW()+1,\"\")","v":{"$error":"#REF!"}},{"$f":"IF(C116856=base!$W$2,ROW()+1,\"\")","v":{"$error":"#REF!"}},83300,"Elías Ortega","Ranchería","Hermosillo","Sonora",null,83002,26,83002,null,29,30,6675,"Rural"]
[{"$f":"IF(C116943=base!$AC$2,ROW()+1,\"\")","v":{"$error":"#REF!"}},{"$f":"IF(C116943=base!$W$2,ROW()+1,\"\")","v":{"$error":"#REF!"}},83300,"Ramón Ibarra","Ranchería","Hermosillo","Sonora",null,83002,26,83002,null,29,30,7304,"Rural"]
[{"$f":"IF(C117014=base!$AC$2,ROW()+1,\"\")","v":{"$error":"#REF!"}},{"$f":"IF(C117014=base!$W$2,ROW()+1,\"\")","v":{"$error":"#REF!"}},83300,"Campestre el Edén","Ranchería","Hermosillo","Sonora",null,83002,26,83002,null,29,30,6236,"Rural"]
[{"$f":"IF(C117096=base!$AC$2,ROW()+1,\"\")","v":{"$error":"#REF!"}},{"$f":"IF(C117096=base!$W$2,ROW()+1,\"\")","v":{"$error":"#REF!"}},83303,"El Cimarrón","Ranchería","Hermosillo","Sonora",null,83002,26,83002,null,29,30,6447,"Rural"]
[{"$f":"IF(C117163=base!$AC$2,ROW()+1,\"\")","v":{"$error":"#REF!"}},{"$f":"IF(C117163=base!$W$2,ROW()+1,\"\")","v":{"$error":"#REF!"}},83303,"La Postera","Ranchería","Hermosillo","Sonora",null,83002,26,83002,null,29,30,6949,"Rural"]
[{"$f":"IF(C117177=base!$AC$2,ROW()+1,\"\")","v":{"$error":"#REF!"}},{"$f":"IF(C117177=base!$W$2,ROW()+1,\"\")","v":{"$error":"#REF!"}},83303,"San Martín","Ranchería","Hermosillo","Sonora",null,83002,26,83002,null,29,30,7535,"Rural"]
[{"$f":"IF(C117250=base!$AC$2,ROW()+1,\"\")","v":{"$error":"#REF!"}},{"$f":"IF(C117250=base!$W$2,ROW()+1,\"\")","v":{"$error":"#REF!"}},83303,"Fraccionamiento Villas de San Pedro","Fraccionamiento","Hermosillo","Sonora",null,83002,26,83002,null,21,30,6711,"Rural"]
[{"$f":"IF(C117330=base!$AC$2,ROW()+1,\"\")","v":{"$error":"#REF!"}},{"$f":"IF(C117330=base!$W$2,ROW()+1,\"\")","v":{"$error":"#REF!"}},83304,"San Francisquito","Ranchería","Hermosillo","Sonora",null,83191,26,83191,null,29,30,7453,"Rural"]
[{"$f":"IF(C117408=base!$AC$2,ROW()+1,\"\")","v":{"$error":"#REF!"}},{"$f":"IF(C117408=base!$W$2,ROW()+1,\"\")","v":{"$error":"#REF!"}},83310,"El Represo","Ranchería","Hermosillo","Sonora",null,83002,26,83002,null,29,30,6600,"Rural"]
[{"$f":"IF(C117515=base!$AC$2,ROW()+1,\"\")","v":{"$error":"#REF!"}},{"$f":"IF(C117515=base!$W$2,ROW()+1,\"\")","v":{"$error":"#REF!"}},83315,"El Carrizo","Ranchería","Hermosillo","Sonora",null,83345,26,83345,null,29,30,6419,"Rural"]
[{"$f":"IF(C117566=base!$AC$2,ROW()+1,\"\")","v":{"$error":"#REF!"}},{"$f":"IF(C117566=base!$W$2,ROW()+1,\"\")","v":{"$error":"#REF!"}},83316,"Establo la Tesota (Tesota)","Ranchería","Hermosillo","Sonora",null,83345,26,83345,null,29,30,6684,"Rural"]
[{"$f":"IF(C117668=base!$AC$2,ROW()+1,\"\")","v":{"$error":"#REF!"}},{"$f":"IF(C117668=base!$W$2,ROW()+1,\"\")","v":{"$error":"#REF!"}},83323,"La Fortuna","Ejido","Hermosillo","Sonora",null,83241,26,83241,null,15,30,6864,"Rural"]
[{"$f":"IF(C117724=base!$AC$2,ROW()+1,\"\")","v":{"$error":"#REF!"}},{"$f":"IF(C117724=base!$W$2,ROW()+1,\"\")","v":{"$error":"#REF!"}},83323,"Milpa Baja","Ranchería","Hermosillo","Sonora",null,83241,26,83241,null,29,30,7200,"Rural"]
[{"$f":"IF(C117749=base!$AC$2,ROW()+1,\"\")","v":{"$error":"#REF!"}},{"$f":"IF(C117749=base!$W$2,ROW()+1,\"\")","v":{"$error":"#REF!"}},83323,"Martín Romero","Ranchería","Hermosillo","Sonora",null,83241,26,83241,null,29,30,7186,"Rural"]
[{"$f":"IF(C117873=base!$AC$2,ROW()+1,\"\")","v":{"$error":"#REF!"}},{"$f":"IF(C117873=base!$W$2,ROW()+1,\"\")","v":{"$error":"#REF!"}},83324,"Nuevo Guadalupe de Jesés (San Blas)","Ranchería","Hermosillo","Sonora",null,83345,26,83345,null,29,30,7234,"Rural"]
[{"$f":"IF(C117902=base!$AC$2,ROW()+1,\"\")","v":{"$error":"#REF!"}},{"$f":"IF(C117902=base!$W$2,ROW()+1,\"\")","v":{"$error":"#REF!"}},83325,"Santa Inés","Ranchería","Hermosillo","Sonora",null,83345,26,83345,null,29,30,7630,"Rural"]
[{"$f":"IF(C117960=base!$AC$2,ROW()+1,\"\")","v":{"$error":"#REF!"}},{"$f":"IF(C117960=base!$W$2,ROW()+1,\"\")","v":{"$error":"#REF!"}},83330,"El Chalate","Ranchería","Hermosillo","Sonora",null,83345,26,83345,null,29,30,6426,"Rural"]
[{"$f":"IF(C118087=base!$AC$2,ROW()+1,\"\")","v":{"$error":"#REF!"}},{"$f":"IF(C118087=base!$W$2,ROW()+1,\"\")","v":{"$error":"#REF!"}},83333,"Sahuaripa Dos","Ranchería","Hermosillo","Sonora",null,83345,26,83345,null,29,30,7359,"Rural"]
[{"$f":"IF(C118118=base!$AC$2,ROW()+1,\"\")","v":{"$error":"#REF!"}},{"$f":"IF(C118118=base!$W$2,ROW()+1,\"\")","v":{"$error":"#REF!"}},83334,"San Alberto","Ejido","Hermosillo","Sonora",null,83345,26,83345,null,15,30,7374,"Rural"]
[{"$f":"IF(C118240=base!$AC$2,ROW()+1,\"\")","v":{"$error":"#REF!"}},{"$f":"IF(C118240=base!$W$2,ROW()+1,\"\")","v":{"$error":"#REF!"}},83334,"Sonora Sinaloa","Ranchería","Hermosillo","Sonora",null,83345,26,83345,null,29,30,7707,"Rural"]
[{"$f":"IF(C118276=base!$AC$2,ROW()+1,\"\")","v":{"$error":"#REF!"}},{"$f":"IF(C118276=base!$W$2,ROW()+1,\"\")","v":{"$error":"#REF!"}},83334,"Costa Rica","Ejido","Hermosillo","Sonora",null,83345,26,83345,null,15,30,6312,"Rural"]
[{"$f":"IF(C118321=base!$AC$2,ROW()+1,\"\")","v":{"$error":"#REF!"}},{"$f":"IF(C118321=base!$W$2,ROW()+1,\"\")","v":{"$error":"#REF!"}},83335,"Condominios Paraíso","Condominio","Hermosillo","Sonora",null,83345,26,83345,null,10,30,6303,"Rural"]
[{"$f":"IF(C118425=base!$AC$2,ROW()+1,\"\")","v":{"$error":"#REF!"}},{"$f":"IF(C118425=base!$W$2,ROW()+1,\"\")","v":{"$error":"#REF!"}},83342,"De la Cruz","Colonia","Hermosillo","Sonora",null,83341,26,83341,null,9,30,7781,"Rural"]
[{"$f":"IF(C118474=base!$AC$2,ROW()+1,\"\")","v":{"$error":"#REF!"}},{"$f":"IF(C118474=base!$W$2,ROW()+1,\"\")","v":{"$error":"#REF!"}},83353,"Coronado","Ranchería","Hermosillo","Sonora",null,83345,26,83345,null,29,30,6388,"Rural"]
[{"$f":"IF(C118583=base!$AC$2,ROW()+1,\"\")","v":{"$error":"#REF!"}},{"$f":"IF(C118583=base!$W$2,ROW()+1,\"\")","v":{"$error":"#REF!"}},83366,"Campo San Martín","Ejido","San Miguel de Horcasitas","Sonora",null,83002,26,83002,null,15,56,6012,"Rural"]
[{"$f":"IF(C118659=base!$AC$2,ROW()+1,\"\")","v":{"$error":"#REF!"}},{"$f":"IF(C118659=base!$W$2,ROW()+1,\"\")","v":{"$error":"#REF!"}},83376,"La Perla","Ranchería","San Miguel de Horcasitas","Sonora",null,83002,26,83002,null,29,56,6057,"Rural"]
[{"$f":"IF(C118741=base!$AC$2,ROW()+1,\"\")","v":{"$error":"#REF!"}},{"$f":"IF(C118741=base!$W$2,ROW()+1,\"\")","v":{"$error":"#REF!"}},83479,"La Grullita","Colonia","San Luis Río Colorado","Sonora","San Luis Río Colorado",83401,26,83401,null,9,55,2981,"Urbano",1]
[{"$f":"IF(C118812=base!$AC$2,ROW()+1,\"\")","v":{"$error":"#REF!"}},{"$f":"IF(C118812=base!$W$2,ROW()+1,\"\")","v":{"$error":"#REF!"}},83554,"Miranda","Condominio","Puerto Peñasco","Sonora","Puerto Peñasco",83551,26,83551,null,10,48,3201,"Urbano",11]
[{"$f":"IF(C118828=base!$AC$2,ROW()+1,\"\")","v":{"$error":"#REF!"}},{"$f":"IF(C118828=base!$W$2,ROW()+1,\"\")","v":{"$error":"#REF!"}},83555,"Bella Vista","Colonia","Puerto Peñasco","Sonora","Puerto Peñasco",83551,26,83551,null,9,48,1967,"Urbano",11]
[{"$f":"IF(C118893=base!$AC$2,ROW()+1,\"\")","v":{"$error":"#REF!"}},{"$f":"IF(C118893=base!$W$2,ROW()+1,\"\")","v":{"$error":"#REF!"}},83567,"Los Norteños","Congregación","Puerto Peñasco","Sonora",null,83551,26,83551,null,11,48,8675,"Rural"]
[{"$f":"IF(C118977=base!$AC$2,ROW()+1,\"\")","v":{"$error":"#REF!"}},{"$f":"IF(C118977=base!$W$2,ROW()+1,\"\")","v":{"$error":"#REF!"}},83706,"San Isidro","Ejido","Caborca","Sonora",null,83601,26,83601,null,15,17,2900,"Rural"]
[{"$f":"IF(C119046=base!$AC$2,ROW()+1,\"\")","v":{"$error":"#REF!"}},{"$f":"IF(C119046=base!$W$2,ROW()+1,\"\")","v":{"$error":"#REF!"}},83720,"San Jorge (La Nogalera)","Ranchería","Caborca","Sonora",null,83601,26,83601,null,29,17,9251,"Rural"]
[{"$f":"IF(C119135=base!$AC$2,ROW()+1,\"\")","v":{"$error":"#REF!"}},{"$f":"IF(C119135=base!$W$2,ROW()+1,\"\")","v":{"$error":"#REF!"}},83837,"Antonio Loroña","Ejido","Atil","Sonora",null,83601,26,83601,null,15,7,8419,"Rural"]
[{"$f":"IF(C119199=base!$AC$2,ROW()+1,\"\")","v":{"$error":"#REF!"}},{"$f":"IF(C119199=base!$W$2,ROW()+1,\"\")","v":{"$error":"#REF!"}},83927,"Buenos Aires","Ranchería","Benjamín Hill","Sonora",null,83901,26,83901,null,29,16,9277,"Rural"]
[{"$f":"IF(C119293=base!$AC$2,ROW()+1,\"\")","v":{"$error":"#REF!"}},{"$f":"IF(C119293=base!$W$2,ROW()+1,\"\")","v":{"$error":"#REF!"}},84065,"Granjas","Colonia","Nogales","Sonora","Heroica Nogales",84001,26,84001,null,9,43,633,"Urbano",10]
[{"$f":"IF(C119384=base!$AC$2,ROW()+1,\"\")","v":{"$error":"#REF!"}},{"$f":"IF(C119384=base!$W$2,ROW()+1,\"\")","v":{"$error":"#REF!"}},84100,"Felizardo Amador","Ranchería","Nogales","Sonora",null,84001,26,84001,null,29,43,7991,"Rural"]
[{"$f":"IF(C119451=base!$AC$2,ROW()+1,\"\")","v":{"$error":"#REF!"}},{"$f":"IF(C119451=base!$W$2,ROW()+1,\"\")","v":{"$error":"#REF!"}},84105,"El Arroyo (Valenzuela)","Ranchería","Nogales","Sonora",null,84001,26,84001,null,29,43,7940,"Rural"]
[{"$f":"IF(C119465=base!$AC$2,ROW()+1,\"\")","v":{"$error":"#REF!"}},{"$f":"IF(C119465=base!$W$2,ROW()+1,\"\")","v":{"$error":"#REF!"}},84105,"El Ocotilloso (Alfonso Madrigal)","Ranchería","Nogales","Sonora",null,84001,26,84001,null,29,43,7958,"Rural"]
[{"$f":"IF(C119600=base!$AC$2,ROW()+1,\"\")","v":{"$error":"#REF!"}},{"$f":"IF(C119600=base!$W$2,ROW()+1,\"\")","v":{"$error":"#REF!"}},84116,"Los Taraíces (Taraíces)","Ranchería","Nogales","Sonora",null,84001,26,84001,null,29,43,8075,"Rural"]
[{"$f":"IF(C119618=base!$AC$2,ROW()+1,\"\")","v":{"$error":"#REF!"}},{"$f":"IF(C119618=base!$W$2,ROW()+1,\"\")","v":{"$error":"#REF!"}},84125,"Revolución","Colonia","Imuris","Sonora",null,84121,26,84121,null,9,35,1829,"Urbano"]
[{"$f":"IF(C119687=base!$AC$2,ROW()+1,\"\")","v":{"$error":"#REF!"}},{"$f":"IF(C119687=base!$W$2,ROW()+1,\"\")","v":{"$error":"#REF!"}},84134,"Agua Escondida","Ranchería","Imuris","Sonora",null,84121,26,84121,null,29,35,7808,"Rural"]
[{"$f":"IF(C119770=base!$AC$2,ROW()+1,\"\")","v":{"$error":"#REF!"}},{"$f":"IF(C119770=base!$W$2,ROW()+1,\"\")","v":{"$error":"#REF!"}},84170,"El Alambre","Ranchería","Magdalena","Sonora",null,84162,26,84162,null,29,36,4071,"Rural"]
[{"$f":"IF(C119827=base!$AC$2,ROW()+1,\"\")","v":{"$error":"#REF!"}},{"$f":"IF(C119827=base!$W$2,ROW()+1,\"\")","v":{"$error":"#REF!"}},84173,"El Nopal","Ranchería","Magdalena","Sonora",null,84162,26,84162,null,29,36,4109,"Rural"]
[{"$f":"IF(C119919=base!$AC$2,ROW()+1,\"\")","v":{"$error":"#REF!"}},{"$f":"IF(C119919=base!$W$2,ROW()+1,\"\")","v":{"$error":"#REF!"}},84175,"Ocho Flores (Casa Blanca)","Ranchería","Magdalena","Sonora",null,84162,26,84162,null,29,36,4261,"Rural"]
[{"$f":"IF(C119980=base!$AC$2,ROW()+1,\"\")","v":{"$error":"#REF!"}},{"$f":"IF(C119980=base!$W$2,ROW()+1,\"\")","v":{"$error":"#REF!"}},84176,"El Potrero","Ranchería","Magdalena","Sonora",null,84162,26,84162,null,29,36,4120,"Rural"]
[{"$f":"IF(C120077=base!$AC$2,ROW()+1,\"\")","v":{"$error":"#REF!"}},{"$f":"IF(C120077=base!$W$2,ROW()+1,\"\")","v":{"$error":"#REF!"}},84195,"Parcela Delgado","Ejido","Naco","Sonora",null,84181,26,84181,null,15,39,20,"Rural"]
[{"$f":"IF(C120133=base!$AC$2,ROW()+1,\"\")","v":{"$error":"#REF!"}},{"$f":"IF(C120133=base!$W$2,ROW()+1,\"\")","v":{"$error":"#REF!"}},84279,"Parque Industrial del Río","Parque industrial","Agua Prieta","Sonora","Agua Prieta",84201,26,84201,null,26,2,1749,"Urbano",2]
[{"$f":"IF(C120235=base!$AC$2,ROW()+1,\"\")","v":{"$error":"#REF!"}},{"$f":"IF(C120235=base!$W$2,ROW()+1,\"\")","v":{"$error":"#REF!"}},84303,"Ramón Tapia","Ejido","Agua Prieta","Sonora",null,84201,26,84201,null,15,2,8373,"Rural"]
[{"$f":"IF(C120318=base!$AC$2,ROW()+1,\"\")","v":{"$error":"#REF!"}},{"$f":"IF(C120318=base!$W$2,ROW()+1,\"\")","v":{"$error":"#REF!"}},84304,"Los Altos","Ejido","Agua Prieta","Sonora",null,84201,26,84201,null,15,2,8319,"Rural"]
[{"$f":"IF(C120322=base!$AC$2,ROW()+1,\"\")","v":{"$error":"#REF!"}},{"$f":"IF(C120322=base!$W$2,ROW()+1,\"\")","v":{"$error":"#REF!"}},84304,"Yunque Antonio Hernández","Ejido","Agua Prieta","Sonora",null,84201,26,84201,null,15,2,8417,"Rural"]
[{"$f":"IF(C120399=base!$AC$2,ROW()+1,\"\")","v":{"$error":"#REF!"}},{"$f":"IF(C120399=base!$W$2,ROW()+1,\"\")","v":{"$error":"#REF!"}},84315,"Los Embudos","Ejido","Agua Prieta","Sonora",null,84201,26,84201,null,15,2,8324,"Rural"]
[{"$f":"IF(C120471=base!$AC$2,ROW()+1,\"\")","v":{"$error":"#REF!"}},{"$f":"IF(C120471=base!$W$2,ROW()+1,\"\")","v":{"$error":"#REF!"}},84326,"Baltazar","Ranchería","Fronteras","Sonora",null,84331,26,84331,null,29,27,15,"Rural"]
[{"$f":"IF(C120552=base!$AC$2,ROW()+1,\"\")","v":{"$error":"#REF!"}},{"$f":"IF(C120552=base!$W$2,ROW()+1,\"\")","v":{"$error":"#REF!"}},84328,"Proaños (Los Morales)","Ranchería","Fronteras","Sonora",null,84331,26,84331,null,29,27,136,"Rural"]
[{"$f":"IF(C120629=base!$AC$2,ROW()+1,\"\")","v":{"$error":"#REF!"}},{"$f":"IF(C120629=base!$W$2,ROW()+1,\"\")","v":{"$error":"#REF!"}},84366,"La Cruz","Ranchería","Bavispe","Sonora",null,84561,26,84561,null,29,15,4355,"Rural"]
[{"$f":"IF(C120705=base!$AC$2,ROW()+1,\"\")","v":{"$error":"#REF!"}},{"$f":"IF(C120705=base!$W$2,ROW()+1,\"\")","v":{"$error":"#REF!"}},84393,"Tres Luces","Ranchería","Bacerac","Sonora",null,84201,26,84201,null,29,10,78,"Rural"]
[{"$f":"IF(C120787=base!$AC$2,ROW()+1,\"\")","v":{"$error":"#REF!"}},{"$f":"IF(C120787=base!$W$2,ROW()+1,\"\")","v":{"$error":"#REF!"}},84493,"Los Taraices","Ranchería","Bacadéhuachi","Sonora",null,84561,26,84561,null,29,8,8464,"Rural"]
[{"$f":"IF(C120890=base!$AC$2,ROW()+1,\"\")","v":{"$error":"#REF!"}},{"$f":"IF(C120890=base!$W$2,ROW()+1,\"\")","v":{"$error":"#REF!"}},84622,"Petroleros","Colonia","Cananea","Sonora","Heroica Ciudad de Cananea",84621,26,84621,null,9,19,1780,"Urbano",12]
[{"$f":"IF(C120945=base!$AC$2,ROW()+1,\"\")","v":{"$error":"#REF!"}},{"$f":"IF(C120945=base!$W$2,ROW()+1,\"\")","v":{"$error":"#REF!"}},84624,"Mesa Sur","Colonia","Cananea","Sonora","Heroica Ciudad de Cananea",84621,26,84621,null,9,19,1765,"Urbano",12]
[{"$f":"IF(C120971=base!$AC$2,ROW()+1,\"\")","v":{"$error":"#REF!"}},{"$f":"IF(C120971=base!$W$2,ROW()+1,\"\")","v":{"$error":"#REF!"}},84633,"Las Cabañitas","Ranchería","Cananea","Sonora",null,84621,26,84621,null,29,19,9408,"Rural"]
[{"$f":"IF(C121094=base!$AC$2,ROW()+1,\"\")","v":{"$error":"#REF!"}},{"$f":"IF(C121094=base!$W$2,ROW()+1,\"\")","v":{"$error":"#REF!"}},84650,"Tahuichopa","Congregación","Arizpe","Sonora",null,84642,26,84642,null,11,6,783,"Rural"]
[{"$f":"IF(C121124=base!$AC$2,ROW()+1,\"\")","v":{"$error":"#REF!"}},{"$f":"IF(C121124=base!$W$2,ROW()+1,\"\")","v":{"$error":"#REF!"}},84654,"Derrepente (De Pellat)","Ranchería","Arizpe","Sonora",null,84642,26,84642,null,29,6,8497,"Rural"]
[{"$f":"IF(C121181=base!$AC$2,ROW()+1,\"\")","v":{"$error":"#REF!"}},{"$f":"IF(C121181=base!$W$2,ROW()+1,\"\")","v":{"$error":"#REF!"}},84657,"La Huerta (Basochuca)","Ranchería","Arizpe","Sonora",null,84642,26,84642,null,29,6,8557,"Rural"]
[{"$f":"IF(C121277=base!$AC$2,ROW()+1,\"\")","v":{"$error":"#REF!"}},{"$f":"IF(C121277=base!$W$2,ROW()+1,\"\")","v":{"$error":"#REF!"}},84893,"La Capilla","Ejido","Banámichi","Sonora",null,84881,26,84881,null,15,13,8696,"Rural"]
[{"$f":"IF(C121339=base!$AC$2,ROW()+1,\"\")","v":{"$error":"#REF!"}},{"$f":"IF(C121339=base!$W$2,ROW()+1,\"\")","v":{"$error":"#REF!"}},84953,"San José (San José de Baviácora)","Pueblo","Baviácora","Sonora",null,84941,26,84941,null,28,14,844,"Rural"]
[{"$f":"IF(C121462=base!$AC$2,ROW()+1,\"\")","v":{"$error":"#REF!"}},{"$f":"IF(C121462=base!$W$2,ROW()+1,\"\")","v":{"$error":"#REF!"}},85130,"Bellavista","Colonia","Cajeme","Sonora","Ciudad Obregón",85111,26,85111,null,9,18,894,"Urbano",4]
[{"$f":"IF(C121497=base!$AC$2,ROW()+1,\"\")","v":{"$error":"#REF!"}},{"$f":"IF(C121497=base!$W$2,ROW()+1,\"\")","v":{"$error":"#REF!"}},85140,"Las Torres","Colonia","Cajeme","Sonora","Ciudad Obregón",85111,26,85111,null,9,18,2229,"Urbano",4]
[{"$f":"IF(C121543=base!$AC$2,ROW()+1,\"\")","v":{"$error":"#REF!"}},{"$f":"IF(C121543=base!$W$2,ROW()+1,\"\")","v":{"$error":"#REF!"}},85190,"Villas del Real","Fraccionamiento","Cajeme","Sonora","Ciudad Obregón",85171,26,85171,null,21,18,2048,"Urbano",4]
[{"$f":"IF(C121655=base!$AC$2,ROW()+1,\"\")","v":{"$error":"#REF!"}},{"$f":"IF(C121655=base!$W$2,ROW()+1,\"\")","v":{"$error":"#REF!"}},85200,"Los Caballos","Ejido","Cajeme","Sonora",null,85201,26,85201,null,15,18,5455,"Rural"]
[{"$f":"IF(C121696=base!$AC$2,ROW()+1,\"\")","v":{"$error":"#REF!"}},{"$f":"IF(C121696=base!$W$2,ROW()+1,\"\")","v":{"$error":"#REF!"}},85200,"El Tigre","Ranchería","Cajeme","Sonora",null,85201,26,85201,null,29,18,4997,"Rural"]
[{"$f":"IF(C121804=base!$AC$2,ROW()+1,\"\")","v":{"$error":"#REF!"}},{"$f":"IF(C121804=base!$W$2,ROW()+1,\"\")","v":{"$error":"#REF!"}},85203,"Ignacio Valenzuela Castro","Ranchería","Cajeme","Sonora",null,85001,26,85001,null,29,18,5170,"Rural"]
[{"$f":"IF(C121849=base!$AC$2,ROW()+1,\"\")","v":{"$error":"#REF!"}},{"$f":"IF(C121849=base!$W$2,ROW()+1,\"\")","v":{"$error":"#REF!"}},85203,"Ganadera Gume","Ranchería","Cajeme","Sonora",null,85001,26,85001,null,29,18,5108,"Rural"]
[{"$f":"IF(C121962=base!$AC$2,ROW()+1,\"\")","v":{"$error":"#REF!"}},{"$f":"IF(C121962=base!$W$2,ROW()+1,\"\")","v":{"$error":"#REF!"}},85203,"Guadalupe Victoria","Ejido","Cajeme","Sonora",null,85001,26,85001,null,15,18,941,"Rural"]
[{"$f":"IF(C122034=base!$AC$2,ROW()+1,\"\")","v":{"$error":"#REF!"}},{"$f":"IF(C122034=base!$W$2,ROW()+1,\"\")","v":{"$error":"#REF!"}},85203,"José Jesús López Armenta","Ranchería","Cajeme","Sonora",null,85001,26,85001,null,29,18,5217,"Rural"]
[{"$f":"IF(C122049=base!$AC$2,ROW()+1,\"\")","v":{"$error":"#REF!"}},{"$f":"IF(C122049=base!$W$2,ROW()+1,\"\")","v":{"$error":"#REF!"}},85203,"Sahuaro Sur (Campo de los Encinas)","Ranchería","Cajeme","Sonora",null,85001,26,85001,null,29,18,5822,"Rural"]
[{"$f":"IF(C122115=base!$AC$2,ROW()+1,\"\")","v":{"$error":"#REF!"}},{"$f":"IF(C122115=base!$W$2,ROW()+1,\"\")","v":{"$error":"#REF!"}},85205,"Cecilio Castillo","Ranchería","Cajeme","Sonora",null,85001,26,85001,null,29,18,4717,"Rural"]
[{"$f":"IF(C122207=base!$AC$2,ROW()+1,\"\")","v":{"$error":"#REF!"}},{"$f":"IF(C122207=base!$W$2,ROW()+1,\"\")","v":{"$error":"#REF!"}},85206,"Ejido Colectivo Luis Encinas","Ejido","Cajeme","Sonora",null,85201,26,85201,null,15,18,2848,"Rural"]
[{"$f":"IF(C122268=base!$AC$2,ROW()+1,\"\")","v":{"$error":"#REF!"}},{"$f":"IF(C122268=base!$W$2,ROW()+1,\"\")","v":{"$error":"#REF!"}},85207,"Soles Cinco (Bloque 1807)","Ranchería","Cajeme","Sonora",null,85201,26,85201,null,29,18,5932,"Rural"]
[{"$f":"IF(C122356=base!$AC$2,ROW()+1,\"\")","v":{"$error":"#REF!"}},{"$f":"IF(C122356=base!$W$2,ROW()+1,\"\")","v":{"$error":"#REF!"}},85208,"La Choya","Ranchería","Cajeme","Sonora",null,85001,26,85001,null,29,18,5277,"Rural"]
[{"$f":"IF(C122421=base!$AC$2,ROW()+1,\"\")","v":{"$error":"#REF!"}},{"$f":"IF(C122421=base!$W$2,ROW()+1,\"\")","v":{"$error":"#REF!"}},85208,"Rancho Alma","Ranchería","Cajeme","Sonora",null,85001,26,85001,null,29,18,5732,"Rural"]
[{"$f":"IF(C122514=base!$AC$2,ROW()+1,\"\")","v":{"$error":"#REF!"}},{"$f":"IF(C122514=base!$W$2,ROW()+1,\"\")","v":{"$error":"#REF!"}},85209,"Eusebio Zamorano Acosta","Ranchería","Cajeme","Sonora",null,85291,26,85291,null,29,18,5053,"Rural"]
[{"$f":"IF(C122606=base!$AC$2,ROW()+1,\"\")","v":{"$error":"#REF!"}},{"$f":"IF(C122606=base!$W$2,ROW()+1,\"\")","v":{"$error":"#REF!"}},85212,"Peñasco Blanco","Ranchería","Cajeme","Sonora",null,85211,26,85211,null,29,18,5658,"Rural"]
[{"$f":"IF(C122672=base!$AC$2,ROW()+1,\"\")","v":{"$error":"#REF!"}},{"$f":"IF(C122672=base!$W$2,ROW()+1,\"\")","v":{"$error":"#REF!"}},85213,"Chimbampo","Ranchería","Cajeme","Sonora",null,85211,26,85211,null,29,18,4731,"Rural"]
[{"$f":"IF(C122687=base!$AC$2,ROW()+1,\"\")","v":{"$error":"#REF!"}},{"$f":"IF(C122687=base!$W$2,ROW()+1,\"\")","v":{"$error":"#REF!"}},85213,"Santo Niño (Ignacio Chávez)","Ranchería","Cajeme","Sonora",null,85211,26,85211,null,29,18,5908,"Rural"]
[{"$f":"IF(C122759=base!$AC$2,ROW()+1,\"\")","v":{"$error":"#REF!"}},{"$f":"IF(C122759=base!$W$2,ROW()+1,\"\")","v":{"$error":"#REF!"}},85213,"El Chiculi","Ranchería","Cajeme","Sonora",null,85211,26,85211,null,29,18,4873,"Rural"]
[{"$f":"IF(C122840=base!$AC$2,ROW()+1,\"\")","v":{"$error":"#REF!"}},{"$f":"IF(C122840=base!$W$2,ROW()+1,\"\")","v":{"$error":"#REF!"}},85215,"Corral de Piedra","Ranchería","Cajeme","Sonora",null,85211,26,85211,null,29,18,4751,"Rural"]
[{"$f":"IF(C122908=base!$AC$2,ROW()+1,\"\")","v":{"$error":"#REF!"}},{"$f":"IF(C122908=base!$W$2,ROW()+1,\"\")","v":{"$error":"#REF!"}},85217,"San Francisco","Ranchería","Cajeme","Sonora",null,85211,26,85211,null,29,18,5846,"Rural"]
[{"$f":"IF(C122993=base!$AC$2,ROW()+1,\"\")","v":{"$error":"#REF!"}},{"$f":"IF(C122993=base!$W$2,ROW()+1,\"\")","v":{"$error":"#REF!"}},85218,"El Sauz","Ranchería","Cajeme","Sonora",null,85211,26,85211,null,29,18,4985,"Rural"]
[{"$f":"IF(C123066=base!$AC$2,ROW()+1,\"\")","v":{"$error":"#REF!"}},{"$f":"IF(C123066=base!$W$2,ROW()+1,\"\")","v":{"$error":"#REF!"}},85218,"La Cabaña","Ejido","Cajeme","Sonora",null,85211,26,85211,null,15,18,5268,"Rural"]
[{"$f":"IF(C123146=base!$AC$2,ROW()+1,\"\")","v":{"$error":"#REF!"}},{"$f":"IF(C123146=base!$W$2,ROW()+1,\"\")","v":{"$error":"#REF!"}},85218,"La Palmita","Ranchería","Cajeme","Sonora",null,85211,26,85211,null,29,18,5350,"Rural"]
[{"$f":"IF(C123224=base!$AC$2,ROW()+1,\"\")","v":{"$error":"#REF!"}},{"$f":"IF(C123224=base!$W$2,ROW()+1,\"\")","v":{"$error":"#REF!"}},85218,"Guadalupe Moreno Murrieta (Sivacobi)","Ranchería","Cajeme","Sonora",null,85211,26,85211,null,29,18,5132,"Rural"]
[{"$f":"IF(C123259=base!$AC$2,ROW()+1,\"\")","v":{"$error":"#REF!"}},{"$f":"IF(C123259=base!$W$2,ROW()+1,\"\")","v":{"$error":"#REF!"}},85219,"El Alhuate","Barrio","Cajeme","Sonora",null,85211,26,85211,null,2,18,1897,"Rural"]
[{"$f":"IF(C123382=base!$AC$2,ROW()+1,\"\")","v":{"$error":"#REF!"}},{"$f":"IF(C123382=base!$W$2,ROW()+1,\"\")","v":{"$error":"#REF!"}},85224,"Yorimayo","Ranchería","Navojoa","Sonora",null,85801,26,85801,null,29,42,3838,"Rural"]
[{"$f":"IF(C123412=base!$AC$2,ROW()+1,\"\")","v":{"$error":"#REF!"}},{"$f":"IF(C123412=base!$W$2,ROW()+1,\"\")","v":{"$error":"#REF!"}},85225,"Algodonera Ucamayo","Ranchería","Navojoa","Sonora",null,85801,26,85801,null,29,42,3436,"Rural"]
[{"$f":"IF(C123531=base!$AC$2,ROW()+1,\"\")","v":{"$error":"#REF!"}},{"$f":"IF(C123531=base!$W$2,ROW()+1,\"\")","v":{"$error":"#REF!"}},85229,"Corrales la Quince","Ranchería","Navojoa","Sonora",null,85801,26,85801,null,29,42,3515,"Rural"]
[{"$f":"IF(C123565=base!$AC$2,ROW()+1,\"\")","v":{"$error":"#REF!"}},{"$f":"IF(C123565=base!$W$2,ROW()+1,\"\")","v":{"$error":"#REF!"}},85229,"El Molino","Ranchería","Navojoa","Sonora",null,85801,26,85801,null,29,42,3554,"Rural"]
[{"$f":"IF(C123618=base!$AC$2,ROW()+1,\"\")","v":{"$error":"#REF!"}},{"$f":"IF(C123618=base!$W$2,ROW()+1,\"\")","v":{"$error":"#REF!"}},85233,"Tamazula","Ranchería","Navojoa","Sonora",null,85801,26,85801,null,29,42,3812,"Rural"]
[{"$f":"IF(C123718=base!$AC$2,ROW()+1,\"\")","v":{"$error":"#REF!"}},{"$f":"IF(C123718=base!$W$2,ROW()+1,\"\")","v":{"$error":"#REF!"}},85237,"Las Pilas","Estación","Navojoa","Sonora",null,85801,26,85801,null,16,42,3340,"Rural"]
[{"$f":"IF(C123776=base!$AC$2,ROW()+1,\"\")","v":{"$error":"#REF!"}},{"$f":"IF(C123776=base!$W$2,ROW()+1,\"\")","v":{"$error":"#REF!"}},85240,"Citaváro","Hacienda","Huatabampo","Sonora",null,85901,26,85901,null,24,33,1046,"Rural"]
[{"$f":"IF(C123831=base!$AC$2,ROW()+1,\"\")","v":{"$error":"#REF!"}},{"$f":"IF(C123831=base!$W$2,ROW()+1,\"\")","v":{"$error":"#REF!"}},85245,"La Colonita","Ranchería","Huatabampo","Sonora",null,85901,26,85901,null,29,33,3942,"Rural"]
[{"$f":"IF(C123934=base!$AC$2,ROW()+1,\"\")","v":{"$error":"#REF!"}},{"$f":"IF(C123934=base!$W$2,ROW()+1,\"\")","v":{"$error":"#REF!"}},85250,"El Trailero [Restaurante]","Ranchería","Huatabampo","Sonora",null,85901,26,85901,null,29,33,3911,"Rural"]
[{"$f":"IF(C124008=base!$AC$2,ROW()+1,\"\")","v":{"$error":"#REF!"}},{"$f":"IF(C124008=base!$W$2,ROW()+1,\"\")","v":{"$error":"#REF!"}},85258,"El Nacapul","Ranchería","Huatabampo","Sonora",null,85901,26,85901,null,29,33,3904,"Rural"]
[{"$f":"IF(C124080=base!$AC$2,ROW()+1,\"\")","v":{"$error":"#REF!"}},{"$f":"IF(C124080=base!$W$2,ROW()+1,\"\")","v":{"$error":"#REF!"}},85283,"Genovevo de la O","Ranchería","Etchojoa","Sonora",null,85901,26,85901,null,29,26,2554,"Rural"]
[{"$f":"IF(C124166=base!$AC$2,ROW()+1,\"\")","v":{"$error":"#REF!"}},{"$f":"IF(C124166=base!$W$2,ROW()+1,\"\")","v":{"$error":"#REF!"}},85285,"Mejía","Ranchería","Etchojoa","Sonora",null,85901,26,85901,null,29,26,2599,"Rural"]
[{"$f":"IF(C124193=base!$AC$2,ROW()+1,\"\")","v":{"$error":"#REF!"}},{"$f":"IF(C124193=base!$W$2,ROW()+1,\"\")","v":{"$error":"#REF!"}},85286,"Rosas Rochín","Ranchería","Etchojoa","Sonora",null,85901,26,85901,null,29,26,2644,"Rural"]
[{"$f":"IF(C124253=base!$AC$2,ROW()+1,\"\")","v":{"$error":"#REF!"}},{"$f":"IF(C124253=base!$W$2,ROW()+1,\"\")","v":{"$error":"#REF!"}},85288,"Jaime Salido (El Nacapul SPR)","Ranchería","Etchojoa","Sonora",null,85901,26,85901,null,29,26,2671,"Rural"]
[{"$f":"IF(C124346=base!$AC$2,ROW()+1,\"\")","v":{"$error":"#REF!"}},{"$f":"IF(C124346=base!$W$2,ROW()+1,\"\")","v":{"$error":"#REF!"}},85296,"Santa Maria","Ranchería","Benito Juárez","Sonora",null,85291,26,85291,null,29,71,2533,"Rural"]
[{"$f":"IF(C124402=base!$AC$2,ROW()+1,\"\")","v":{"$error":"#REF!"}},{"$f":"IF(C124402=base!$W$2,ROW()+1,\"\")","v":{"$error":"#REF!"}},85385,"Los Portales","Fraccionamiento","Empalme","Sonora","Empalme",85301,26,85301,null,21,25,46,"Urbano",5]
[{"$f":"IF(C124499=base!$AC$2,ROW()+1,\"\")","v":{"$error":"#REF!"}},{"$f":"IF(C124499=base!$W$2,ROW()+1,\"\")","v":{"$error":"#REF!"}},85440,"El Periodista","Colonia","Guaymas","Sonora","Heroica Guaymas",85401,26,85401,null,9,29,2986,"Urbano",6]
[{"$f":"IF(C124560=base!$AC$2,ROW()+1,\"\")","v":{"$error":"#REF!"}},{"$f":"IF(C124560=base!$W$2,ROW()+1,\"\")","v":{"$error":"#REF!"}},85480,"Las Playitas 1","Colonia","Guaymas","Sonora","Heroica Guaymas",85401,26,85401,null,9,29,1260,"Urbano",6]
[{"$f":"IF(C124652=base!$AC$2,ROW()+1,\"\")","v":{"$error":"#REF!"}},{"$f":"IF(C124652=base!$W$2,ROW()+1,\"\")","v":{"$error":"#REF!"}},85513,"Potam","Pueblo","Guaymas","Sonora",null,85001,26,85001,null,28,29,1297,"Rural"]
[{"$f":"IF(C124718=base!$AC$2,ROW()+1,\"\")","v":{"$error":"#REF!"}},{"$f":"IF(C124718=base!$W$2,ROW()+1,\"\")","v":{"$error":"#REF!"}},85516,"Los Ponce","Ejido","San Ignacio Río Muerto","Sonora",null,85517,26,85517,null,15,72,2366,"Rural"]
[{"$f":"IF(C124765=base!$AC$2,ROW()+1,\"\")","v":{"$error":"#REF!"}},{"$f":"IF(C124765=base!$W$2,ROW()+1,\"\")","v":{"$error":"#REF!"}},85518,"Campo de Corrales","Ejido","San Ignacio Río Muerto","Sonora",null,85517,26,85517,null,15,72,2405,"Rural"]
[{"$f":"IF(C124876=base!$AC$2,ROW()+1,\"\")","v":{"$error":"#REF!"}},{"$f":"IF(C124876=base!$W$2,ROW()+1,\"\")","v":{"$error":"#REF!"}},85600,"Mesita Del Guajari","Congregación","Sahuaripa","Sonora",null,85601,26,85601,null,11,52,1343,"Rural"]
[{"$f":"IF(C124918=base!$AC$2,ROW()+1,\"\")","v":{"$error":"#REF!"}},{"$f":"IF(C124918=base!$W$2,ROW()+1,\"\")","v":{"$error":"#REF!"}},85681,"Ponida","Congregación","Arivechi","Sonora",null,85601,26,85601,null,11,5,1368,"Rural"]
[{"$f":"IF(C125025=base!$AC$2,ROW()+1,\"\")","v":{"$error":"#REF!"}},{"$f":"IF(C125025=base!$W$2,ROW()+1,\"\")","v":{"$error":"#REF!"}},85770,"Jecopaco (San Antonio)","Ranchería","Alamos","Sonora",null,85763,26,85763,null,29,3,8932,"Rural"]
[{"$f":"IF(C125071=base!$AC$2,ROW()+1,\"\")","v":{"$error":"#REF!"}},{"$f":"IF(C125071=base!$W$2,ROW()+1,\"\")","v":{"$error":"#REF!"}},85770,"Sejaqui","Ranchería","Alamos","Sonora",null,85763,26,85763,null,29,3,9174,"Rural"]
[{"$f":"IF(C125112=base!$AC$2,ROW()+1,\"\")","v":{"$error":"#REF!"}},{"$f":"IF(C125112=base!$W$2,ROW()+1,\"\")","v":{"$error":"#REF!"}},85773,"San Pedro","Ejido","Alamos","Sonora",null,85763,26,85763,null,15,3,9158,"Rural"]
[{"$f":"IF(C125224=base!$AC$2,ROW()+1,\"\")","v":{"$error":"#REF!"}},{"$f":"IF(C125224=base!$W$2,ROW()+1,\"\")","v":{"$error":"#REF!"}},85774,"Román Yocupicio (El Ranchito)","Ranchería","Alamos","Sonora",null,85763,26,85763,null,29,3,9130,"Rural"]
[{"$f":"IF(C125270=base!$AC$2,ROW()+1,\"\")","v":{"$error":"#REF!"}},{"$f":"IF(C125270=base!$W$2,ROW()+1,\"\")","v":{"$error":"#REF!"}},85774,"El Infiernito","Ranchería","Alamos","Sonora",null,85763,26,85763,null,29,3,8852,"Rural"]
[{"$f":"IF(C125337=base!$AC$2,ROW()+1,\"\")","v":{"$error":"#REF!"}},{"$f":"IF(C125337=base!$W$2,ROW()+1,\"\")","v":{"$error":"#REF!"}},85775,"Los Llanos de Benito","Ranchería","Alamos","Sonora",null,85763,26,85763,null,29,3,9070,"Rural"]
[{"$f":"IF(C125428=base!$AC$2,ROW()+1,\"\")","v":{"$error":"#REF!"}},{"$f":"IF(C125428=base!$W$2,ROW()+1,\"\")","v":{"$error":"#REF!"}},85776,"San Nicolás","Ranchería","Alamos","Sonora",null,85763,26,85763,null,29,3,9153,"Rural"]
[{"$f":"IF(C125490=base!$AC$2,ROW()+1,\"\")","v":{"$error":"#REF!"}},{"$f":"IF(C125490=base!$W$2,ROW()+1,\"\")","v":{"$error":"#REF!"}},85777,"Providencia","Ranchería","Alamos","Sonora",null,85763,26,85763,null,29,3,9119,"Rural"]
[{"$f":"IF(C125586=base!$AC$2,ROW()+1,\"\")","v":{"$error":"#REF!"}},{"$f":"IF(C125586=base!$W$2,ROW()+1,\"\")","v":{"$error":"#REF!"}},85880,"Francisco Villa","Colonia","Navojoa","Sonora","Navojoa",85801,26,85801,null,9,42,1480,"Urbano",9]
[{"$f":"IF(C125643=base!$AC$2,ROW()+1,\"\")","v":{"$error":"#REF!"}},{"$f":"IF(C125643=base!$W$2,ROW()+1,\"\")","v":{"$error":"#REF!"}},85970,"Díaz","Fraccionamiento","Huatabampo","Sonora","Huatabampo",85901,26,85901,null,21,33,1501,"Semiurbano",8]
[{"$f":"IF(C125735=base!$AC$2,ROW()+1,\"\")","v":{"$error":"#REF!"}},{"$f":"IF(C125735=base!$W$2,ROW()+1,\"\")","v":{"$error":"#REF!"}},86040,"Jesús Garcia","Colonia","Centro","Tabasco","Villahermosa",86061,27,86061,null,9,4,49,"Urbano",2]
[{"$f":"IF(C125796=base!$AC$2,ROW()+1,\"\")","v":{"$error":"#REF!"}},{"$f":"IF(C125796=base!$W$2,ROW()+1,\"\")","v":{"$error":"#REF!"}},86108,"Villa de los Trabajadores","Colonia","Centro","Tabasco","Villahermosa",86061,27,86061,null,9,4,1321,"Urbano",2]
[{"$f":"IF(C125893=base!$AC$2,ROW()+1,\"\")","v":{"$error":"#REF!"}},{"$f":"IF(C125893=base!$W$2,ROW()+1,\"\")","v":{"$error":"#REF!"}},86193,"Parrilla II","Fraccionamiento","Centro","Tabasco","Villahermosa",86061,27,86061,null,21,4,1352,"Semiurbano",2]
[{"$f":"IF(C125909=base!$AC$2,ROW()+1,\"\")","v":{"$error":"#REF!"}},{"$f":"IF(C125909=base!$W$2,ROW()+1,\"\")","v":{"$error":"#REF!"}},86203,"Jalupa","Ejido","Jalpa de Méndez","Tabasco",null,86202,27,86202,null,15,10,155,"Rural"]
[{"$f":"IF(C125980=base!$AC$2,ROW()+1,\"\")","v":{"$error":"#REF!"}},{"$f":"IF(C125980=base!$W$2,ROW()+1,\"\")","v":{"$error":"#REF!"}},86237,"Corriente 1a Secc","Ranchería","Nacajuca","Tabasco",null,86202,27,86202,null,29,13,158,"Rural"]
[{"$f":"IF(C126062=base!$AC$2,ROW()+1,\"\")","v":{"$error":"#REF!"}},{"$f":"IF(C126062=base!$W$2,ROW()+1,\"\")","v":{"$error":"#REF!"}},86270,"Ocuiltzapotlan","Villa","Centro","Tabasco",null,86252,27,86252,null,32,4,193,"Semiurbano"]
[{"$f":"IF(C126138=base!$AC$2,ROW()+1,\"\")","v":{"$error":"#REF!"}},{"$f":"IF(C126138=base!$W$2,ROW()+1,\"\")","v":{"$error":"#REF!"}},86280,"Platano y Cacao 4a Sección","Ranchería","Centro","Tabasco",null,86061,27,86061,null,29,4,2273,"Rural"]
[{"$f":"IF(C126215=base!$AC$2,ROW()+1,\"\")","v":{"$error":"#REF!"}},{"$f":"IF(C126215=base!$W$2,ROW()+1,\"\")","v":{"$error":"#REF!"}},86288,"Santa Bárbara","Fraccionamiento","Centro","Tabasco",null,86061,27,86061,null,21,4,2491,"Semiurbano"]
[{"$f":"IF(C126287=base!$AC$2,ROW()+1,\"\")","v":{"$error":"#REF!"}},{"$f":"IF(C126287=base!$W$2,ROW()+1,\"\")","v":{"$error":"#REF!"}},86320,"Infonavit","Colonia","Comalcalco","Tabasco","Comalcalco",86301,27,86301,null,9,5,1509,"Urbano",3]
[{"$f":"IF(C126368=base!$AC$2,ROW()+1,\"\")","v":{"$error":"#REF!"}},{"$f":"IF(C126368=base!$W$2,ROW()+1,\"\")","v":{"$error":"#REF!"}},86407,"Laguna de los Limones","Ranchería","Huimanguillo","Tabasco",null,86401,27,86401,null,29,8,292,"Rural"]
[{"$f":"IF(C126445=base!$AC$2,ROW()+1,\"\")","v":{"$error":"#REF!"}},{"$f":"IF(C126445=base!$W$2,ROW()+1,\"\")","v":{"$error":"#REF!"}},86423,"Ignacio Gutiérrez 4a Secc","Ranchería","Huimanguillo","Tabasco",null,86401,27,86401,null,29,8,2404,"Rural"]
[{"$f":"IF(C126521=base!$AC$2,ROW()+1,\"\")","v":{"$error":"#REF!"}},{"$f":"IF(C126521=base!$W$2,ROW()+1,\"\")","v":{"$error":"#REF!"}},86434,"Rafael Martinez de Escobar","Ejido","Huimanguillo","Tabasco",null,86401,27,86401,null,15,8,1753,"Rural"]
[{"$f":"IF(C126603=base!$AC$2,ROW()+1,\"\")","v":{"$error":"#REF!"}},{"$f":"IF(C126603=base!$W$2,ROW()+1,\"\")","v":{"$error":"#REF!"}},86468,"Jose Maria Morelos y Pavón Poblado C 11","Poblado comunal","Cárdenas","Tabasco",null,86501,27,86501,null,27,2,377,"Rural"]
[{"$f":"IF(C126634=base!$AC$2,ROW()+1,\"\")","v":{"$error":"#REF!"}},{"$f":"IF(C126634=base!$W$2,ROW()+1,\"\")","v":{"$error":"#REF!"}},86475,"Encrucijada 5a Secc","Ranchería","Cárdenas","Tabasco",null,86501,27,86501,null,29,2,409,"Rural"]
[{"$f":"IF(C126690=base!$AC$2,ROW()+1,\"\")","v":{"$error":"#REF!"}},{"$f":"IF(C126690=base!$W$2,ROW()+1,\"\")","v":{"$error":"#REF!"}},86510,"Alameda","Colonia","Cárdenas","Tabasco","Cárdenas",86501,27,86501,null,9,2,457,"Urbano",1]
[{"$f":"IF(C126787=base!$AC$2,ROW()+1,\"\")","v":{"$error":"#REF!"}},{"$f":"IF(C126787=base!$W$2,ROW()+1,\"\")","v":{"$error":"#REF!"}},86615,"Francisci I. Madero","Ejido","Paraíso","Tabasco",null,86604,27,86604,null,15,14,2052,"Rural"]
[{"$f":"IF(C126839=base!$AC$2,ROW()+1,\"\")","v":{"$error":"#REF!"}},{"$f":"IF(C126839=base!$W$2,ROW()+1,\"\")","v":{"$error":"#REF!"}},86640,"Centro Tular 2a Secc","Ranchería","Comalcalco","Tabasco",null,86301,27,86301,null,29,5,516,"Rural"]
[{"$f":"IF(C126940=base!$AC$2,ROW()+1,\"\")","v":{"$error":"#REF!"}},{"$f":"IF(C126940=base!$W$2,ROW()+1,\"\")","v":{"$error":"#REF!"}},86680,"Yoloxochitl 2a Secc","Ranchería","Cunduacán","Tabasco",null,86691,27,86691,null,29,6,630,"Rural"]
[{"$f":"IF(C126997=base!$AC$2,ROW()+1,\"\")","v":{"$error":"#REF!"}},{"$f":"IF(C126997=base!$W$2,ROW()+1,\"\")","v":{"$error":"#REF!"}},86692,"Huimango 3a Secc","Ranchería","Cunduacán","Tabasco",null,86691,27,86691,null,29,6,631,"Rural"]
[{"$f":"IF(C127093=base!$AC$2,ROW()+1,\"\")","v":{"$error":"#REF!"}},{"$f":"IF(C127093=base!$W$2,ROW()+1,\"\")","v":{"$error":"#REF!"}},86711,"Belén","Pueblo","Macuspana","Tabasco",null,86705,27,86705,null,28,12,669,"Semiurbano"]
[{"$f":"IF(C127155=base!$AC$2,ROW()+1,\"\")","v":{"$error":"#REF!"}},{"$f":"IF(C127155=base!$W$2,ROW()+1,\"\")","v":{"$error":"#REF!"}},86724,"Vernet 1a Secc","Ranchería","Macuspana","Tabasco",null,86705,27,86705,null,29,12,685,"Rural"]
[{"$f":"IF(C127206=base!$AC$2,ROW()+1,\"\")","v":{"$error":"#REF!"}},{"$f":"IF(C127206=base!$W$2,ROW()+1,\"\")","v":{"$error":"#REF!"}},86733,"Clemente Reyes","Ranchería","Macuspana","Tabasco",null,86705,27,86705,null,29,12,722,"Rural"]
[{"$f":"IF(C127313=base!$AC$2,ROW()+1,\"\")","v":{"$error":"#REF!"}},{"$f":"IF(C127313=base!$W$2,ROW()+1,\"\")","v":{"$error":"#REF!"}},86753,"Felipe Carrillo Puerto","Ranchería","Centla","Tabasco",null,86751,27,86751,null,29,3,765,"Rural"]
[{"$f":"IF(C127359=base!$AC$2,ROW()+1,\"\")","v":{"$error":"#REF!"}},{"$f":"IF(C127359=base!$W$2,ROW()+1,\"\")","v":{"$error":"#REF!"}},86757,"Las Delicias","Ranchería","Centla","Tabasco",null,86751,27,86751,null,29,3,2150,"Rural"]
[{"$f":"IF(C127462=base!$AC$2,ROW()+1,\"\")","v":{"$error":"#REF!"}},{"$f":"IF(C127462=base!$W$2,ROW()+1,\"\")","v":{"$error":"#REF!"}},86781,"La Guayaba","Ranchería","Jonuta","Tabasco",null,86784,27,86784,null,29,11,800,"Rural"]
[{"$f":"IF(C127512=base!$AC$2,ROW()+1,\"\")","v":{"$error":"#REF!"}},{"$f":"IF(C127512=base!$W$2,ROW()+1,\"\")","v":{"$error":"#REF!"}},86795,"Güiro Arrancado","Ranchería","Jonuta","Tabasco",null,86784,27,86784,null,29,11,3052,"Rural"]
[{"$f":"IF(C127549=base!$AC$2,ROW()+1,\"\")","v":{"$error":"#REF!"}},{"$f":"IF(C127549=base!$W$2,ROW()+1,\"\")","v":{"$error":"#REF!"}},86807,"El Azufrito","Ranchería","Teapa","Tabasco",null,86804,27,86804,null,29,16,2030,"Rural"]
[{"$f":"IF(C127665=base!$AC$2,ROW()+1,\"\")","v":{"$error":"#REF!"}},{"$f":"IF(C127665=base!$W$2,ROW()+1,\"\")","v":{"$error":"#REF!"}},86870,"Graciela Pintado de Madrazo","Colonia","Tacotalpa","Tabasco",null,86804,27,86804,null,9,15,1918,"Rural"]
[{"$f":"IF(C127707=base!$AC$2,ROW()+1,\"\")","v":{"$error":"#REF!"}},{"$f":"IF(C127707=base!$W$2,ROW()+1,\"\")","v":{"$error":"#REF!"}},86892,"Zuno y Patastal","Ejido","Tacotalpa","Tabasco",null,86804,27,86804,null,15,15,906,"Rural"]
[{"$f":"IF(C127778=base!$AC$2,ROW()+1,\"\")","v":{"$error":"#REF!"}},{"$f":"IF(C127778=base!$W$2,ROW()+1,\"\")","v":{"$error":"#REF!"}},86905,"El Copo","Ejido","Tenosique","Tabasco",null,86903,27,86903,null,15,17,2188,"Rural"]
[{"$f":"IF(C127865=base!$AC$2,ROW()+1,\"\")","v":{"$error":"#REF!"}},{"$f":"IF(C127865=base!$W$2,ROW()+1,\"\")","v":{"$error":"#REF!"}},86928,"Nuevo Jerusalén","Ejido","Tenosique","Tabasco",null,86903,27,86903,null,15,17,2183,"Rural"]
[{"$f":"IF(C127931=base!$AC$2,ROW()+1,\"\")","v":{"$error":"#REF!"}},{"$f":"IF(C127931=base!$W$2,ROW()+1,\"\")","v":{"$error":"#REF!"}},86935,"El Zapote","Poblado comunal","Balancán","Tabasco",null,86939,27,86939,null,27,1,2779,"Rural"]
[{"$f":"IF(C128023=base!$AC$2,ROW()+1,\"\")","v":{"$error":"#REF!"}},{"$f":"IF(C128023=base!$W$2,ROW()+1,\"\")","v":{"$error":"#REF!"}},86944,"La Victoria","Poblado comunal","Balancán","Tabasco",null,86939,27,86939,null,27,1,2838,"Rural"]
[{"$f":"IF(C128084=base!$AC$2,ROW()+1,\"\")","v":{"$error":"#REF!"}},{"$f":"IF(C128084=base!$W$2,ROW()+1,\"\")","v":{"$error":"#REF!"}},86946,"San Judas Tadeo","Poblado comunal","Balancán","Tabasco",null,86939,27,86939,null,27,1,2919,"Rural"]
[{"$f":"IF(C128172=base!$AC$2,ROW()+1,\"\")","v":{"$error":"#REF!"}},{"$f":"IF(C128172=base!$W$2,ROW()+1,\"\")","v":{"$error":"#REF!"}},86956,"El Ceibo","Poblado comunal","Balancán","Tabasco",null,86939,27,86939,null,27,1,2714,"Rural"]
[{"$f":"IF(C128184=base!$AC$2,ROW()+1,\"\")","v":{"$error":"#REF!"}},{"$f":"IF(C128184=base!$W$2,ROW()+1,\"\")","v":{"$error":"#REF!"}},86956,"Cuatro Caminos","Poblado comunal","Balancán","Tabasco",null,86939,27,86939,null,27,1,2696,"Rural"]
[{"$f":"IF(C128293=base!$AC$2,ROW()+1,\"\")","v":{"$error":"#REF!"}},{"$f":"IF(C128293=base!$W$2,ROW()+1,\"\")","v":{"$error":"#REF!"}},86974,"El Bilín","Poblado comunal","Balancán","Tabasco",null,86939,27,86939,null,27,1,2706,"Rural"]
[{"$f":"IF(C128333=base!$AC$2,ROW()+1,\"\")","v":{"$error":"#REF!"}},{"$f":"IF(C128333=base!$W$2,ROW()+1,\"\")","v":{"$error":"#REF!"}},86977,"Los Pinos","Poblado comunal","Balancán","Tabasco",null,86939,27,86939,null,27,1,2859,"Rural"]
[{"$f":"IF(C128446=base!$AC$2,ROW()+1,\"\")","v":{"$error":"#REF!"}},{"$f":"IF(C128446=base!$W$2,ROW()+1,\"\")","v":{"$error":"#REF!"}},87018,"Las Montañas","Fraccionamiento","Victoria","Tamaulipas","Ciudad Victoria",87001,28,87001,null,21,41,3214,"Urbano",11]
[{"$f":"IF(C128491=base!$AC$2,ROW()+1,\"\")","v":{"$error":"#REF!"}},{"$f":"IF(C128491=base!$W$2,ROW()+1,\"\")","v":{"$error":"#REF!"}},87024,"Pedregal Campestre","Fraccionamiento","Victoria","Tamaulipas","Ciudad Victoria",87001,28,87001,null,21,41,3411,"Urbano",11]
[{"$f":"IF(C128599=base!$AC$2,ROW()+1,\"\")","v":{"$error":"#REF!"}},{"$f":"IF(C128599=base!$W$2,ROW()+1,\"\")","v":{"$error":"#REF!"}},87049,"Hacienda Del Bosque","Colonia","Victoria","Tamaulipas","Ciudad Victoria",87001,28,87001,null,9,41,89,"Urbano",11]
[{"$f":"IF(C128649=base!$AC$2,ROW()+1,\"\")","v":{"$error":"#REF!"}},{"$f":"IF(C128649=base!$W$2,ROW()+1,\"\")","v":{"$error":"#REF!"}},87078,"Del Maestro Eta","Colonia","Victoria","Tamaulipas","Ciudad Victoria",87001,28,87001,null,9,41,3374,"Urbano",11]
[{"$f":"IF(C128712=base!$AC$2,ROW()+1,\"\")","v":{"$error":"#REF!"}},{"$f":"IF(C128712=base!$W$2,ROW()+1,\"\")","v":{"$error":"#REF!"}},87130,"Los Prados","Fraccionamiento","Victoria","Tamaulipas","Ciudad Victoria",87001,28,87001,null,21,41,3267,"Urbano",11]
[{"$f":"IF(C128807=base!$AC$2,ROW()+1,\"\")","v":{"$error":"#REF!"}},{"$f":"IF(C128807=base!$W$2,ROW()+1,\"\")","v":{"$error":"#REF!"}},87209,"El Encino","Ranchería","Llera","Tamaulipas",null,87201,28,87201,null,29,19,211,"Rural"]
[{"$f":"IF(C128865=base!$AC$2,ROW()+1,\"\")","v":{"$error":"#REF!"}},{"$f":"IF(C128865=base!$W$2,ROW()+1,\"\")","v":{"$error":"#REF!"}},87258,"San Francisco (Ejido)","Ejido","Casas","Tamaulipas",null,87001,28,87001,null,15,8,251,"Rural"]
[{"$f":"IF(C128956=base!$AC$2,ROW()+1,\"\")","v":{"$error":"#REF!"}},{"$f":"IF(C128956=base!$W$2,ROW()+1,\"\")","v":{"$error":"#REF!"}},87326,"Lázaro Cárdenas","Colonia","Matamoros","Tamaulipas","Heroica Matamoros",87351,28,87351,null,9,22,297,"Urbano",5]
[{"$f":"IF(C129018=base!$AC$2,ROW()+1,\"\")","v":{"$error":"#REF!"}},{"$f":"IF(C129018=base!$W$2,ROW()+1,\"\")","v":{"$error":"#REF!"}},87360,"Unidad Hogar","Colonia","Matamoros","Tamaulipas","Heroica Matamoros",87351,28,87351,null,9,22,331,"Urbano",5]
[{"$f":"IF(C129043=base!$AC$2,ROW()+1,\"\")","v":{"$error":"#REF!"}},{"$f":"IF(C129043=base!$W$2,ROW()+1,\"\")","v":{"$error":"#REF!"}},87383,"Tamaulipas","Colonia","Matamoros","Tamaulipas","Heroica Matamoros",87351,28,87351,null,9,22,350,"Urbano",5]
[{"$f":"IF(C129171=base!$AC$2,ROW()+1,\"\")","v":{"$error":"#REF!"}},{"$f":"IF(C129171=base!$W$2,ROW()+1,\"\")","v":{"$error":"#REF!"}},87445,"Revolución Verde","Colonia","Matamoros","Tamaulipas","Heroica Matamoros",87351,28,87351,null,9,22,407,"Urbano",5]
[{"$f":"IF(C129201=base!$AC$2,ROW()+1,\"\")","v":{"$error":"#REF!"}},{"$f":"IF(C129201=base!$W$2,ROW()+1,\"\")","v":{"$error":"#REF!"}},87454,"El Recuerdo","Colonia","Matamoros","Tamaulipas","Heroica Matamoros",87351,28,87351,null,9,22,3814,"Urbano",5]
[{"$f":"IF(C129284=base!$AC$2,ROW()+1,\"\")","v":{"$error":"#REF!"}},{"$f":"IF(C129284=base!$W$2,ROW()+1,\"\")","v":{"$error":"#REF!"}},87494,"Ciudad Industrial","Zona industrial","Matamoros","Tamaulipas","Heroica Matamoros",87351,28,87351,null,37,22,440,"Urbano",5]
[{"$f":"IF(C129359=base!$AC$2,ROW()+1,\"\")","v":{"$error":"#REF!"}},{"$f":"IF(C129359=base!$W$2,ROW()+1,\"\")","v":{"$error":"#REF!"}},87505,"Palo Alto","Colonia","Valle Hermoso","Tamaulipas","Valle Hermoso",87501,28,87501,null,9,40,3750,"Urbano",21]
[{"$f":"IF(C129437=base!$AC$2,ROW()+1,\"\")","v":{"$error":"#REF!"}},{"$f":"IF(C129437=base!$W$2,ROW()+1,\"\")","v":{"$error":"#REF!"}},87557,"Santa Adelaida (Ejido)","Ejido","Matamoros","Tamaulipas",null,87351,28,87351,null,15,22,509,"Rural"]
[{"$f":"IF(C129517=base!$AC$2,ROW()+1,\"\")","v":{"$error":"#REF!"}},{"$f":"IF(C129517=base!$W$2,ROW()+1,\"\")","v":{"$error":"#REF!"}},87624,"Horacio Terán Norte","Ejido","San Fernando","Tamaulipas",null,87601,28,87601,null,15,35,578,"Rural"]
[{"$f":"IF(C129590=base!$AC$2,ROW()+1,\"\")","v":{"$error":"#REF!"}},{"$f":"IF(C129590=base!$W$2,ROW()+1,\"\")","v":{"$error":"#REF!"}},87755,"Puerto Rico (Ejido)","Ejido","San Carlos","Tamaulipas",null,87001,28,87001,null,15,34,628,"Rural"]
[{"$f":"IF(C129666=base!$AC$2,ROW()+1,\"\")","v":{"$error":"#REF!"}},{"$f":"IF(C129666=base!$W$2,ROW()+1,\"\")","v":{"$error":"#REF!"}},87840,"Cruz y Carmen (Ejido)","Ejido","Hidalgo","Tamaulipas",null,87001,28,87001,null,15,16,690,"Rural"]
[{"$f":"IF(C129743=base!$AC$2,ROW()+1,\"\")","v":{"$error":"#REF!"}},{"$f":"IF(C129743=base!$W$2,ROW()+1,\"\")","v":{"$error":"#REF!"}},87922,"Juan Sarabia","Ejido","Tula","Tamaulipas",null,87901,28,87901,null,15,39,739,"Rural"]
[{"$f":"IF(C129824=base!$AC$2,ROW()+1,\"\")","v":{"$error":"#REF!"}},{"$f":"IF(C129824=base!$W$2,ROW()+1,\"\")","v":{"$error":"#REF!"}},87985,"Canoas","Ejido","Ocampo","Tamaulipas",null,89801,28,89801,null,15,29,804,"Rural"]
[{"$f":"IF(C129856=base!$AC$2,ROW()+1,\"\")","v":{"$error":"#REF!"}},{"$f":"IF(C129856=base!$W$2,ROW()+1,\"\")","v":{"$error":"#REF!"}},88123,"Los Arcos","Colonia","Nuevo Laredo","Tamaulipas","Nuevo Laredo",88002,28,88002,null,9,27,2751,"Urbano",6]
[{"$f":"IF(C129911=base!$AC$2,ROW()+1,\"\")","v":{"$error":"#REF!"}},{"$f":"IF(C129911=base!$W$2,ROW()+1,\"\")","v":{"$error":"#REF!"}},88177,"Los Sánchez","Fraccionamiento","Nuevo Laredo","Tamaulipas","Nuevo Laredo",88002,28,88002,null,21,27,3447,"Urbano",6]
[{"$f":"IF(C130009=base!$AC$2,ROW()+1,\"\")","v":{"$error":"#REF!"}},{"$f":"IF(C130009=base!$W$2,ROW()+1,\"\")","v":{"$error":"#REF!"}},88285,"El Campanario","Fraccionamiento","Nuevo Laredo","Tamaulipas","Nuevo Laredo",88002,28,88002,null,21,27,2777,"Urbano",6]
[{"$f":"IF(C130069=base!$AC$2,ROW()+1,\"\")","v":{"$error":"#REF!"}},{"$f":"IF(C130069=base!$W$2,ROW()+1,\"\")","v":{"$error":"#REF!"}},88296,"América 2,3,5 y 6","Colonia","Nuevo Laredo","Tamaulipas","Nuevo Laredo",88002,28,88002,null,9,27,940,"Urbano",6]
[{"$f":"IF(C130162=base!$AC$2,ROW()+1,\"\")","v":{"$error":"#REF!"}},{"$f":"IF(C130162=base!$W$2,ROW()+1,\"\")","v":{"$error":"#REF!"}},88407,"S A R H","Colonia","Gustavo Díaz Ordaz","Tamaulipas","Ciudad Gustavo Díaz Ordaz",88401,28,88401,null,9,15,2484,"Semiurbano",14]
[{"$f":"IF(C130218=base!$AC$2,ROW()+1,\"\")","v":{"$error":"#REF!"}},{"$f":"IF(C130218=base!$W$2,ROW()+1,\"\")","v":{"$error":"#REF!"}},88570,"Ferrocarril Zona Centro","Colonia","Reynosa","Tamaulipas","Reynosa",88501,28,88501,null,9,32,2195,"Urbano",7]
[{"$f":"IF(C130315=base!$AC$2,ROW()+1,\"\")","v":{"$error":"#REF!"}},{"$f":"IF(C130315=base!$W$2,ROW()+1,\"\")","v":{"$error":"#REF!"}},88700,"Las Palmas","Colonia","Reynosa","Tamaulipas","Reynosa",88501,28,88501,null,9,32,2230,"Urbano",7]
[{"$f":"IF(C130376=base!$AC$2,ROW()+1,\"\")","v":{"$error":"#REF!"}},{"$f":"IF(C130376=base!$W$2,ROW()+1,\"\")","v":{"$error":"#REF!"}},88730,"Lomas del Real de Jarachinas Norte","Fraccionamiento","Reynosa","Tamaulipas","Reynosa",88501,28,88501,null,21,32,1114,"Urbano",7]
[{"$f":"IF(C130468=base!$AC$2,ROW()+1,\"\")","v":{"$error":"#REF!"}},{"$f":"IF(C130468=base!$W$2,ROW()+1,\"\")","v":{"$error":"#REF!"}},88780,"Villas del Palmar","Fraccionamiento","Reynosa","Tamaulipas","Reynosa",88501,28,88501,null,21,32,3224,"Urbano",7]
[{"$f":"IF(C130534=base!$AC$2,ROW()+1,\"\")","v":{"$error":"#REF!"}},{"$f":"IF(C130534=base!$W$2,ROW()+1,\"\")","v":{"$error":"#REF!"}},88796,"Naranjitos","Colonia","Reynosa","Tamaulipas","Reynosa",88501,28,88501,null,9,32,3579,"Urbano",7]
[{"$f":"IF(C130581=base!$AC$2,ROW()+1,\"\")","v":{"$error":"#REF!"}},{"$f":"IF(C130581=base!$W$2,ROW()+1,\"\")","v":{"$error":"#REF!"}},88830,"Mario Souza (Ejido)","Ejido","Río Bravo","Tamaulipas",null,88901,28,88901,null,15,33,1200,"Rural"]
[{"$f":"IF(C130621=base!$AC$2,ROW()+1,\"\")","v":{"$error":"#REF!"}},{"$f":"IF(C130621=base!$W$2,ROW()+1,\"\")","v":{"$error":"#REF!"}},88920,"Francisco I. Madero","Colonia","Río Bravo","Tamaulipas","Ciudad Río Bravo",88901,28,88901,null,9,33,3556,"Urbano",8]
[{"$f":"IF(C130734=base!$AC$2,ROW()+1,\"\")","v":{"$error":"#REF!"}},{"$f":"IF(C130734=base!$W$2,ROW()+1,\"\")","v":{"$error":"#REF!"}},89100,"Lomas de la Aurora","Fraccionamiento","Tampico","Tamaulipas","Tampico",89001,28,89001,null,21,38,2416,"Urbano",10]
[{"$f":"IF(C130770=base!$AC$2,ROW()+1,\"\")","v":{"$error":"#REF!"}},{"$f":"IF(C130770=base!$W$2,ROW()+1,\"\")","v":{"$error":"#REF!"}},89150,"Vergel","Colonia","Tampico","Tamaulipas","Tampico",89001,28,89001,null,9,38,1560,"Urbano",10]
[{"$f":"IF(C130887=base!$AC$2,ROW()+1,\"\")","v":{"$error":"#REF!"}},{"$f":"IF(C130887=base!$W$2,ROW()+1,\"\")","v":{"$error":"#REF!"}},89355,"Magdaleno Aguilar","Colonia","Tampico","Tamaulipas","Tampico",89001,28,89001,null,9,38,1647,"Urbano",10]
[{"$f":"IF(C130928=base!$AC$2,ROW()+1,\"\")","v":{"$error":"#REF!"}},{"$f":"IF(C130928=base!$W$2,ROW()+1,\"\")","v":{"$error":"#REF!"}},89369,"Colinas del Sol","Fraccionamiento","Tampico","Tamaulipas","Tampico",89001,28,89001,null,21,38,2981,"Urbano",10]
[{"$f":"IF(C131040=base!$AC$2,ROW()+1,\"\")","v":{"$error":"#REF!"}},{"$f":"IF(C131040=base!$W$2,ROW()+1,\"\")","v":{"$error":"#REF!"}},89600,"Altamira Centro","Colonia","Altamira","Tamaulipas","Altamira",89601,28,89601,null,9,3,1760,"Urbano",1]
[{"$f":"IF(C131086=base!$AC$2,ROW()+1,\"\")","v":{"$error":"#REF!"}},{"$f":"IF(C131086=base!$W$2,ROW()+1,\"\")","v":{"$error":"#REF!"}},89602,"Los Placeres del Campo","Colonia","Altamira","Tamaulipas","Altamira",89601,28,89601,null,9,3,3685,"Urbano",1]
[{"$f":"IF(C131153=base!$AC$2,ROW()+1,\"\")","v":{"$error":"#REF!"}},{"$f":"IF(C131153=base!$W$2,ROW()+1,\"\")","v":{"$error":"#REF!"}},89604,"San Ángel","Fraccionamiento","Altamira","Tamaulipas","Altamira",89601,28,89601,null,21,3,3096,"Urbano",1]
[{"$f":"IF(C131244=base!$AC$2,ROW()+1,\"\")","v":{"$error":"#REF!"}},{"$f":"IF(C131244=base!$W$2,ROW()+1,\"\")","v":{"$error":"#REF!"}},89607,"Puerto Escondido","Colonia","Altamira","Tamaulipas","Altamira",89601,28,89601,null,9,3,3099,"Urbano",1]
[{"$f":"IF(C131306=base!$AC$2,ROW()+1,\"\")","v":{"$error":"#REF!"}},{"$f":"IF(C131306=base!$W$2,ROW()+1,\"\")","v":{"$error":"#REF!"}},89705,"Guadalupe Victoria","Ejido","González","Tamaulipas",null,89711,28,89711,null,15,12,1813,"Rural"]
[{"$f":"IF(C131393=base!$AC$2,ROW()+1,\"\")","v":{"$error":"#REF!"}},{"$f":"IF(C131393=base!$W$2,ROW()+1,\"\")","v":{"$error":"#REF!"}},89763,"Narciso Mendoza Número Dos","Ejido","Xicoténcatl","Tamaulipas",null,89754,28,89754,null,15,43,3605,"Rural"]
[{"$f":"IF(C131459=base!$AC$2,ROW()+1,\"\")","v":{"$error":"#REF!"}},{"$f":"IF(C131459=base!$W$2,ROW()+1,\"\")","v":{"$error":"#REF!"}},89843,"Progreso Social","Colonia","El Mante","Tamaulipas","Ciudad Mante",89801,28,89801,null,9,21,1885,"Urbano",4]
[{"$f":"IF(C131480=base!$AC$2,ROW()+1,\"\")","v":{"$error":"#REF!"}},{"$f":"IF(C131480=base!$W$2,ROW()+1,\"\")","v":{"$error":"#REF!"}},89858,"Niños Héroes","Colonia","El Mante","Tamaulipas","Ciudad Mante",89801,28,89801,null,9,21,1904,"Urbano",4]
[{"$f":"IF(C131612=base!$AC$2,ROW()+1,\"\")","v":{"$error":"#REF!"}},{"$f":"IF(C131612=base!$W$2,ROW()+1,\"\")","v":{"$error":"#REF!"}},90030,"Felipe Santiago Xicoténcatl","Unidad habitacional","Tlaxcala","Tlaxcala","Tlaxcala (Tlaxcala de Xicotencatl)",90001,29,90001,null,31,33,12,"Urbano",3]
[{"$f":"IF(C131638=base!$AC$2,ROW()+1,\"\")","v":{"$error":"#REF!"}},{"$f":"IF(C131638=base!$W$2,ROW()+1,\"\")","v":{"$error":"#REF!"}},90090,"Loma Bonita","Colonia","Tlaxcala","Tlaxcala","Tlaxcala (Tlaxcala de Xicotencatl)",90001,29,90001,null,9,33,19,"Urbano",3]
[{"$f":"IF(C131725=base!$AC$2,ROW()+1,\"\")","v":{"$error":"#REF!"}},{"$f":"IF(C131725=base!$W$2,ROW()+1,\"\")","v":{"$error":"#REF!"}},90125,"San Antonio Atotonilco","Pueblo","Ixtacuixtla de Mariano Matamoros","Tlaxcala",null,90001,29,90001,null,28,15,44,"Rural"]
[{"$f":"IF(C131796=base!$AC$2,ROW()+1,\"\")","v":{"$error":"#REF!"}},{"$f":"IF(C131796=base!$W$2,ROW()+1,\"\")","v":{"$error":"#REF!"}},90164,"Zaragoza","Barrio","Totolac","Tlaxcala",null,90001,29,90001,null,2,36,982,"Urbano"]
[{"$f":"IF(C131878=base!$AC$2,ROW()+1,\"\")","v":{"$error":"#REF!"}},{"$f":"IF(C131878=base!$W$2,ROW()+1,\"\")","v":{"$error":"#REF!"}},90220,"El Mirador","Ranchería","Calpulalpan","Tlaxcala",null,90201,29,90201,null,29,6,1596,"Rural"]
[{"$f":"IF(C131954=base!$AC$2,ROW()+1,\"\")","v":{"$error":"#REF!"}},{"$f":"IF(C131954=base!$W$2,ROW()+1,\"\")","v":{"$error":"#REF!"}},90241,"San Simeon Xipetzinco","Pueblo","Hueyotlipan","Tlaxcala",null,90301,29,90301,null,28,14,103,"Rural"]
[{"$f":"IF(C132031=base!$AC$2,ROW()+1,\"\")","v":{"$error":"#REF!"}},{"$f":"IF(C132031=base!$W$2,ROW()+1,\"\")","v":{"$error":"#REF!"}},90257,"Piedra Blanca","Ranchería","Tlaxco","Tlaxcala",null,90252,29,90252,null,29,34,1512,"Rural"]
[{"$f":"IF(C132103=base!$AC$2,ROW()+1,\"\")","v":{"$error":"#REF!"}},{"$f":"IF(C132103=base!$W$2,ROW()+1,\"\")","v":{"$error":"#REF!"}},90274,"La Lobera","Ranchería","Tlaxco","Tlaxcala",null,90252,29,90252,null,29,34,1538,"Rural"]
[{"$f":"IF(C132184=base!$AC$2,ROW()+1,\"\")","v":{"$error":"#REF!"}},{"$f":"IF(C132184=base!$W$2,ROW()+1,\"\")","v":{"$error":"#REF!"}},90290,"Españita","Pueblo","Españita","Tlaxcala",null,90201,29,90201,null,28,12,136,"Rural"]
[{"$f":"IF(C132190=base!$AC$2,ROW()+1,\"\")","v":{"$error":"#REF!"}},{"$f":"IF(C132190=base!$W$2,ROW()+1,\"\")","v":{"$error":"#REF!"}},90292,"San Pablo","Poblado comunal","Españita","Tlaxcala",null,90201,29,90201,null,27,12,1565,"Rural"]
[{"$f":"IF(C132297=base!$AC$2,ROW()+1,\"\")","v":{"$error":"#REF!"}},{"$f":"IF(C132297=base!$W$2,ROW()+1,\"\")","v":{"$error":"#REF!"}},90401,"El Calvario","Colonia","Apizaco","Tlaxcala",null,90301,29,90301,null,9,5,202,"Urbano"]
[{"$f":"IF(C132348=base!$AC$2,ROW()+1,\"\")","v":{"$error":"#REF!"}},{"$f":"IF(C132348=base!$W$2,ROW()+1,\"\")","v":{"$error":"#REF!"}},90414,"Las Tinajas","Ranchería","Atlangatepec","Tlaxcala",null,90301,29,90301,null,29,3,1118,"Rural"]
[{"$f":"IF(C132422=base!$AC$2,ROW()+1,\"\")","v":{"$error":"#REF!"}},{"$f":"IF(C132422=base!$W$2,ROW()+1,\"\")","v":{"$error":"#REF!"}},90430,"Paseos de Tetla","Fraccionamiento","Tetla de la Solidaridad","Tlaxcala",null,90301,29,90301,null,21,31,1381,"Urbano"]
[{"$f":"IF(C132474=base!$AC$2,ROW()+1,\"\")","v":{"$error":"#REF!"}},{"$f":"IF(C132474=base!$W$2,ROW()+1,\"\")","v":{"$error":"#REF!"}},90440,"Tlalapechco","Colonia","Xaltocan","Tlaxcala",null,90301,29,90301,null,9,40,1219,"Rural"]
[{"$f":"IF(C132580=base!$AC$2,ROW()+1,\"\")","v":{"$error":"#REF!"}},{"$f":"IF(C132580=base!$W$2,ROW()+1,\"\")","v":{"$error":"#REF!"}},90467,"Santa Cruz Zacatzontetla","Colonia","Xaloztoc","Tlaxcala",null,90461,29,90461,null,9,39,881,"Urbano"]
[{"$f":"IF(C132659=base!$AC$2,ROW()+1,\"\")","v":{"$error":"#REF!"}},{"$f":"IF(C132659=base!$W$2,ROW()+1,\"\")","v":{"$error":"#REF!"}},90508,"INFONAVIT 15 de Agosto","Unidad habitacional","Huamantla","Tlaxcala","Huamantla",90501,29,90501,null,31,13,277,"Urbano",4]
[{"$f":"IF(C132738=base!$AC$2,ROW()+1,\"\")","v":{"$error":"#REF!"}},{"$f":"IF(C132738=base!$W$2,ROW()+1,\"\")","v":{"$error":"#REF!"}},90548,"Ojo de Agua","Ranchería","Emiliano Zapata","Tlaxcala",null,90301,29,90301,null,29,46,962,"Rural"]
[{"$f":"IF(C132812=base!$AC$2,ROW()+1,\"\")","v":{"$error":"#REF!"}},{"$f":"IF(C132812=base!$W$2,ROW()+1,\"\")","v":{"$error":"#REF!"}},90568,"Nazareth","Colonia","Cuapiaxtla","Tlaxcala",null,90501,29,90501,null,9,8,1262,"Rural"]
[{"$f":"IF(C132887=base!$AC$2,ROW()+1,\"\")","v":{"$error":"#REF!"}},{"$f":"IF(C132887=base!$W$2,ROW()+1,\"\")","v":{"$error":"#REF!"}},90670,"San Bernardino Contla Centro","Pueblo","Contla de Juan Cuamatzi","Tlaxcala",null,90691,29,90691,null,28,18,346,"Rural"]
[{"$f":"IF(C132965=base!$AC$2,ROW()+1,\"\")","v":{"$error":"#REF!"}},{"$f":"IF(C132965=base!$W$2,ROW()+1,\"\")","v":{"$error":"#REF!"}},90738,"San Jerónimo Zacualpan","Pueblo","San Jerónimo Zacualpan","Tlaxcala",null,90741,29,90741,null,28,51,373,"Rural"]
[{"$f":"IF(C132974=base!$AC$2,ROW()+1,\"\")","v":{"$error":"#REF!"}},{"$f":"IF(C132974=base!$W$2,ROW()+1,\"\")","v":{"$error":"#REF!"}},90750,"La Libertad","Unidad habitacional","Zacatelco","Tlaxcala",null,90741,29,90741,null,31,44,769,"Rural"]
[{"$f":"IF(C133046=base!$AC$2,ROW()+1,\"\")","v":{"$error":"#REF!"}},{"$f":"IF(C133046=base!$W$2,ROW()+1,\"\")","v":{"$error":"#REF!"}},90806,"Constitución","Fraccionamiento","Chiautempan","Tlaxcala","Chiautempan",90801,29,90801,null,21,10,683,"Urbano",6]
[{"$f":"IF(C133132=base!$AC$2,ROW()+1,\"\")","v":{"$error":"#REF!"}},{"$f":"IF(C133132=base!$W$2,ROW()+1,\"\")","v":{"$error":"#REF!"}},90964,"Ex-hacienda de Acopilco","Poblado comunal","San Pablo del Monte","Tlaxcala","Villa Vicente Guerrero",90901,29,90901,null,27,25,1351,"Rural",2]
[{"$f":"IF(C133231=base!$AC$2,ROW()+1,\"\")","v":{"$error":"#REF!"}},{"$f":"IF(C133231=base!$W$2,ROW()+1,\"\")","v":{"$error":"#REF!"}},91053,"Chulavista","Fraccionamiento","Xalapa","Veracruz de Ignacio de la Llave","Xalapa-Enríquez",91002,30,91002,null,21,87,5999,"Urbano",10]
[{"$f":"IF(C133290=base!$AC$2,ROW()+1,\"\")","v":{"$error":"#REF!"}},{"$f":"IF(C133290=base!$W$2,ROW()+1,\"\")","v":{"$error":"#REF!"}},91096,"FREDEPO","Colonia","Xalapa","Veracruz de Ignacio de la Llave","Xalapa-Enríquez",91002,30,91002,null,9,87,5888,"Urbano",10]
[{"$f":"IF(C133384=base!$AC$2,ROW()+1,\"\")","v":{"$error":"#REF!"}},{"$f":"IF(C133384=base!$W$2,ROW()+1,\"\")","v":{"$error":"#REF!"}},91157,"Las Jacarandas","Colonia","Xalapa","Veracruz de Ignacio de la Llave","Xalapa-Enríquez",91002,30,91002,null,9,87,6022,"Urbano",10]
[{"$f":"IF(C133448=base!$AC$2,ROW()+1,\"\")","v":{"$error":"#REF!"}},{"$f":"IF(C133448=base!$W$2,ROW()+1,\"\")","v":{"$error":"#REF!"}},91194,"La Giralda","Fraccionamiento","Xalapa","Veracruz de Ignacio de la Llave","Xalapa-Enríquez",91002,30,91002,null,21,87,7161,"Urbano",10]
[{"$f":"IF(C133537=base!$AC$2,ROW()+1,\"\")","v":{"$error":"#REF!"}},{"$f":"IF(C133537=base!$W$2,ROW()+1,\"\")","v":{"$error":"#REF!"}},91245,"Ticuahutipan","Pueblo","Xico","Veracruz de Ignacio de la Llave",null,91242,30,91242,null,28,92,189,"Rural"]
[{"$f":"IF(C133597=base!$AC$2,ROW()+1,\"\")","v":{"$error":"#REF!"}},{"$f":"IF(C133597=base!$W$2,ROW()+1,\"\")","v":{"$error":"#REF!"}},91302,"Rafael Murillo Vidal","Colonia","Banderilla","Veracruz de Ignacio de la Llave","Banderilla",91301,30,91301,null,9,26,4689,"Semiurbano",36]
[{"$f":"IF(C133618=base!$AC$2,ROW()+1,\"\")","v":{"$error":"#REF!"}},{"$f":"IF(C133618=base!$W$2,ROW()+1,\"\")","v":{"$error":"#REF!"}},91334,"Tejocotal","Congregación","Las Vigas de Ramírez","Veracruz de Ignacio de la Llave",null,91331,30,91331,null,11,132,1120,"Rural"]
[{"$f":"IF(C133755=base!$AC$2,ROW()+1,\"\")","v":{"$error":"#REF!"}},{"$f":"IF(C133755=base!$W$2,ROW()+1,\"\")","v":{"$error":"#REF!"}},91487,"El Diamante","Ranchería","Actopan","Veracruz de Ignacio de la Llave",null,91681,30,91681,null,29,4,9063,"Rural"]
[{"$f":"IF(C133803=base!$AC$2,ROW()+1,\"\")","v":{"$error":"#REF!"}},{"$f":"IF(C133803=base!$W$2,ROW()+1,\"\")","v":{"$error":"#REF!"}},91527,"La Herradura","Fraccionamiento","Coatepec","Veracruz de Ignacio de la Llave","Coatepec",91501,30,91501,null,21,38,871,"Urbano",4]
[{"$f":"IF(C133842=base!$AC$2,ROW()+1,\"\")","v":{"$error":"#REF!"}},{"$f":"IF(C133842=base!$W$2,ROW()+1,\"\")","v":{"$error":"#REF!"}},91567,"Magisterial Jardines de Coatepec","Colonia","Coatepec","Veracruz de Ignacio de la Llave","Coatepec",91501,30,91501,null,9,38,364,"Urbano",4]
[{"$f":"IF(C133956=base!$AC$2,ROW()+1,\"\")","v":{"$error":"#REF!"}},{"$f":"IF(C133956=base!$W$2,ROW()+1,\"\")","v":{"$error":"#REF!"}},91637,"La Pradera","Fraccionamiento","Emiliano Zapata","Veracruz de Ignacio de la Llave",null,91002,30,91002,null,21,65,7861,"Rural"]
[{"$f":"IF(C134000=base!$AC$2,ROW()+1,\"\")","v":{"$error":"#REF!"}},{"$f":"IF(C134000=base!$W$2,ROW()+1,\"\")","v":{"$error":"#REF!"}},91643,"Manantiales","Fraccionamiento","Emiliano Zapata","Veracruz de Ignacio de la Llave",null,91641,30,91641,null,21,65,6899,"Rural"]
[{"$f":"IF(C134109=base!$AC$2,ROW()+1,\"\")","v":{"$error":"#REF!"}},{"$f":"IF(C134109=base!$W$2,ROW()+1,\"\")","v":{"$error":"#REF!"}},91680,"La Guadalupe","Colonia","La Antigua","Veracruz de Ignacio de la Llave","José Cardel",91681,30,91681,null,9,16,5561,"Semiurbano",35]
[{"$f":"IF(C134149=base!$AC$2,ROW()+1,\"\")","v":{"$error":"#REF!"}},{"$f":"IF(C134149=base!$W$2,ROW()+1,\"\")","v":{"$error":"#REF!"}},91698,"Los Torrentes Aeropuerto","Fraccionamiento","Veracruz","Veracruz de Ignacio de la Llave",null,91705,30,91705,null,21,193,1,"Urbano"]
[{"$f":"IF(C134190=base!$AC$2,ROW()+1,\"\")","v":{"$error":"#REF!"}},{"$f":"IF(C134190=base!$W$2,ROW()+1,\"\")","v":{"$error":"#REF!"}},91726,"Los Laureles","Colonia","Veracruz","Veracruz de Ignacio de la Llave","Veracruz",91705,30,91705,null,9,193,942,"Urbano",17]
[{"$f":"IF(C134307=base!$AC$2,ROW()+1,\"\")","v":{"$error":"#REF!"}},{"$f":"IF(C134307=base!$W$2,ROW()+1,\"\")","v":{"$error":"#REF!"}},91809,"Lomas Del Rio Medio","Fraccionamiento","Veracruz","Veracruz de Ignacio de la Llave","Veracruz",91705,30,91705,null,21,193,924,"Urbano",17]
[{"$f":"IF(C134343=base!$AC$2,ROW()+1,\"\")","v":{"$error":"#REF!"}},{"$f":"IF(C134343=base!$W$2,ROW()+1,\"\")","v":{"$error":"#REF!"}},91870,"Los Pinos","Colonia","Veracruz","Veracruz de Ignacio de la Llave","Veracruz",91705,30,91705,null,9,193,559,"Urbano",17]
[{"$f":"IF(C134465=base!$AC$2,ROW()+1,\"\")","v":{"$error":"#REF!"}},{"$f":"IF(C134465=base!$W$2,ROW()+1,\"\")","v":{"$error":"#REF!"}},92042,"El Jobo (Escribano)","Congregación","Tampico Alto","Veracruz de Ignacio de la Llave",null,92031,30,92031,null,11,152,1234,"Rural"]
[{"$f":"IF(C134528=base!$AC$2,ROW()+1,\"\")","v":{"$error":"#REF!"}},{"$f":"IF(C134528=base!$W$2,ROW()+1,\"\")","v":{"$error":"#REF!"}},92077,"Rangel","Pueblo","Tempoal","Veracruz de Ignacio de la Llave",null,92061,30,92061,null,28,161,1266,"Rural"]
[{"$f":"IF(C134552=base!$AC$2,ROW()+1,\"\")","v":{"$error":"#REF!"}},{"$f":"IF(C134552=base!$W$2,ROW()+1,\"\")","v":{"$error":"#REF!"}},92085,"Kilómetro 75","Ranchería","Ozuluama de Mascareñas","Veracruz de Ignacio de la Llave",null,92301,30,92301,null,29,121,1285,"Rural"]
[{"$f":"IF(C134681=base!$AC$2,ROW()+1,\"\")","v":{"$error":"#REF!"}},{"$f":"IF(C134681=base!$W$2,ROW()+1,\"\")","v":{"$error":"#REF!"}},92147,"Zamora","Colonia","Platón Sánchez","Veracruz de Ignacio de la Llave","Platón Sánchez",92121,30,92121,null,9,129,2134,"Rural",26]
[{"$f":"IF(C134701=base!$AC$2,ROW()+1,\"\")","v":{"$error":"#REF!"}},{"$f":"IF(C134701=base!$W$2,ROW()+1,\"\")","v":{"$error":"#REF!"}},92173,"Taxtitla","Ranchería","Chalma","Veracruz de Ignacio de la Llave",null,92121,30,92121,null,29,55,1341,"Rural"]
[{"$f":"IF(C134762=base!$AC$2,ROW()+1,\"\")","v":{"$error":"#REF!"}},{"$f":"IF(C134762=base!$W$2,ROW()+1,\"\")","v":{"$error":"#REF!"}},92215,"El Zapote","Ejido","Chontla","Veracruz de Ignacio de la Llave",null,92301,30,92301,null,15,63,7412,"Rural"]
[{"$f":"IF(C134859=base!$AC$2,ROW()+1,\"\")","v":{"$error":"#REF!"}},{"$f":"IF(C134859=base!$W$2,ROW()+1,\"\")","v":{"$error":"#REF!"}},92390,"Faja de Oro","Colonia","Naranjos Amatlán","Veracruz de Ignacio de la Llave","Naranjos",92301,30,92301,null,9,13,1872,"Semiurbano",2]
[{"$f":"IF(C134915=base!$AC$2,ROW()+1,\"\")","v":{"$error":"#REF!"}},{"$f":"IF(C134915=base!$W$2,ROW()+1,\"\")","v":{"$error":"#REF!"}},92440,"Monte Grande","Ejido","Tantima","Veracruz de Ignacio de la Llave",null,92301,30,92301,null,15,154,6854,"Rural"]
[{"$f":"IF(C135017=base!$AC$2,ROW()+1,\"\")","v":{"$error":"#REF!"}},{"$f":"IF(C135017=base!$W$2,ROW()+1,\"\")","v":{"$error":"#REF!"}},92576,"Ojital","Ranchería","Tamiahua","Veracruz de Ignacio de la Llave",null,92801,30,92801,null,29,151,1474,"Rural"]
[{"$f":"IF(C135100=base!$AC$2,ROW()+1,\"\")","v":{"$error":"#REF!"}},{"$f":"IF(C135100=base!$W$2,ROW()+1,\"\")","v":{"$error":"#REF!"}},92660,"La Lima","Congregación","Benito Juárez","Veracruz de Ignacio de la Llave",null,92709,30,92709,null,11,27,6852,"Rural"]
[{"$f":"IF(C135175=base!$AC$2,ROW()+1,\"\")","v":{"$error":"#REF!"}},{"$f":"IF(C135175=base!$W$2,ROW()+1,\"\")","v":{"$error":"#REF!"}},92685,"La Pita","Ranchería","Ixhuatlán de Madero","Veracruz de Ignacio de la Llave",null,92682,30,92682,null,29,83,6209,"Rural"]
[{"$f":"IF(C135253=base!$AC$2,ROW()+1,\"\")","v":{"$error":"#REF!"}},{"$f":"IF(C135253=base!$W$2,ROW()+1,\"\")","v":{"$error":"#REF!"}},92700,"Coahuitze","Colonia","Chicontepec","Veracruz de Ignacio de la Llave",null,92709,30,92709,null,9,58,1808,"Rural"]
[{"$f":"IF(C135324=base!$AC$2,ROW()+1,\"\")","v":{"$error":"#REF!"}},{"$f":"IF(C135324=base!$W$2,ROW()+1,\"\")","v":{"$error":"#REF!"}},92730,"Cerro Dulce","Pueblo","Álamo Temapache","Veracruz de Ignacio de la Llave",null,92731,30,92731,null,28,160,1619,"Rural"]
[{"$f":"IF(C135334=base!$AC$2,ROW()+1,\"\")","v":{"$error":"#REF!"}},{"$f":"IF(C135334=base!$W$2,ROW()+1,\"\")","v":{"$error":"#REF!"}},92733,"Progreso","Colonia","Álamo Temapache","Veracruz de Ignacio de la Llave",null,92731,30,92731,null,9,160,1634,"Rural"]
[{"$f":"IF(C135411=base!$AC$2,ROW()+1,\"\")","v":{"$error":"#REF!"}},{"$f":"IF(C135411=base!$W$2,ROW()+1,\"\")","v":{"$error":"#REF!"}},92770,"El Muro","Congregación","Tuxpan","Veracruz de Ignacio de la Llave",null,92801,30,92801,null,11,189,1856,"Rural"]
[{"$f":"IF(C135487=base!$AC$2,ROW()+1,\"\")","v":{"$error":"#REF!"}},{"$f":"IF(C135487=base!$W$2,ROW()+1,\"\")","v":{"$error":"#REF!"}},92776,"El Progreso","Congregación","Tuxpan","Veracruz de Ignacio de la Llave",null,92801,30,92801,null,11,189,1795,"Rural"]
[{"$f":"IF(C135569=base!$AC$2,ROW()+1,\"\")","v":{"$error":"#REF!"}},{"$f":"IF(C135569=base!$W$2,ROW()+1,\"\")","v":{"$error":"#REF!"}},92853,"El Retiro","Colonia","Tuxpan","Veracruz de Ignacio de la Llave","Túxpam de Rodríguez Cano",92801,30,92801,null,9,189,1860,"Urbano",16]
[{"$f":"IF(C135672=base!$AC$2,ROW()+1,\"\")","v":{"$error":"#REF!"}},{"$f":"IF(C135672=base!$W$2,ROW()+1,\"\")","v":{"$error":"#REF!"}},92934,"San Francisco de Asís","Colonia","Tihuatlán","Veracruz de Ignacio de la Llave","Tihuatlán",92931,30,92931,null,9,175,7857,"Urbano",55]
[{"$f":"IF(C135727=base!$AC$2,ROW()+1,\"\")","v":{"$error":"#REF!"}},{"$f":"IF(C135727=base!$W$2,ROW()+1,\"\")","v":{"$error":"#REF!"}},93070,"Adolfo Ruiz Cortines","Ranchería","Coxquihui","Veracruz de Ignacio de la Llave",null,93261,30,93261,null,29,50,2155,"Rural"]
[{"$f":"IF(C135825=base!$AC$2,ROW()+1,\"\")","v":{"$error":"#REF!"}},{"$f":"IF(C135825=base!$W$2,ROW()+1,\"\")","v":{"$error":"#REF!"}},93210,"Las Vegas","Colonia","Poza Rica de Hidalgo","Veracruz de Ignacio de la Llave","Poza Rica de Hidalgo",93261,30,93261,null,9,131,2217,"Urbano",14]
[{"$f":"IF(C135885=base!$AC$2,ROW()+1,\"\")","v":{"$error":"#REF!"}},{"$f":"IF(C135885=base!$W$2,ROW()+1,\"\")","v":{"$error":"#REF!"}},93300,"Independencia","Colonia","Poza Rica de Hidalgo","Veracruz de Ignacio de la Llave","Poza Rica de Hidalgo",93261,30,93261,null,9,131,2263,"Urbano",14]
[{"$f":"IF(C135906=base!$AC$2,ROW()+1,\"\")","v":{"$error":"#REF!"}},{"$f":"IF(C135906=base!$W$2,ROW()+1,\"\")","v":{"$error":"#REF!"}},93327,"Ignacio de La Llave","Colonia","Poza Rica de Hidalgo","Veracruz de Ignacio de la Llave","Poza Rica de Hidalgo",93261,30,93261,null,9,131,2275,"Urbano",14]
[{"$f":"IF(C136034=base!$AC$2,ROW()+1,\"\")","v":{"$error":"#REF!"}},{"$f":"IF(C136034=base!$W$2,ROW()+1,\"\")","v":{"$error":"#REF!"}},93536,"Cerro Grande Morgadal","Ranchería","Papantla","Veracruz de Ignacio de la Llave",null,93401,30,93401,null,29,124,7782,"Rural"]
[{"$f":"IF(C136059=base!$AC$2,ROW()+1,\"\")","v":{"$error":"#REF!"}},{"$f":"IF(C136059=base!$W$2,ROW()+1,\"\")","v":{"$error":"#REF!"}},93549,"Mesa Chica Nueva","Congregación","Papantla","Veracruz de Ignacio de la Llave",null,93401,30,93401,null,11,124,2389,"Rural"]
[{"$f":"IF(C136121=base!$AC$2,ROW()+1,\"\")","v":{"$error":"#REF!"}},{"$f":"IF(C136121=base!$W$2,ROW()+1,\"\")","v":{"$error":"#REF!"}},93600,"La Soledad","Pueblo","Martínez de la Torre","Veracruz de Ignacio de la Llave",null,93601,30,93601,null,28,102,2420,"Rural"]
[{"$f":"IF(C136244=base!$AC$2,ROW()+1,\"\")","v":{"$error":"#REF!"}},{"$f":"IF(C136244=base!$W$2,ROW()+1,\"\")","v":{"$error":"#REF!"}},93620,"Las Zapateras","Colonia","San Rafael","Veracruz de Ignacio de la Llave","San Rafael",93601,30,93601,null,9,211,2135,"Rural",51]
[{"$f":"IF(C136279=base!$AC$2,ROW()+1,\"\")","v":{"$error":"#REF!"}},{"$f":"IF(C136279=base!$W$2,ROW()+1,\"\")","v":{"$error":"#REF!"}},93625,"El Nuevo Faisán","Ranchería","San Rafael","Veracruz de Ignacio de la Llave",null,93601,30,93601,null,29,211,5502,"Rural"]
[{"$f":"IF(C136397=base!$AC$2,ROW()+1,\"\")","v":{"$error":"#REF!"}},{"$f":"IF(C136397=base!$W$2,ROW()+1,\"\")","v":{"$error":"#REF!"}},93656,"Frijolares","Congregación","Tlapacoyan","Veracruz de Ignacio de la Llave",null,93651,30,93651,null,11,183,6687,"Rural"]
[{"$f":"IF(C136437=base!$AC$2,ROW()+1,\"\")","v":{"$error":"#REF!"}},{"$f":"IF(C136437=base!$W$2,ROW()+1,\"\")","v":{"$error":"#REF!"}},93689,"Tazolapa","Congregación","Atzalan","Veracruz de Ignacio de la Llave",null,93701,30,93701,null,11,23,2507,"Rural"]
[{"$f":"IF(C136478=base!$AC$2,ROW()+1,\"\")","v":{"$error":"#REF!"}},{"$f":"IF(C136478=base!$W$2,ROW()+1,\"\")","v":{"$error":"#REF!"}},93720,"Ahueyahualco","Congregación","Altotonga","Veracruz de Ignacio de la Llave",null,93701,30,93701,null,11,10,2532,"Rural"]
[{"$f":"IF(C136586=base!$AC$2,ROW()+1,\"\")","v":{"$error":"#REF!"}},{"$f":"IF(C136586=base!$W$2,ROW()+1,\"\")","v":{"$error":"#REF!"}},93836,"La Habana","Ranchería","Misantla","Veracruz de Ignacio de la Llave",null,93821,30,93821,null,29,109,6540,"Rural"]
[{"$f":"IF(C136669=base!$AC$2,ROW()+1,\"\")","v":{"$error":"#REF!"}},{"$f":"IF(C136669=base!$W$2,ROW()+1,\"\")","v":{"$error":"#REF!"}},93957,"Plan de San Luis","Congregación","Colipa","Veracruz de Ignacio de la Llave",null,93951,30,93951,null,11,42,7320,"Rural"]
[{"$f":"IF(C136759=base!$AC$2,ROW()+1,\"\")","v":{"$error":"#REF!"}},{"$f":"IF(C136759=base!$W$2,ROW()+1,\"\")","v":{"$error":"#REF!"}},94108,"Progreso","Colonia","Huatusco","Veracruz de Ignacio de la Llave","Huatusco de Chicuellar",94101,30,94101,null,9,71,1030,"Semiurbano",28]
[{"$f":"IF(C136827=base!$AC$2,ROW()+1,\"\")","v":{"$error":"#REF!"}},{"$f":"IF(C136827=base!$W$2,ROW()+1,\"\")","v":{"$error":"#REF!"}},94180,"Hermenegildo Romero","Colonia","Ixhuatlán del Café","Veracruz de Ignacio de la Llave",null,94181,30,94181,null,9,80,826,"Rural"]
[{"$f":"IF(C136840=base!$AC$2,ROW()+1,\"\")","v":{"$error":"#REF!"}},{"$f":"IF(C136840=base!$W$2,ROW()+1,\"\")","v":{"$error":"#REF!"}},94190,"Tepatlaxco","Ranchería","Tepatlaxco","Veracruz de Ignacio de la Llave",null,94971,30,94971,null,29,165,2712,"Rural"]
[{"$f":"IF(C136905=base!$AC$2,ROW()+1,\"\")","v":{"$error":"#REF!"}},{"$f":"IF(C136905=base!$W$2,ROW()+1,\"\")","v":{"$error":"#REF!"}},94253,"Portezuelos","Congregación","Manlio Fabio Altamirano","Veracruz de Ignacio de la Llave",null,94252,30,94252,null,11,100,1017,"Rural"]
[{"$f":"IF(C136993=base!$AC$2,ROW()+1,\"\")","v":{"$error":"#REF!"}},{"$f":"IF(C136993=base!$W$2,ROW()+1,\"\")","v":{"$error":"#REF!"}},94277,"José Lozano","Colonia","Medellín","Veracruz de Ignacio de la Llave",null,94272,30,94272,null,9,105,7544,"Rural"]
[{"$f":"IF(C137063=base!$AC$2,ROW()+1,\"\")","v":{"$error":"#REF!"}},{"$f":"IF(C137063=base!$W$2,ROW()+1,\"\")","v":{"$error":"#REF!"}},94297,"Fernando Gutiérrez Barrios","Colonia","Boca del Río","Veracruz de Ignacio de la Llave","Boca del RÍo",94292,30,94292,null,9,28,2782,"Urbano",3]
[{"$f":"IF(C137178=base!$AC$2,ROW()+1,\"\")","v":{"$error":"#REF!"}},{"$f":"IF(C137178=base!$W$2,ROW()+1,\"\")","v":{"$error":"#REF!"}},94353,"San Juan Bosco","Colonia","Orizaba","Veracruz de Ignacio de la Llave","Orizaba",94301,30,94301,null,9,118,5898,"Urbano",12]
[{"$f":"IF(C137221=base!$AC$2,ROW()+1,\"\")","v":{"$error":"#REF!"}},{"$f":"IF(C137221=base!$W$2,ROW()+1,\"\")","v":{"$error":"#REF!"}},94393,"Villas Orizaba Residencial","Fraccionamiento","Orizaba","Veracruz de Ignacio de la Llave","Orizaba",94301,30,94301,null,21,118,14,"Urbano",12]
[{"$f":"IF(C137331=base!$AC$2,ROW()+1,\"\")","v":{"$error":"#REF!"}},{"$f":"IF(C137331=base!$W$2,ROW()+1,\"\")","v":{"$error":"#REF!"}},94464,"Campo Chico","Ranchería","Ixtaczoquitlán","Veracruz de Ignacio de la Llave","Ixtaczoquitlán",94301,30,94301,null,29,85,4767,"Semiurbano",29]
[{"$f":"IF(C137379=base!$AC$2,ROW()+1,\"\")","v":{"$error":"#REF!"}},{"$f":"IF(C137379=base!$W$2,ROW()+1,\"\")","v":{"$error":"#REF!"}},94476,"INDECO Shangri-La","Colonia","Fortín","Veracruz de Ignacio de la Llave","Fortín de las Flores",94471,30,94471,null,9,68,7818,"Urbano",33]
[{"$f":"IF(C137412=base!$AC$2,ROW()+1,\"\")","v":{"$error":"#REF!"}},{"$f":"IF(C137412=base!$W$2,ROW()+1,\"\")","v":{"$error":"#REF!"}},94477,"Hacienda San Marcial","Unidad habitacional","Fortín","Veracruz de Ignacio de la Llave","Fortín de las Flores",94471,30,94471,null,31,68,7831,"Urbano",33]
[{"$f":"IF(C137528=base!$AC$2,ROW()+1,\"\")","v":{"$error":"#REF!"}},{"$f":"IF(C137528=base!$W$2,ROW()+1,\"\")","v":{"$error":"#REF!"}},94553,"Santa Elena","Colonia","Córdoba","Veracruz de Ignacio de la Llave","Córdoba",94501,30,94501,null,9,44,1092,"Urbano",7]
[{"$f":"IF(C137565=base!$AC$2,ROW()+1,\"\")","v":{"$error":"#REF!"}},{"$f":"IF(C137565=base!$W$2,ROW()+1,\"\")","v":{"$error":"#REF!"}},94575,"La Posta","Colonia","Córdoba","Veracruz de Ignacio de la Llave","Córdoba",94501,30,94501,null,9,44,2975,"Urbano",7]
[{"$f":"IF(C137686=base!$AC$2,ROW()+1,\"\")","v":{"$error":"#REF!"}},{"$f":"IF(C137686=base!$W$2,ROW()+1,\"\")","v":{"$error":"#REF!"}},94720,"El Cerrito","Colonia","Nogales","Veracruz de Ignacio de la Llave","Nogales",94721,30,94721,null,9,115,5170,"Semiurbano",46]
[{"$f":"IF(C137750=base!$AC$2,ROW()+1,\"\")","v":{"$error":"#REF!"}},{"$f":"IF(C137750=base!$W$2,ROW()+1,\"\")","v":{"$error":"#REF!"}},94733,"7 de Enero","Colonia","Río Blanco","Veracruz de Ignacio de la Llave","Río Blanco",94731,30,94731,null,9,138,1109,"Semiurbano",30]
[{"$f":"IF(C137773=base!$AC$2,ROW()+1,\"\")","v":{"$error":"#REF!"}},{"$f":"IF(C137773=base!$W$2,ROW()+1,\"\")","v":{"$error":"#REF!"}},94744,"Los Sauces","Fraccionamiento","Camerino Z. Mendoza","Veracruz de Ignacio de la Llave",null,94741,30,94741,null,21,30,5230,"Rural"]
[{"$f":"IF(C137903=base!$AC$2,ROW()+1,\"\")","v":{"$error":"#REF!"}},{"$f":"IF(C137903=base!$W$2,ROW()+1,\"\")","v":{"$error":"#REF!"}},94908,"Omealca","Estación","Omealca","Veracruz de Ignacio de la Llave",null,94501,30,94501,null,16,117,3100,"Rural"]
[{"$f":"IF(C137931=base!$AC$2,ROW()+1,\"\")","v":{"$error":"#REF!"}},{"$f":"IF(C137931=base!$W$2,ROW()+1,\"\")","v":{"$error":"#REF!"}},94930,"Triangulito","Colonia","Yanga","Veracruz de Ignacio de la Llave",null,94931,30,94931,null,9,196,1134,"Rural"]
[{"$f":"IF(C137984=base!$AC$2,ROW()+1,\"\")","v":{"$error":"#REF!"}},{"$f":"IF(C137984=base!$W$2,ROW()+1,\"\")","v":{"$error":"#REF!"}},94954,"Cacahuatal","Congregación","Amatlán de los Reyes","Veracruz de Ignacio de la Llave",null,94501,30,94501,null,11,14,3134,"Rural"]
[{"$f":"IF(C138080=base!$AC$2,ROW()+1,\"\")","v":{"$error":"#REF!"}},{"$f":"IF(C138080=base!$W$2,ROW()+1,\"\")","v":{"$error":"#REF!"}},94968,"La Perla","Ranchería","Atoyac","Veracruz de Ignacio de la Llave",null,94962,30,94962,null,29,21,6627,"Rural"]
[{"$f":"IF(C138137=base!$AC$2,ROW()+1,\"\")","v":{"$error":"#REF!"}},{"$f":"IF(C138137=base!$W$2,ROW()+1,\"\")","v":{"$error":"#REF!"}},94993,"Santa Lucía","Rancho","Cotaxtla","Veracruz de Ignacio de la Llave",null,94911,30,94911,null,48,49,5,"Rural"]
[{"$f":"IF(C138238=base!$AC$2,ROW()+1,\"\")","v":{"$error":"#REF!"}},{"$f":"IF(C138238=base!$W$2,ROW()+1,\"\")","v":{"$error":"#REF!"}},95080,"Lomas Verdes","Pueblo","Tezonapa","Veracruz de Ignacio de la Llave",null,68414,30,68414,null,28,173,17,"Rural"]
[{"$f":"IF(C138290=base!$AC$2,ROW()+1,\"\")","v":{"$error":"#REF!"}},{"$f":"IF(C138290=base!$W$2,ROW()+1,\"\")","v":{"$error":"#REF!"}},95085,"Limonestitla","Congregación","Tezonapa","Veracruz de Ignacio de la Llave",null,68414,30,68414,null,11,173,6969,"Rural"]
[{"$f":"IF(C138396=base!$AC$2,ROW()+1,\"\")","v":{"$error":"#REF!"}},{"$f":"IF(C138396=base!$W$2,ROW()+1,\"\")","v":{"$error":"#REF!"}},95118,"Miraflores","Colonia","Tierra Blanca","Veracruz de Ignacio de la Llave","Tierra Blanca",95101,30,95101,null,9,174,4515,"Semiurbano",18]
[{"$f":"IF(C138475=base!$AC$2,ROW()+1,\"\")","v":{"$error":"#REF!"}},{"$f":"IF(C138475=base!$W$2,ROW()+1,\"\")","v":{"$error":"#REF!"}},95215,"San José del Cacao","Ranchería","Tierra Blanca","Veracruz de Ignacio de la Llave",null,95101,30,95101,null,29,174,7886,"Rural"]
[{"$f":"IF(C138483=base!$AC$2,ROW()+1,\"\")","v":{"$error":"#REF!"}},{"$f":"IF(C138483=base!$W$2,ROW()+1,\"\")","v":{"$error":"#REF!"}},95217,"Atalaya","Ejido","Tierra Blanca","Veracruz de Ignacio de la Llave",null,95101,30,95101,null,15,174,5730,"Rural"]
[{"$f":"IF(C138556=base!$AC$2,ROW()+1,\"\")","v":{"$error":"#REF!"}},{"$f":"IF(C138556=base!$W$2,ROW()+1,\"\")","v":{"$error":"#REF!"}},95226,"Mata de Lázaro","Pueblo","Tlalixcoyan","Veracruz de Ignacio de la Llave",null,95222,30,95222,null,28,181,1,"Rural"]
[{"$f":"IF(C138632=base!$AC$2,ROW()+1,\"\")","v":{"$error":"#REF!"}},{"$f":"IF(C138632=base!$W$2,ROW()+1,\"\")","v":{"$error":"#REF!"}},95233,"Granja la Negra","Ranchería","Tlalixcoyan","Veracruz de Ignacio de la Llave",null,95221,30,95221,null,29,181,6378,"Rural"]
[{"$f":"IF(C138709=base!$AC$2,ROW()+1,\"\")","v":{"$error":"#REF!"}},{"$f":"IF(C138709=base!$W$2,ROW()+1,\"\")","v":{"$error":"#REF!"}},95237,"Loma del Carmen","Pueblo","Tlalixcoyan","Veracruz de Ignacio de la Llave",null,95221,30,95221,null,28,181,3240,"Rural"]
[{"$f":"IF(C138790=base!$AC$2,ROW()+1,\"\")","v":{"$error":"#REF!"}},{"$f":"IF(C138790=base!$W$2,ROW()+1,\"\")","v":{"$error":"#REF!"}},95264,"Playas del Conchal","Colonia","Alvarado","Veracruz de Ignacio de la Llave",null,94292,30,94292,null,9,11,5397,"Rural"]
[{"$f":"IF(C138862=base!$AC$2,ROW()+1,\"\")","v":{"$error":"#REF!"}},{"$f":"IF(C138862=base!$W$2,ROW()+1,\"\")","v":{"$error":"#REF!"}},95294,"El Zacatal","Ranchería","Lerdo de Tejada","Veracruz de Ignacio de la Llave",null,95282,30,95282,null,29,97,3281,"Rural"]
[{"$f":"IF(C138948=base!$AC$2,ROW()+1,\"\")","v":{"$error":"#REF!"}},{"$f":"IF(C138948=base!$W$2,ROW()+1,\"\")","v":{"$error":"#REF!"}},95395,"Mártires de Veracruz","Colonia","Cosamaloapan de Carpio","Veracruz de Ignacio de la Llave","Cosamaloapan",95401,30,95401,null,9,45,3319,"Urbano",19]
[{"$f":"IF(C139047=base!$AC$2,ROW()+1,\"\")","v":{"$error":"#REF!"}},{"$f":"IF(C139047=base!$W$2,ROW()+1,\"\")","v":{"$error":"#REF!"}},95450,"Dos Bocas","Congregación","Amatitlán","Veracruz de Ignacio de la Llave",null,95451,30,95451,null,11,12,3350,"Rural"]
[{"$f":"IF(C139106=base!$AC$2,ROW()+1,\"\")","v":{"$error":"#REF!"}},{"$f":"IF(C139106=base!$W$2,ROW()+1,\"\")","v":{"$error":"#REF!"}},95470,"El Jarocho (El Hatillo)","Ejido","Tlacotalpan","Veracruz de Ignacio de la Llave",null,95461,30,95461,null,15,178,33,"Rural"]
[{"$f":"IF(C139128=base!$AC$2,ROW()+1,\"\")","v":{"$error":"#REF!"}},{"$f":"IF(C139128=base!$W$2,ROW()+1,\"\")","v":{"$error":"#REF!"}},95475,"San Modesto","Ejido","Tlacotalpan","Veracruz de Ignacio de la Llave",null,95461,30,95461,null,15,178,85,"Rural"]
[{"$f":"IF(C139255=base!$AC$2,ROW()+1,\"\")","v":{"$error":"#REF!"}},{"$f":"IF(C139255=base!$W$2,ROW()+1,\"\")","v":{"$error":"#REF!"}},95600,"Lomas Verdes","Colonia","Playa Vicente","Veracruz de Ignacio de la Llave","Playa Vicente",95601,30,95601,null,9,130,7258,"Rural",38]
[{"$f":"IF(C139281=base!$AC$2,ROW()+1,\"\")","v":{"$error":"#REF!"}},{"$f":"IF(C139281=base!$W$2,ROW()+1,\"\")","v":{"$error":"#REF!"}},95614,"El Serrano","Pueblo","Playa Vicente","Veracruz de Ignacio de la Llave",null,95601,30,95601,null,28,130,2,"Rural"]
[{"$f":"IF(C139342=base!$AC$2,ROW()+1,\"\")","v":{"$error":"#REF!"}},{"$f":"IF(C139342=base!$W$2,ROW()+1,\"\")","v":{"$error":"#REF!"}},95637,"San Gabriel de La Chinantla","Ranchería","Santiago Sochiapan","Veracruz de Ignacio de la Llave",null,95601,30,95601,null,29,212,5533,"Rural"]
[{"$f":"IF(C139434=base!$AC$2,ROW()+1,\"\")","v":{"$error":"#REF!"}},{"$f":"IF(C139434=base!$W$2,ROW()+1,\"\")","v":{"$error":"#REF!"}},95673,"Palo Miguel","Ejido","Juan Rodríguez Clara","Veracruz de Ignacio de la Llave",null,95691,30,95691,null,15,94,3438,"Rural"]
[{"$f":"IF(C139500=base!$AC$2,ROW()+1,\"\")","v":{"$error":"#REF!"}},{"$f":"IF(C139500=base!$W$2,ROW()+1,\"\")","v":{"$error":"#REF!"}},95693,"Benito Juárez","Colonia","Juan Rodríguez Clara","Veracruz de Ignacio de la Llave","Juan Rodríguez Clara",95691,30,95691,null,9,94,4695,"Urbano",27]
[{"$f":"IF(C139619=base!$AC$2,ROW()+1,\"\")","v":{"$error":"#REF!"}},{"$f":"IF(C139619=base!$W$2,ROW()+1,\"\")","v":{"$error":"#REF!"}},95800,"Texalpan de Arriba","Pueblo","San Andrés Tuxtla","Veracruz de Ignacio de la Llave",null,95701,30,95701,null,28,141,7502,"Rural"]
[{"$f":"IF(C139658=base!$AC$2,ROW()+1,\"\")","v":{"$error":"#REF!"}},{"$f":"IF(C139658=base!$W$2,ROW()+1,\"\")","v":{"$error":"#REF!"}},95804,"Calería","Congregación","San Andrés Tuxtla","Veracruz de Ignacio de la Llave",null,95701,30,95701,null,11,141,8004,"Rural"]
[{"$f":"IF(C139700=base!$AC$2,ROW()+1,\"\")","v":{"$error":"#REF!"}},{"$f":"IF(C139700=base!$W$2,ROW()+1,\"\")","v":{"$error":"#REF!"}},95812,"Lindavista","Colonia","San Andrés Tuxtla","Veracruz de Ignacio de la Llave","Sihuapan",95701,30,95701,null,9,141,5072,"Semiurbano",66]
[{"$f":"IF(C139816=base!$AC$2,ROW()+1,\"\")","v":{"$error":"#REF!"}},{"$f":"IF(C139816=base!$W$2,ROW()+1,\"\")","v":{"$error":"#REF!"}},95835,"La Purificadora","Ranchería","Santiago Tuxtla","Veracruz de Ignacio de la Llave",null,95831,30,95831,null,29,143,8248,"Rural"]
[{"$f":"IF(C139853=base!$AC$2,ROW()+1,\"\")","v":{"$error":"#REF!"}},{"$f":"IF(C139853=base!$W$2,ROW()+1,\"\")","v":{"$error":"#REF!"}},95835,"Chama Martínez (Tagala)","Ranchería","Santiago Tuxtla","Veracruz de Ignacio de la Llave",null,95831,30,95831,null,29,143,8132,"Rural"]
[{"$f":"IF(C139965=base!$AC$2,ROW()+1,\"\")","v":{"$error":"#REF!"}},{"$f":"IF(C139965=base!$W$2,ROW()+1,\"\")","v":{"$error":"#REF!"}},95837,"El Yuale Chico","Poblado comunal","Santiago Tuxtla","Veracruz de Ignacio de la Llave",null,95831,30,95831,null,27,143,8201,"Rural"]
[{"$f":"IF(C140006=base!$AC$2,ROW()+1,\"\")","v":{"$error":"#REF!"}},{"$f":"IF(C140006=base!$W$2,ROW()+1,\"\")","v":{"$error":"#REF!"}},95838,"La Piedad","Ranchería","Santiago Tuxtla","Veracruz de Ignacio de la Llave",null,95831,30,95831,null,29,143,8247,"Rural"]
[{"$f":"IF(C140052=base!$AC$2,ROW()+1,\"\")","v":{"$error":"#REF!"}},{"$f":"IF(C140052=base!$W$2,ROW()+1,\"\")","v":{"$error":"#REF!"}},95838,"San Rafael","Ranchería","Santiago Tuxtla","Veracruz de Ignacio de la Llave",null,95831,30,95831,null,29,143,8329,"Rural"]
[{"$f":"IF(C140191=base!$AC$2,ROW()+1,\"\")","v":{"$error":"#REF!"}},{"$f":"IF(C140191=base!$W$2,ROW()+1,\"\")","v":{"$error":"#REF!"}},95854,"Rancho Viejo","Ranchería","Hueyapan de Ocampo","Veracruz de Ignacio de la Llave",null,95851,30,95851,null,29,73,9025,"Rural"]
[{"$f":"IF(C140210=base!$AC$2,ROW()+1,\"\")","v":{"$error":"#REF!"}},{"$f":"IF(C140210=base!$W$2,ROW()+1,\"\")","v":{"$error":"#REF!"}},95854,"Rancho Afore","Ranchería","Hueyapan de Ocampo","Veracruz de Ignacio de la Llave",null,95851,30,95851,null,29,73,9020,"Rural"]
[{"$f":"IF(C140272=base!$AC$2,ROW()+1,\"\")","v":{"$error":"#REF!"}},{"$f":"IF(C140272=base!$W$2,ROW()+1,\"\")","v":{"$error":"#REF!"}},95865,"Dante Delgado Ranauro","Colonia","Hueyapan de Ocampo","Veracruz de Ignacio de la Llave",null,95861,30,95861,null,9,73,8894,"Urbano"]
[{"$f":"IF(C140368=base!$AC$2,ROW()+1,\"\")","v":{"$error":"#REF!"}},{"$f":"IF(C140368=base!$W$2,ROW()+1,\"\")","v":{"$error":"#REF!"}},95879,"Bajos de Mimiahua","Poblado comunal","Catemaco","Veracruz de Ignacio de la Llave",null,95871,30,95871,null,27,32,2,"Rural"]
[{"$f":"IF(C140425=base!$AC$2,ROW()+1,\"\")","v":{"$error":"#REF!"}},{"$f":"IF(C140425=base!$W$2,ROW()+1,\"\")","v":{"$error":"#REF!"}},95950,"Benigno Mendoza","Ranchería","Tatahuicapan de Juárez","Veracruz de Ignacio de la Llave",null,95981,30,95981,null,29,209,3652,"Rural"]
[{"$f":"IF(C140517=base!$AC$2,ROW()+1,\"\")","v":{"$error":"#REF!"}},{"$f":"IF(C140517=base!$W$2,ROW()+1,\"\")","v":{"$error":"#REF!"}},96102,"Campo de Águila","Ranchería","Acayucan","Veracruz de Ignacio de la Llave",null,96001,30,96001,null,29,3,3702,"Rural"]
[{"$f":"IF(C140578=base!$AC$2,ROW()+1,\"\")","v":{"$error":"#REF!"}},{"$f":"IF(C140578=base!$W$2,ROW()+1,\"\")","v":{"$error":"#REF!"}},96145,"Villa Alta","Ejido","San Juan Evangelista","Veracruz de Ignacio de la Llave",null,96121,30,96121,null,15,142,3731,"Rural"]
[{"$f":"IF(C140675=base!$AC$2,ROW()+1,\"\")","v":{"$error":"#REF!"}},{"$f":"IF(C140675=base!$W$2,ROW()+1,\"\")","v":{"$error":"#REF!"}},96230,"Doctores","Colonia","Jáltipan","Veracruz de Ignacio de la Llave","Jáltipan de Morelos",96201,30,96201,null,9,89,3772,"Urbano",9]
[{"$f":"IF(C140731=base!$AC$2,ROW()+1,\"\")","v":{"$error":"#REF!"}},{"$f":"IF(C140731=base!$W$2,ROW()+1,\"\")","v":{"$error":"#REF!"}},96300,"San Jorge","Ranchería","Jáltipan","Veracruz de Ignacio de la Llave",null,96201,30,96201,null,29,89,8854,"Rural"]
[{"$f":"IF(C140833=base!$AC$2,ROW()+1,\"\")","v":{"$error":"#REF!"}},{"$f":"IF(C140833=base!$W$2,ROW()+1,\"\")","v":{"$error":"#REF!"}},96307,"Las Torres","Ranchería","Jáltipan","Veracruz de Ignacio de la Llave",null,96201,30,96201,null,29,89,8803,"Rural"]
[{"$f":"IF(C140907=base!$AC$2,ROW()+1,\"\")","v":{"$error":"#REF!"}},{"$f":"IF(C140907=base!$W$2,ROW()+1,\"\")","v":{"$error":"#REF!"}},96324,"Mangos Salinas","Ranchería","Zaragoza","Veracruz de Ignacio de la Llave",null,96701,30,96701,null,29,199,7374,"Rural"]
[{"$f":"IF(C140940=base!$AC$2,ROW()+1,\"\")","v":{"$error":"#REF!"}},{"$f":"IF(C140940=base!$W$2,ROW()+1,\"\")","v":{"$error":"#REF!"}},96345,"Buenos Aires","Congregación","Cosoleacaque","Veracruz de Ignacio de la Llave",null,96701,30,96701,null,11,48,7104,"Rural"]
[{"$f":"IF(C140994=base!$AC$2,ROW()+1,\"\")","v":{"$error":"#REF!"}},{"$f":"IF(C140994=base!$W$2,ROW()+1,\"\")","v":{"$error":"#REF!"}},96360,"Nanchital de Lázaro Cárdenas Del Rio","Ciudad","Nanchital de Lázaro Cárdenas del Río","Veracruz de Ignacio de la Llave",null,96361,30,96361,null,8,206,3802,"Rural"]
[{"$f":"IF(C141053=base!$AC$2,ROW()+1,\"\")","v":{"$error":"#REF!"}},{"$f":"IF(C141053=base!$W$2,ROW()+1,\"\")","v":{"$error":"#REF!"}},96380,"Génesis 2000","Colonia","Coatzacoalcos","Veracruz de Ignacio de la Llave",null,96401,30,96401,null,9,39,5303,"Urbano"]
[{"$f":"IF(C141152=base!$AC$2,ROW()+1,\"\")","v":{"$error":"#REF!"}},{"$f":"IF(C141152=base!$W$2,ROW()+1,\"\")","v":{"$error":"#REF!"}},96536,"Jardines de California","Fraccionamiento","Coatzacoalcos","Veracruz de Ignacio de la Llave","Coatzacoalcos",96401,30,96401,null,21,39,5208,"Urbano",6]
[{"$f":"IF(C141206=base!$AC$2,ROW()+1,\"\")","v":{"$error":"#REF!"}},{"$f":"IF(C141206=base!$W$2,ROW()+1,\"\")","v":{"$error":"#REF!"}},96590,"Kilometro 5","Colonia","Coatzacoalcos","Veracruz de Ignacio de la Llave","Coatzacoalcos",96401,30,96401,null,9,39,6027,"Urbano",6]
[{"$f":"IF(C141310=base!$AC$2,ROW()+1,\"\")","v":{"$error":"#REF!"}},{"$f":"IF(C141310=base!$W$2,ROW()+1,\"\")","v":{"$error":"#REF!"}},96773,"Un Paso a La Gloria","Colonia","Minatitlán","Veracruz de Ignacio de la Llave","Minatitlán",96701,30,96701,null,9,108,5213,"Urbano",11]
[{"$f":"IF(C141359=base!$AC$2,ROW()+1,\"\")","v":{"$error":"#REF!"}},{"$f":"IF(C141359=base!$W$2,ROW()+1,\"\")","v":{"$error":"#REF!"}},96903,"Boca de Oro","Ranchería","Minatitlán","Veracruz de Ignacio de la Llave",null,96701,30,96701,null,29,108,5,"Rural"]
[{"$f":"IF(C141459=base!$AC$2,ROW()+1,\"\")","v":{"$error":"#REF!"}},{"$f":"IF(C141459=base!$W$2,ROW()+1,\"\")","v":{"$error":"#REF!"}},96926,"Carrizal Cinco de Febrero","Ranchería","Minatitlán","Veracruz de Ignacio de la Llave",null,96701,30,96701,null,29,108,6823,"Rural"]
[{"$f":"IF(C141512=base!$AC$2,ROW()+1,\"\")","v":{"$error":"#REF!"}},{"$f":"IF(C141512=base!$W$2,ROW()+1,\"\")","v":{"$error":"#REF!"}},96950,"Jesús Carranza","Pueblo","Jesús Carranza","Veracruz de Ignacio de la Llave",null,96951,30,96951,null,28,91,4022,"Rural"]
[{"$f":"IF(C141617=base!$AC$2,ROW()+1,\"\")","v":{"$error":"#REF!"}},{"$f":"IF(C141617=base!$W$2,ROW()+1,\"\")","v":{"$error":"#REF!"}},96976,"Casa Blanca (Entrada a Veinticuatro de Febrero)","Ejido","Jesús Carranza","Veracruz de Ignacio de la Llave",null,96951,30,96951,null,15,91,8591,"Rural"]
[{"$f":"IF(C141625=base!$AC$2,ROW()+1,\"\")","v":{"$error":"#REF!"}},{"$f":"IF(C141625=base!$W$2,ROW()+1,\"\")","v":{"$error":"#REF!"}},96977,"Dieciséis de Septiembre","Ejido","Jesús Carranza","Veracruz de Ignacio de la Llave",null,96951,30,96951,null,15,91,8608,"Rural"]
[{"$f":"IF(C141704=base!$AC$2,ROW()+1,\"\")","v":{"$error":"#REF!"}},{"$f":"IF(C141704=base!$W$2,ROW()+1,\"\")","v":{"$error":"#REF!"}},96985,"El Sahuayo","Ranchería","Las Choapas","Veracruz de Ignacio de la Llave",null,96981,30,96981,null,29,61,8437,"Rural"]
[{"$f":"IF(C141778=base!$AC$2,ROW()+1,\"\")","v":{"$error":"#REF!"}},{"$f":"IF(C141778=base!$W$2,ROW()+1,\"\")","v":{"$error":"#REF!"}},96990,"Alto Uxpanapa (El Amate)","Colonia","Las Choapas","Veracruz de Ignacio de la Llave",null,96981,30,96981,null,9,61,8377,"Rural"]
[{"$f":"IF(C141862=base!$AC$2,ROW()+1,\"\")","v":{"$error":"#REF!"}},{"$f":"IF(C141862=base!$W$2,ROW()+1,\"\")","v":{"$error":"#REF!"}},96995,"El Castaño","Ejido","Las Choapas","Veracruz de Ignacio de la Llave",null,96981,30,96981,null,15,61,8410,"Rural"]
[{"$f":"IF(C141931=base!$AC$2,ROW()+1,\"\")","v":{"$error":"#REF!"}},{"$f":"IF(C141931=base!$W$2,ROW()+1,\"\")","v":{"$error":"#REF!"}},96998,"Los Pinos (Las Brujas)","Rancho","Uxpanapa","Veracruz de Ignacio de la Llave",null,96901,30,96901,null,48,210,9,"Rural"]
[{"$f":"IF(C142011=base!$AC$2,ROW()+1,\"\")","v":{"$error":"#REF!"}},{"$f":"IF(C142011=base!$W$2,ROW()+1,\"\")","v":{"$error":"#REF!"}},97119,"Benito Juárez Nte","Colonia","Mérida","Yucatán","Mérida",97101,31,97101,null,9,50,48,"Urbano",1]
[{"$f":"IF(C142084=base!$AC$2,ROW()+1,\"\")","v":{"$error":"#REF!"}},{"$f":"IF(C142084=base!$W$2,ROW()+1,\"\")","v":{"$error":"#REF!"}},97142,"Antonia Jimenez Trava","Fraccionamiento","Mérida","Yucatán","Mérida",97141,31,97141,null,21,50,764,"Urbano",1]
[{"$f":"IF(C142169=base!$AC$2,ROW()+1,\"\")","v":{"$error":"#REF!"}},{"$f":"IF(C142169=base!$W$2,ROW()+1,\"\")","v":{"$error":"#REF!"}},97176,"San Pablo Oriente","Colonia","Mérida","Yucatán","Mérida",97161,31,97161,null,9,50,682,"Urbano",1]
[{"$f":"IF(C142237=base!$AC$2,ROW()+1,\"\")","v":{"$error":"#REF!"}},{"$f":"IF(C142237=base!$W$2,ROW()+1,\"\")","v":{"$error":"#REF!"}},97203,"Del Bosque","Fraccionamiento","Mérida","Yucatán","Mérida",97201,31,97201,null,21,50,589,"Urbano",1]
[{"$f":"IF(C142327=base!$AC$2,ROW()+1,\"\")","v":{"$error":"#REF!"}},{"$f":"IF(C142327=base!$W$2,ROW()+1,\"\")","v":{"$error":"#REF!"}},97218,"Residencial Roma","Fraccionamiento","Mérida","Yucatán","Mérida",97212,31,97212,null,21,50,653,"Urbano",1]
[{"$f":"IF(C142350=base!$AC$2,ROW()+1,\"\")","v":{"$error":"#REF!"}},{"$f":"IF(C142350=base!$W$2,ROW()+1,\"\")","v":{"$error":"#REF!"}},97219,"Jardines de Pensiones","Fraccionamiento","Mérida","Yucatán","Mérida",97212,31,97212,null,21,50,617,"Urbano",1]
[{"$f":"IF(C142414=base!$AC$2,ROW()+1,\"\")","v":{"$error":"#REF!"}},{"$f":"IF(C142414=base!$W$2,ROW()+1,\"\")","v":{"$error":"#REF!"}},97246,"Xoclan Carmelitas","Colonia","Mérida","Yucatán","Mérida",97221,31,97221,null,9,50,757,"Urbano",1]
[{"$f":"IF(C142503=base!$AC$2,ROW()+1,\"\")","v":{"$error":"#REF!"}},{"$f":"IF(C142503=base!$W$2,ROW()+1,\"\")","v":{"$error":"#REF!"}},97290,"San Antonio Xluch","Colonia","Mérida","Yucatán","Mérida",97261,31,97261,null,9,50,249,"Urbano",1]
[{"$f":"IF(C142563=base!$AC$2,ROW()+1,\"\")","v":{"$error":"#REF!"}},{"$f":"IF(C142563=base!$W$2,ROW()+1,\"\")","v":{"$error":"#REF!"}},97305,"Algarrobos Desarrollo Residencial","Fraccionamiento","Mérida","Yucatán",null,97101,31,97101,null,21,50,1051,"Semiurbano"]
[{"$f":"IF(C142656=base!$AC$2,ROW()+1,\"\")","v":{"$error":"#REF!"}},{"$f":"IF(C142656=base!$W$2,ROW()+1,\"\")","v":{"$error":"#REF!"}},97330,"Chicxulub Puerto","Pueblo","Progreso","Yucatán",null,97323,31,97323,null,28,59,282,"Rural"]
[{"$f":"IF(C142721=base!$AC$2,ROW()+1,\"\")","v":{"$error":"#REF!"}},{"$f":"IF(C142721=base!$W$2,ROW()+1,\"\")","v":{"$error":"#REF!"}},97370,"Mulchechen","Colonia","Kanasín","Yucatán",null,97371,31,97371,null,9,41,640,"Rural"]
[{"$f":"IF(C142809=base!$AC$2,ROW()+1,\"\")","v":{"$error":"#REF!"}},{"$f":"IF(C142809=base!$W$2,ROW()+1,\"\")","v":{"$error":"#REF!"}},97392,"Piedra de Agua","Fraccionamiento","Umán","Yucatán",null,97391,31,97391,null,21,101,1,"Urbano"]
[{"$f":"IF(C142879=base!$AC$2,ROW()+1,\"\")","v":{"$error":"#REF!"}},{"$f":"IF(C142879=base!$W$2,ROW()+1,\"\")","v":{"$error":"#REF!"}},97440,"Komchén Martínez","Pueblo","Motul","Yucatán",null,97431,31,97431,null,28,52,1279,"Rural"]
[{"$f":"IF(C142922=base!$AC$2,ROW()+1,\"\")","v":{"$error":"#REF!"}},{"$f":"IF(C142922=base!$W$2,ROW()+1,\"\")","v":{"$error":"#REF!"}},97500,"Vicente Guerrero","Colonia","Dzidzantún","Yucatán",null,97501,31,97501,null,9,27,705,"Rural"]
[{"$f":"IF(C143037=base!$AC$2,ROW()+1,\"\")","v":{"$error":"#REF!"}},{"$f":"IF(C143037=base!$W$2,ROW()+1,\"\")","v":{"$error":"#REF!"}},97630,"Sucila","Pueblo","Sucilá","Yucatán",null,97701,31,97701,null,28,70,390,"Rural"]
[{"$f":"IF(C143075=base!$AC$2,ROW()+1,\"\")","v":{"$error":"#REF!"}},{"$f":"IF(C143075=base!$W$2,ROW()+1,\"\")","v":{"$error":"#REF!"}},97654,"Kankabchen","Pueblo","Tunkás","Yucatán",null,97541,31,97541,null,28,97,1610,"Rural"]
[{"$f":"IF(C143195=base!$AC$2,ROW()+1,\"\")","v":{"$error":"#REF!"}},{"$f":"IF(C143195=base!$W$2,ROW()+1,\"\")","v":{"$error":"#REF!"}},97713,"Santa Isabel","Pueblo","Tizimín","Yucatán",null,97701,31,97701,null,28,96,1541,"Rural"]
[{"$f":"IF(C143228=base!$AC$2,ROW()+1,\"\")","v":{"$error":"#REF!"}},{"$f":"IF(C143228=base!$W$2,ROW()+1,\"\")","v":{"$error":"#REF!"}},97716,"San José Montecristo","Pueblo","Tizimín","Yucatán",null,97701,31,97701,null,28,96,1591,"Rural"]
[{"$f":"IF(C143273=base!$AC$2,ROW()+1,\"\")","v":{"$error":"#REF!"}},{"$f":"IF(C143273=base!$W$2,ROW()+1,\"\")","v":{"$error":"#REF!"}},97750,"Tinum","Pueblo","Tinum","Yucatán",null,97781,31,97781,null,28,91,440,"Rural"]
[{"$f":"IF(C143381=base!$AC$2,ROW()+1,\"\")","v":{"$error":"#REF!"}},{"$f":"IF(C143381=base!$W$2,ROW()+1,\"\")","v":{"$error":"#REF!"}},97782,"Los Cipreses","Fraccionamiento","Valladolid","Yucatán","Valladolid",97781,31,97781,null,21,102,4,"Urbano",5]
[{"$f":"IF(C143431=base!$AC$2,ROW()+1,\"\")","v":{"$error":"#REF!"}},{"$f":"IF(C143431=base!$W$2,ROW()+1,\"\")","v":{"$error":"#REF!"}},97793,"Tahmuy","Pueblo","Valladolid","Yucatán",null,97781,31,97781,null,28,102,1657,"Rural"]
[{"$f":"IF(C143494=base!$AC$2,ROW()+1,\"\")","v":{"$error":"#REF!"}},{"$f":"IF(C143494=base!$W$2,ROW()+1,\"\")","v":{"$error":"#REF!"}},97823,"Pixyah","Pueblo","Tecoh","Yucatán",null,97161,31,97161,null,28,76,1425,"Rural"]
[{"$f":"IF(C143589=base!$AC$2,ROW()+1,\"\")","v":{"$error":"#REF!"}},{"$f":"IF(C143589=base!$W$2,ROW()+1,\"\")","v":{"$error":"#REF!"}},97896,"U.A. Lázaro Cárdenas","Ejido","Santa Elena","Yucatán",null,97841,31,97841,null,15,66,1385,"Rural"]
[{"$f":"IF(C143647=base!$AC$2,ROW()+1,\"\")","v":{"$error":"#REF!"}},{"$f":"IF(C143647=base!$W$2,ROW()+1,\"\")","v":{"$error":"#REF!"}},97934,"San Pedro","Pueblo","Peto","Yucatán",null,97931,31,97931,null,28,58,1349,"Rural"]
[{"$f":"IF(C143747=base!$AC$2,ROW()+1,\"\")","v":{"$error":"#REF!"}},{"$f":"IF(C143747=base!$W$2,ROW()+1,\"\")","v":{"$error":"#REF!"}},97970,"Los Cedros","Fraccionamiento","Tekax","Yucatán",null,97972,31,97972,null,21,79,1,"Urbano"]
[{"$f":"IF(C143800=base!$AC$2,ROW()+1,\"\")","v":{"$error":"#REF!"}},{"$f":"IF(C143800=base!$W$2,ROW()+1,\"\")","v":{"$error":"#REF!"}},98019,"Pedro Ruiz González INFONAVIT","Unidad habitacional","Zacatecas","Zacatecas","Zacatecas",98001,32,98001,null,31,56,13,"Urbano",3]
[{"$f":"IF(C143896=base!$AC$2,ROW()+1,\"\")","v":{"$error":"#REF!"}},{"$f":"IF(C143896=base!$W$2,ROW()+1,\"\")","v":{"$error":"#REF!"}},98077,"Las Cumbres","Colonia","Zacatecas","Zacatecas","Zacatecas",98001,32,98001,null,9,56,758,"Urbano",3]
[{"$f":"IF(C143953=base!$AC$2,ROW()+1,\"\")","v":{"$error":"#REF!"}},{"$f":"IF(C143953=base!$W$2,ROW()+1,\"\")","v":{"$error":"#REF!"}},98097,"Médicos Veterinarios","Fraccionamiento","Zacatecas","Zacatecas","Zacatecas",98061,32,98061,null,21,56,96,"Urbano",3]
[{"$f":"IF(C143983=base!$AC$2,ROW()+1,\"\")","v":{"$error":"#REF!"}},{"$f":"IF(C143983=base!$W$2,ROW()+1,\"\")","v":{"$error":"#REF!"}},98160,"Las Boquillas","Poblado comunal","Zacatecas","Zacatecas",null,98001,32,98001,null,27,56,1521,"Rural"]
[{"$f":"IF(C144066=base!$AC$2,ROW()+1,\"\")","v":{"$error":"#REF!"}},{"$f":"IF(C144066=base!$W$2,ROW()+1,\"\")","v":{"$error":"#REF!"}},98290,"Tanque Nuevo","Ejido","El Salvador","Zacatecas",null,25001,32,25001,null,15,41,167,"Rural"]
[{"$f":"IF(C144141=base!$AC$2,ROW()+1,\"\")","v":{"$error":"#REF!"}},{"$f":"IF(C144141=base!$W$2,ROW()+1,\"\")","v":{"$error":"#REF!"}},98422,"Buenos Aires","Colonia","Río Grande","Zacatecas","Río Grande",98421,32,98421,null,9,39,830,"Semiurbano",5]
[{"$f":"IF(C144219=base!$AC$2,ROW()+1,\"\")","v":{"$error":"#REF!"}},{"$f":"IF(C144219=base!$W$2,ROW()+1,\"\")","v":{"$error":"#REF!"}},98502,"San Francisco","Fraccionamiento","Calera","Zacatecas","Víctor Rosales",98501,32,98501,null,21,5,967,"Semiurbano",12]
[{"$f":"IF(C144299=base!$AC$2,ROW()+1,\"\")","v":{"$error":"#REF!"}},{"$f":"IF(C144299=base!$W$2,ROW()+1,\"\")","v":{"$error":"#REF!"}},98605,"Doroteo Arango","Colonia","Guadalupe","Zacatecas","Guadalupe",98601,32,98601,null,9,17,1631,"Semiurbano",4]
[{"$f":"IF(C144372=base!$AC$2,ROW()+1,\"\")","v":{"$error":"#REF!"}},{"$f":"IF(C144372=base!$W$2,ROW()+1,\"\")","v":{"$error":"#REF!"}},98610,"Los Prados","Colonia","Guadalupe","Zacatecas","Guadalupe",98601,32,98601,null,9,17,1250,"Semiurbano",4]
[{"$f":"IF(C144448=base!$AC$2,ROW()+1,\"\")","v":{"$error":"#REF!"}},{"$f":"IF(C144448=base!$W$2,ROW()+1,\"\")","v":{"$error":"#REF!"}},98613,"Villas Del Monasterio","Colonia","Guadalupe","Zacatecas","Guadalupe",98601,32,98601,null,9,17,1458,"Semiurbano",4]
[{"$f":"IF(C144525=base!$AC$2,ROW()+1,\"\")","v":{"$error":"#REF!"}},{"$f":"IF(C144525=base!$W$2,ROW()+1,\"\")","v":{"$error":"#REF!"}},98631,"La Luz","Ranchería","Guadalupe","Zacatecas",null,98601,32,98601,null,29,17,319,"Rural"]
[{"$f":"IF(C144606=base!$AC$2,ROW()+1,\"\")","v":{"$error":"#REF!"}},{"$f":"IF(C144606=base!$W$2,ROW()+1,\"\")","v":{"$error":"#REF!"}},98715,"Real Bastidas","Colonia","Ojocaliente","Zacatecas","Ojocaliente",98711,32,98711,null,9,36,883,"Semiurbano",7]
[{"$f":"IF(C144678=base!$AC$2,ROW()+1,\"\")","v":{"$error":"#REF!"}},{"$f":"IF(C144678=base!$W$2,ROW()+1,\"\")","v":{"$error":"#REF!"}},98776,"San Francisco II","Fraccionamiento","Luis Moya","Zacatecas","Luis Moya",98771,32,98771,null,21,25,1016,"Rural",14]
[{"$f":"IF(C144764=base!$AC$2,ROW()+1,\"\")","v":{"$error":"#REF!"}},{"$f":"IF(C144764=base!$W$2,ROW()+1,\"\")","v":{"$error":"#REF!"}},98921,"La Victoria","Pueblo","Pinos","Zacatecas",null,98923,32,98923,null,28,38,394,"Rural"]
[{"$f":"IF(C144791=base!$AC$2,ROW()+1,\"\")","v":{"$error":"#REF!"}},{"$f":"IF(C144791=base!$W$2,ROW()+1,\"\")","v":{"$error":"#REF!"}},98969,"San Martin","Congregación","Pinos","Zacatecas",null,98923,32,98923,null,11,38,417,"Rural"]
[{"$f":"IF(C144851=base!$AC$2,ROW()+1,\"\")","v":{"$error":"#REF!"}},{"$f":"IF(C144851=base!$W$2,ROW()+1,\"\")","v":{"$error":"#REF!"}},99054,"Las Haciendas","Fraccionamiento","Fresnillo","Zacatecas","Fresnillo",99001,32,99001,null,21,10,794,"Urbano",1]
[{"$f":"IF(C144944=base!$AC$2,ROW()+1,\"\")","v":{"$error":"#REF!"}},{"$f":"IF(C144944=base!$W$2,ROW()+1,\"\")","v":{"$error":"#REF!"}},99120,"Lo de Mena","Estación","Sombrerete","Zacatecas",null,99101,32,99101,null,16,42,480,"Rural"]
[{"$f":"IF(C144984=base!$AC$2,ROW()+1,\"\")","v":{"$error":"#REF!"}},{"$f":"IF(C144984=base!$W$2,ROW()+1,\"\")","v":{"$error":"#REF!"}},99160,"La Casita","Ranchería","Fresnillo","Zacatecas",null,99001,32,99001,null,29,10,518,"Rural"]
[{"$f":"IF(C144985=base!$AC$2,ROW()+1,\"\")","v":{"$error":"#REF!"}},{"$f":"IF(C144985=base!$W$2,ROW()+1,\"\")","v":{"$error":"#REF!"}},99160,"El Centro","Hacienda","Fresnillo","Zacatecas",null,99001,32,99001,null,24,10,516,"Rural"]
[{"$f":"IF(C144986=base!$AC$2,ROW()+1,\"\")","v":{"$error":"#REF!"}},{"$f":"IF(C144986=base!$W$2,ROW()+1,\"\")","v":{"$error":"#REF!"}},99160,"Vasco de Quiroga","Ranchería","Fresnillo","Zacatecas",null,99001,32,99001,null,29,10,4,"Rural"]
[{"$f":"IF(C144987=base!$AC$2,ROW()+1,\"\")","v":{"$error":"#REF!"}},{"$f":"IF(C144987=base!$W$2,ROW()+1,\"\")","v":{"$error":"#REF!"}},99170,"Baluarte","Ranchería","Fresnillo","Zacatecas",null,99001,32,99001,null,29,10,520,"Rural"]
[{"$f":"IF(C144988=base!$AC$2,ROW()+1,\"\")","v":{"$error":"#REF!"}},{"$f":"IF(C144988=base!$W$2,ROW()+1,\"\")","v":{"$error":"#REF!"}},99170,"Montemariana (Colonia Mariana)","Pueblo","Fresnillo","Zacatecas",null,99001,32,99001,null,28,10,522,"Rural"]
[{"$f":"IF(C144989=base!$AC$2,ROW()+1,\"\")","v":{"$error":"#REF!"}},{"$f":"IF(C144989=base!$W$2,ROW()+1,\"\")","v":{"$error":"#REF!"}},99170,"6 de Enero","Ranchería","Fresnillo","Zacatecas",null,99001,32,99001,null,29,10,524,"Rural"]
[{"$f":"IF(C144990=base!$AC$2,ROW()+1,\"\")","v":{"$error":"#REF!"}},{"$f":"IF(C144990=base!$W$2,ROW()+1,\"\")","v":{"$error":"#REF!"}},99170,"Jose Maria Morelos","Ranchería","Fresnillo","Zacatecas",null,99001,32,99001,null,29,10,521,"Rural"]
[{"$f":"IF(C144991=base!$AC$2,ROW()+1,\"\")","v":{"$error":"#REF!"}},{"$f":"IF(C144991=base!$W$2,ROW()+1,\"\")","v":{"$error":"#REF!"}},99170,"Rio Florido","Ranchería","Fresnillo","Zacatecas",null,99001,32,99001,null,29,10,523,"Rural"]
[{"$f":"IF(C144992=base!$AC$2,ROW()+1,\"\")","v":{"$error":"#REF!"}},{"$f":"IF(C144992=base!$W$2,ROW()+1,\"\")","v":{"$error":"#REF!"}},99170,"San Ignacio","Ranchería","Fresnillo","Zacatecas",null,99001,32,99001,null,29,10,1292,"Rural"]
[{"$f":"IF(C144993=base!$AC$2,ROW()+1,\"\")","v":{"$error":"#REF!"}},{"$f":"IF(C144993=base!$W$2,ROW()+1,\"\")","v":{"$error":"#REF!"}},99178,"Plenitud","Pueblo","Fresnillo","Zacatecas",null,99001,32,99001,null,28,10,525,"Rural"]
[{"$f":"IF(C144994=base!$AC$2,ROW()+1,\"\")","v":{"$error":"#REF!"}},{"$f":"IF(C144994=base!$W$2,ROW()+1,\"\")","v":{"$error":"#REF!"}},99178,"Los Álamos","Ranchería","Fresnillo","Zacatecas",null,99001,32,99001,null,29,10,1645,"Rural"]
[{"$f":"IF(C144995=base!$AC$2,ROW()+1,\"\")","v":{"$error":"#REF!"}},{"$f":"IF(C144995=base!$W$2,ROW()+1,\"\")","v":{"$error":"#REF!"}},99178,"San Vicente de Plenitud (San Vicente)","Ranchería","Fresnillo","Zacatecas",null,99001,32,99001,null,29,10,526,"Rural"]
[{"$f":"IF(C144996=base!$AC$2,ROW()+1,\"\")","v":{"$error":"#REF!"}},{"$f":"IF(C144996=base!$W$2,ROW()+1,\"\")","v":{"$error":"#REF!"}},99179,"Tapias de Santa Cruz","Ranchería","Fresnillo","Zacatecas",null,99001,32,99001,null,29,10,528,"Rural"]
[{"$f":"IF(C144997=base!$AC$2,ROW()+1,\"\")","v":{"$error":"#REF!"}},{"$f":"IF(C144997=base!$W$2,ROW()+1,\"\")","v":{"$error":"#REF!"}},99179,"El Salto","Ranchería","Fresnillo","Zacatecas",null,99001,32,99001,null,29,10,527,"Rural"]
[{"$f":"IF(C144998=base!$AC$2,ROW()+1,\"\")","v":{"$error":"#REF!"}},{"$f":"IF(C144998=base!$W$2,ROW()+1,\"\")","v":{"$error":"#REF!"}},99179,"El Epazote","Ranchería","Fresnillo","Zacatecas",null,99001,32,99001,null,29,10,820,"Rural"]
[{"$f":"IF(C144999=base!$AC$2,ROW()+1,\"\")","v":{"$error":"#REF!"}},{"$f":"IF(C144999=base!$W$2,ROW()+1,\"\")","v":{"$error":"#REF!"}},99180,"Gutiérrez","Estación","Fresnillo","Zacatecas",null,99001,32,99001,null,16,10,529,"Rural"]
[{"$f":"IF(C145000=base!$AC$2,ROW()+1,\"\")","v":{"$error":"#REF!"}},{"$f":"IF(C145000=base!$W$2,ROW()+1,\"\")","v":{"$error":"#REF!"}},99182,"El Mezquite (Gumercindo Martínez Rodríguez)","Ranchería","Fresnillo","Zacatecas",null,99001,32,99001,null,29,10,531,"Rural"]
[{"$f":"IF(C145001=base!$AC$2,ROW()+1,\"\")","v":{"$error":"#REF!"}},{"$f":"IF(C145001=base!$W$2,ROW()+1,\"\")","v":{"$error":"#REF!"}},99188,"Altamira","Ranchería","Fresnillo","Zacatecas",null,99001,32,99001,null,29,10,532,"Rural"]
[{"$f":"IF(C145002=base!$AC$2,ROW()+1,\"\")","v":{"$error":"#REF!"}},{"$f":"IF(C145002=base!$W$2,ROW()+1,\"\")","v":{"$error":"#REF!"}},99188,"San Pablo de Rancho Grande","Ranchería","Fresnillo","Zacatecas",null,99001,32,99001,null,29,10,534,"Rural"]
[{"$f":"IF(C145003=base!$AC$2,ROW()+1,\"\")","v":{"$error":"#REF!"}},{"$f":"IF(C145003=base!$W$2,ROW()+1,\"\")","v":{"$error":"#REF!"}},99188,"Rancho Grande","Hacienda","Fresnillo","Zacatecas",null,99001,32,99001,null,24,10,533,"Rural"]
[{"$f":"IF(C145004=base!$AC$2,ROW()+1,\"\")","v":{"$error":"#REF!"}},{"$f":"IF(C145004=base!$W$2,ROW()+1,\"\")","v":{"$error":"#REF!"}},99189,"San Jose de Lourdes","Ranchería","Fresnillo","Zacatecas",null,99001,32,99001,null,29,10,535,"Rural"]
[{"$f":"IF(C145005=base!$AC$2,ROW()+1,\"\")","v":{"$error":"#REF!"}},{"$f":"IF(C145005=base!$W$2,ROW()+1,\"\")","v":{"$error":"#REF!"}},99190,"Guadalupe de Trujillo","Ranchería","Fresnillo","Zacatecas",null,99001,32,99001,null,29,10,537,"Rural"]
[{"$f":"IF(C145006=base!$AC$2,ROW()+1,\"\")","v":{"$error":"#REF!"}},{"$f":"IF(C145006=base!$W$2,ROW()+1,\"\")","v":{"$error":"#REF!"}},99190,"Matías Ramos","Ranchería","Fresnillo","Zacatecas",null,99001,32,99001,null,29,10,539,"Rural"]
[{"$f":"IF(C145007=base!$AC$2,ROW()+1,\"\")","v":{"$error":"#REF!"}},{"$f":"IF(C145007=base!$W$2,ROW()+1,\"\")","v":{"$error":"#REF!"}},99190,"Agrícola Guanajuato","Colonia","Fresnillo","Zacatecas",null,99001,32,99001,null,9,10,536,"Rural"]
[{"$f":"IF(C145008=base!$AC$2,ROW()+1,\"\")","v":{"$error":"#REF!"}},{"$f":"IF(C145008=base!$W$2,ROW()+1,\"\")","v":{"$error":"#REF!"}},99190,"Santa Rosa","Hacienda","Fresnillo","Zacatecas",null,99001,32,99001,null,24,10,541,"Rural"]
[{"$f":"IF(C145009=base!$AC$2,ROW()+1,\"\")","v":{"$error":"#REF!"}},{"$f":"IF(C145009=base!$W$2,ROW()+1,\"\")","v":{"$error":"#REF!"}},99190,"San Isidro de Cabrales","Ranchería","Fresnillo","Zacatecas",null,99001,32,99001,null,29,10,540,"Rural"]
[{"$f":"IF(C145010=base!$AC$2,ROW()+1,\"\")","v":{"$error":"#REF!"}},{"$f":"IF(C145010=base!$W$2,ROW()+1,\"\")","v":{"$error":"#REF!"}},99198,"Labor de Santa Bárbara","Ranchería","Fresnillo","Zacatecas",null,99001,32,99001,null,29,10,542,"Rural"]
[{"$f":"IF(C145011=base!$AC$2,ROW()+1,\"\")","v":{"$error":"#REF!"}},{"$f":"IF(C145011=base!$W$2,ROW()+1,\"\")","v":{"$error":"#REF!"}},99199,"Trujillo","Hacienda","Fresnillo","Zacatecas",null,99001,32,99001,null,24,10,544,"Rural"]
[{"$f":"IF(C145012=base!$AC$2,ROW()+1,\"\")","v":{"$error":"#REF!"}},{"$f":"IF(C145012=base!$W$2,ROW()+1,\"\")","v":{"$error":"#REF!"}},99199,"San Jose Del Rio","Ranchería","Fresnillo","Zacatecas",null,99001,32,99001,null,29,10,543,"Rural"]
[{"$f":"IF(C145013=base!$AC$2,ROW()+1,\"\")","v":{"$error":"#REF!"}},{"$f":"IF(C145013=base!$W$2,ROW()+1,\"\")","v":{"$error":"#REF!"}},99200,"Cruces","Ranchería","Valparaíso","Zacatecas",null,99251,32,99251,null,29,49,546,"Rural"]
[{"$f":"IF(C145014=base!$AC$2,ROW()+1,\"\")","v":{"$error":"#REF!"}},{"$f":"IF(C145014=base!$W$2,ROW()+1,\"\")","v":{"$error":"#REF!"}},99200,"El Resbalón","Ranchería","Valparaíso","Zacatecas",null,99251,32,99251,null,29,49,1307,"Rural"]
[{"$f":"IF(C145015=base!$AC$2,ROW()+1,\"\")","v":{"$error":"#REF!"}},{"$f":"IF(C145015=base!$W$2,ROW()+1,\"\")","v":{"$error":"#REF!"}},99200,"Capulín de la Sierra","Ranchería","Valparaíso","Zacatecas",null,99251,32,99251,null,29,49,545,"Rural"]
[{"$f":"IF(C145016=base!$AC$2,ROW()+1,\"\")","v":{"$error":"#REF!"}},{"$f":"IF(C145016=base!$W$2,ROW()+1,\"\")","v":{"$error":"#REF!"}},99200,"El Tejujan","Ejido","Valparaíso","Zacatecas",null,99251,32,99251,null,15,49,548,"Rural"]
[{"$f":"IF(C145017=base!$AC$2,ROW()+1,\"\")","v":{"$error":"#REF!"}},{"$f":"IF(C145017=base!$W$2,ROW()+1,\"\")","v":{"$error":"#REF!"}},99200,"El Astillero","Ranchería","Valparaíso","Zacatecas",null,99251,32,99251,null,29,49,547,"Rural"]
[{"$f":"IF(C145018=base!$AC$2,ROW()+1,\"\")","v":{"$error":"#REF!"}},{"$f":"IF(C145018=base!$W$2,ROW()+1,\"\")","v":{"$error":"#REF!"}},99200,"Mimbres","Ejido","Valparaíso","Zacatecas",null,99251,32,99251,null,15,49,549,"Rural"]
[{"$f":"IF(C145019=base!$AC$2,ROW()+1,\"\")","v":{"$error":"#REF!"}},{"$f":"IF(C145019=base!$W$2,ROW()+1,\"\")","v":{"$error":"#REF!"}},99200,"San Miguel","Ejido","Valparaíso","Zacatecas",null,99251,32,99251,null,15,49,550,"Rural"]
[{"$f":"IF(C145020=base!$AC$2,ROW()+1,\"\")","v":{"$error":"#REF!"}},{"$f":"IF(C145020=base!$W$2,ROW()+1,\"\")","v":{"$error":"#REF!"}},99200,"Trojes","Ranchería","Valparaíso","Zacatecas",null,99251,32,99251,null,29,49,551,"Rural"]
[{"$f":"IF(C145021=base!$AC$2,ROW()+1,\"\")","v":{"$error":"#REF!"}},{"$f":"IF(C145021=base!$W$2,ROW()+1,\"\")","v":{"$error":"#REF!"}},99200,"Tejones","Ranchería","Valparaíso","Zacatecas",null,99251,32,99251,null,29,49,1308,"Rural"]
[{"$f":"IF(C145022=base!$AC$2,ROW()+1,\"\")","v":{"$error":"#REF!"}},{"$f":"IF(C145022=base!$W$2,ROW()+1,\"\")","v":{"$error":"#REF!"}},99201,"San Jose Del Vergel","Ranchería","Valparaíso","Zacatecas",null,99251,32,99251,null,29,49,553,"Rural"]
[{"$f":"IF(C145023=base!$AC$2,ROW()+1,\"\")","v":{"$error":"#REF!"}},{"$f":"IF(C145023=base!$W$2,ROW()+1,\"\")","v":{"$error":"#REF!"}},99202,"Vicente Escudero","Ranchería","Valparaíso","Zacatecas",null,99251,32,99251,null,29,49,554,"Rural"]
[{"$f":"IF(C145024=base!$AC$2,ROW()+1,\"\")","v":{"$error":"#REF!"}},{"$f":"IF(C145024=base!$W$2,ROW()+1,\"\")","v":{"$error":"#REF!"}},99203,"Felipe Angeles","Ranchería","Valparaíso","Zacatecas",null,99251,32,99251,null,29,49,555,"Rural"]
[{"$f":"IF(C145025=base!$AC$2,ROW()+1,\"\")","v":{"$error":"#REF!"}},{"$f":"IF(C145025=base!$W$2,ROW()+1,\"\")","v":{"$error":"#REF!"}},99206,"La Pila de Las Oscuras (La Pila)","Ranchería","Valparaíso","Zacatecas",null,99251,32,99251,null,29,49,1683,"Rural"]
[{"$f":"IF(C145026=base!$AC$2,ROW()+1,\"\")","v":{"$error":"#REF!"}},{"$f":"IF(C145026=base!$W$2,ROW()+1,\"\")","v":{"$error":"#REF!"}},99208,"San Antonio de Padua","Pueblo","Valparaíso","Zacatecas",null,99251,32,99251,null,28,49,569,"Rural"]
[{"$f":"IF(C145027=base!$AC$2,ROW()+1,\"\")","v":{"$error":"#REF!"}},{"$f":"IF(C145027=base!$W$2,ROW()+1,\"\")","v":{"$error":"#REF!"}},99209,"Potrero de Gallego","Ejido","Valparaíso","Zacatecas",null,99251,32,99251,null,15,49,557,"Rural"]
[{"$f":"IF(C145028=base!$AC$2,ROW()+1,\"\")","v":{"$error":"#REF!"}},{"$f":"IF(C145028=base!$W$2,ROW()+1,\"\")","v":{"$error":"#REF!"}},99210,"Milpillas de La Sierra","Pueblo","Valparaíso","Zacatecas",null,99001,32,99001,null,28,49,558,"Rural"]
[{"$f":"IF(C145029=base!$AC$2,ROW()+1,\"\")","v":{"$error":"#REF!"}},{"$f":"IF(C145029=base!$W$2,ROW()+1,\"\")","v":{"$error":"#REF!"}},99220,"San Mateo","Pueblo","Valparaíso","Zacatecas",null,99251,32,99251,null,28,49,560,"Rural"]
[{"$f":"IF(C145030=base!$AC$2,ROW()+1,\"\")","v":{"$error":"#REF!"}},{"$f":"IF(C145030=base!$W$2,ROW()+1,\"\")","v":{"$error":"#REF!"}},99220,"Caracoles y Anexas","Ejido","Valparaíso","Zacatecas",null,99251,32,99251,null,15,49,559,"Rural"]
[{"$f":"IF(C145031=base!$AC$2,ROW()+1,\"\")","v":{"$error":"#REF!"}},{"$f":"IF(C145031=base!$W$2,ROW()+1,\"\")","v":{"$error":"#REF!"}},99225,"Peñitas de San Mateo","Ranchería","Valparaíso","Zacatecas",null,99251,32,99251,null,29,49,561,"Rural"]
[{"$f":"IF(C145032=base!$AC$2,ROW()+1,\"\")","v":{"$error":"#REF!"}},{"$f":"IF(C145032=base!$W$2,ROW()+1,\"\")","v":{"$error":"#REF!"}},99230,"Mala Noche","Ranchería","Valparaíso","Zacatecas",null,99251,32,99251,null,29,49,563,"Rural"]
[{"$f":"IF(C145033=base!$AC$2,ROW()+1,\"\")","v":{"$error":"#REF!"}},{"$f":"IF(C145033=base!$W$2,ROW()+1,\"\")","v":{"$error":"#REF!"}},99230,"Lobatos","Ranchería","Valparaíso","Zacatecas",null,99251,32,99251,null,29,49,562,"Rural"]
[{"$f":"IF(C145034=base!$AC$2,ROW()+1,\"\")","v":{"$error":"#REF!"}},{"$f":"IF(C145034=base!$W$2,ROW()+1,\"\")","v":{"$error":"#REF!"}},99231,"Xoconoxtle","Ranchería","Valparaíso","Zacatecas",null,99251,32,99251,null,29,49,564,"Rural"]
[{"$f":"IF(C145035=base!$AC$2,ROW()+1,\"\")","v":{"$error":"#REF!"}},{"$f":"IF(C145035=base!$W$2,ROW()+1,\"\")","v":{"$error":"#REF!"}},99237,"Cueva Grande","Ejido","Valparaíso","Zacatecas",null,99251,32,99251,null,15,49,565,"Rural"]
[{"$f":"IF(C145036=base!$AC$2,ROW()+1,\"\")","v":{"$error":"#REF!"}},{"$f":"IF(C145036=base!$W$2,ROW()+1,\"\")","v":{"$error":"#REF!"}},99238,"Boquilla del Refugio","Ranchería","Valparaíso","Zacatecas",null,99251,32,99251,null,29,49,566,"Rural"]
[{"$f":"IF(C145037=base!$AC$2,ROW()+1,\"\")","v":{"$error":"#REF!"}},{"$f":"IF(C145037=base!$W$2,ROW()+1,\"\")","v":{"$error":"#REF!"}},99239,"San Jose de Llanetes","Ejido","Valparaíso","Zacatecas",null,99251,32,99251,null,15,49,567,"Rural"]
[{"$f":"IF(C145038=base!$AC$2,ROW()+1,\"\")","v":{"$error":"#REF!"}},{"$f":"IF(C145038=base!$W$2,ROW()+1,\"\")","v":{"$error":"#REF!"}},99240,"San Juan Capistrano","Ejido","Valparaíso","Zacatecas",null,99251,32,99251,null,15,49,568,"Rural"]
[{"$f":"IF(C145039=base!$AC$2,ROW()+1,\"\")","v":{"$error":"#REF!"}},{"$f":"IF(C145039=base!$W$2,ROW()+1,\"\")","v":{"$error":"#REF!"}},99250,"Valparaíso Centro","Colonia","Valparaíso","Zacatecas","Valparaíso",99251,32,99251,null,9,49,552,"Semiurbano",13]
[{"$f":"IF(C145040=base!$AC$2,ROW()+1,\"\")","v":{"$error":"#REF!"}},{"$f":"IF(C145040=base!$W$2,ROW()+1,\"\")","v":{"$error":"#REF!"}},99252,"La Viña","Colonia","Valparaíso","Zacatecas","Valparaíso",99251,32,99251,null,9,49,990,"Semiurbano",13]
[{"$f":"IF(C145041=base!$AC$2,ROW()+1,\"\")","v":{"$error":"#REF!"}},{"$f":"IF(C145041=base!$W$2,ROW()+1,\"\")","v":{"$error":"#REF!"}},99252,"La Lagunilla","Fraccionamiento","Valparaíso","Zacatecas","Valparaíso",99251,32,99251,null,21,49,1010,"Semiurbano",13]
[{"$f":"IF(C145042=base!$AC$2,ROW()+1,\"\")","v":{"$error":"#REF!"}},{"$f":"IF(C145042=base!$W$2,ROW()+1,\"\")","v":{"$error":"#REF!"}},99252,"Santo Domingo","Fraccionamiento","Valparaíso","Zacatecas","Valparaíso",99251,32,99251,null,21,49,1001,"Semiurbano",13]
[{"$f":"IF(C145043=base!$AC$2,ROW()+1,\"\")","v":{"$error":"#REF!"}},{"$f":"IF(C145043=base!$W$2,ROW()+1,\"\")","v":{"$error":"#REF!"}},99252,"Las Rosas","Colonia","Valparaíso","Zacatecas","Valparaíso",99251,32,99251,null,9,49,1019,"Semiurbano",13]
[{"$f":"IF(C145044=base!$AC$2,ROW()+1,\"\")","v":{"$error":"#REF!"}},{"$f":"IF(C145044=base!$W$2,ROW()+1,\"\")","v":{"$error":"#REF!"}},99253,"Agua Fría","Colonia","Valparaíso","Zacatecas","Valparaíso",99251,32,99251,null,9,49,982,"Urbano",13]
[{"$f":"IF(C145045=base!$AC$2,ROW()+1,\"\")","v":{"$error":"#REF!"}},{"$f":"IF(C145045=base!$W$2,ROW()+1,\"\")","v":{"$error":"#REF!"}},99253,"Simon Bolívar","Colonia","Valparaíso","Zacatecas","Valparaíso",99251,32,99251,null,9,49,1003,"Semiurbano",13]
[{"$f":"IF(C145046=base!$AC$2,ROW()+1,\"\")","v":{"$error":"#REF!"}},{"$f":"IF(C145046=base!$W$2,ROW()+1,\"\")","v":{"$error":"#REF!"}},99253,"La Joyita","Barrio","Valparaíso","Zacatecas","Valparaíso",99251,32,99251,null,2,49,989,"Semiurbano",13]
[{"$f":"IF(C145047=base!$AC$2,ROW()+1,\"\")","v":{"$error":"#REF!"}},{"$f":"IF(C145047=base!$W$2,ROW()+1,\"\")","v":{"$error":"#REF!"}},99253,"Ameca","Barrio","Valparaíso","Zacatecas","Valparaíso",99251,32,99251,null,2,49,981,"Semiurbano",13]
[{"$f":"IF(C145048=base!$AC$2,ROW()+1,\"\")","v":{"$error":"#REF!"}},{"$f":"IF(C145048=base!$W$2,ROW()+1,\"\")","v":{"$error":"#REF!"}},99253,"El Panalito","Barrio","Valparaíso","Zacatecas","Valparaíso",99251,32,99251,null,2,49,986,"Semiurbano",13]
[{"$f":"IF(C145049=base!$AC$2,ROW()+1,\"\")","v":{"$error":"#REF!"}},{"$f":"IF(C145049=base!$W$2,ROW()+1,\"\")","v":{"$error":"#REF!"}},99254,"Lomas Del Valle","Colonia","Valparaíso","Zacatecas","Valparaíso",99251,32,99251,null,9,49,992,"Semiurbano",13]
[{"$f":"IF(C145050=base!$AC$2,ROW()+1,\"\")","v":{"$error":"#REF!"}},{"$f":"IF(C145050=base!$W$2,ROW()+1,\"\")","v":{"$error":"#REF!"}},99254,"Ranchito de La Cruz","Barrio","Valparaíso","Zacatecas","Valparaíso",99251,32,99251,null,2,49,998,"Semiurbano",13]
[{"$f":"IF(C145051=base!$AC$2,ROW()+1,\"\")","v":{"$error":"#REF!"}},{"$f":"IF(C145051=base!$W$2,ROW()+1,\"\")","v":{"$error":"#REF!"}},99254,"Los Guerreros","Colonia","Valparaíso","Zacatecas","Valparaíso",99251,32,99251,null,9,49,2,"Urbano",13]
[{"$f":"IF(C145052=base!$AC$2,ROW()+1,\"\")","v":{"$error":"#REF!"}},{"$f":"IF(C145052=base!$W$2,ROW()+1,\"\")","v":{"$error":"#REF!"}},99254,"Magisterial","Fraccionamiento","Valparaíso","Zacatecas","Valparaíso",99251,32,99251,null,21,49,993,"Semiurbano",13]
[{"$f":"IF(C145053=base!$AC$2,ROW()+1,\"\")","v":{"$error":"#REF!"}},{"$f":"IF(C145053=base!$W$2,ROW()+1,\"\")","v":{"$error":"#REF!"}},99254,"Alameda","Barrio","Valparaíso","Zacatecas","Valparaíso",99251,32,99251,null,2,49,980,"Semiurbano",13]
[{"$f":"IF(C145054=base!$AC$2,ROW()+1,\"\")","v":{"$error":"#REF!"}},{"$f":"IF(C145054=base!$W$2,ROW()+1,\"\")","v":{"$error":"#REF!"}},99254,"Francisco I Madero","Colonia","Valparaíso","Zacatecas","Valparaíso",99251,32,99251,null,9,49,994,"Semiurbano",13]
[{"$f":"IF(C145055=base!$AC$2,ROW()+1,\"\")","v":{"$error":"#REF!"}},{"$f":"IF(C145055=base!$W$2,ROW()+1,\"\")","v":{"$error":"#REF!"}},99254,"Mesita Del Valle","Colonia","Valparaíso","Zacatecas","Valparaíso",99251,32,99251,null,9,49,1305,"Semiurbano",13]
[{"$f":"IF(C145056=base!$AC$2,ROW()+1,\"\")","v":{"$error":"#REF!"}},{"$f":"IF(C145056=base!$W$2,ROW()+1,\"\")","v":{"$error":"#REF!"}},99254,"El Lago","Colonia","Valparaíso","Zacatecas","Valparaíso",99251,32,99251,null,9,49,987,"Semiurbano",13]
[{"$f":"IF(C145057=base!$AC$2,ROW()+1,\"\")","v":{"$error":"#REF!"}},{"$f":"IF(C145057=base!$W$2,ROW()+1,\"\")","v":{"$error":"#REF!"}},99255,"Ranchito Del Tanque","Barrio","Valparaíso","Zacatecas","Valparaíso",99251,32,99251,null,2,49,999,"Semiurbano",13]
[{"$f":"IF(C145058=base!$AC$2,ROW()+1,\"\")","v":{"$error":"#REF!"}},{"$f":"IF(C145058=base!$W$2,ROW()+1,\"\")","v":{"$error":"#REF!"}},99255,"Los Nogales","Fraccionamiento","Valparaíso","Zacatecas","Valparaíso",99251,32,99251,null,21,49,997,"Semiurbano",13]
[{"$f":"IF(C145059=base!$AC$2,ROW()+1,\"\")","v":{"$error":"#REF!"}},{"$f":"IF(C145059=base!$W$2,ROW()+1,\"\")","v":{"$error":"#REF!"}},99256,"Del Refugio","Barrio","Valparaíso","Zacatecas","Valparaíso",99251,32,99251,null,2,49,1005,"Semiurbano",13]
[{"$f":"IF(C145060=base!$AC$2,ROW()+1,\"\")","v":{"$error":"#REF!"}},{"$f":"IF(C145060=base!$W$2,ROW()+1,\"\")","v":{"$error":"#REF!"}},99256,"Puerta de Cadena Del Sur","Barrio","Valparaíso","Zacatecas","Valparaíso",99251,32,99251,null,2,49,1007,"Semiurbano",13]
[{"$f":"IF(C145061=base!$AC$2,ROW()+1,\"\")","v":{"$error":"#REF!"}},{"$f":"IF(C145061=base!$W$2,ROW()+1,\"\")","v":{"$error":"#REF!"}},99256,"La Lentejita","Barrio","Valparaíso","Zacatecas","Valparaíso",99251,32,99251,null,2,49,1006,"Urbano",13]
[{"$f":"IF(C145062=base!$AC$2,ROW()+1,\"\")","v":{"$error":"#REF!"}},{"$f":"IF(C145062=base!$W$2,ROW()+1,\"\")","v":{"$error":"#REF!"}},99257,"Mauro Talamantes","Fraccionamiento","Valparaíso","Zacatecas","Valparaíso",99251,32,99251,null,21,49,996,"Semiurbano",13]
[{"$f":"IF(C145063=base!$AC$2,ROW()+1,\"\")","v":{"$error":"#REF!"}},{"$f":"IF(C145063=base!$W$2,ROW()+1,\"\")","v":{"$error":"#REF!"}},99257,"Bellavista","Colonia","Valparaíso","Zacatecas","Valparaíso",99251,32,99251,null,9,49,1004,"Urbano",13]
[{"$f":"IF(C145064=base!$AC$2,ROW()+1,\"\")","v":{"$error":"#REF!"}},{"$f":"IF(C145064=base!$W$2,ROW()+1,\"\")","v":{"$error":"#REF!"}},99257,"Buenavista","Fraccionamiento","Valparaíso","Zacatecas","Valparaíso",99251,32,99251,null,21,49,983,"Semiurbano",13]
[{"$f":"IF(C145065=base!$AC$2,ROW()+1,\"\")","v":{"$error":"#REF!"}},{"$f":"IF(C145065=base!$W$2,ROW()+1,\"\")","v":{"$error":"#REF!"}},99257,"Emiliano Zapata","Colonia","Valparaíso","Zacatecas","Valparaíso",99251,32,99251,null,9,49,1008,"Semiurbano",13]
[{"$f":"IF(C145066=base!$AC$2,ROW()+1,\"\")","v":{"$error":"#REF!"}},{"$f":"IF(C145066=base!$W$2,ROW()+1,\"\")","v":{"$error":"#REF!"}},99257,"México","Colonia","Valparaíso","Zacatecas","Valparaíso",99251,32,99251,null,9,49,995,"Semiurbano",13]
[{"$f":"IF(C145067=base!$AC$2,ROW()+1,\"\")","v":{"$error":"#REF!"}},{"$f":"IF(C145067=base!$W$2,ROW()+1,\"\")","v":{"$error":"#REF!"}},99257,"Sierra Dorada","Fraccionamiento","Valparaíso","Zacatecas","Valparaíso",99251,32,99251,null,21,49,1002,"Semiurbano",13]
[{"$f":"IF(C145068=base!$AC$2,ROW()+1,\"\")","v":{"$error":"#REF!"}},{"$f":"IF(C145068=base!$W$2,ROW()+1,\"\")","v":{"$error":"#REF!"}},99257,"Santa Rita","Colonia","Valparaíso","Zacatecas","Valparaíso",99251,32,99251,null,9,49,1000,"Semiurbano",13]
[{"$f":"IF(C145069=base!$AC$2,ROW()+1,\"\")","v":{"$error":"#REF!"}},{"$f":"IF(C145069=base!$W$2,ROW()+1,\"\")","v":{"$error":"#REF!"}},99257,"Enrique Estrada","Fraccionamiento","Valparaíso","Zacatecas","Valparaíso",99251,32,99251,null,21,49,988,"Semiurbano",13]
[{"$f":"IF(C145070=base!$AC$2,ROW()+1,\"\")","v":{"$error":"#REF!"}},{"$f":"IF(C145070=base!$W$2,ROW()+1,\"\")","v":{"$error":"#REF!"}},99258,"Las Américas","Colonia","Valparaíso","Zacatecas","Valparaíso",99251,32,99251,null,9,49,1306,"Semiurbano",13]
[{"$f":"IF(C145071=base!$AC$2,ROW()+1,\"\")","v":{"$error":"#REF!"}},{"$f":"IF(C145071=base!$W$2,ROW()+1,\"\")","v":{"$error":"#REF!"}},99258,"Cumbres Del Valle","Colonia","Valparaíso","Zacatecas","Valparaíso",99251,32,99251,null,9,49,984,"Semiurbano",13]
[{"$f":"IF(C145072=base!$AC$2,ROW()+1,\"\")","v":{"$error":"#REF!"}},{"$f":"IF(C145072=base!$W$2,ROW()+1,\"\")","v":{"$error":"#REF!"}},99258,"El Pedregal","Fraccionamiento","Valparaíso","Zacatecas","Valparaíso",99251,32,99251,null,21,49,1,"Urbano",13]
[{"$f":"IF(C145073=base!$AC$2,ROW()+1,\"\")","v":{"$error":"#REF!"}},{"$f":"IF(C145073=base!$W$2,ROW()+1,\"\")","v":{"$error":"#REF!"}},99258,"Deportiva","Colonia","Valparaíso","Zacatecas","Valparaíso",99251,32,99251,null,9,49,985,"Semiurbano",13]
[{"$f":"IF(C145074=base!$AC$2,ROW()+1,\"\")","v":{"$error":"#REF!"}},{"$f":"IF(C145074=base!$W$2,ROW()+1,\"\")","v":{"$error":"#REF!"}},99259,"El Vallecito","Fraccionamiento","Valparaíso","Zacatecas","Valparaíso",99251,32,99251,null,21,49,1757,"Urbano",13]
[{"$f":"IF(C145075=base!$AC$2,ROW()+1,\"\")","v":{"$error":"#REF!"}},{"$f":"IF(C145075=base!$W$2,ROW()+1,\"\")","v":{"$error":"#REF!"}},99259,"Atotonilco","Colonia","Valparaíso","Zacatecas","Valparaíso",99251,32,99251,null,9,49,1009,"Urbano",13]
[{"$f":"IF(C145076=base!$AC$2,ROW()+1,\"\")","v":{"$error":"#REF!"}},{"$f":"IF(C145076=base!$W$2,ROW()+1,\"\")","v":{"$error":"#REF!"}},99259,"Lomas Del Paraíso","Colonia","Valparaíso","Zacatecas","Valparaíso",99251,32,99251,null,9,49,991,"Semiurbano",13]
[{"$f":"IF(C145077=base!$AC$2,ROW()+1,\"\")","v":{"$error":"#REF!"}},{"$f":"IF(C145077=base!$W$2,ROW()+1,\"\")","v":{"$error":"#REF!"}},99260,"Colorada","Ranchería","Chalchihuites","Zacatecas",null,99261,32,99261,null,29,9,570,"Rural"]
[{"$f":"IF(C145078=base!$AC$2,ROW()+1,\"\")","v":{"$error":"#REF!"}},{"$f":"IF(C145078=base!$W$2,ROW()+1,\"\")","v":{"$error":"#REF!"}},99260,"Chalchihuites","Ranchería","Chalchihuites","Zacatecas",null,99261,32,99261,null,29,9,571,"Rural"]
[{"$f":"IF(C145079=base!$AC$2,ROW()+1,\"\")","v":{"$error":"#REF!"}},{"$f":"IF(C145079=base!$W$2,ROW()+1,\"\")","v":{"$error":"#REF!"}},99260,"Jose Maria Morelos","Ranchería","Chalchihuites","Zacatecas",null,99261,32,99261,null,29,9,572,"Rural"]
[{"$f":"IF(C145080=base!$AC$2,ROW()+1,\"\")","v":{"$error":"#REF!"}},{"$f":"IF(C145080=base!$W$2,ROW()+1,\"\")","v":{"$error":"#REF!"}},99270,"Canutillo","Estación","Chalchihuites","Zacatecas",null,99261,32,99261,null,16,9,574,"Rural"]
[{"$f":"IF(C145081=base!$AC$2,ROW()+1,\"\")","v":{"$error":"#REF!"}},{"$f":"IF(C145081=base!$W$2,ROW()+1,\"\")","v":{"$error":"#REF!"}},99270,"San Jose de Buenavista","Ejido","Chalchihuites","Zacatecas",null,99261,32,99261,null,15,9,575,"Rural"]
[{"$f":"IF(C145082=base!$AC$2,ROW()+1,\"\")","v":{"$error":"#REF!"}},{"$f":"IF(C145082=base!$W$2,ROW()+1,\"\")","v":{"$error":"#REF!"}},99279,"Gualterio","Estación","Chalchihuites","Zacatecas",null,99261,32,99261,null,16,9,576,"Rural"]
[{"$f":"IF(C145083=base!$AC$2,ROW()+1,\"\")","v":{"$error":"#REF!"}},{"$f":"IF(C145083=base!$W$2,ROW()+1,\"\")","v":{"$error":"#REF!"}},99280,"Jimenez Del Teul","Pueblo","Jiménez del Teul","Zacatecas",null,99261,32,99261,null,28,21,577,"Rural"]
[{"$f":"IF(C145084=base!$AC$2,ROW()+1,\"\")","v":{"$error":"#REF!"}},{"$f":"IF(C145084=base!$W$2,ROW()+1,\"\")","v":{"$error":"#REF!"}},99300,"Jerez Centro","Colonia","Jerez","Zacatecas","Jerez de García Salinas",99301,32,99301,null,9,20,578,"Semiurbano",2]
[{"$f":"IF(C145085=base!$AC$2,ROW()+1,\"\")","v":{"$error":"#REF!"}},{"$f":"IF(C145085=base!$W$2,ROW()+1,\"\")","v":{"$error":"#REF!"}},99300,"Barrio Nuevo","Colonia","Jerez","Zacatecas","Jerez de García Salinas",99301,32,99301,null,9,20,1745,"Urbano",2]
[{"$f":"IF(C145086=base!$AC$2,ROW()+1,\"\")","v":{"$error":"#REF!"}},{"$f":"IF(C145086=base!$W$2,ROW()+1,\"\")","v":{"$error":"#REF!"}},99310,"Guadalupe","Colonia","Jerez","Zacatecas","Jerez de García Salinas",99301,32,99301,null,9,20,580,"Semiurbano",2]
[{"$f":"IF(C145087=base!$AC$2,ROW()+1,\"\")","v":{"$error":"#REF!"}},{"$f":"IF(C145087=base!$W$2,ROW()+1,\"\")","v":{"$error":"#REF!"}},99311,"Magisterial","Colonia","Jerez","Zacatecas","Jerez de García Salinas",99301,32,99301,null,9,20,581,"Semiurbano",2]
[{"$f":"IF(C145088=base!$AC$2,ROW()+1,\"\")","v":{"$error":"#REF!"}},{"$f":"IF(C145088=base!$W$2,ROW()+1,\"\")","v":{"$error":"#REF!"}},99312,"Magisterial III","Fraccionamiento","Jerez","Zacatecas","Jerez de García Salinas",99301,32,99301,null,21,20,1105,"Semiurbano",2]
[{"$f":"IF(C145089=base!$AC$2,ROW()+1,\"\")","v":{"$error":"#REF!"}},{"$f":"IF(C145089=base!$W$2,ROW()+1,\"\")","v":{"$error":"#REF!"}},99312,"CTM","Colonia","Jerez","Zacatecas","Jerez de García Salinas",99301,32,99301,null,9,20,582,"Semiurbano",2]
[{"$f":"IF(C145090=base!$AC$2,ROW()+1,\"\")","v":{"$error":"#REF!"}},{"$f":"IF(C145090=base!$W$2,ROW()+1,\"\")","v":{"$error":"#REF!"}},99312,"El Vergel","Fraccionamiento","Jerez","Zacatecas","Jerez de García Salinas",99301,32,99301,null,21,20,1103,"Semiurbano",2]
[{"$f":"IF(C145091=base!$AC$2,ROW()+1,\"\")","v":{"$error":"#REF!"}},{"$f":"IF(C145091=base!$W$2,ROW()+1,\"\")","v":{"$error":"#REF!"}},99312,"El Durazno","Fraccionamiento","Jerez","Zacatecas","Jerez de García Salinas",99301,32,99301,null,21,20,1104,"Semiurbano",2]
[{"$f":"IF(C145092=base!$AC$2,ROW()+1,\"\")","v":{"$error":"#REF!"}},{"$f":"IF(C145092=base!$W$2,ROW()+1,\"\")","v":{"$error":"#REF!"}},99313,"Olimpia","Fraccionamiento","Jerez","Zacatecas","Jerez de García Salinas",99301,32,99301,null,21,20,1106,"Semiurbano",2]
[{"$f":"IF(C145093=base!$AC$2,ROW()+1,\"\")","v":{"$error":"#REF!"}},{"$f":"IF(C145093=base!$W$2,ROW()+1,\"\")","v":{"$error":"#REF!"}},99313,"Organización Campesina","Ampliación","Jerez","Zacatecas","Jerez de García Salinas",99301,32,99301,null,38,20,584,"Semiurbano",2]
[{"$f":"IF(C145094=base!$AC$2,ROW()+1,\"\")","v":{"$error":"#REF!"}},{"$f":"IF(C145094=base!$W$2,ROW()+1,\"\")","v":{"$error":"#REF!"}},99313,"Jardines de La Victoria","Fraccionamiento","Jerez","Zacatecas","Jerez de García Salinas",99301,32,99301,null,21,20,1514,"Semiurbano",2]
[{"$f":"IF(C145095=base!$AC$2,ROW()+1,\"\")","v":{"$error":"#REF!"}},{"$f":"IF(C145095=base!$W$2,ROW()+1,\"\")","v":{"$error":"#REF!"}},99313,"El Duraznillo","Fraccionamiento","Jerez","Zacatecas","Jerez de García Salinas",99301,32,99301,null,21,20,1515,"Semiurbano",2]
[{"$f":"IF(C145096=base!$AC$2,ROW()+1,\"\")","v":{"$error":"#REF!"}},{"$f":"IF(C145096=base!$W$2,ROW()+1,\"\")","v":{"$error":"#REF!"}},99313,"Organización Campesina","Colonia","Jerez","Zacatecas","Jerez de García Salinas",99301,32,99301,null,9,20,583,"Semiurbano",2]
[{"$f":"IF(C145097=base!$AC$2,ROW()+1,\"\")","v":{"$error":"#REF!"}},{"$f":"IF(C145097=base!$W$2,ROW()+1,\"\")","v":{"$error":"#REF!"}},99314,"Cervantes Corona","Fraccionamiento","Jerez","Zacatecas","Jerez de García Salinas",99301,32,99301,null,21,20,585,"Semiurbano",2]
[{"$f":"IF(C145098=base!$AC$2,ROW()+1,\"\")","v":{"$error":"#REF!"}},{"$f":"IF(C145098=base!$W$2,ROW()+1,\"\")","v":{"$error":"#REF!"}},99315,"Las Palmas","Colonia","Jerez","Zacatecas","Jerez de García Salinas",99301,32,99301,null,9,20,586,"Semiurbano",2]
[{"$f":"IF(C145099=base!$AC$2,ROW()+1,\"\")","v":{"$error":"#REF!"}},{"$f":"IF(C145099=base!$W$2,ROW()+1,\"\")","v":{"$error":"#REF!"}},99316,"Matías Ramos","Colonia","Jerez","Zacatecas","Jerez de García Salinas",99301,32,99301,null,9,20,1357,"Semiurbano",2]
[{"$f":"IF(C145100=base!$AC$2,ROW()+1,\"\")","v":{"$error":"#REF!"}},{"$f":"IF(C145100=base!$W$2,ROW()+1,\"\")","v":{"$error":"#REF!"}},99316,"Patria Nueva","Colonia","Jerez","Zacatecas","Jerez de García Salinas",99301,32,99301,null,9,20,1115,"Semiurbano",2]
[{"$f":"IF(C145101=base!$AC$2,ROW()+1,\"\")","v":{"$error":"#REF!"}},{"$f":"IF(C145101=base!$W$2,ROW()+1,\"\")","v":{"$error":"#REF!"}},99316,"Infonavit El Molino Plan Maestro","Colonia","Jerez","Zacatecas","Jerez de García Salinas",99301,32,99301,null,9,20,1139,"Semiurbano",2]
[{"$f":"IF(C145102=base!$AC$2,ROW()+1,\"\")","v":{"$error":"#REF!"}},{"$f":"IF(C145102=base!$W$2,ROW()+1,\"\")","v":{"$error":"#REF!"}},99316,"Frente Popular Sur","Fraccionamiento","Jerez","Zacatecas","Jerez de García Salinas",99301,32,99301,null,21,20,1350,"Semiurbano",2]
[{"$f":"IF(C145103=base!$AC$2,ROW()+1,\"\")","v":{"$error":"#REF!"}},{"$f":"IF(C145103=base!$W$2,ROW()+1,\"\")","v":{"$error":"#REF!"}},99316,"Ciénega","Colonia","Jerez","Zacatecas","Jerez de García Salinas",99301,32,99301,null,9,20,1542,"Semiurbano",2]
[{"$f":"IF(C145104=base!$AC$2,ROW()+1,\"\")","v":{"$error":"#REF!"}},{"$f":"IF(C145104=base!$W$2,ROW()+1,\"\")","v":{"$error":"#REF!"}},99316,"Frente Popular Norte","Fraccionamiento","Jerez","Zacatecas","Jerez de García Salinas",99301,32,99301,null,21,20,1356,"Semiurbano",2]
[{"$f":"IF(C145105=base!$AC$2,ROW()+1,\"\")","v":{"$error":"#REF!"}},{"$f":"IF(C145105=base!$W$2,ROW()+1,\"\")","v":{"$error":"#REF!"}},99320,"Guadalupe","Fraccionamiento","Jerez","Zacatecas","Jerez de García Salinas",99301,32,99301,null,21,20,1108,"Semiurbano",2]
[{"$f":"IF(C145106=base!$AC$2,ROW()+1,\"\")","v":{"$error":"#REF!"}},{"$f":"IF(C145106=base!$W$2,ROW()+1,\"\")","v":{"$error":"#REF!"}},99320,"Zaragoza","Colonia","Jerez","Zacatecas","Jerez de García Salinas",99301,32,99301,null,9,20,588,"Semiurbano",2]
[{"$f":"IF(C145107=base!$AC$2,ROW()+1,\"\")","v":{"$error":"#REF!"}},{"$f":"IF(C145107=base!$W$2,ROW()+1,\"\")","v":{"$error":"#REF!"}},99320,"Las Huertas","Colonia","Jerez","Zacatecas","Jerez de García Salinas",99301,32,99301,null,9,20,587,"Semiurbano",2]
[{"$f":"IF(C145108=base!$AC$2,ROW()+1,\"\")","v":{"$error":"#REF!"}},{"$f":"IF(C145108=base!$W$2,ROW()+1,\"\")","v":{"$error":"#REF!"}},99322,"Magisterial II","Colonia","Jerez","Zacatecas","Jerez de García Salinas",99301,32,99301,null,9,20,1126,"Semiurbano",2]
[{"$f":"IF(C145109=base!$AC$2,ROW()+1,\"\")","v":{"$error":"#REF!"}},{"$f":"IF(C145109=base!$W$2,ROW()+1,\"\")","v":{"$error":"#REF!"}},99322,"Jerez","Fraccionamiento","Jerez","Zacatecas","Jerez de García Salinas",99301,32,99301,null,21,20,1549,"Semiurbano",2]
[{"$f":"IF(C145110=base!$AC$2,ROW()+1,\"\")","v":{"$error":"#REF!"}},{"$f":"IF(C145110=base!$W$2,ROW()+1,\"\")","v":{"$error":"#REF!"}},99322,"Candelario Huizar","Colonia","Jerez","Zacatecas","Jerez de García Salinas",99301,32,99301,null,9,20,589,"Semiurbano",2]
[{"$f":"IF(C145111=base!$AC$2,ROW()+1,\"\")","v":{"$error":"#REF!"}},{"$f":"IF(C145111=base!$W$2,ROW()+1,\"\")","v":{"$error":"#REF!"}},99323,"Las Américas","Fraccionamiento","Jerez","Zacatecas","Jerez de García Salinas",99301,32,99301,null,21,20,1351,"Semiurbano",2]
[{"$f":"IF(C145112=base!$AC$2,ROW()+1,\"\")","v":{"$error":"#REF!"}},{"$f":"IF(C145112=base!$W$2,ROW()+1,\"\")","v":{"$error":"#REF!"}},99323,"Azteca","Fraccionamiento","Jerez","Zacatecas","Jerez de García Salinas",99301,32,99301,null,21,20,1543,"Semiurbano",2]
[{"$f":"IF(C145113=base!$AC$2,ROW()+1,\"\")","v":{"$error":"#REF!"}},{"$f":"IF(C145113=base!$W$2,ROW()+1,\"\")","v":{"$error":"#REF!"}},99323,"Don Durito","Fraccionamiento","Jerez","Zacatecas","Jerez de García Salinas",99301,32,99301,null,21,20,1545,"Semiurbano",2]
[{"$f":"IF(C145114=base!$AC$2,ROW()+1,\"\")","v":{"$error":"#REF!"}},{"$f":"IF(C145114=base!$W$2,ROW()+1,\"\")","v":{"$error":"#REF!"}},99323,"P.R.D.","Fraccionamiento","Jerez","Zacatecas","Jerez de García Salinas",99301,32,99301,null,21,20,1551,"Semiurbano",2]
[{"$f":"IF(C145115=base!$AC$2,ROW()+1,\"\")","v":{"$error":"#REF!"}},{"$f":"IF(C145115=base!$W$2,ROW()+1,\"\")","v":{"$error":"#REF!"}},99323,"Valle Real","Fraccionamiento","Jerez","Zacatecas","Jerez de García Salinas",99301,32,99301,null,21,20,1552,"Semiurbano",2]
[{"$f":"IF(C145116=base!$AC$2,ROW()+1,\"\")","v":{"$error":"#REF!"}},{"$f":"IF(C145116=base!$W$2,ROW()+1,\"\")","v":{"$error":"#REF!"}},99323,"Deportivo II","Fraccionamiento","Jerez","Zacatecas","Jerez de García Salinas",99301,32,99301,null,21,20,1352,"Semiurbano",2]
[{"$f":"IF(C145117=base!$AC$2,ROW()+1,\"\")","v":{"$error":"#REF!"}},{"$f":"IF(C145117=base!$W$2,ROW()+1,\"\")","v":{"$error":"#REF!"}},99323,"Candelario Huizar","Fraccionamiento","Jerez","Zacatecas","Jerez de García Salinas",99301,32,99301,null,21,20,1544,"Semiurbano",2]
[{"$f":"IF(C145118=base!$AC$2,ROW()+1,\"\")","v":{"$error":"#REF!"}},{"$f":"IF(C145118=base!$W$2,ROW()+1,\"\")","v":{"$error":"#REF!"}},99323,"Villas de San Isidro","Fraccionamiento","Jerez","Zacatecas","Jerez de García Salinas",99301,32,99301,null,21,20,2,"Urbano",2]
[{"$f":"IF(C145119=base!$AC$2,ROW()+1,\"\")","v":{"$error":"#REF!"}},{"$f":"IF(C145119=base!$W$2,ROW()+1,\"\")","v":{"$error":"#REF!"}},99323,"Popular Del Sol","Fraccionamiento","Jerez","Zacatecas","Jerez de García Salinas",99301,32,99301,null,21,20,1353,"Semiurbano",2]
[{"$f":"IF(C145120=base!$AC$2,ROW()+1,\"\")","v":{"$error":"#REF!"}},{"$f":"IF(C145120=base!$W$2,ROW()+1,\"\")","v":{"$error":"#REF!"}},99323,"San Isidro","Colonia","Jerez","Zacatecas","Jerez de García Salinas",99301,32,99301,null,9,20,590,"Semiurbano",2]
[{"$f":"IF(C145121=base!$AC$2,ROW()+1,\"\")","v":{"$error":"#REF!"}},{"$f":"IF(C145121=base!$W$2,ROW()+1,\"\")","v":{"$error":"#REF!"}},99323,"Camino Real","Fraccionamiento","Jerez","Zacatecas","Jerez de García Salinas",99301,32,99301,null,21,20,1354,"Semiurbano",2]
[{"$f":"IF(C145122=base!$AC$2,ROW()+1,\"\")","v":{"$error":"#REF!"}},{"$f":"IF(C145122=base!$W$2,ROW()+1,\"\")","v":{"$error":"#REF!"}},99324,"El Valle","Fraccionamiento","Jerez","Zacatecas","Jerez de García Salinas",99301,32,99301,null,21,20,1129,"Semiurbano",2]
[{"$f":"IF(C145123=base!$AC$2,ROW()+1,\"\")","v":{"$error":"#REF!"}},{"$f":"IF(C145123=base!$W$2,ROW()+1,\"\")","v":{"$error":"#REF!"}},99330,"Nuevo","Colonia","Jerez","Zacatecas","Jerez de García Salinas",99301,32,99301,null,9,20,591,"Semiurbano",2]
[{"$f":"IF(C145124=base!$AC$2,ROW()+1,\"\")","v":{"$error":"#REF!"}},{"$f":"IF(C145124=base!$W$2,ROW()+1,\"\")","v":{"$error":"#REF!"}},99330,"San Pedro","Colonia","Jerez","Zacatecas","Jerez de García Salinas",99301,32,99301,null,9,20,592,"Semiurbano",2]
[{"$f":"IF(C145125=base!$AC$2,ROW()+1,\"\")","v":{"$error":"#REF!"}},{"$f":"IF(C145125=base!$W$2,ROW()+1,\"\")","v":{"$error":"#REF!"}},99340,"Nueva Reforma","Colonia","Jerez","Zacatecas","Jerez de García Salinas",99301,32,99301,null,9,20,594,"Semiurbano",2]
[{"$f":"IF(C145126=base!$AC$2,ROW()+1,\"\")","v":{"$error":"#REF!"}},{"$f":"IF(C145126=base!$W$2,ROW()+1,\"\")","v":{"$error":"#REF!"}},99340,"Banrural","Fraccionamiento","Jerez","Zacatecas","Jerez de García Salinas",99301,32,99301,null,21,20,1130,"Semiurbano",2]
[{"$f":"IF(C145127=base!$AC$2,ROW()+1,\"\")","v":{"$error":"#REF!"}},{"$f":"IF(C145127=base!$W$2,ROW()+1,\"\")","v":{"$error":"#REF!"}},99340,"Lagunita","Colonia","Jerez","Zacatecas","Jerez de García Salinas",99301,32,99301,null,9,20,593,"Semiurbano",2]
[{"$f":"IF(C145128=base!$AC$2,ROW()+1,\"\")","v":{"$error":"#REF!"}},{"$f":"IF(C145128=base!$W$2,ROW()+1,\"\")","v":{"$error":"#REF!"}},99340,"San Francisco","Colonia","Jerez","Zacatecas","Jerez de García Salinas",99301,32,99301,null,9,20,595,"Semiurbano",2]
[{"$f":"IF(C145129=base!$AC$2,ROW()+1,\"\")","v":{"$error":"#REF!"}},{"$f":"IF(C145129=base!$W$2,ROW()+1,\"\")","v":{"$error":"#REF!"}},99340,"Los Sauces","Colonia","Jerez","Zacatecas","Jerez de García Salinas",99301,32,99301,null,9,20,1135,"Semiurbano",2]
[{"$f":"IF(C145130=base!$AC$2,ROW()+1,\"\")","v":{"$error":"#REF!"}},{"$f":"IF(C145130=base!$W$2,ROW()+1,\"\")","v":{"$error":"#REF!"}},99340,"Constituyentes","Colonia","Jerez","Zacatecas","Jerez de García Salinas",99301,32,99301,null,9,20,1355,"Semiurbano",2]
[{"$f":"IF(C145131=base!$AC$2,ROW()+1,\"\")","v":{"$error":"#REF!"}},{"$f":"IF(C145131=base!$W$2,ROW()+1,\"\")","v":{"$error":"#REF!"}},99342,"Villa Flabia","Fraccionamiento","Jerez","Zacatecas","Jerez de García Salinas",99301,32,99301,null,21,20,1131,"Semiurbano",2]
[{"$f":"IF(C145132=base!$AC$2,ROW()+1,\"\")","v":{"$error":"#REF!"}},{"$f":"IF(C145132=base!$W$2,ROW()+1,\"\")","v":{"$error":"#REF!"}},99343,"Artesanos","Colonia","Jerez","Zacatecas","Jerez de García Salinas",99301,32,99301,null,9,20,596,"Semiurbano",2]
[{"$f":"IF(C145133=base!$AC$2,ROW()+1,\"\")","v":{"$error":"#REF!"}},{"$f":"IF(C145133=base!$W$2,ROW()+1,\"\")","v":{"$error":"#REF!"}},99344,"La Cruz","Fraccionamiento","Jerez","Zacatecas","Jerez de García Salinas",99301,32,99301,null,21,20,1134,"Semiurbano",2]
[{"$f":"IF(C145134=base!$AC$2,ROW()+1,\"\")","v":{"$error":"#REF!"}},{"$f":"IF(C145134=base!$W$2,ROW()+1,\"\")","v":{"$error":"#REF!"}},99344,"Infonavit El Cortijo","Fraccionamiento","Jerez","Zacatecas","Jerez de García Salinas",99301,32,99301,null,21,20,1133,"Semiurbano",2]
[{"$f":"IF(C145135=base!$AC$2,ROW()+1,\"\")","v":{"$error":"#REF!"}},{"$f":"IF(C145135=base!$W$2,ROW()+1,\"\")","v":{"$error":"#REF!"}},99344,"Bosques","Fraccionamiento","Jerez","Zacatecas","Jerez de García Salinas",99301,32,99301,null,21,20,1132,"Semiurbano",2]
[{"$f":"IF(C145136=base!$AC$2,ROW()+1,\"\")","v":{"$error":"#REF!"}},{"$f":"IF(C145136=base!$W$2,ROW()+1,\"\")","v":{"$error":"#REF!"}},99350,"Ejido de Ciénega","Fraccionamiento","Jerez","Zacatecas","Jerez de García Salinas",99301,32,99301,null,21,20,1546,"Semiurbano",2]
[{"$f":"IF(C145137=base!$AC$2,ROW()+1,\"\")","v":{"$error":"#REF!"}},{"$f":"IF(C145137=base!$W$2,ROW()+1,\"\")","v":{"$error":"#REF!"}},99350,"Lo de Taura","Fraccionamiento","Jerez","Zacatecas","Jerez de García Salinas",99301,32,99301,null,21,20,1622,"Semiurbano",2]
[{"$f":"IF(C145138=base!$AC$2,ROW()+1,\"\")","v":{"$error":"#REF!"}},{"$f":"IF(C145138=base!$W$2,ROW()+1,\"\")","v":{"$error":"#REF!"}},99350,"Carlos","Colonia","Jerez","Zacatecas","Jerez de García Salinas",99301,32,99301,null,9,20,597,"Semiurbano",2]
[{"$f":"IF(C145139=base!$AC$2,ROW()+1,\"\")","v":{"$error":"#REF!"}},{"$f":"IF(C145139=base!$W$2,ROW()+1,\"\")","v":{"$error":"#REF!"}},99350,"Chulavista","Colonia","Jerez","Zacatecas","Jerez de García Salinas",99301,32,99301,null,9,20,598,"Semiurbano",2]
[{"$f":"IF(C145140=base!$AC$2,ROW()+1,\"\")","v":{"$error":"#REF!"}},{"$f":"IF(C145140=base!$W$2,ROW()+1,\"\")","v":{"$error":"#REF!"}},99350,"Loma Dorada","Colonia","Jerez","Zacatecas","Jerez de García Salinas",99301,32,99301,null,9,20,1107,"Semiurbano",2]
[{"$f":"IF(C145141=base!$AC$2,ROW()+1,\"\")","v":{"$error":"#REF!"}},{"$f":"IF(C145141=base!$W$2,ROW()+1,\"\")","v":{"$error":"#REF!"}},99350,"Unión Santa Cruz","Colonia","Jerez","Zacatecas","Jerez de García Salinas",99301,32,99301,null,9,20,1109,"Semiurbano",2]
[{"$f":"IF(C145142=base!$AC$2,ROW()+1,\"\")","v":{"$error":"#REF!"}},{"$f":"IF(C145142=base!$W$2,ROW()+1,\"\")","v":{"$error":"#REF!"}},99352,"Montecillo","Colonia","Jerez","Zacatecas","Jerez de García Salinas",99301,32,99301,null,9,20,1138,"Rural",2]
[{"$f":"IF(C145143=base!$AC$2,ROW()+1,\"\")","v":{"$error":"#REF!"}},{"$f":"IF(C145143=base!$W$2,ROW()+1,\"\")","v":{"$error":"#REF!"}},99352,"Concepción","Colonia","Jerez","Zacatecas","Jerez de García Salinas",99301,32,99301,null,9,20,1137,"Semiurbano",2]
[{"$f":"IF(C145144=base!$AC$2,ROW()+1,\"\")","v":{"$error":"#REF!"}},{"$f":"IF(C145144=base!$W$2,ROW()+1,\"\")","v":{"$error":"#REF!"}},99353,"El Molino","Fraccionamiento","Jerez","Zacatecas","Jerez de García Salinas",99301,32,99301,null,21,20,1140,"Semiurbano",2]
[{"$f":"IF(C145145=base!$AC$2,ROW()+1,\"\")","v":{"$error":"#REF!"}},{"$f":"IF(C145145=base!$W$2,ROW()+1,\"\")","v":{"$error":"#REF!"}},99353,"Granjas El Molino","Colonia","Jerez","Zacatecas","Jerez de García Salinas",99301,32,99301,null,9,20,1136,"Rural",2]
[{"$f":"IF(C145146=base!$AC$2,ROW()+1,\"\")","v":{"$error":"#REF!"}},{"$f":"IF(C145146=base!$W$2,ROW()+1,\"\")","v":{"$error":"#REF!"}},99360,"Niños Héroes","Colonia","Jerez","Zacatecas","Jerez de García Salinas",99301,32,99301,null,9,20,601,"Semiurbano",2]
[{"$f":"IF(C145147=base!$AC$2,ROW()+1,\"\")","v":{"$error":"#REF!"}},{"$f":"IF(C145147=base!$W$2,ROW()+1,\"\")","v":{"$error":"#REF!"}},99360,"Justo Sierra","Colonia","Jerez","Zacatecas","Jerez de García Salinas",99301,32,99301,null,9,20,600,"Semiurbano",2]
[{"$f":"IF(C145148=base!$AC$2,ROW()+1,\"\")","v":{"$error":"#REF!"}},{"$f":"IF(C145148=base!$W$2,ROW()+1,\"\")","v":{"$error":"#REF!"}},99360,"Las Quintas","Fraccionamiento","Jerez","Zacatecas","Jerez de García Salinas",99301,32,99301,null,21,20,1123,"Semiurbano",2]
[{"$f":"IF(C145149=base!$AC$2,ROW()+1,\"\")","v":{"$error":"#REF!"}},{"$f":"IF(C145149=base!$W$2,ROW()+1,\"\")","v":{"$error":"#REF!"}},99360,"INFONAVIT II","Fraccionamiento","Jerez","Zacatecas","Jerez de García Salinas",99301,32,99301,null,21,20,1547,"Semiurbano",2]
[{"$f":"IF(C145150=base!$AC$2,ROW()+1,\"\")","v":{"$error":"#REF!"}},{"$f":"IF(C145150=base!$W$2,ROW()+1,\"\")","v":{"$error":"#REF!"}},99360,"Alamedas","Fraccionamiento","Jerez","Zacatecas","Jerez de García Salinas",99301,32,99301,null,21,20,599,"Semiurbano",2]
[{"$f":"IF(C145151=base!$AC$2,ROW()+1,\"\")","v":{"$error":"#REF!"}},{"$f":"IF(C145151=base!$W$2,ROW()+1,\"\")","v":{"$error":"#REF!"}},99360,"Real Del Valle","Fraccionamiento","Jerez","Zacatecas","Jerez de García Salinas",99301,32,99301,null,21,20,1121,"Semiurbano",2]
[{"$f":"IF(C145152=base!$AC$2,ROW()+1,\"\")","v":{"$error":"#REF!"}},{"$f":"IF(C145152=base!$W$2,ROW()+1,\"\")","v":{"$error":"#REF!"}},99361,"Alameda Parque","Colonia","Jerez","Zacatecas","Jerez de García Salinas",99301,32,99301,null,9,20,602,"Semiurbano",2]
[{"$f":"IF(C145153=base!$AC$2,ROW()+1,\"\")","v":{"$error":"#REF!"}},{"$f":"IF(C145153=base!$W$2,ROW()+1,\"\")","v":{"$error":"#REF!"}},99362,"Pedregal","Fraccionamiento","Jerez","Zacatecas","Jerez de García Salinas",99301,32,99301,null,21,20,1127,"Semiurbano",2]
[{"$f":"IF(C145154=base!$AC$2,ROW()+1,\"\")","v":{"$error":"#REF!"}},{"$f":"IF(C145154=base!$W$2,ROW()+1,\"\")","v":{"$error":"#REF!"}},99362,"La Noria","Fraccionamiento","Jerez","Zacatecas","Jerez de García Salinas",99301,32,99301,null,21,20,1128,"Semiurbano",2]
[{"$f":"IF(C145155=base!$AC$2,ROW()+1,\"\")","v":{"$error":"#REF!"}},{"$f":"IF(C145155=base!$W$2,ROW()+1,\"\")","v":{"$error":"#REF!"}},99362,"Deportivo","Fraccionamiento","Jerez","Zacatecas","Jerez de García Salinas",99301,32,99301,null,21,20,1125,"Semiurbano",2]
[{"$f":"IF(C145156=base!$AC$2,ROW()+1,\"\")","v":{"$error":"#REF!"}},{"$f":"IF(C145156=base!$W$2,ROW()+1,\"\")","v":{"$error":"#REF!"}},99363,"Guadalajara","Fraccionamiento","Jerez","Zacatecas","Jerez de García Salinas",99301,32,99301,null,21,20,1,"Urbano",2]
[{"$f":"IF(C145157=base!$AC$2,ROW()+1,\"\")","v":{"$error":"#REF!"}},{"$f":"IF(C145157=base!$W$2,ROW()+1,\"\")","v":{"$error":"#REF!"}},99363,"Los Cardos","Fraccionamiento","Jerez","Zacatecas","Jerez de García Salinas",99301,32,99301,null,21,20,1122,"Semiurbano",2]
[{"$f":"IF(C145158=base!$AC$2,ROW()+1,\"\")","v":{"$error":"#REF!"}},{"$f":"IF(C145158=base!$W$2,ROW()+1,\"\")","v":{"$error":"#REF!"}},99363,"Caxcán","Fraccionamiento","Jerez","Zacatecas","Jerez de García Salinas",99301,32,99301,null,21,20,1655,"Urbano",2]
[{"$f":"IF(C145159=base!$AC$2,ROW()+1,\"\")","v":{"$error":"#REF!"}},{"$f":"IF(C145159=base!$W$2,ROW()+1,\"\")","v":{"$error":"#REF!"}},99363,"Hidráulica","Colonia","Jerez","Zacatecas","Jerez de García Salinas",99301,32,99301,null,9,20,1124,"Semiurbano",2]
[{"$f":"IF(C145160=base!$AC$2,ROW()+1,\"\")","v":{"$error":"#REF!"}},{"$f":"IF(C145160=base!$W$2,ROW()+1,\"\")","v":{"$error":"#REF!"}},99370,"Villa Fontana","Fraccionamiento","Jerez","Zacatecas","Jerez de García Salinas",99301,32,99301,null,21,20,604,"Semiurbano",2]
[{"$f":"IF(C145161=base!$AC$2,ROW()+1,\"\")","v":{"$error":"#REF!"}},{"$f":"IF(C145161=base!$W$2,ROW()+1,\"\")","v":{"$error":"#REF!"}},99370,"20 de Noviembre","Colonia","Jerez","Zacatecas","Jerez de García Salinas",99301,32,99301,null,9,20,603,"Semiurbano",2]
[{"$f":"IF(C145162=base!$AC$2,ROW()+1,\"\")","v":{"$error":"#REF!"}},{"$f":"IF(C145162=base!$W$2,ROW()+1,\"\")","v":{"$error":"#REF!"}},99379,"Huertas San Jose","Fraccionamiento","Jerez","Zacatecas","Jerez de García Salinas",99301,32,99301,null,21,20,605,"Semiurbano",2]
[{"$f":"IF(C145163=base!$AC$2,ROW()+1,\"\")","v":{"$error":"#REF!"}},{"$f":"IF(C145163=base!$W$2,ROW()+1,\"\")","v":{"$error":"#REF!"}},99380,"Lopez Mateos","Fraccionamiento","Jerez","Zacatecas","Jerez de García Salinas",99301,32,99301,null,21,20,1112,"Semiurbano",2]
[{"$f":"IF(C145164=base!$AC$2,ROW()+1,\"\")","v":{"$error":"#REF!"}},{"$f":"IF(C145164=base!$W$2,ROW()+1,\"\")","v":{"$error":"#REF!"}},99380,"Modelo","Colonia","Jerez","Zacatecas","Jerez de García Salinas",99301,32,99301,null,9,20,607,"Semiurbano",2]
[{"$f":"IF(C145165=base!$AC$2,ROW()+1,\"\")","v":{"$error":"#REF!"}},{"$f":"IF(C145165=base!$W$2,ROW()+1,\"\")","v":{"$error":"#REF!"}},99380,"Fuenzanto","Colonia","Jerez","Zacatecas","Jerez de García Salinas",99301,32,99301,null,9,20,1111,"Semiurbano",2]
[{"$f":"IF(C145166=base!$AC$2,ROW()+1,\"\")","v":{"$error":"#REF!"}},{"$f":"IF(C145166=base!$W$2,ROW()+1,\"\")","v":{"$error":"#REF!"}},99380,"Las Artes","Colonia","Jerez","Zacatecas","Jerez de García Salinas",99301,32,99301,null,9,20,606,"Semiurbano",2]
[{"$f":"IF(C145167=base!$AC$2,ROW()+1,\"\")","v":{"$error":"#REF!"}},{"$f":"IF(C145167=base!$W$2,ROW()+1,\"\")","v":{"$error":"#REF!"}},99380,"Obrera","Colonia","Jerez","Zacatecas","Jerez de García Salinas",99301,32,99301,null,9,20,608,"Semiurbano",2]
[{"$f":"IF(C145168=base!$AC$2,ROW()+1,\"\")","v":{"$error":"#REF!"}},{"$f":"IF(C145168=base!$W$2,ROW()+1,\"\")","v":{"$error":"#REF!"}},99382,"Jardín del Álamo","Fraccionamiento","Jerez","Zacatecas","Jerez de García Salinas",99301,32,99301,null,21,20,1548,"Semiurbano",2]
[{"$f":"IF(C145169=base!$AC$2,ROW()+1,\"\")","v":{"$error":"#REF!"}},{"$f":"IF(C145169=base!$W$2,ROW()+1,\"\")","v":{"$error":"#REF!"}},99382,"Delicias","Fraccionamiento","Jerez","Zacatecas","Jerez de García Salinas",99301,32,99301,null,21,20,1110,"Semiurbano",2]
[{"$f":"IF(C145170=base!$AC$2,ROW()+1,\"\")","v":{"$error":"#REF!"}},{"$f":"IF(C145170=base!$W$2,ROW()+1,\"\")","v":{"$error":"#REF!"}},99382,"Los Pinos","Fraccionamiento","Jerez","Zacatecas","Jerez de García Salinas",99301,32,99301,null,21,20,1516,"Semiurbano",2]
[{"$f":"IF(C145171=base!$AC$2,ROW()+1,\"\")","v":{"$error":"#REF!"}},{"$f":"IF(C145171=base!$W$2,ROW()+1,\"\")","v":{"$error":"#REF!"}},99382,"Las Brisas","Fraccionamiento","Jerez","Zacatecas","Jerez de García Salinas",99301,32,99301,null,21,20,1550,"Semiurbano",2]
[{"$f":"IF(C145172=base!$AC$2,ROW()+1,\"\")","v":{"$error":"#REF!"}},{"$f":"IF(C145172=base!$W$2,ROW()+1,\"\")","v":{"$error":"#REF!"}},99389,"Mercaderes","Colonia","Jerez","Zacatecas","Jerez de García Salinas",99301,32,99301,null,9,20,609,"Semiurbano",2]
[{"$f":"IF(C145173=base!$AC$2,ROW()+1,\"\")","v":{"$error":"#REF!"}},{"$f":"IF(C145173=base!$W$2,ROW()+1,\"\")","v":{"$error":"#REF!"}},99389,"Ladrillera","Colonia","Jerez","Zacatecas","Jerez de García Salinas",99301,32,99301,null,9,20,1113,"Semiurbano",2]
[{"$f":"IF(C145174=base!$AC$2,ROW()+1,\"\")","v":{"$error":"#REF!"}},{"$f":"IF(C145174=base!$W$2,ROW()+1,\"\")","v":{"$error":"#REF!"}},99389,"Baño Nuevo","Colonia","Jerez","Zacatecas","Jerez de García Salinas",99301,32,99301,null,9,20,1114,"Semiurbano",2]
[{"$f":"IF(C145175=base!$AC$2,ROW()+1,\"\")","v":{"$error":"#REF!"}},{"$f":"IF(C145175=base!$W$2,ROW()+1,\"\")","v":{"$error":"#REF!"}},99390,"Fovissste","Fraccionamiento","Jerez","Zacatecas","Jerez de García Salinas",99301,32,99301,null,21,20,1120,"Semiurbano",2]
[{"$f":"IF(C145176=base!$AC$2,ROW()+1,\"\")","v":{"$error":"#REF!"}},{"$f":"IF(C145176=base!$W$2,ROW()+1,\"\")","v":{"$error":"#REF!"}},99390,"Jardines de Ramon Lopez Velarde","Fraccionamiento","Jerez","Zacatecas","Jerez de García Salinas",99301,32,99301,null,21,20,611,"Semiurbano",2]
[{"$f":"IF(C145177=base!$AC$2,ROW()+1,\"\")","v":{"$error":"#REF!"}},{"$f":"IF(C145177=base!$W$2,ROW()+1,\"\")","v":{"$error":"#REF!"}},99390,"Jardines de Jerez","Fraccionamiento","Jerez","Zacatecas","Jerez de García Salinas",99301,32,99301,null,21,20,1116,"Semiurbano",2]
[{"$f":"IF(C145178=base!$AC$2,ROW()+1,\"\")","v":{"$error":"#REF!"}},{"$f":"IF(C145178=base!$W$2,ROW()+1,\"\")","v":{"$error":"#REF!"}},99390,"Rancho Los Arquitos","Unidad habitacional","Jerez","Zacatecas","Jerez de García Salinas",99301,32,99301,null,31,20,1621,"Semiurbano",2]
[{"$f":"IF(C145179=base!$AC$2,ROW()+1,\"\")","v":{"$error":"#REF!"}},{"$f":"IF(C145179=base!$W$2,ROW()+1,\"\")","v":{"$error":"#REF!"}},99390,"Álamos","Colonia","Jerez","Zacatecas","Jerez de García Salinas",99301,32,99301,null,9,20,610,"Semiurbano",2]
[{"$f":"IF(C145180=base!$AC$2,ROW()+1,\"\")","v":{"$error":"#REF!"}},{"$f":"IF(C145180=base!$W$2,ROW()+1,\"\")","v":{"$error":"#REF!"}},99392,"Granjas","Fraccionamiento","Jerez","Zacatecas","Jerez de García Salinas",99301,32,99301,null,21,20,1117,"Semiurbano",2]
[{"$f":"IF(C145181=base!$AC$2,ROW()+1,\"\")","v":{"$error":"#REF!"}},{"$f":"IF(C145181=base!$W$2,ROW()+1,\"\")","v":{"$error":"#REF!"}},99392,"Cnop","Colonia","Jerez","Zacatecas","Jerez de García Salinas",99301,32,99301,null,9,20,1118,"Semiurbano",2]
[{"$f":"IF(C145182=base!$AC$2,ROW()+1,\"\")","v":{"$error":"#REF!"}},{"$f":"IF(C145182=base!$W$2,ROW()+1,\"\")","v":{"$error":"#REF!"}},99393,"Alamitos","Fraccionamiento","Jerez","Zacatecas","Jerez de García Salinas",99301,32,99301,null,21,20,1119,"Semiurbano",2]
[{"$f":"IF(C145183=base!$AC$2,ROW()+1,\"\")","v":{"$error":"#REF!"}},{"$f":"IF(C145183=base!$W$2,ROW()+1,\"\")","v":{"$error":"#REF!"}},99400,"Monte Escobedo Centro","Colonia","Monte Escobedo","Zacatecas",null,99401,32,99401,null,9,31,612,"Rural"]
[{"$f":"IF(C145184=base!$AC$2,ROW()+1,\"\")","v":{"$error":"#REF!"}},{"$f":"IF(C145184=base!$W$2,ROW()+1,\"\")","v":{"$error":"#REF!"}},99400,"Las Mesitas","Colonia","Monte Escobedo","Zacatecas",null,99401,32,99401,null,9,31,1209,"Rural"]
[{"$f":"IF(C145185=base!$AC$2,ROW()+1,\"\")","v":{"$error":"#REF!"}},{"$f":"IF(C145185=base!$W$2,ROW()+1,\"\")","v":{"$error":"#REF!"}},99400,"La Loma (Manuel M. Ponce)","Colonia","Monte Escobedo","Zacatecas",null,99401,32,99401,null,9,31,1211,"Rural"]
[{"$f":"IF(C145186=base!$AC$2,ROW()+1,\"\")","v":{"$error":"#REF!"}},{"$f":"IF(C145186=base!$W$2,ROW()+1,\"\")","v":{"$error":"#REF!"}},99400,"La Palma","Colonia","Monte Escobedo","Zacatecas",null,99401,32,99401,null,9,31,3,"Rural"]
[{"$f":"IF(C145187=base!$AC$2,ROW()+1,\"\")","v":{"$error":"#REF!"}},{"$f":"IF(C145187=base!$W$2,ROW()+1,\"\")","v":{"$error":"#REF!"}},99403,"San Antonio de Abajo","Ranchería","Monte Escobedo","Zacatecas",null,99401,32,99401,null,29,31,2,"Rural"]
[{"$f":"IF(C145188=base!$AC$2,ROW()+1,\"\")","v":{"$error":"#REF!"}},{"$f":"IF(C145188=base!$W$2,ROW()+1,\"\")","v":{"$error":"#REF!"}},99410,"Adjuntas Del Refugio","Ranchería","Monte Escobedo","Zacatecas",null,99251,32,99251,null,29,31,614,"Rural"]
[{"$f":"IF(C145189=base!$AC$2,ROW()+1,\"\")","v":{"$error":"#REF!"}},{"$f":"IF(C145189=base!$W$2,ROW()+1,\"\")","v":{"$error":"#REF!"}},99420,"Laguna Grande","Pueblo","Monte Escobedo","Zacatecas",null,99401,32,99401,null,28,31,615,"Rural"]
[{"$f":"IF(C145190=base!$AC$2,ROW()+1,\"\")","v":{"$error":"#REF!"}},{"$f":"IF(C145190=base!$W$2,ROW()+1,\"\")","v":{"$error":"#REF!"}},99430,"Maria de La Torre","Ranchería","Monte Escobedo","Zacatecas",null,46261,32,46261,null,29,31,617,"Rural"]
[{"$f":"IF(C145191=base!$AC$2,ROW()+1,\"\")","v":{"$error":"#REF!"}},{"$f":"IF(C145191=base!$W$2,ROW()+1,\"\")","v":{"$error":"#REF!"}},99436,"Berrendos","Rancho","Monte Escobedo","Zacatecas",null,99401,32,99401,null,48,31,1,"Rural"]
[{"$f":"IF(C145192=base!$AC$2,ROW()+1,\"\")","v":{"$error":"#REF!"}},{"$f":"IF(C145192=base!$W$2,ROW()+1,\"\")","v":{"$error":"#REF!"}},99440,"Vicente Guerrero","Ranchería","Jerez","Zacatecas",null,99301,32,99301,null,29,20,1244,"Rural"]
[{"$f":"IF(C145193=base!$AC$2,ROW()+1,\"\")","v":{"$error":"#REF!"}},{"$f":"IF(C145193=base!$W$2,ROW()+1,\"\")","v":{"$error":"#REF!"}},99440,"Los Félix","Poblado comunal","Jerez","Zacatecas",null,99301,32,99301,null,27,20,1763,"Rural"]
[{"$f":"IF(C145194=base!$AC$2,ROW()+1,\"\")","v":{"$error":"#REF!"}},{"$f":"IF(C145194=base!$W$2,ROW()+1,\"\")","v":{"$error":"#REF!"}},99440,"Miguel Hidalgo","Ranchería","Jerez","Zacatecas",null,99301,32,99301,null,29,20,628,"Rural"]
[{"$f":"IF(C145195=base!$AC$2,ROW()+1,\"\")","v":{"$error":"#REF!"}},{"$f":"IF(C145195=base!$W$2,ROW()+1,\"\")","v":{"$error":"#REF!"}},99442,"Sáuz de los Garcia de Abajo","Ranchería","Jerez","Zacatecas",null,99301,32,99301,null,29,20,632,"Rural"]
[{"$f":"IF(C145196=base!$AC$2,ROW()+1,\"\")","v":{"$error":"#REF!"}},{"$f":"IF(C145196=base!$W$2,ROW()+1,\"\")","v":{"$error":"#REF!"}},99443,"Ermita de los Correa","Ranchería","Jerez","Zacatecas",null,99301,32,99301,null,29,20,622,"Rural"]
[{"$f":"IF(C145197=base!$AC$2,ROW()+1,\"\")","v":{"$error":"#REF!"}},{"$f":"IF(C145197=base!$W$2,ROW()+1,\"\")","v":{"$error":"#REF!"}},99447,"El Durazno","Ranchería","Jerez","Zacatecas",null,99301,32,99301,null,29,20,620,"Rural"]
[{"$f":"IF(C145198=base!$AC$2,ROW()+1,\"\")","v":{"$error":"#REF!"}},{"$f":"IF(C145198=base!$W$2,ROW()+1,\"\")","v":{"$error":"#REF!"}},99447,"Los Haro","Ranchería","Jerez","Zacatecas",null,99301,32,99301,null,29,20,626,"Rural"]
[{"$f":"IF(C145199=base!$AC$2,ROW()+1,\"\")","v":{"$error":"#REF!"}},{"$f":"IF(C145199=base!$W$2,ROW()+1,\"\")","v":{"$error":"#REF!"}},99454,"San Isidro Del Salto","Ranchería","Jerez","Zacatecas",null,99301,32,99301,null,29,20,631,"Rural"]
[{"$f":"IF(C145200=base!$AC$2,ROW()+1,\"\")","v":{"$error":"#REF!"}},{"$f":"IF(C145200=base!$W$2,ROW()+1,\"\")","v":{"$error":"#REF!"}},99456,"Los Garcia","Ranchería","Jerez","Zacatecas",null,99301,32,99301,null,29,20,625,"Rural"]
[{"$f":"IF(C145201=base!$AC$2,ROW()+1,\"\")","v":{"$error":"#REF!"}},{"$f":"IF(C145201=base!$W$2,ROW()+1,\"\")","v":{"$error":"#REF!"}},99457,"La Ciénega","Ranchería","Jerez","Zacatecas",null,99301,32,99301,null,29,20,624,"Rural"]
[{"$f":"IF(C145202=base!$AC$2,ROW()+1,\"\")","v":{"$error":"#REF!"}},{"$f":"IF(C145202=base!$W$2,ROW()+1,\"\")","v":{"$error":"#REF!"}},99458,"Lo de Nava","Poblado comunal","Jerez","Zacatecas",null,99301,32,99301,null,27,20,1762,"Rural"]
[{"$f":"IF(C145203=base!$AC$2,ROW()+1,\"\")","v":{"$error":"#REF!"}},{"$f":"IF(C145203=base!$W$2,ROW()+1,\"\")","v":{"$error":"#REF!"}},99458,"Santa Rita (Luis Moya)","Ranchería","Jerez","Zacatecas",null,99301,32,99301,null,29,20,627,"Rural"]
[{"$f":"IF(C145204=base!$AC$2,ROW()+1,\"\")","v":{"$error":"#REF!"}},{"$f":"IF(C145204=base!$W$2,ROW()+1,\"\")","v":{"$error":"#REF!"}},99460,"Tetillas","Ranchería","Jerez","Zacatecas",null,99301,32,99301,null,29,20,633,"Rural"]
[{"$f":"IF(C145205=base!$AC$2,ROW()+1,\"\")","v":{"$error":"#REF!"}},{"$f":"IF(C145205=base!$W$2,ROW()+1,\"\")","v":{"$error":"#REF!"}},99467,"Nuevo","Barrio","Jerez","Zacatecas",null,99301,32,99301,null,2,20,1657,"Rural"]
[{"$f":"IF(C145206=base!$AC$2,ROW()+1,\"\")","v":{"$error":"#REF!"}},{"$f":"IF(C145206=base!$W$2,ROW()+1,\"\")","v":{"$error":"#REF!"}},99467,"Ermita de Guadalupe","Ranchería","Jerez","Zacatecas",null,99301,32,99301,null,29,20,636,"Rural"]
[{"$f":"IF(C145207=base!$AC$2,ROW()+1,\"\")","v":{"$error":"#REF!"}},{"$f":"IF(C145207=base!$W$2,ROW()+1,\"\")","v":{"$error":"#REF!"}},99468,"El Huejote","Ranchería","Jerez","Zacatecas",null,99301,32,99301,null,29,20,621,"Rural"]
[{"$f":"IF(C145208=base!$AC$2,ROW()+1,\"\")","v":{"$error":"#REF!"}},{"$f":"IF(C145208=base!$W$2,ROW()+1,\"\")","v":{"$error":"#REF!"}},99469,"Los Ríos","Ranchería","Jerez","Zacatecas",null,99301,32,99301,null,29,20,635,"Rural"]
[{"$f":"IF(C145209=base!$AC$2,ROW()+1,\"\")","v":{"$error":"#REF!"}},{"$f":"IF(C145209=base!$W$2,ROW()+1,\"\")","v":{"$error":"#REF!"}},99471,"Cieneguitas de Fernandez","Ranchería","Jerez","Zacatecas",null,99301,32,99301,null,29,20,618,"Rural"]
[{"$f":"IF(C145210=base!$AC$2,ROW()+1,\"\")","v":{"$error":"#REF!"}},{"$f":"IF(C145210=base!$W$2,ROW()+1,\"\")","v":{"$error":"#REF!"}},99473,"Palmas Altas","Ranchería","Jerez","Zacatecas",null,99301,32,99301,null,29,20,629,"Rural"]
[{"$f":"IF(C145211=base!$AC$2,ROW()+1,\"\")","v":{"$error":"#REF!"}},{"$f":"IF(C145211=base!$W$2,ROW()+1,\"\")","v":{"$error":"#REF!"}},99473,"Sarabia","Poblado comunal","Jerez","Zacatecas",null,99301,32,99301,null,27,20,1765,"Rural"]
[{"$f":"IF(C145212=base!$AC$2,ROW()+1,\"\")","v":{"$error":"#REF!"}},{"$f":"IF(C145212=base!$W$2,ROW()+1,\"\")","v":{"$error":"#REF!"}},99473,"Guadalupe Victoria (El Yegue)","Poblado comunal","Jerez","Zacatecas",null,99301,32,99301,null,27,20,1767,"Rural"]
[{"$f":"IF(C145213=base!$AC$2,ROW()+1,\"\")","v":{"$error":"#REF!"}},{"$f":"IF(C145213=base!$W$2,ROW()+1,\"\")","v":{"$error":"#REF!"}},99474,"Villa Hermosa","Poblado comunal","Jerez","Zacatecas",null,99301,32,99301,null,27,20,1766,"Rural"]
[{"$f":"IF(C145214=base!$AC$2,ROW()+1,\"\")","v":{"$error":"#REF!"}},{"$f":"IF(C145214=base!$W$2,ROW()+1,\"\")","v":{"$error":"#REF!"}},99474,"Monte de los García","Poblado comunal","Jerez","Zacatecas",null,99301,32,99301,null,27,20,1764,"Rural"]
[{"$f":"IF(C145215=base!$AC$2,ROW()+1,\"\")","v":{"$error":"#REF!"}},{"$f":"IF(C145215=base!$W$2,ROW()+1,\"\")","v":{"$error":"#REF!"}},99476,"El Cargadero","Pueblo","Jerez","Zacatecas",null,99301,32,99301,null,28,20,634,"Rural"]
[{"$f":"IF(C145216=base!$AC$2,ROW()+1,\"\")","v":{"$error":"#REF!"}},{"$f":"IF(C145216=base!$W$2,ROW()+1,\"\")","v":{"$error":"#REF!"}},99476,"Rio Florido","Ranchería","Jerez","Zacatecas",null,99301,32,99301,null,29,20,630,"Rural"]
[{"$f":"IF(C145217=base!$AC$2,ROW()+1,\"\")","v":{"$error":"#REF!"}},{"$f":"IF(C145217=base!$W$2,ROW()+1,\"\")","v":{"$error":"#REF!"}},99478,"El Centro","Ranchería","Jerez","Zacatecas",null,99301,32,99301,null,29,20,619,"Rural"]
[{"$f":"IF(C145218=base!$AC$2,ROW()+1,\"\")","v":{"$error":"#REF!"}},{"$f":"IF(C145218=base!$W$2,ROW()+1,\"\")","v":{"$error":"#REF!"}},99479,"Jomulquillo","Ranchería","Jerez","Zacatecas",null,99301,32,99301,null,29,20,623,"Rural"]
[{"$f":"IF(C145219=base!$AC$2,ROW()+1,\"\")","v":{"$error":"#REF!"}},{"$f":"IF(C145219=base!$W$2,ROW()+1,\"\")","v":{"$error":"#REF!"}},99480,"Susticacán","Pueblo","Susticacán","Zacatecas",null,99301,32,99301,null,28,43,638,"Urbano"]
[{"$f":"IF(C145220=base!$AC$2,ROW()+1,\"\")","v":{"$error":"#REF!"}},{"$f":"IF(C145220=base!$W$2,ROW()+1,\"\")","v":{"$error":"#REF!"}},99500,"El Tigre","Ranchería","Villanueva","Zacatecas",null,99541,32,99541,null,29,55,640,"Rural"]
[{"$f":"IF(C145221=base!$AC$2,ROW()+1,\"\")","v":{"$error":"#REF!"}},{"$f":"IF(C145221=base!$W$2,ROW()+1,\"\")","v":{"$error":"#REF!"}},99500,"Tarasco","Ranchería","Villanueva","Zacatecas",null,99541,32,99541,null,29,55,642,"Rural"]
[{"$f":"IF(C145222=base!$AC$2,ROW()+1,\"\")","v":{"$error":"#REF!"}},{"$f":"IF(C145222=base!$W$2,ROW()+1,\"\")","v":{"$error":"#REF!"}},99500,"El Salto","Hacienda","Villanueva","Zacatecas",null,99541,32,99541,null,24,55,639,"Rural"]
[{"$f":"IF(C145223=base!$AC$2,ROW()+1,\"\")","v":{"$error":"#REF!"}},{"$f":"IF(C145223=base!$W$2,ROW()+1,\"\")","v":{"$error":"#REF!"}},99500,"Laguna Del Carretero","Ranchería","Villanueva","Zacatecas",null,99541,32,99541,null,29,55,641,"Rural"]
[{"$f":"IF(C145224=base!$AC$2,ROW()+1,\"\")","v":{"$error":"#REF!"}},{"$f":"IF(C145224=base!$W$2,ROW()+1,\"\")","v":{"$error":"#REF!"}},99506,"El Jagüey","Ranchería","Villanueva","Zacatecas",null,99541,32,99541,null,29,55,645,"Rural"]
[{"$f":"IF(C145225=base!$AC$2,ROW()+1,\"\")","v":{"$error":"#REF!"}},{"$f":"IF(C145225=base!$W$2,ROW()+1,\"\")","v":{"$error":"#REF!"}},99510,"Malpaso","Pueblo","Villanueva","Zacatecas",null,98001,32,98001,null,28,55,646,"Rural"]
[{"$f":"IF(C145226=base!$AC$2,ROW()+1,\"\")","v":{"$error":"#REF!"}},{"$f":"IF(C145226=base!$W$2,ROW()+1,\"\")","v":{"$error":"#REF!"}},99510,"El Fuerte","Pueblo","Villanueva","Zacatecas",null,98001,32,98001,null,28,55,1773,"Rural"]
[{"$f":"IF(C145227=base!$AC$2,ROW()+1,\"\")","v":{"$error":"#REF!"}},{"$f":"IF(C145227=base!$W$2,ROW()+1,\"\")","v":{"$error":"#REF!"}},99520,"Felipe Angeles","Hacienda","Villanueva","Zacatecas",null,99541,32,99541,null,24,55,648,"Rural"]
[{"$f":"IF(C145228=base!$AC$2,ROW()+1,\"\")","v":{"$error":"#REF!"}},{"$f":"IF(C145228=base!$W$2,ROW()+1,\"\")","v":{"$error":"#REF!"}},99520,"Gral. Francisco Murguía","Ranchería","Villanueva","Zacatecas",null,99541,32,99541,null,29,55,649,"Rural"]
[{"$f":"IF(C145229=base!$AC$2,ROW()+1,\"\")","v":{"$error":"#REF!"}},{"$f":"IF(C145229=base!$W$2,ROW()+1,\"\")","v":{"$error":"#REF!"}},99523,"El Saucito","Ranchería","Villanueva","Zacatecas",null,99541,32,99541,null,29,55,1,"Rural"]
[{"$f":"IF(C145230=base!$AC$2,ROW()+1,\"\")","v":{"$error":"#REF!"}},{"$f":"IF(C145230=base!$W$2,ROW()+1,\"\")","v":{"$error":"#REF!"}},99530,"El Vergel","Ranchería","Villanueva","Zacatecas",null,99541,32,99541,null,29,55,651,"Rural"]
[{"$f":"IF(C145231=base!$AC$2,ROW()+1,\"\")","v":{"$error":"#REF!"}},{"$f":"IF(C145231=base!$W$2,ROW()+1,\"\")","v":{"$error":"#REF!"}},99530,"La Quemada","Hacienda","Villanueva","Zacatecas",null,99541,32,99541,null,24,55,652,"Rural"]
[{"$f":"IF(C145232=base!$AC$2,ROW()+1,\"\")","v":{"$error":"#REF!"}},{"$f":"IF(C145232=base!$W$2,ROW()+1,\"\")","v":{"$error":"#REF!"}},99530,"Atitanac","Ranchería","Villanueva","Zacatecas",null,99541,32,99541,null,29,55,650,"Rural"]
[{"$f":"IF(C145233=base!$AC$2,ROW()+1,\"\")","v":{"$error":"#REF!"}},{"$f":"IF(C145233=base!$W$2,ROW()+1,\"\")","v":{"$error":"#REF!"}},99540,"Villanueva Centro","Colonia","Villanueva","Zacatecas","Villanueva",99541,32,99541,null,9,55,643,"Semiurbano",9]
[{"$f":"IF(C145234=base!$AC$2,ROW()+1,\"\")","v":{"$error":"#REF!"}},{"$f":"IF(C145234=base!$W$2,ROW()+1,\"\")","v":{"$error":"#REF!"}},99542,"Magisterial I","Fraccionamiento","Villanueva","Zacatecas","Villanueva",99541,32,99541,null,21,55,902,"Semiurbano",9]
[{"$f":"IF(C145235=base!$AC$2,ROW()+1,\"\")","v":{"$error":"#REF!"}},{"$f":"IF(C145235=base!$W$2,ROW()+1,\"\")","v":{"$error":"#REF!"}},99542,"De los Varela","Barrio","Villanueva","Zacatecas","Villanueva",99541,32,99541,null,2,55,926,"Semiurbano",9]
[{"$f":"IF(C145236=base!$AC$2,ROW()+1,\"\")","v":{"$error":"#REF!"}},{"$f":"IF(C145236=base!$W$2,ROW()+1,\"\")","v":{"$error":"#REF!"}},99542,"Gutiérrez Del Águila","Colonia","Villanueva","Zacatecas","Villanueva",99541,32,99541,null,9,55,919,"Semiurbano",9]
[{"$f":"IF(C145237=base!$AC$2,ROW()+1,\"\")","v":{"$error":"#REF!"}},{"$f":"IF(C145237=base!$W$2,ROW()+1,\"\")","v":{"$error":"#REF!"}},99542,"Panames Escobedo","Colonia","Villanueva","Zacatecas","Villanueva",99541,32,99541,null,9,55,901,"Semiurbano",9]
[{"$f":"IF(C145238=base!$AC$2,ROW()+1,\"\")","v":{"$error":"#REF!"}},{"$f":"IF(C145238=base!$W$2,ROW()+1,\"\")","v":{"$error":"#REF!"}},99542,"Beisbolera","Colonia","Villanueva","Zacatecas","Villanueva",99541,32,99541,null,9,55,920,"Semiurbano",9]
[{"$f":"IF(C145239=base!$AC$2,ROW()+1,\"\")","v":{"$error":"#REF!"}},{"$f":"IF(C145239=base!$W$2,ROW()+1,\"\")","v":{"$error":"#REF!"}},99543,"De Santa Gertrudis","Barrio","Villanueva","Zacatecas","Villanueva",99541,32,99541,null,2,55,911,"Semiurbano",9]
[{"$f":"IF(C145240=base!$AC$2,ROW()+1,\"\")","v":{"$error":"#REF!"}},{"$f":"IF(C145240=base!$W$2,ROW()+1,\"\")","v":{"$error":"#REF!"}},99544,"De Guadalupe","Barrio","Villanueva","Zacatecas","Villanueva",99541,32,99541,null,2,55,910,"Semiurbano",9]
[{"$f":"IF(C145241=base!$AC$2,ROW()+1,\"\")","v":{"$error":"#REF!"}},{"$f":"IF(C145241=base!$W$2,ROW()+1,\"\")","v":{"$error":"#REF!"}},99544,"De los Ramirez","Colonia","Villanueva","Zacatecas","Villanueva",99541,32,99541,null,9,55,923,"Semiurbano",9]
[{"$f":"IF(C145242=base!$AC$2,ROW()+1,\"\")","v":{"$error":"#REF!"}},{"$f":"IF(C145242=base!$W$2,ROW()+1,\"\")","v":{"$error":"#REF!"}},99544,"Tadeo","Fraccionamiento","Villanueva","Zacatecas","Villanueva",99541,32,99541,null,21,55,924,"Semiurbano",9]
[{"$f":"IF(C145243=base!$AC$2,ROW()+1,\"\")","v":{"$error":"#REF!"}},{"$f":"IF(C145243=base!$W$2,ROW()+1,\"\")","v":{"$error":"#REF!"}},99545,"Lindavista","Colonia","Villanueva","Zacatecas","Villanueva",99541,32,99541,null,9,55,907,"Semiurbano",9]
[{"$f":"IF(C145244=base!$AC$2,ROW()+1,\"\")","v":{"$error":"#REF!"}},{"$f":"IF(C145244=base!$W$2,ROW()+1,\"\")","v":{"$error":"#REF!"}},99545,"Los Geranios","Fraccionamiento","Villanueva","Zacatecas","Villanueva",99541,32,99541,null,21,55,925,"Semiurbano",9]
[{"$f":"IF(C145245=base!$AC$2,ROW()+1,\"\")","v":{"$error":"#REF!"}},{"$f":"IF(C145245=base!$W$2,ROW()+1,\"\")","v":{"$error":"#REF!"}},99545,"Flores Del Pedregal","Colonia","Villanueva","Zacatecas","Villanueva",99541,32,99541,null,9,55,906,"Semiurbano",9]
[{"$f":"IF(C145246=base!$AC$2,ROW()+1,\"\")","v":{"$error":"#REF!"}},{"$f":"IF(C145246=base!$W$2,ROW()+1,\"\")","v":{"$error":"#REF!"}},99545,"Arboledas","Fraccionamiento","Villanueva","Zacatecas","Villanueva",99541,32,99541,null,21,55,905,"Semiurbano",9]
[{"$f":"IF(C145247=base!$AC$2,ROW()+1,\"\")","v":{"$error":"#REF!"}},{"$f":"IF(C145247=base!$W$2,ROW()+1,\"\")","v":{"$error":"#REF!"}},99545,"Del Panteón","Colonia","Villanueva","Zacatecas","Villanueva",99541,32,99541,null,9,55,908,"Semiurbano",9]
[{"$f":"IF(C145248=base!$AC$2,ROW()+1,\"\")","v":{"$error":"#REF!"}},{"$f":"IF(C145248=base!$W$2,ROW()+1,\"\")","v":{"$error":"#REF!"}},99545,"Sierra Nevada","Colonia","Villanueva","Zacatecas","Villanueva",99541,32,99541,null,9,55,913,"Semiurbano",9]
[{"$f":"IF(C145249=base!$AC$2,ROW()+1,\"\")","v":{"$error":"#REF!"}},{"$f":"IF(C145249=base!$W$2,ROW()+1,\"\")","v":{"$error":"#REF!"}},99545,"Santa Anita","Barrio","Villanueva","Zacatecas","Villanueva",99541,32,99541,null,2,55,904,"Semiurbano",9]
[{"$f":"IF(C145250=base!$AC$2,ROW()+1,\"\")","v":{"$error":"#REF!"}},{"$f":"IF(C145250=base!$W$2,ROW()+1,\"\")","v":{"$error":"#REF!"}},99546,"Lomas Doradas","Fraccionamiento","Villanueva","Zacatecas","Villanueva",99541,32,99541,null,21,55,916,"Semiurbano",9]
[{"$f":"IF(C145251=base!$AC$2,ROW()+1,\"\")","v":{"$error":"#REF!"}},{"$f":"IF(C145251=base!$W$2,ROW()+1,\"\")","v":{"$error":"#REF!"}},99546,"Loma de Tlalpan","Colonia","Villanueva","Zacatecas","Villanueva",99541,32,99541,null,9,55,922,"Semiurbano",9]
[{"$f":"IF(C145252=base!$AC$2,ROW()+1,\"\")","v":{"$error":"#REF!"}},{"$f":"IF(C145252=base!$W$2,ROW()+1,\"\")","v":{"$error":"#REF!"}},99546,"Magisterial II (centenario)","Fraccionamiento","Villanueva","Zacatecas","Villanueva",99541,32,99541,null,21,55,914,"Semiurbano",9]
[{"$f":"IF(C145253=base!$AC$2,ROW()+1,\"\")","v":{"$error":"#REF!"}},{"$f":"IF(C145253=base!$W$2,ROW()+1,\"\")","v":{"$error":"#REF!"}},99546,"Rescodillo","Barrio","Villanueva","Zacatecas","Villanueva",99541,32,99541,null,2,55,903,"Semiurbano",9]
[{"$f":"IF(C145254=base!$AC$2,ROW()+1,\"\")","v":{"$error":"#REF!"}},{"$f":"IF(C145254=base!$W$2,ROW()+1,\"\")","v":{"$error":"#REF!"}},99546,"Magisterial III","Fraccionamiento","Villanueva","Zacatecas","Villanueva",99541,32,99541,null,21,55,915,"Semiurbano",9]
[{"$f":"IF(C145255=base!$AC$2,ROW()+1,\"\")","v":{"$error":"#REF!"}},{"$f":"IF(C145255=base!$W$2,ROW()+1,\"\")","v":{"$error":"#REF!"}},99546,"Arroyo Del Tigre","Colonia","Villanueva","Zacatecas","Villanueva",99541,32,99541,null,9,55,921,"Semiurbano",9]
[{"$f":"IF(C145256=base!$AC$2,ROW()+1,\"\")","v":{"$error":"#REF!"}},{"$f":"IF(C145256=base!$W$2,ROW()+1,\"\")","v":{"$error":"#REF!"}},99546,"Lomas Verdes","Fraccionamiento","Villanueva","Zacatecas","Villanueva",99541,32,99541,null,21,55,912,"Semiurbano",9]
[{"$f":"IF(C145257=base!$AC$2,ROW()+1,\"\")","v":{"$error":"#REF!"}},{"$f":"IF(C145257=base!$W$2,ROW()+1,\"\")","v":{"$error":"#REF!"}},99547,"Nueva","Colonia","Villanueva","Zacatecas","Villanueva",99541,32,99541,null,9,55,900,"Semiurbano",9]
[{"$f":"IF(C145258=base!$AC$2,ROW()+1,\"\")","v":{"$error":"#REF!"}},{"$f":"IF(C145258=base!$W$2,ROW()+1,\"\")","v":{"$error":"#REF!"}},99547,"Colosio","Colonia","Villanueva","Zacatecas","Villanueva",99541,32,99541,null,9,55,918,"Semiurbano",9]
[{"$f":"IF(C145259=base!$AC$2,ROW()+1,\"\")","v":{"$error":"#REF!"}},{"$f":"IF(C145259=base!$W$2,ROW()+1,\"\")","v":{"$error":"#REF!"}},99547,"Lomas Del Diezmo","Barrio","Villanueva","Zacatecas","Villanueva",99541,32,99541,null,2,55,917,"Semiurbano",9]
[{"$f":"IF(C145260=base!$AC$2,ROW()+1,\"\")","v":{"$error":"#REF!"}},{"$f":"IF(C145260=base!$W$2,ROW()+1,\"\")","v":{"$error":"#REF!"}},99550,"La Encarnación","Hacienda","Villanueva","Zacatecas",null,99541,32,99541,null,24,55,653,"Rural"]
[{"$f":"IF(C145261=base!$AC$2,ROW()+1,\"\")","v":{"$error":"#REF!"}},{"$f":"IF(C145261=base!$W$2,ROW()+1,\"\")","v":{"$error":"#REF!"}},99552,"Tuxtuac","Ranchería","Villanueva","Zacatecas",null,99541,32,99541,null,29,55,654,"Rural"]
[{"$f":"IF(C145262=base!$AC$2,ROW()+1,\"\")","v":{"$error":"#REF!"}},{"$f":"IF(C145262=base!$W$2,ROW()+1,\"\")","v":{"$error":"#REF!"}},99559,"Gustavo Díaz Ordaz","Colonia","Villanueva","Zacatecas",null,99541,32,99541,null,9,55,1641,"Rural"]
[{"$f":"IF(C145263=base!$AC$2,ROW()+1,\"\")","v":{"$error":"#REF!"}},{"$f":"IF(C145263=base!$W$2,ROW()+1,\"\")","v":{"$error":"#REF!"}},99559,"Adolfo Lopez Mateos","Ranchería","Villanueva","Zacatecas",null,99541,32,99541,null,29,55,655,"Rural"]
[{"$f":"IF(C145264=base!$AC$2,ROW()+1,\"\")","v":{"$error":"#REF!"}},{"$f":"IF(C145264=base!$W$2,ROW()+1,\"\")","v":{"$error":"#REF!"}},99560,"Tayahua","Ranchería","Villanueva","Zacatecas",null,99631,32,99631,null,29,55,656,"Rural"]
[{"$f":"IF(C145265=base!$AC$2,ROW()+1,\"\")","v":{"$error":"#REF!"}},{"$f":"IF(C145265=base!$W$2,ROW()+1,\"\")","v":{"$error":"#REF!"}},99560,"Lindavista","Colonia","Villanueva","Zacatecas",null,99631,32,99631,null,9,55,1640,"Rural"]
[{"$f":"IF(C145266=base!$AC$2,ROW()+1,\"\")","v":{"$error":"#REF!"}},{"$f":"IF(C145266=base!$W$2,ROW()+1,\"\")","v":{"$error":"#REF!"}},99570,"El Cuidado","Ejido","Tepetongo","Zacatecas",null,99571,32,99571,null,15,46,657,"Rural"]
[{"$f":"IF(C145267=base!$AC$2,ROW()+1,\"\")","v":{"$error":"#REF!"}},{"$f":"IF(C145267=base!$W$2,ROW()+1,\"\")","v":{"$error":"#REF!"}},99570,"El Salitre","Ranchería","Tepetongo","Zacatecas",null,99571,32,99571,null,29,46,658,"Rural"]
[{"$f":"IF(C145268=base!$AC$2,ROW()+1,\"\")","v":{"$error":"#REF!"}},{"$f":"IF(C145268=base!$W$2,ROW()+1,\"\")","v":{"$error":"#REF!"}},99570,"América","Colonia","Tepetongo","Zacatecas",null,99571,32,99571,null,9,46,1212,"Rural"]
[{"$f":"IF(C145269=base!$AC$2,ROW()+1,\"\")","v":{"$error":"#REF!"}},{"$f":"IF(C145269=base!$W$2,ROW()+1,\"\")","v":{"$error":"#REF!"}},99570,"Chihuahua","Colonia","Tepetongo","Zacatecas",null,99571,32,99571,null,9,46,1213,"Rural"]
[{"$f":"IF(C145270=base!$AC$2,ROW()+1,\"\")","v":{"$error":"#REF!"}},{"$f":"IF(C145270=base!$W$2,ROW()+1,\"\")","v":{"$error":"#REF!"}},99570,"Tepetongo","Pueblo","Tepetongo","Zacatecas",null,99571,32,99571,null,28,46,659,"Rural"]
[{"$f":"IF(C145271=base!$AC$2,ROW()+1,\"\")","v":{"$error":"#REF!"}},{"$f":"IF(C145271=base!$W$2,ROW()+1,\"\")","v":{"$error":"#REF!"}},99570,"Víboras","Ejido","Tepetongo","Zacatecas",null,99571,32,99571,null,15,46,660,"Rural"]
[{"$f":"IF(C145272=base!$AC$2,ROW()+1,\"\")","v":{"$error":"#REF!"}},{"$f":"IF(C145272=base!$W$2,ROW()+1,\"\")","v":{"$error":"#REF!"}},99580,"Juanchorrey","Ranchería","Tepetongo","Zacatecas",null,99301,32,99301,null,29,46,662,"Rural"]
[{"$f":"IF(C145273=base!$AC$2,ROW()+1,\"\")","v":{"$error":"#REF!"}},{"$f":"IF(C145273=base!$W$2,ROW()+1,\"\")","v":{"$error":"#REF!"}},99581,"Buenavista","Ejido","Tepetongo","Zacatecas",null,99301,32,99301,null,15,46,664,"Rural"]
[{"$f":"IF(C145274=base!$AC$2,ROW()+1,\"\")","v":{"$error":"#REF!"}},{"$f":"IF(C145274=base!$W$2,ROW()+1,\"\")","v":{"$error":"#REF!"}},99581,"Aparicios","Ranchería","Tepetongo","Zacatecas",null,99301,32,99301,null,29,46,663,"Rural"]
[{"$f":"IF(C145275=base!$AC$2,ROW()+1,\"\")","v":{"$error":"#REF!"}},{"$f":"IF(C145275=base!$W$2,ROW()+1,\"\")","v":{"$error":"#REF!"}},99590,"Gral. Joaquín Amaro","Pueblo","El Plateado de Joaquín Amaro","Zacatecas",null,99301,32,99301,null,28,15,665,"Urbano"]
[{"$f":"IF(C145276=base!$AC$2,ROW()+1,\"\")","v":{"$error":"#REF!"}},{"$f":"IF(C145276=base!$W$2,ROW()+1,\"\")","v":{"$error":"#REF!"}},99592,"Antonio R Vela","Pueblo","El Plateado de Joaquín Amaro","Zacatecas",null,99541,32,99541,null,28,15,666,"Rural"]
[{"$f":"IF(C145277=base!$AC$2,ROW()+1,\"\")","v":{"$error":"#REF!"}},{"$f":"IF(C145277=base!$W$2,ROW()+1,\"\")","v":{"$error":"#REF!"}},99593,"San Antonio de La Calera","Pueblo","El Plateado de Joaquín Amaro","Zacatecas",null,99541,32,99541,null,28,15,667,"Rural"]
[{"$f":"IF(C145278=base!$AC$2,ROW()+1,\"\")","v":{"$error":"#REF!"}},{"$f":"IF(C145278=base!$W$2,ROW()+1,\"\")","v":{"$error":"#REF!"}},99600,"Jalpa Centro","Colonia","Jalpa","Zacatecas","Jalpa",99601,32,99601,null,9,19,668,"Semiurbano",17]
[{"$f":"IF(C145279=base!$AC$2,ROW()+1,\"\")","v":{"$error":"#REF!"}},{"$f":"IF(C145279=base!$W$2,ROW()+1,\"\")","v":{"$error":"#REF!"}},99600,"El Rosario","Colonia","Jalpa","Zacatecas","Jalpa",99601,32,99601,null,9,19,1286,"Semiurbano",17]
[{"$f":"IF(C145280=base!$AC$2,ROW()+1,\"\")","v":{"$error":"#REF!"}},{"$f":"IF(C145280=base!$W$2,ROW()+1,\"\")","v":{"$error":"#REF!"}},99600,"Sagrado Corazón","Barrio","Jalpa","Zacatecas","Jalpa",99601,32,99601,null,2,19,1285,"Semiurbano",17]
[{"$f":"IF(C145281=base!$AC$2,ROW()+1,\"\")","v":{"$error":"#REF!"}},{"$f":"IF(C145281=base!$W$2,ROW()+1,\"\")","v":{"$error":"#REF!"}},99602,"Mesa del Santo","Colonia","Jalpa","Zacatecas","Jalpa",99601,32,99601,null,9,19,8,"Urbano",17]
[{"$f":"IF(C145282=base!$AC$2,ROW()+1,\"\")","v":{"$error":"#REF!"}},{"$f":"IF(C145282=base!$W$2,ROW()+1,\"\")","v":{"$error":"#REF!"}},99602,"Lindavista","Fraccionamiento","Jalpa","Zacatecas","Jalpa",99601,32,99601,null,21,19,1057,"Semiurbano",17]
[{"$f":"IF(C145283=base!$AC$2,ROW()+1,\"\")","v":{"$error":"#REF!"}},{"$f":"IF(C145283=base!$W$2,ROW()+1,\"\")","v":{"$error":"#REF!"}},99603,"Juárez","Colonia","Jalpa","Zacatecas","Jalpa",99601,32,99601,null,9,19,5,"Urbano",17]
[{"$f":"IF(C145284=base!$AC$2,ROW()+1,\"\")","v":{"$error":"#REF!"}},{"$f":"IF(C145284=base!$W$2,ROW()+1,\"\")","v":{"$error":"#REF!"}},99603,"Parque La Mezquitera","Colonia","Jalpa","Zacatecas","Jalpa",99601,32,99601,null,9,19,1058,"Semiurbano",17]
[{"$f":"IF(C145285=base!$AC$2,ROW()+1,\"\")","v":{"$error":"#REF!"}},{"$f":"IF(C145285=base!$W$2,ROW()+1,\"\")","v":{"$error":"#REF!"}},99603,"San Antonio","Colonia","Jalpa","Zacatecas","Jalpa",99601,32,99601,null,9,19,10,"Urbano",17]
[{"$f":"IF(C145286=base!$AC$2,ROW()+1,\"\")","v":{"$error":"#REF!"}},{"$f":"IF(C145286=base!$W$2,ROW()+1,\"\")","v":{"$error":"#REF!"}},99603,"De La Cruz","Barrio","Jalpa","Zacatecas","Jalpa",99601,32,99601,null,2,19,1071,"Semiurbano",17]
[{"$f":"IF(C145287=base!$AC$2,ROW()+1,\"\")","v":{"$error":"#REF!"}},{"$f":"IF(C145287=base!$W$2,ROW()+1,\"\")","v":{"$error":"#REF!"}},99605,"Del Sol","Fraccionamiento","Jalpa","Zacatecas","Jalpa",99601,32,99601,null,21,19,1,"Urbano",17]
[{"$f":"IF(C145288=base!$AC$2,ROW()+1,\"\")","v":{"$error":"#REF!"}},{"$f":"IF(C145288=base!$W$2,ROW()+1,\"\")","v":{"$error":"#REF!"}},99606,"Hidalgo","Colonia","Jalpa","Zacatecas","Jalpa",99601,32,99601,null,9,19,1067,"Semiurbano",17]
[{"$f":"IF(C145289=base!$AC$2,ROW()+1,\"\")","v":{"$error":"#REF!"}},{"$f":"IF(C145289=base!$W$2,ROW()+1,\"\")","v":{"$error":"#REF!"}},99606,"Del Carmen","Colonia","Jalpa","Zacatecas","Jalpa",99601,32,99601,null,9,19,3,"Urbano",17]
[{"$f":"IF(C145290=base!$AC$2,ROW()+1,\"\")","v":{"$error":"#REF!"}},{"$f":"IF(C145290=base!$W$2,ROW()+1,\"\")","v":{"$error":"#REF!"}},99606,"Jacarandas","Fraccionamiento","Jalpa","Zacatecas","Jalpa",99601,32,99601,null,21,19,1065,"Semiurbano",17]
[{"$f":"IF(C145291=base!$AC$2,ROW()+1,\"\")","v":{"$error":"#REF!"}},{"$f":"IF(C145291=base!$W$2,ROW()+1,\"\")","v":{"$error":"#REF!"}},99606,"Tia Rita","Fraccionamiento","Jalpa","Zacatecas","Jalpa",99601,32,99601,null,21,19,11,"Urbano",17]
[{"$f":"IF(C145292=base!$AC$2,ROW()+1,\"\")","v":{"$error":"#REF!"}},{"$f":"IF(C145292=base!$W$2,ROW()+1,\"\")","v":{"$error":"#REF!"}},99606,"Quinta Chilla","Fraccionamiento","Jalpa","Zacatecas","Jalpa",99601,32,99601,null,21,19,9,"Urbano",17]
[{"$f":"IF(C145293=base!$AC$2,ROW()+1,\"\")","v":{"$error":"#REF!"}},{"$f":"IF(C145293=base!$W$2,ROW()+1,\"\")","v":{"$error":"#REF!"}},99607,"Reforma","Fraccionamiento","Jalpa","Zacatecas","Jalpa",99601,32,99601,null,21,19,1064,"Semiurbano",17]
[{"$f":"IF(C145294=base!$AC$2,ROW()+1,\"\")","v":{"$error":"#REF!"}},{"$f":"IF(C145294=base!$W$2,ROW()+1,\"\")","v":{"$error":"#REF!"}},99607,"Caxcán","Colonia","Jalpa","Zacatecas","Jalpa",99601,32,99601,null,9,19,1717,"Urbano",17]
[{"$f":"IF(C145295=base!$AC$2,ROW()+1,\"\")","v":{"$error":"#REF!"}},{"$f":"IF(C145295=base!$W$2,ROW()+1,\"\")","v":{"$error":"#REF!"}},99607,"Arroyo Blanco","Colonia","Jalpa","Zacatecas","Jalpa",99601,32,99601,null,9,19,2,"Urbano",17]
[{"$f":"IF(C145296=base!$AC$2,ROW()+1,\"\")","v":{"$error":"#REF!"}},{"$f":"IF(C145296=base!$W$2,ROW()+1,\"\")","v":{"$error":"#REF!"}},99608,"Lomas Del Valle","Fraccionamiento","Jalpa","Zacatecas","Jalpa",99601,32,99601,null,21,19,1060,"Semiurbano",17]
[{"$f":"IF(C145297=base!$AC$2,ROW()+1,\"\")","v":{"$error":"#REF!"}},{"$f":"IF(C145297=base!$W$2,ROW()+1,\"\")","v":{"$error":"#REF!"}},99608,"Morelos","Colonia","Jalpa","Zacatecas","Jalpa",99601,32,99601,null,9,19,1066,"Urbano",17]
[{"$f":"IF(C145298=base!$AC$2,ROW()+1,\"\")","v":{"$error":"#REF!"}},{"$f":"IF(C145298=base!$W$2,ROW()+1,\"\")","v":{"$error":"#REF!"}},99608,"Fovissste","Colonia","Jalpa","Zacatecas","Jalpa",99601,32,99601,null,9,19,1062,"Semiurbano",17]
[{"$f":"IF(C145299=base!$AC$2,ROW()+1,\"\")","v":{"$error":"#REF!"}},{"$f":"IF(C145299=base!$W$2,ROW()+1,\"\")","v":{"$error":"#REF!"}},99608,"Loma Arroyo Blanco","Colonia","Jalpa","Zacatecas","Jalpa",99601,32,99601,null,9,19,1063,"Semiurbano",17]
[{"$f":"IF(C145300=base!$AC$2,ROW()+1,\"\")","v":{"$error":"#REF!"}},{"$f":"IF(C145300=base!$W$2,ROW()+1,\"\")","v":{"$error":"#REF!"}},99608,"Revolución","Fraccionamiento","Jalpa","Zacatecas","Jalpa",99601,32,99601,null,21,19,1061,"Semiurbano",17]
[{"$f":"IF(C145301=base!$AC$2,ROW()+1,\"\")","v":{"$error":"#REF!"}},{"$f":"IF(C145301=base!$W$2,ROW()+1,\"\")","v":{"$error":"#REF!"}},99609,"SARH","Colonia","Jalpa","Zacatecas","Jalpa",99601,32,99601,null,9,19,1068,"Urbano",17]
[{"$f":"IF(C145302=base!$AC$2,ROW()+1,\"\")","v":{"$error":"#REF!"}},{"$f":"IF(C145302=base!$W$2,ROW()+1,\"\")","v":{"$error":"#REF!"}},99609,"Obrera","Colonia","Jalpa","Zacatecas","Jalpa",99601,32,99601,null,9,19,1069,"Semiurbano",17]
[{"$f":"IF(C145303=base!$AC$2,ROW()+1,\"\")","v":{"$error":"#REF!"}},{"$f":"IF(C145303=base!$W$2,ROW()+1,\"\")","v":{"$error":"#REF!"}},99609,"Toma de Zacatecas","Colonia","Jalpa","Zacatecas","Jalpa",99601,32,99601,null,9,19,12,"Urbano",17]
[{"$f":"IF(C145304=base!$AC$2,ROW()+1,\"\")","v":{"$error":"#REF!"}},{"$f":"IF(C145304=base!$W$2,ROW()+1,\"\")","v":{"$error":"#REF!"}},99609,"Lomas de Chapultepec","Colonia","Jalpa","Zacatecas","Jalpa",99601,32,99601,null,9,19,6,"Urbano",17]
[{"$f":"IF(C145305=base!$AC$2,ROW()+1,\"\")","v":{"$error":"#REF!"}},{"$f":"IF(C145305=base!$W$2,ROW()+1,\"\")","v":{"$error":"#REF!"}},99609,"Loma de San Antonio","Colonia","Jalpa","Zacatecas","Jalpa",99601,32,99601,null,9,19,1059,"Semiurbano",17]
[{"$f":"IF(C145306=base!$AC$2,ROW()+1,\"\")","v":{"$error":"#REF!"}},{"$f":"IF(C145306=base!$W$2,ROW()+1,\"\")","v":{"$error":"#REF!"}},99609,"Guerrero","Colonia","Jalpa","Zacatecas","Jalpa",99601,32,99601,null,9,19,1070,"Semiurbano",17]
[{"$f":"IF(C145307=base!$AC$2,ROW()+1,\"\")","v":{"$error":"#REF!"}},{"$f":"IF(C145307=base!$W$2,ROW()+1,\"\")","v":{"$error":"#REF!"}},99609,"Santa Cecilia","Colonia","Jalpa","Zacatecas","Jalpa",99601,32,99601,null,9,19,13,"Urbano",17]
[{"$f":"IF(C145308=base!$AC$2,ROW()+1,\"\")","v":{"$error":"#REF!"}},{"$f":"IF(C145308=base!$W$2,ROW()+1,\"\")","v":{"$error":"#REF!"}},99609,"Jardines de San José","Colonia","Jalpa","Zacatecas","Jalpa",99601,32,99601,null,9,19,4,"Urbano",17]
[{"$f":"IF(C145309=base!$AC$2,ROW()+1,\"\")","v":{"$error":"#REF!"}},{"$f":"IF(C145309=base!$W$2,ROW()+1,\"\")","v":{"$error":"#REF!"}},99609,"Magisterial","Fraccionamiento","Jalpa","Zacatecas","Jalpa",99601,32,99601,null,21,19,7,"Urbano",17]
[{"$f":"IF(C145310=base!$AC$2,ROW()+1,\"\")","v":{"$error":"#REF!"}},{"$f":"IF(C145310=base!$W$2,ROW()+1,\"\")","v":{"$error":"#REF!"}},99620,"Guadalupe Victoria","Ranchería","Jalpa","Zacatecas",null,99631,32,99631,null,29,19,671,"Rural"]
[{"$f":"IF(C145311=base!$AC$2,ROW()+1,\"\")","v":{"$error":"#REF!"}},{"$f":"IF(C145311=base!$W$2,ROW()+1,\"\")","v":{"$error":"#REF!"}},99624,"El Rodeo","Ranchería","Jalpa","Zacatecas",null,99601,32,99601,null,29,19,1637,"Rural"]
[{"$f":"IF(C145312=base!$AC$2,ROW()+1,\"\")","v":{"$error":"#REF!"}},{"$f":"IF(C145312=base!$W$2,ROW()+1,\"\")","v":{"$error":"#REF!"}},99630,"El Jaralillo","Ranchería","Tabasco","Zacatecas",null,99631,32,99631,null,29,44,673,"Rural"]
[{"$f":"IF(C145313=base!$AC$2,ROW()+1,\"\")","v":{"$error":"#REF!"}},{"$f":"IF(C145313=base!$W$2,ROW()+1,\"\")","v":{"$error":"#REF!"}},99630,"San Luis de Custique","Ranchería","Tabasco","Zacatecas",null,99631,32,99631,null,29,44,675,"Rural"]
[{"$f":"IF(C145314=base!$AC$2,ROW()+1,\"\")","v":{"$error":"#REF!"}},{"$f":"IF(C145314=base!$W$2,ROW()+1,\"\")","v":{"$error":"#REF!"}},99630,"Secundaria","Colonia","Tabasco","Zacatecas",null,99631,32,99631,null,9,44,1216,"Rural"]
[{"$f":"IF(C145315=base!$AC$2,ROW()+1,\"\")","v":{"$error":"#REF!"}},{"$f":"IF(C145315=base!$W$2,ROW()+1,\"\")","v":{"$error":"#REF!"}},99630,"Barrio San Nicolás","Colonia","Tabasco","Zacatecas",null,99631,32,99631,null,9,44,1217,"Rural"]
[{"$f":"IF(C145316=base!$AC$2,ROW()+1,\"\")","v":{"$error":"#REF!"}},{"$f":"IF(C145316=base!$W$2,ROW()+1,\"\")","v":{"$error":"#REF!"}},99630,"Barrio San Jose","Colonia","Tabasco","Zacatecas",null,99631,32,99631,null,9,44,1220,"Rural"]
[{"$f":"IF(C145317=base!$AC$2,ROW()+1,\"\")","v":{"$error":"#REF!"}},{"$f":"IF(C145317=base!$W$2,ROW()+1,\"\")","v":{"$error":"#REF!"}},99630,"Huiscolco","Ranchería","Tabasco","Zacatecas",null,99631,32,99631,null,29,44,674,"Rural"]
[{"$f":"IF(C145318=base!$AC$2,ROW()+1,\"\")","v":{"$error":"#REF!"}},{"$f":"IF(C145318=base!$W$2,ROW()+1,\"\")","v":{"$error":"#REF!"}},99630,"Arboledas","Colonia","Tabasco","Zacatecas",null,99631,32,99631,null,9,44,1,"Urbano"]
[{"$f":"IF(C145319=base!$AC$2,ROW()+1,\"\")","v":{"$error":"#REF!"}},{"$f":"IF(C145319=base!$W$2,ROW()+1,\"\")","v":{"$error":"#REF!"}},99630,"La Capilla","Colonia","Tabasco","Zacatecas",null,99631,32,99631,null,9,44,4,"Urbano"]
[{"$f":"IF(C145320=base!$AC$2,ROW()+1,\"\")","v":{"$error":"#REF!"}},{"$f":"IF(C145320=base!$W$2,ROW()+1,\"\")","v":{"$error":"#REF!"}},99630,"Magisterial","Colonia","Tabasco","Zacatecas",null,99631,32,99631,null,9,44,1214,"Rural"]
[{"$f":"IF(C145321=base!$AC$2,ROW()+1,\"\")","v":{"$error":"#REF!"}},{"$f":"IF(C145321=base!$W$2,ROW()+1,\"\")","v":{"$error":"#REF!"}},99630,"El Refugio","Colonia","Tabasco","Zacatecas",null,99631,32,99631,null,9,44,1215,"Rural"]
[{"$f":"IF(C145322=base!$AC$2,ROW()+1,\"\")","v":{"$error":"#REF!"}},{"$f":"IF(C145322=base!$W$2,ROW()+1,\"\")","v":{"$error":"#REF!"}},99630,"Linda Vista","Colonia","Tabasco","Zacatecas",null,99631,32,99631,null,9,44,1218,"Rural"]
[{"$f":"IF(C145323=base!$AC$2,ROW()+1,\"\")","v":{"$error":"#REF!"}},{"$f":"IF(C145323=base!$W$2,ROW()+1,\"\")","v":{"$error":"#REF!"}},99630,"Monasterios","Colonia","Tabasco","Zacatecas",null,99631,32,99631,null,9,44,5,"Urbano"]
[{"$f":"IF(C145324=base!$AC$2,ROW()+1,\"\")","v":{"$error":"#REF!"}},{"$f":"IF(C145324=base!$W$2,ROW()+1,\"\")","v":{"$error":"#REF!"}},99630,"Tabasco","Colonia","Tabasco","Zacatecas",null,99631,32,99631,null,9,44,676,"Urbano"]
[{"$f":"IF(C145325=base!$AC$2,ROW()+1,\"\")","v":{"$error":"#REF!"}},{"$f":"IF(C145325=base!$W$2,ROW()+1,\"\")","v":{"$error":"#REF!"}},99630,"Lomas de Solidaridad","Colonia","Tabasco","Zacatecas",null,99631,32,99631,null,9,44,2,"Urbano"]
[{"$f":"IF(C145326=base!$AC$2,ROW()+1,\"\")","v":{"$error":"#REF!"}},{"$f":"IF(C145326=base!$W$2,ROW()+1,\"\")","v":{"$error":"#REF!"}},99630,"Benito Juárez","Colonia","Tabasco","Zacatecas",null,99631,32,99631,null,9,44,3,"Urbano"]
[{"$f":"IF(C145327=base!$AC$2,ROW()+1,\"\")","v":{"$error":"#REF!"}},{"$f":"IF(C145327=base!$W$2,ROW()+1,\"\")","v":{"$error":"#REF!"}},99630,"Tenanguillo","Ranchería","Tabasco","Zacatecas",null,99631,32,99631,null,29,44,677,"Rural"]
[{"$f":"IF(C145328=base!$AC$2,ROW()+1,\"\")","v":{"$error":"#REF!"}},{"$f":"IF(C145328=base!$W$2,ROW()+1,\"\")","v":{"$error":"#REF!"}},99630,"Del Parque","Colonia","Tabasco","Zacatecas",null,99631,32,99631,null,9,44,6,"Urbano"]
[{"$f":"IF(C145329=base!$AC$2,ROW()+1,\"\")","v":{"$error":"#REF!"}},{"$f":"IF(C145329=base!$W$2,ROW()+1,\"\")","v":{"$error":"#REF!"}},99630,"Cosalimita","Ranchería","Tabasco","Zacatecas",null,99631,32,99631,null,29,44,672,"Rural"]
[{"$f":"IF(C145330=base!$AC$2,ROW()+1,\"\")","v":{"$error":"#REF!"}},{"$f":"IF(C145330=base!$W$2,ROW()+1,\"\")","v":{"$error":"#REF!"}},99630,"Balconcitos","Colonia","Tabasco","Zacatecas",null,99631,32,99631,null,9,44,1219,"Rural"]
[{"$f":"IF(C145331=base!$AC$2,ROW()+1,\"\")","v":{"$error":"#REF!"}},{"$f":"IF(C145331=base!$W$2,ROW()+1,\"\")","v":{"$error":"#REF!"}},99644,"San Francisco","Ranchería","Tabasco","Zacatecas",null,99631,32,99631,null,29,44,1740,"Rural"]
[{"$f":"IF(C145332=base!$AC$2,ROW()+1,\"\")","v":{"$error":"#REF!"}},{"$f":"IF(C145332=base!$W$2,ROW()+1,\"\")","v":{"$error":"#REF!"}},99650,"Santiago","Estación","Tabasco","Zacatecas",null,99631,32,99631,null,16,44,679,"Rural"]
[{"$f":"IF(C145333=base!$AC$2,ROW()+1,\"\")","v":{"$error":"#REF!"}},{"$f":"IF(C145333=base!$W$2,ROW()+1,\"\")","v":{"$error":"#REF!"}},99670,"Huanusco","Pueblo","Huanusco","Zacatecas",null,99631,32,99631,null,28,18,680,"Rural"]
[{"$f":"IF(C145334=base!$AC$2,ROW()+1,\"\")","v":{"$error":"#REF!"}},{"$f":"IF(C145334=base!$W$2,ROW()+1,\"\")","v":{"$error":"#REF!"}},99670,"La Luz","Hacienda","Huanusco","Zacatecas",null,99631,32,99631,null,24,18,681,"Rural"]
[{"$f":"IF(C145335=base!$AC$2,ROW()+1,\"\")","v":{"$error":"#REF!"}},{"$f":"IF(C145335=base!$W$2,ROW()+1,\"\")","v":{"$error":"#REF!"}},99670,"Lindavista","Colonia","Huanusco","Zacatecas",null,99631,32,99631,null,9,18,1646,"Rural"]
[{"$f":"IF(C145336=base!$AC$2,ROW()+1,\"\")","v":{"$error":"#REF!"}},{"$f":"IF(C145336=base!$W$2,ROW()+1,\"\")","v":{"$error":"#REF!"}},99700,"Morones","Fraccionamiento","Tlaltenango de Sánchez Román","Zacatecas",null,99701,32,99701,null,21,48,1318,"Semiurbano"]
[{"$f":"IF(C145337=base!$AC$2,ROW()+1,\"\")","v":{"$error":"#REF!"}},{"$f":"IF(C145337=base!$W$2,ROW()+1,\"\")","v":{"$error":"#REF!"}},99700,"Hidráulica","Colonia","Tlaltenango de Sánchez Román","Zacatecas",null,99701,32,99701,null,9,48,1322,"Semiurbano"]
[{"$f":"IF(C145338=base!$AC$2,ROW()+1,\"\")","v":{"$error":"#REF!"}},{"$f":"IF(C145338=base!$W$2,ROW()+1,\"\")","v":{"$error":"#REF!"}},99700,"Lomas Del Calvario","Fraccionamiento","Tlaltenango de Sánchez Román","Zacatecas",null,99701,32,99701,null,21,48,1317,"Semiurbano"]
[{"$f":"IF(C145339=base!$AC$2,ROW()+1,\"\")","v":{"$error":"#REF!"}},{"$f":"IF(C145339=base!$W$2,ROW()+1,\"\")","v":{"$error":"#REF!"}},99700,"Las Lomitas","Fraccionamiento","Tlaltenango de Sánchez Román","Zacatecas",null,99701,32,99701,null,21,48,1321,"Semiurbano"]
[{"$f":"IF(C145340=base!$AC$2,ROW()+1,\"\")","v":{"$error":"#REF!"}},{"$f":"IF(C145340=base!$W$2,ROW()+1,\"\")","v":{"$error":"#REF!"}},99700,"Hacienda Real","Fraccionamiento","Tlaltenango de Sánchez Román","Zacatecas",null,99701,32,99701,null,21,48,1325,"Semiurbano"]
[{"$f":"IF(C145341=base!$AC$2,ROW()+1,\"\")","v":{"$error":"#REF!"}},{"$f":"IF(C145341=base!$W$2,ROW()+1,\"\")","v":{"$error":"#REF!"}},99700,"Los Ramos","Ranchería","Tlaltenango de Sánchez Román","Zacatecas",null,99701,32,99701,null,29,48,684,"Rural"]
[{"$f":"IF(C145342=base!$AC$2,ROW()+1,\"\")","v":{"$error":"#REF!"}},{"$f":"IF(C145342=base!$W$2,ROW()+1,\"\")","v":{"$error":"#REF!"}},99700,"Tabachines","Fraccionamiento","Tlaltenango de Sánchez Román","Zacatecas",null,99701,32,99701,null,21,48,1225,"Semiurbano"]
[{"$f":"IF(C145343=base!$AC$2,ROW()+1,\"\")","v":{"$error":"#REF!"}},{"$f":"IF(C145343=base!$W$2,ROW()+1,\"\")","v":{"$error":"#REF!"}},99700,"Brisas Del Rio","Fraccionamiento","Tlaltenango de Sánchez Román","Zacatecas",null,99701,32,99701,null,21,48,1224,"Semiurbano"]
[{"$f":"IF(C145344=base!$AC$2,ROW()+1,\"\")","v":{"$error":"#REF!"}},{"$f":"IF(C145344=base!$W$2,ROW()+1,\"\")","v":{"$error":"#REF!"}},99700,"San Pascual","Barrio","Tlaltenango de Sánchez Román","Zacatecas",null,99701,32,99701,null,2,48,1323,"Semiurbano"]
[{"$f":"IF(C145345=base!$AC$2,ROW()+1,\"\")","v":{"$error":"#REF!"}},{"$f":"IF(C145345=base!$W$2,ROW()+1,\"\")","v":{"$error":"#REF!"}},99700,"Las Moritas","Fraccionamiento","Tlaltenango de Sánchez Román","Zacatecas",null,99701,32,99701,null,21,48,1324,"Semiurbano"]
[{"$f":"IF(C145346=base!$AC$2,ROW()+1,\"\")","v":{"$error":"#REF!"}},{"$f":"IF(C145346=base!$W$2,ROW()+1,\"\")","v":{"$error":"#REF!"}},99700,"Las Goteras","Fraccionamiento","Tlaltenango de Sánchez Román","Zacatecas",null,99701,32,99701,null,21,48,1221,"Semiurbano"]
[{"$f":"IF(C145347=base!$AC$2,ROW()+1,\"\")","v":{"$error":"#REF!"}},{"$f":"IF(C145347=base!$W$2,ROW()+1,\"\")","v":{"$error":"#REF!"}},99700,"Militar","Unidad habitacional","Tlaltenango de Sánchez Román","Zacatecas",null,99701,32,99701,null,31,48,1319,"Semiurbano"]
[{"$f":"IF(C145348=base!$AC$2,ROW()+1,\"\")","v":{"$error":"#REF!"}},{"$f":"IF(C145348=base!$W$2,ROW()+1,\"\")","v":{"$error":"#REF!"}},99700,"La Haciendita","Barrio","Tlaltenango de Sánchez Román","Zacatecas",null,99701,32,99701,null,2,48,1326,"Semiurbano"]
[{"$f":"IF(C145349=base!$AC$2,ROW()+1,\"\")","v":{"$error":"#REF!"}},{"$f":"IF(C145349=base!$W$2,ROW()+1,\"\")","v":{"$error":"#REF!"}},99700,"Buena Vista","Fraccionamiento","Tlaltenango de Sánchez Román","Zacatecas",null,99701,32,99701,null,21,48,1222,"Semiurbano"]
[{"$f":"IF(C145350=base!$AC$2,ROW()+1,\"\")","v":{"$error":"#REF!"}},{"$f":"IF(C145350=base!$W$2,ROW()+1,\"\")","v":{"$error":"#REF!"}},99700,"Arboledas","Fraccionamiento","Tlaltenango de Sánchez Román","Zacatecas",null,99701,32,99701,null,21,48,1223,"Semiurbano"]
[{"$f":"IF(C145351=base!$AC$2,ROW()+1,\"\")","v":{"$error":"#REF!"}},{"$f":"IF(C145351=base!$W$2,ROW()+1,\"\")","v":{"$error":"#REF!"}},99700,"Lomas Del Country","Fraccionamiento","Tlaltenango de Sánchez Román","Zacatecas",null,99701,32,99701,null,21,48,1226,"Semiurbano"]
[{"$f":"IF(C145352=base!$AC$2,ROW()+1,\"\")","v":{"$error":"#REF!"}},{"$f":"IF(C145352=base!$W$2,ROW()+1,\"\")","v":{"$error":"#REF!"}},99700,"Santo Santiago","Fraccionamiento","Tlaltenango de Sánchez Román","Zacatecas",null,99701,32,99701,null,21,48,1327,"Semiurbano"]
[{"$f":"IF(C145353=base!$AC$2,ROW()+1,\"\")","v":{"$error":"#REF!"}},{"$f":"IF(C145353=base!$W$2,ROW()+1,\"\")","v":{"$error":"#REF!"}},99700,"Los Guapos","Ranchería","Tlaltenango de Sánchez Román","Zacatecas",null,99701,32,99701,null,29,48,683,"Rural"]
[{"$f":"IF(C145354=base!$AC$2,ROW()+1,\"\")","v":{"$error":"#REF!"}},{"$f":"IF(C145354=base!$W$2,ROW()+1,\"\")","v":{"$error":"#REF!"}},99700,"San Antonio","Ranchería","Tlaltenango de Sánchez Román","Zacatecas",null,99701,32,99701,null,29,48,685,"Rural"]
[{"$f":"IF(C145355=base!$AC$2,ROW()+1,\"\")","v":{"$error":"#REF!"}},{"$f":"IF(C145355=base!$W$2,ROW()+1,\"\")","v":{"$error":"#REF!"}},99700,"Independencia","Fraccionamiento","Tlaltenango de Sánchez Román","Zacatecas",null,99701,32,99701,null,21,48,1227,"Semiurbano"]
[{"$f":"IF(C145356=base!$AC$2,ROW()+1,\"\")","v":{"$error":"#REF!"}},{"$f":"IF(C145356=base!$W$2,ROW()+1,\"\")","v":{"$error":"#REF!"}},99700,"Las Conchas","Fraccionamiento","Tlaltenango de Sánchez Román","Zacatecas",null,99701,32,99701,null,21,48,1228,"Semiurbano"]
[{"$f":"IF(C145357=base!$AC$2,ROW()+1,\"\")","v":{"$error":"#REF!"}},{"$f":"IF(C145357=base!$W$2,ROW()+1,\"\")","v":{"$error":"#REF!"}},99700,"Tlaltenango de Sanchez Román","Ranchería","Tlaltenango de Sánchez Román","Zacatecas",null,99701,32,99701,null,29,48,686,"Semiurbano"]
[{"$f":"IF(C145358=base!$AC$2,ROW()+1,\"\")","v":{"$error":"#REF!"}},{"$f":"IF(C145358=base!$W$2,ROW()+1,\"\")","v":{"$error":"#REF!"}},99700,"Valle Verde","Fraccionamiento","Tlaltenango de Sánchez Román","Zacatecas",null,99701,32,99701,null,21,48,1320,"Semiurbano"]
[{"$f":"IF(C145359=base!$AC$2,ROW()+1,\"\")","v":{"$error":"#REF!"}},{"$f":"IF(C145359=base!$W$2,ROW()+1,\"\")","v":{"$error":"#REF!"}},99702,"Lomas de Caxcanes","Fraccionamiento","Tlaltenango de Sánchez Román","Zacatecas",null,99701,32,99701,null,21,48,1768,"Urbano"]
[{"$f":"IF(C145360=base!$AC$2,ROW()+1,\"\")","v":{"$error":"#REF!"}},{"$f":"IF(C145360=base!$W$2,ROW()+1,\"\")","v":{"$error":"#REF!"}},99704,"La Palma","Ranchería","Tlaltenango de Sánchez Román","Zacatecas",null,99701,32,99701,null,29,48,688,"Rural"]
[{"$f":"IF(C145361=base!$AC$2,ROW()+1,\"\")","v":{"$error":"#REF!"}},{"$f":"IF(C145361=base!$W$2,ROW()+1,\"\")","v":{"$error":"#REF!"}},99705,"Salazares","Ranchería","Tlaltenango de Sánchez Román","Zacatecas",null,99701,32,99701,null,29,48,689,"Rural"]
[{"$f":"IF(C145362=base!$AC$2,ROW()+1,\"\")","v":{"$error":"#REF!"}},{"$f":"IF(C145362=base!$W$2,ROW()+1,\"\")","v":{"$error":"#REF!"}},99707,"Cicacalco","Pueblo","Tlaltenango de Sánchez Román","Zacatecas",null,99701,32,99701,null,28,48,690,"Rural"]
[{"$f":"IF(C145363=base!$AC$2,ROW()+1,\"\")","v":{"$error":"#REF!"}},{"$f":"IF(C145363=base!$W$2,ROW()+1,\"\")","v":{"$error":"#REF!"}},99720,"La Esperanza","Colonia","Momax","Zacatecas",null,99701,32,99701,null,9,30,1229,"Rural"]
[{"$f":"IF(C145364=base!$AC$2,ROW()+1,\"\")","v":{"$error":"#REF!"}},{"$f":"IF(C145364=base!$W$2,ROW()+1,\"\")","v":{"$error":"#REF!"}},99720,"Nueva","Colonia","Momax","Zacatecas",null,99701,32,99701,null,9,30,1230,"Rural"]
[{"$f":"IF(C145365=base!$AC$2,ROW()+1,\"\")","v":{"$error":"#REF!"}},{"$f":"IF(C145365=base!$W$2,ROW()+1,\"\")","v":{"$error":"#REF!"}},99720,"Momax","Pueblo","Momax","Zacatecas",null,99701,32,99701,null,28,30,691,"Rural"]
[{"$f":"IF(C145366=base!$AC$2,ROW()+1,\"\")","v":{"$error":"#REF!"}},{"$f":"IF(C145366=base!$W$2,ROW()+1,\"\")","v":{"$error":"#REF!"}},99730,"Atolinga","Pueblo","Atolinga","Zacatecas",null,99701,32,99701,null,28,3,693,"Rural"]
[{"$f":"IF(C145367=base!$AC$2,ROW()+1,\"\")","v":{"$error":"#REF!"}},{"$f":"IF(C145367=base!$W$2,ROW()+1,\"\")","v":{"$error":"#REF!"}},99730,"Laguna Grande","Ranchería","Atolinga","Zacatecas",null,99701,32,99701,null,29,3,695,"Rural"]
[{"$f":"IF(C145368=base!$AC$2,ROW()+1,\"\")","v":{"$error":"#REF!"}},{"$f":"IF(C145368=base!$W$2,ROW()+1,\"\")","v":{"$error":"#REF!"}},99730,"El Durazno","Ranchería","Atolinga","Zacatecas",null,99701,32,99701,null,29,3,694,"Rural"]
[{"$f":"IF(C145369=base!$AC$2,ROW()+1,\"\")","v":{"$error":"#REF!"}},{"$f":"IF(C145369=base!$W$2,ROW()+1,\"\")","v":{"$error":"#REF!"}},99750,"El Terrero","Barrio","Tepechitlán","Zacatecas",null,99751,32,99751,null,2,45,1310,"Rural"]
[{"$f":"IF(C145370=base!$AC$2,ROW()+1,\"\")","v":{"$error":"#REF!"}},{"$f":"IF(C145370=base!$W$2,ROW()+1,\"\")","v":{"$error":"#REF!"}},99750,"Magisterial","Colonia","Tepechitlán","Zacatecas",null,99751,32,99751,null,9,45,1309,"Rural"]
[{"$f":"IF(C145371=base!$AC$2,ROW()+1,\"\")","v":{"$error":"#REF!"}},{"$f":"IF(C145371=base!$W$2,ROW()+1,\"\")","v":{"$error":"#REF!"}},99750,"La Cumbrita","Barrio","Tepechitlán","Zacatecas",null,99751,32,99751,null,2,45,1311,"Rural"]
[{"$f":"IF(C145372=base!$AC$2,ROW()+1,\"\")","v":{"$error":"#REF!"}},{"$f":"IF(C145372=base!$W$2,ROW()+1,\"\")","v":{"$error":"#REF!"}},99750,"Ocotlan Cerro Chino","Ranchería","Tepechitlán","Zacatecas",null,99751,32,99751,null,29,45,697,"Rural"]
[{"$f":"IF(C145373=base!$AC$2,ROW()+1,\"\")","v":{"$error":"#REF!"}},{"$f":"IF(C145373=base!$W$2,ROW()+1,\"\")","v":{"$error":"#REF!"}},99750,"Tepechitlan","Pueblo","Tepechitlán","Zacatecas",null,99751,32,99751,null,28,45,698,"Rural"]
[{"$f":"IF(C145374=base!$AC$2,ROW()+1,\"\")","v":{"$error":"#REF!"}},{"$f":"IF(C145374=base!$W$2,ROW()+1,\"\")","v":{"$error":"#REF!"}},99753,"Las Pilas","Colonia","Tepechitlán","Zacatecas",null,99751,32,99751,null,9,45,1,"Rural"]
[{"$f":"IF(C145375=base!$AC$2,ROW()+1,\"\")","v":{"$error":"#REF!"}},{"$f":"IF(C145375=base!$W$2,ROW()+1,\"\")","v":{"$error":"#REF!"}},99755,"Ojuelos","Pueblo","Tepechitlán","Zacatecas",null,99751,32,99751,null,28,45,700,"Rural"]
[{"$f":"IF(C145376=base!$AC$2,ROW()+1,\"\")","v":{"$error":"#REF!"}},{"$f":"IF(C145376=base!$W$2,ROW()+1,\"\")","v":{"$error":"#REF!"}},99760,"Santiago Nexcaltitán","Ranchería","Tepechitlán","Zacatecas",null,99751,32,99751,null,29,45,702,"Rural"]
[{"$f":"IF(C145377=base!$AC$2,ROW()+1,\"\")","v":{"$error":"#REF!"}},{"$f":"IF(C145377=base!$W$2,ROW()+1,\"\")","v":{"$error":"#REF!"}},99770,"San Pedro Ocotlan","Ranchería","Tepechitlán","Zacatecas",null,99751,32,99751,null,29,45,703,"Rural"]
[{"$f":"IF(C145378=base!$AC$2,ROW()+1,\"\")","v":{"$error":"#REF!"}},{"$f":"IF(C145378=base!$W$2,ROW()+1,\"\")","v":{"$error":"#REF!"}},99780,"Florencia de Benito Juárez","Ranchería","Benito Juárez","Zacatecas",null,99801,32,99801,null,29,4,704,"Rural"]
[{"$f":"IF(C145379=base!$AC$2,ROW()+1,\"\")","v":{"$error":"#REF!"}},{"$f":"IF(C145379=base!$W$2,ROW()+1,\"\")","v":{"$error":"#REF!"}},99781,"Los Campos","Ranchería","Benito Juárez","Zacatecas",null,99801,32,99801,null,29,4,705,"Rural"]
[{"$f":"IF(C145380=base!$AC$2,ROW()+1,\"\")","v":{"$error":"#REF!"}},{"$f":"IF(C145380=base!$W$2,ROW()+1,\"\")","v":{"$error":"#REF!"}},99800,"El Agave","Colonia","Teúl de González Ortega","Zacatecas",null,99801,32,99801,null,9,47,1313,"Rural"]
[{"$f":"IF(C145381=base!$AC$2,ROW()+1,\"\")","v":{"$error":"#REF!"}},{"$f":"IF(C145381=base!$W$2,ROW()+1,\"\")","v":{"$error":"#REF!"}},99800,"La Esperanza","Colonia","Teúl de González Ortega","Zacatecas",null,99801,32,99801,null,9,47,1312,"Rural"]
[{"$f":"IF(C145382=base!$AC$2,ROW()+1,\"\")","v":{"$error":"#REF!"}},{"$f":"IF(C145382=base!$W$2,ROW()+1,\"\")","v":{"$error":"#REF!"}},99800,"Genaro Borrego","Colonia","Teúl de González Ortega","Zacatecas",null,99801,32,99801,null,9,47,1314,"Rural"]
[{"$f":"IF(C145383=base!$AC$2,ROW()+1,\"\")","v":{"$error":"#REF!"}},{"$f":"IF(C145383=base!$W$2,ROW()+1,\"\")","v":{"$error":"#REF!"}},99800,"Los Maestros","Colonia","Teúl de González Ortega","Zacatecas",null,99801,32,99801,null,9,47,1315,"Rural"]
[{"$f":"IF(C145384=base!$AC$2,ROW()+1,\"\")","v":{"$error":"#REF!"}},{"$f":"IF(C145384=base!$W$2,ROW()+1,\"\")","v":{"$error":"#REF!"}},99800,"Teul de Gonzalez Ortega","Villa","Teúl de González Ortega","Zacatecas",null,99801,32,99801,null,32,47,707,"Rural"]
[{"$f":"IF(C145385=base!$AC$2,ROW()+1,\"\")","v":{"$error":"#REF!"}},{"$f":"IF(C145385=base!$W$2,ROW()+1,\"\")","v":{"$error":"#REF!"}},99800,"Vallarta","Colonia","Teúl de González Ortega","Zacatecas",null,99801,32,99801,null,9,47,1316,"Rural"]
[{"$f":"IF(C145386=base!$AC$2,ROW()+1,\"\")","v":{"$error":"#REF!"}},{"$f":"IF(C145386=base!$W$2,ROW()+1,\"\")","v":{"$error":"#REF!"}},99806,"Alamitos","Ejido","Teúl de González Ortega","Zacatecas",null,99801,32,99801,null,15,47,710,"Rural"]
[{"$f":"IF(C145387=base!$AC$2,ROW()+1,\"\")","v":{"$error":"#REF!"}},{"$f":"IF(C145387=base!$W$2,ROW()+1,\"\")","v":{"$error":"#REF!"}},99810,"Milpillas de Allende","Ranchería","Teúl de González Ortega","Zacatecas",null,99801,32,99801,null,29,47,711,"Rural"]
[{"$f":"IF(C145388=base!$AC$2,ROW()+1,\"\")","v":{"$error":"#REF!"}},{"$f":"IF(C145388=base!$W$2,ROW()+1,\"\")","v":{"$error":"#REF!"}},99814,"Huitzila","Pueblo","Teúl de González Ortega","Zacatecas",null,99801,32,99801,null,28,47,712,"Rural"]
[{"$f":"IF(C145389=base!$AC$2,ROW()+1,\"\")","v":{"$error":"#REF!"}},{"$f":"IF(C145389=base!$W$2,ROW()+1,\"\")","v":{"$error":"#REF!"}},99820,"El Santuario","Colonia","Santa María de la Paz","Zacatecas",null,99801,32,99801,null,9,58,1,"Rural"]
[{"$f":"IF(C145390=base!$AC$2,ROW()+1,\"\")","v":{"$error":"#REF!"}},{"$f":"IF(C145390=base!$W$2,ROW()+1,\"\")","v":{"$error":"#REF!"}},99820,"Santa Maria de la Paz","Pueblo","Santa María de la Paz","Zacatecas",null,99801,32,99801,null,28,58,709,"Rural"]
[{"$f":"IF(C145391=base!$AC$2,ROW()+1,\"\")","v":{"$error":"#REF!"}},{"$f":"IF(C145391=base!$W$2,ROW()+1,\"\")","v":{"$error":"#REF!"}},99823,"La Haciendita","Ranchería","Santa María de la Paz","Zacatecas",null,99801,32,99801,null,29,58,1490,"Rural"]
[{"$f":"IF(C145392=base!$AC$2,ROW()+1,\"\")","v":{"$error":"#REF!"}},{"$f":"IF(C145392=base!$W$2,ROW()+1,\"\")","v":{"$error":"#REF!"}},99823,"Los Rodriguez","Ranchería","Santa María de la Paz","Zacatecas",null,99801,32,99801,null,29,58,1517,"Rural"]
[{"$f":"IF(C145393=base!$AC$2,ROW()+1,\"\")","v":{"$error":"#REF!"}},{"$f":"IF(C145393=base!$W$2,ROW()+1,\"\")","v":{"$error":"#REF!"}},99823,"El Laurel","Ranchería","Santa María de la Paz","Zacatecas",null,99801,32,99801,null,29,58,1489,"Rural"]
[{"$f":"IF(C145394=base!$AC$2,ROW()+1,\"\")","v":{"$error":"#REF!"}},{"$f":"IF(C145394=base!$W$2,ROW()+1,\"\")","v":{"$error":"#REF!"}},99824,"El Zapotito","Ranchería","Santa María de la Paz","Zacatecas",null,99801,32,99801,null,29,58,1492,"Rural"]
[{"$f":"IF(C145395=base!$AC$2,ROW()+1,\"\")","v":{"$error":"#REF!"}},{"$f":"IF(C145395=base!$W$2,ROW()+1,\"\")","v":{"$error":"#REF!"}},99824,"El Pantano","Ranchería","Santa María de la Paz","Zacatecas",null,99801,32,99801,null,29,58,1491,"Rural"]
[{"$f":"IF(C145396=base!$AC$2,ROW()+1,\"\")","v":{"$error":"#REF!"}},{"$f":"IF(C145396=base!$W$2,ROW()+1,\"\")","v":{"$error":"#REF!"}},99824,"Hidalgo (el Picacho)","Ranchería","Santa María de la Paz","Zacatecas",null,99801,32,99801,null,29,58,1493,"Rural"]
[{"$f":"IF(C145397=base!$AC$2,ROW()+1,\"\")","v":{"$error":"#REF!"}},{"$f":"IF(C145397=base!$W$2,ROW()+1,\"\")","v":{"$error":"#REF!"}},99824,"La Mesa Grande","Ranchería","Santa María de la Paz","Zacatecas",null,99801,32,99801,null,29,58,1494,"Rural"]
[{"$f":"IF(C145398=base!$AC$2,ROW()+1,\"\")","v":{"$error":"#REF!"}},{"$f":"IF(C145398=base!$W$2,ROW()+1,\"\")","v":{"$error":"#REF!"}},99825,"Marines","Ranchería","Santa María de la Paz","Zacatecas",null,99801,32,99801,null,29,58,1495,"Rural"]
[{"$f":"IF(C145399=base!$AC$2,ROW()+1,\"\")","v":{"$error":"#REF!"}},{"$f":"IF(C145399=base!$W$2,ROW()+1,\"\")","v":{"$error":"#REF!"}},99825,"El Soto","Ranchería","Santa María de la Paz","Zacatecas",null,99801,32,99801,null,29,58,1496,"Rural"]
[{"$f":"IF(C145400=base!$AC$2,ROW()+1,\"\")","v":{"$error":"#REF!"}},{"$f":"IF(C145400=base!$W$2,ROW()+1,\"\")","v":{"$error":"#REF!"}},99825,"La Laguna","Ranchería","Santa María de la Paz","Zacatecas",null,99801,32,99801,null,29,58,1497,"Rural"]
[{"$f":"IF(C145401=base!$AC$2,ROW()+1,\"\")","v":{"$error":"#REF!"}},{"$f":"IF(C145401=base!$W$2,ROW()+1,\"\")","v":{"$error":"#REF!"}},99825,"San Vicente","Ranchería","Santa María de la Paz","Zacatecas",null,99801,32,99801,null,29,58,1498,"Rural"]
[{"$f":"IF(C145402=base!$AC$2,ROW()+1,\"\")","v":{"$error":"#REF!"}},{"$f":"IF(C145402=base!$W$2,ROW()+1,\"\")","v":{"$error":"#REF!"}},99825,"Santa Fe","Ranchería","Santa María de la Paz","Zacatecas",null,99801,32,99801,null,29,58,1499,"Rural"]
[{"$f":"IF(C145403=base!$AC$2,ROW()+1,\"\")","v":{"$error":"#REF!"}},{"$f":"IF(C145403=base!$W$2,ROW()+1,\"\")","v":{"$error":"#REF!"}},99825,"San Rafael","Ranchería","Santa María de la Paz","Zacatecas",null,99801,32,99801,null,29,58,1500,"Rural"]
[{"$f":"IF(C145404=base!$AC$2,ROW()+1,\"\")","v":{"$error":"#REF!"}},{"$f":"IF(C145404=base!$W$2,ROW()+1,\"\")","v":{"$error":"#REF!"}},99826,"El Saucito","Ranchería","Santa María de la Paz","Zacatecas",null,99801,32,99801,null,29,58,1501,"Rural"]
[{"$f":"IF(C145405=base!$AC$2,ROW()+1,\"\")","v":{"$error":"#REF!"}},{"$f":"IF(C145405=base!$W$2,ROW()+1,\"\")","v":{"$error":"#REF!"}},99826,"El Gato","Ranchería","Santa María de la Paz","Zacatecas",null,99801,32,99801,null,29,58,1518,"Rural"]
[{"$f":"IF(C145406=base!$AC$2,ROW()+1,\"\")","v":{"$error":"#REF!"}},{"$f":"IF(C145406=base!$W$2,ROW()+1,\"\")","v":{"$error":"#REF!"}},99826,"El Arenal","Ranchería","Santa María de la Paz","Zacatecas",null,99801,32,99801,null,29,58,1502,"Rural"]
[{"$f":"IF(C145407=base!$AC$2,ROW()+1,\"\")","v":{"$error":"#REF!"}},{"$f":"IF(C145407=base!$W$2,ROW()+1,\"\")","v":{"$error":"#REF!"}},99826,"San Miguel Tepetitlan","Ranchería","Santa María de la Paz","Zacatecas",null,99801,32,99801,null,29,58,1503,"Rural"]
[{"$f":"IF(C145408=base!$AC$2,ROW()+1,\"\")","v":{"$error":"#REF!"}},{"$f":"IF(C145408=base!$W$2,ROW()+1,\"\")","v":{"$error":"#REF!"}},99826,"San Isidro","Ranchería","Santa María de la Paz","Zacatecas",null,99801,32,99801,null,29,58,1504,"Rural"]
[{"$f":"IF(C145409=base!$AC$2,ROW()+1,\"\")","v":{"$error":"#REF!"}},{"$f":"IF(C145409=base!$W$2,ROW()+1,\"\")","v":{"$error":"#REF!"}},99826,"Mesa El Pueblo","Ranchería","Santa María de la Paz","Zacatecas",null,99801,32,99801,null,29,58,1519,"Rural"]
[{"$f":"IF(C145410=base!$AC$2,ROW()+1,\"\")","v":{"$error":"#REF!"}},{"$f":"IF(C145410=base!$W$2,ROW()+1,\"\")","v":{"$error":"#REF!"}},99827,"Los Cedros","Ranchería","Santa María de la Paz","Zacatecas",null,99801,32,99801,null,29,58,1506,"Rural"]
[{"$f":"IF(C145411=base!$AC$2,ROW()+1,\"\")","v":{"$error":"#REF!"}},{"$f":"IF(C145411=base!$W$2,ROW()+1,\"\")","v":{"$error":"#REF!"}},99827,"Los Horcones","Ranchería","Santa María de la Paz","Zacatecas",null,99801,32,99801,null,29,58,1507,"Rural"]
[{"$f":"IF(C145412=base!$AC$2,ROW()+1,\"\")","v":{"$error":"#REF!"}},{"$f":"IF(C145412=base!$W$2,ROW()+1,\"\")","v":{"$error":"#REF!"}},99827,"El Capulín","Ranchería","Santa María de la Paz","Zacatecas",null,99801,32,99801,null,29,58,1505,"Rural"]
[{"$f":"IF(C145413=base!$AC$2,ROW()+1,\"\")","v":{"$error":"#REF!"}},{"$f":"IF(C145413=base!$W$2,ROW()+1,\"\")","v":{"$error":"#REF!"}},99827,"Hacienda Vieja","Ranchería","Santa María de la Paz","Zacatecas",null,99801,32,99801,null,29,58,1508,"Rural"]
[{"$f":"IF(C145414=base!$AC$2,ROW()+1,\"\")","v":{"$error":"#REF!"}},{"$f":"IF(C145414=base!$W$2,ROW()+1,\"\")","v":{"$error":"#REF!"}},99827,"Las Tablas","Ranchería","Santa María de la Paz","Zacatecas",null,99801,32,99801,null,29,58,1509,"Rural"]
[{"$f":"IF(C145415=base!$AC$2,ROW()+1,\"\")","v":{"$error":"#REF!"}},{"$f":"IF(C145415=base!$W$2,ROW()+1,\"\")","v":{"$error":"#REF!"}},99828,"El Guitarrero","Ranchería","Santa María de la Paz","Zacatecas",null,99801,32,99801,null,29,58,1511,"Rural"]
[{"$f":"IF(C145416=base!$AC$2,ROW()+1,\"\")","v":{"$error":"#REF!"}},{"$f":"IF(C145416=base!$W$2,ROW()+1,\"\")","v":{"$error":"#REF!"}},99828,"Pajaritos","Ranchería","Santa María de la Paz","Zacatecas",null,99801,32,99801,null,29,58,1510,"Rural"]
[{"$f":"IF(C145417=base!$AC$2,ROW()+1,\"\")","v":{"$error":"#REF!"}},{"$f":"IF(C145417=base!$W$2,ROW()+1,\"\")","v":{"$error":"#REF!"}},99828,"Mesa de Trigos","Ranchería","Santa María de la Paz","Zacatecas",null,99801,32,99801,null,29,58,1513,"Rural"]
[{"$f":"IF(C145418=base!$AC$2,ROW()+1,\"\")","v":{"$error":"#REF!"}},{"$f":"IF(C145418=base!$W$2,ROW()+1,\"\")","v":{"$error":"#REF!"}},99828,"Los Polvos","Ranchería","Santa María de la Paz","Zacatecas",null,99801,32,99801,null,29,58,1512,"Rural"]
[{"$f":"IF(C145419=base!$AC$2,ROW()+1,\"\")","v":{"$error":"#REF!"}},{"$f":"IF(C145419=base!$W$2,ROW()+1,\"\")","v":{"$error":"#REF!"}},99830,"Garcia de La Cadena","Pueblo","Trinidad García de la Cadena","Zacatecas",null,99831,32,99831,null,28,11,713,"Rural"]
[{"$f":"IF(C145420=base!$AC$2,ROW()+1,\"\")","v":{"$error":"#REF!"}},{"$f":"IF(C145420=base!$W$2,ROW()+1,\"\")","v":{"$error":"#REF!"}},99830,"La Ceja","Ranchería","Trinidad García de la Cadena","Zacatecas",null,99831,32,99831,null,29,11,714,"Rural"]
[{"$f":"IF(C145421=base!$AC$2,ROW()+1,\"\")","v":{"$error":"#REF!"}},{"$f":"IF(C145421=base!$W$2,ROW()+1,\"\")","v":{"$error":"#REF!"}},99830,"Los Horconcillos","Ranchería","Trinidad García de la Cadena","Zacatecas",null,99831,32,99831,null,29,11,1676,"Rural"]
[{"$f":"IF(C145422=base!$AC$2,ROW()+1,\"\")","v":{"$error":"#REF!"}},{"$f":"IF(C145422=base!$W$2,ROW()+1,\"\")","v":{"$error":"#REF!"}},99860,"Mezquital Del Oro","Ranchería","Mezquital del Oro","Zacatecas",null,99801,32,99801,null,29,28,716,"Rural"]
[{"$f":"IF(C145423=base!$AC$2,ROW()+1,\"\")","v":{"$error":"#REF!"}},{"$f":"IF(C145423=base!$W$2,ROW()+1,\"\")","v":{"$error":"#REF!"}},99864,"La Coronilla","Pueblo","Mezquital del Oro","Zacatecas",null,99801,32,99801,null,28,28,718,"Rural"]
[{"$f":"IF(C145424=base!$AC$2,ROW()+1,\"\")","v":{"$error":"#REF!"}},{"$f":"IF(C145424=base!$W$2,ROW()+1,\"\")","v":{"$error":"#REF!"}},99865,"El Malacate","Ranchería","Mezquital del Oro","Zacatecas",null,99801,32,99801,null,29,28,1,"Rural"]
[{"$f":"IF(C145425=base!$AC$2,ROW()+1,\"\")","v":{"$error":"#REF!"}},{"$f":"IF(C145425=base!$W$2,ROW()+1,\"\")","v":{"$error":"#REF!"}},99867,"Los Gallos","Rancho","Mezquital del Oro","Zacatecas",null,99801,32,99801,null,48,28,2,"Rural"]
[{"$f":"IF(C145426=base!$AC$2,ROW()+1,\"\")","v":{"$error":"#REF!"}},{"$f":"IF(C145426=base!$W$2,ROW()+1,\"\")","v":{"$error":"#REF!"}},99900,"Nochistlan Centro","Colonia","Nochistlán de Mejía","Zacatecas","Nochistlán de Mejía",99901,32,99901,null,9,34,719,"Semiurbano",11]
[{"$f":"IF(C145427=base!$AC$2,ROW()+1,\"\")","v":{"$error":"#REF!"}},{"$f":"IF(C145427=base!$W$2,ROW()+1,\"\")","v":{"$error":"#REF!"}},99902,"Santo Santiago","Barrio","Nochistlán de Mejía","Zacatecas","Nochistlán de Mejía",99901,32,99901,null,2,34,929,"Semiurbano",11]
[{"$f":"IF(C145428=base!$AC$2,ROW()+1,\"\")","v":{"$error":"#REF!"}},{"$f":"IF(C145428=base!$W$2,ROW()+1,\"\")","v":{"$error":"#REF!"}},99902,"La Gloria","Fraccionamiento","Nochistlán de Mejía","Zacatecas","Nochistlán de Mejía",99901,32,99901,null,21,34,930,"Semiurbano",11]
[{"$f":"IF(C145429=base!$AC$2,ROW()+1,\"\")","v":{"$error":"#REF!"}},{"$f":"IF(C145429=base!$W$2,ROW()+1,\"\")","v":{"$error":"#REF!"}},99904,"Loma Bonita","Fraccionamiento","Nochistlán de Mejía","Zacatecas","Nochistlán de Mejía",99901,32,99901,null,21,34,928,"Semiurbano",11]
[{"$f":"IF(C145430=base!$AC$2,ROW()+1,\"\")","v":{"$error":"#REF!"}},{"$f":"IF(C145430=base!$W$2,ROW()+1,\"\")","v":{"$error":"#REF!"}},99904,"Arboledas","Fraccionamiento","Nochistlán de Mejía","Zacatecas","Nochistlán de Mejía",99901,32,99901,null,21,34,936,"Semiurbano",11]
[{"$f":"IF(C145431=base!$AC$2,ROW()+1,\"\")","v":{"$error":"#REF!"}},{"$f":"IF(C145431=base!$W$2,ROW()+1,\"\")","v":{"$error":"#REF!"}},99905,"Lomas del Refugio","Colonia","Nochistlán de Mejía","Zacatecas","Nochistlán de Mejía",99901,32,99901,null,9,34,1,"Urbano",11]
[{"$f":"IF(C145432=base!$AC$2,ROW()+1,\"\")","v":{"$error":"#REF!"}},{"$f":"IF(C145432=base!$W$2,ROW()+1,\"\")","v":{"$error":"#REF!"}},99905,"San Miguel Oriente","Colonia","Nochistlán de Mejía","Zacatecas","Nochistlán de Mejía",99901,32,99901,null,9,34,927,"Semiurbano",11]
[{"$f":"IF(C145433=base!$AC$2,ROW()+1,\"\")","v":{"$error":"#REF!"}},{"$f":"IF(C145433=base!$W$2,ROW()+1,\"\")","v":{"$error":"#REF!"}},99905,"Gonzalez Sanchez","Fraccionamiento","Nochistlán de Mejía","Zacatecas","Nochistlán de Mejía",99901,32,99901,null,21,34,937,"Semiurbano",11]
[{"$f":"IF(C145434=base!$AC$2,ROW()+1,\"\")","v":{"$error":"#REF!"}},{"$f":"IF(C145434=base!$W$2,ROW()+1,\"\")","v":{"$error":"#REF!"}},99906,"Santa Cecilia","Colonia","Nochistlán de Mejía","Zacatecas","Nochistlán de Mejía",99901,32,99901,null,9,34,935,"Semiurbano",11]
[{"$f":"IF(C145435=base!$AC$2,ROW()+1,\"\")","v":{"$error":"#REF!"}},{"$f":"IF(C145435=base!$W$2,ROW()+1,\"\")","v":{"$error":"#REF!"}},99907,"Bugambilias","Fraccionamiento","Nochistlán de Mejía","Zacatecas","Nochistlán de Mejía",99901,32,99901,null,21,34,934,"Semiurbano",11]
[{"$f":"IF(C145436=base!$AC$2,ROW()+1,\"\")","v":{"$error":"#REF!"}},{"$f":"IF(C145436=base!$W$2,ROW()+1,\"\")","v":{"$error":"#REF!"}},99908,"La Quinta","Fraccionamiento","Nochistlán de Mejía","Zacatecas","Nochistlán de Mejía",99901,32,99901,null,21,34,1650,"Rural",11]
[{"$f":"IF(C145437=base!$AC$2,ROW()+1,\"\")","v":{"$error":"#REF!"}},{"$f":"IF(C145437=base!$W$2,ROW()+1,\"\")","v":{"$error":"#REF!"}},99908,"La Presa","Fraccionamiento","Nochistlán de Mejía","Zacatecas","Nochistlán de Mejía",99901,32,99901,null,21,34,933,"Semiurbano",11]
[{"$f":"IF(C145438=base!$AC$2,ROW()+1,\"\")","v":{"$error":"#REF!"}},{"$f":"IF(C145438=base!$W$2,ROW()+1,\"\")","v":{"$error":"#REF!"}},99909,"Sutsemop","Fraccionamiento","Nochistlán de Mejía","Zacatecas","Nochistlán de Mejía",99901,32,99901,null,21,34,931,"Semiurbano",11]
[{"$f":"IF(C145439=base!$AC$2,ROW()+1,\"\")","v":{"$error":"#REF!"}},{"$f":"IF(C145439=base!$W$2,ROW()+1,\"\")","v":{"$error":"#REF!"}},99909,"Los Arcos","Colonia","Nochistlán de Mejía","Zacatecas","Nochistlán de Mejía",99901,32,99901,null,9,34,932,"Semiurbano",11]
[{"$f":"IF(C145440=base!$AC$2,ROW()+1,\"\")","v":{"$error":"#REF!"}},{"$f":"IF(C145440=base!$W$2,ROW()+1,\"\")","v":{"$error":"#REF!"}},99910,"Monte de Yánez","Ranchería","Nochistlán de Mejía","Zacatecas",null,99901,32,99901,null,29,34,727,"Rural"]
[{"$f":"IF(C145441=base!$AC$2,ROW()+1,\"\")","v":{"$error":"#REF!"}},{"$f":"IF(C145441=base!$W$2,ROW()+1,\"\")","v":{"$error":"#REF!"}},99913,"Las Huertas","Ranchería","Nochistlán de Mejía","Zacatecas",null,99901,32,99901,null,29,34,725,"Rural"]
[{"$f":"IF(C145442=base!$AC$2,ROW()+1,\"\")","v":{"$error":"#REF!"}},{"$f":"IF(C145442=base!$W$2,ROW()+1,\"\")","v":{"$error":"#REF!"}},99913,"Las Delicias","Barrio","Nochistlán de Mejía","Zacatecas",null,99901,32,99901,null,2,34,1300,"Rural"]
[{"$f":"IF(C145443=base!$AC$2,ROW()+1,\"\")","v":{"$error":"#REF!"}},{"$f":"IF(C145443=base!$W$2,ROW()+1,\"\")","v":{"$error":"#REF!"}},99913,"Toyahua de Abajo","Ranchería","Nochistlán de Mejía","Zacatecas",null,99901,32,99901,null,29,34,1387,"Rural"]
[{"$f":"IF(C145444=base!$AC$2,ROW()+1,\"\")","v":{"$error":"#REF!"}},{"$f":"IF(C145444=base!$W$2,ROW()+1,\"\")","v":{"$error":"#REF!"}},99913,"Toyahua de Arriba","Ranchería","Nochistlán de Mejía","Zacatecas",null,99901,32,99901,null,29,34,1388,"Rural"]
[{"$f":"IF(C145445=base!$AC$2,ROW()+1,\"\")","v":{"$error":"#REF!"}},{"$f":"IF(C145445=base!$W$2,ROW()+1,\"\")","v":{"$error":"#REF!"}},99914,"Daniel Camarena","Ranchería","Nochistlán de Mejía","Zacatecas",null,99901,32,99901,null,29,34,726,"Rural"]
[{"$f":"IF(C145446=base!$AC$2,ROW()+1,\"\")","v":{"$error":"#REF!"}},{"$f":"IF(C145446=base!$W$2,ROW()+1,\"\")","v":{"$error":"#REF!"}},99915,"La Villita","Ranchería","Nochistlán de Mejía","Zacatecas",null,99901,32,99901,null,29,34,729,"Rural"]
[{"$f":"IF(C145447=base!$AC$2,ROW()+1,\"\")","v":{"$error":"#REF!"}},{"$f":"IF(C145447=base!$W$2,ROW()+1,\"\")","v":{"$error":"#REF!"}},99915,"Las Pilas","Ranchería","Nochistlán de Mejía","Zacatecas",null,99901,32,99901,null,29,34,721,"Rural"]
[{"$f":"IF(C145448=base!$AC$2,ROW()+1,\"\")","v":{"$error":"#REF!"}},{"$f":"IF(C145448=base!$W$2,ROW()+1,\"\")","v":{"$error":"#REF!"}},99917,"Capellania","Ranchería","Nochistlán de Mejía","Zacatecas",null,99901,32,99901,null,29,34,722,"Rural"]
[{"$f":"IF(C145449=base!$AC$2,ROW()+1,\"\")","v":{"$error":"#REF!"}},{"$f":"IF(C145449=base!$W$2,ROW()+1,\"\")","v":{"$error":"#REF!"}},99917,"Gabriel Lopez","Ranchería","Nochistlán de Mejía","Zacatecas",null,99901,32,99901,null,29,34,724,"Rural"]
[{"$f":"IF(C145450=base!$AC$2,ROW()+1,\"\")","v":{"$error":"#REF!"}},{"$f":"IF(C145450=base!$W$2,ROW()+1,\"\")","v":{"$error":"#REF!"}},99917,"El Molino","Ranchería","Nochistlán de Mejía","Zacatecas",null,99901,32,99901,null,29,34,723,"Rural"]
[{"$f":"IF(C145451=base!$AC$2,ROW()+1,\"\")","v":{"$error":"#REF!"}},{"$f":"IF(C145451=base!$W$2,ROW()+1,\"\")","v":{"$error":"#REF!"}},99918,"Fátima","Barrio","Nochistlán de Mejía","Zacatecas",null,99901,32,99901,null,2,34,1665,"Rural"]
[{"$f":"IF(C145452=base!$AC$2,ROW()+1,\"\")","v":{"$error":"#REF!"}},{"$f":"IF(C145452=base!$W$2,ROW()+1,\"\")","v":{"$error":"#REF!"}},99918,"Casas Grandes","Ranchería","Nochistlán de Mejía","Zacatecas",null,99901,32,99901,null,29,34,1660,"Rural"]
[{"$f":"IF(C145453=base!$AC$2,ROW()+1,\"\")","v":{"$error":"#REF!"}},{"$f":"IF(C145453=base!$W$2,ROW()+1,\"\")","v":{"$error":"#REF!"}},99918,"Tlachichila","Ranchería","Nochistlán de Mejía","Zacatecas",null,99901,32,99901,null,29,34,730,"Rural"]
[{"$f":"IF(C145454=base!$AC$2,ROW()+1,\"\")","v":{"$error":"#REF!"}},{"$f":"IF(C145454=base!$W$2,ROW()+1,\"\")","v":{"$error":"#REF!"}},99919,"La Estancia","Ranchería","Nochistlán de Mejía","Zacatecas",null,99901,32,99901,null,29,34,731,"Rural"]
[{"$f":"IF(C145455=base!$AC$2,ROW()+1,\"\")","v":{"$error":"#REF!"}},{"$f":"IF(C145455=base!$W$2,ROW()+1,\"\")","v":{"$error":"#REF!"}},99920,"San Pedro Apulco","Pueblo","Apulco","Zacatecas",null,99922,32,99922,null,28,2,732,"Rural"]
[{"$f":"IF(C145456=base!$AC$2,ROW()+1,\"\")","v":{"$error":"#REF!"}},{"$f":"IF(C145456=base!$W$2,ROW()+1,\"\")","v":{"$error":"#REF!"}},99921,"Agua Blanca","Ranchería","Apulco","Zacatecas",null,99922,32,99922,null,29,2,733,"Rural"]
[{"$f":"IF(C145457=base!$AC$2,ROW()+1,\"\")","v":{"$error":"#REF!"}},{"$f":"IF(C145457=base!$W$2,ROW()+1,\"\")","v":{"$error":"#REF!"}},99925,"La Pitaya","Ranchería","Apulco","Zacatecas",null,99601,32,99601,null,29,2,669,"Rural"]
[{"$f":"IF(C145458=base!$AC$2,ROW()+1,\"\")","v":{"$error":"#REF!"}},{"$f":"IF(C145458=base!$W$2,ROW()+1,\"\")","v":{"$error":"#REF!"}},99930,"Tenayuca","Pueblo","Apulco","Zacatecas",null,99922,32,99922,null,28,2,735,"Rural"]
[{"$f":"IF(C145459=base!$AC$2,ROW()+1,\"\")","v":{"$error":"#REF!"}},{"$f":"IF(C145459=base!$W$2,ROW()+1,\"\")","v":{"$error":"#REF!"}},99940,"De Abajo","Barrio","Apozol","Zacatecas",null,99961,32,99961,null,2,1,1653,"Rural"]
[{"$f":"IF(C145460=base!$AC$2,ROW()+1,\"\")","v":{"$error":"#REF!"}},{"$f":"IF(C145460=base!$W$2,ROW()+1,\"\")","v":{"$error":"#REF!"}},99940,"Apozol","Pueblo","Apozol","Zacatecas",null,99961,32,99961,null,28,1,736,"Rural"]
[{"$f":"IF(C145461=base!$AC$2,ROW()+1,\"\")","v":{"$error":"#REF!"}},{"$f":"IF(C145461=base!$W$2,ROW()+1,\"\")","v":{"$error":"#REF!"}},99949,"Los Llamas","Ranchería","Apozol","Zacatecas",null,99961,32,99961,null,29,1,738,"Rural"]
[{"$f":"IF(C145462=base!$AC$2,ROW()+1,\"\")","v":{"$error":"#REF!"}},{"$f":"IF(C145462=base!$W$2,ROW()+1,\"\")","v":{"$error":"#REF!"}},99950,"El Rescoldo","Ranchería","Apozol","Zacatecas",null,99961,32,99961,null,29,1,739,"Rural"]
[{"$f":"IF(C145463=base!$AC$2,ROW()+1,\"\")","v":{"$error":"#REF!"}},{"$f":"IF(C145463=base!$W$2,ROW()+1,\"\")","v":{"$error":"#REF!"}},99960,"Juchipila","Pueblo","Juchipila","Zacatecas",null,99961,32,99961,null,28,23,742,"Rural"]
[{"$f":"IF(C145464=base!$AC$2,ROW()+1,\"\")","v":{"$error":"#REF!"}},{"$f":"IF(C145464=base!$W$2,ROW()+1,\"\")","v":{"$error":"#REF!"}},99960,"Contitlan","Ranchería","Juchipila","Zacatecas",null,99961,32,99961,null,29,23,740,"Rural"]
[{"$f":"IF(C145465=base!$AC$2,ROW()+1,\"\")","v":{"$error":"#REF!"}},{"$f":"IF(C145465=base!$W$2,ROW()+1,\"\")","v":{"$error":"#REF!"}},99960,"San Sebastián","Pueblo","Juchipila","Zacatecas",null,99961,32,99961,null,28,23,744,"Rural"]
[{"$f":"IF(C145466=base!$AC$2,ROW()+1,\"\")","v":{"$error":"#REF!"}},{"$f":"IF(C145466=base!$W$2,ROW()+1,\"\")","v":{"$error":"#REF!"}},99960,"Pueblo Viejo","Ranchería","Juchipila","Zacatecas",null,99961,32,99961,null,29,23,743,"Rural"]
[{"$f":"IF(C145467=base!$AC$2,ROW()+1,\"\")","v":{"$error":"#REF!"}},{"$f":"IF(C145467=base!$W$2,ROW()+1,\"\")","v":{"$error":"#REF!"}},99960,"Cerro La Arena","Fraccionamiento","Juchipila","Zacatecas",null,99961,32,99961,null,21,23,1675,"Rural"]
[{"$f":"IF(C145468=base!$AC$2,ROW()+1,\"\")","v":{"$error":"#REF!"}},{"$f":"IF(C145468=base!$W$2,ROW()+1,\"\")","v":{"$error":"#REF!"}},99960,"Guadalupe Victoria","Ranchería","Juchipila","Zacatecas",null,99961,32,99961,null,29,23,741,"Rural"]
[{"$f":"IF(C145469=base!$AC$2,ROW()+1,\"\")","v":{"$error":"#REF!"}},{"$f":"IF(C145469=base!$W$2,ROW()+1,\"\")","v":{"$error":"#REF!"}},99960,"La Quinta","Colonia","Juchipila","Zacatecas",null,99961,32,99961,null,9,23,1635,"Rural"]
[{"$f":"IF(C145470=base!$AC$2,ROW()+1,\"\")","v":{"$error":"#REF!"}},{"$f":"IF(C145470=base!$W$2,ROW()+1,\"\")","v":{"$error":"#REF!"}},99969,"Mezquitera","Ranchería","Juchipila","Zacatecas",null,99961,32,99961,null,29,23,746,"Rural"]
[{"$f":"IF(C145471=base!$AC$2,ROW()+1,\"\")","v":{"$error":"#REF!"}},{"$f":"IF(C145471=base!$W$2,ROW()+1,\"\")","v":{"$error":"#REF!"}},99970,"Remolino","Ranchería","Juchipila","Zacatecas",null,99961,32,99961,null,29,23,747,"Rural"]
[{"$f":"IF(C145472=base!$AC$2,ROW()+1,\"\")","v":{"$error":"#REF!"}},{"$f":"IF(C145472=base!$W$2,ROW()+1,\"\")","v":{"$error":"#REF!"}},99974,"El Ranchito","Ranchería","Juchipila","Zacatecas",null,99961,32,99961,null,29,23,748,"Rural"]
[{"$f":"IF(C145473=base!$AC$2,ROW()+1,\"\")","v":{"$error":"#REF!"}},{"$f":"IF(C145473=base!$W$2,ROW()+1,\"\")","v":{"$error":"#REF!"}},99979,"Amazochitl","Ranchería","Juchipila","Zacatecas",null,99961,32,99961,null,29,23,749,"Rural"]
[{"$f":"IF(C145474=base!$AC$2,ROW()+1,\"\")","v":{"$error":"#REF!"}},{"$f":"IF(C145474=base!$W$2,ROW()+1,\"\")","v":{"$error":"#REF!"}},99980,"Moyahua Centro","Colonia","Moyahua de Estrada","Zacatecas","Moyahua de Estrada",99981,32,99981,null,9,33,750,"Rural",15]
[{"$f":"IF(C145475=base!$AC$2,ROW()+1,\"\")","v":{"$error":"#REF!"}},{"$f":"IF(C145475=base!$W$2,ROW()+1,\"\")","v":{"$error":"#REF!"}},99984,"Santa Cruz","Fraccionamiento","Moyahua de Estrada","Zacatecas","Moyahua de Estrada",99981,32,99981,null,21,33,1022,"Rural",15]
[{"$f":"IF(C145476=base!$AC$2,ROW()+1,\"\")","v":{"$error":"#REF!"}},{"$f":"IF(C145476=base!$W$2,ROW()+1,\"\")","v":{"$error":"#REF!"}},99984,"Santa Maria","Fraccionamiento","Moyahua de Estrada","Zacatecas","Moyahua de Estrada",99981,32,99981,null,21,33,1024,"Rural",15]
[{"$f":"IF(C145477=base!$AC$2,ROW()+1,\"\")","v":{"$error":"#REF!"}},{"$f":"IF(C145477=base!$W$2,ROW()+1,\"\")","v":{"$error":"#REF!"}},99987,"Bajío Blanco","Fraccionamiento","Moyahua de Estrada","Zacatecas","Moyahua de Estrada",99981,32,99981,null,21,33,1023,"Rural",15]
[{"$f":"IF(C145478=base!$AC$2,ROW()+1,\"\")","v":{"$error":"#REF!"}},{"$f":"IF(C145478=base!$W$2,ROW()+1,\"\")","v":{"$error":"#REF!"}},99990,"Alameda Juárez","Ranchería","Moyahua de Estrada","Zacatecas",null,99961,32,99961,null,29,33,754,"Rural"]
[{"$f":"IF(C145479=base!$AC$2,ROW()+1,\"\")","v":{"$error":"#REF!"}},{"$f":"IF(C145479=base!$W$2,ROW()+1,\"\")","v":{"$error":"#REF!"}},99993,"Cuxpala","Pueblo","Moyahua de Estrada","Zacatecas",null,99981,32,99981,null,28,33,753,"Rural"]
[{"$f":"IF(C145480=base!$AC$2,ROW()+1,\"\")","v":{"$error":"#REF!"}},{"$f":"IF(C145480=base!$W$2,ROW()+1,\"\")","v":{"$error":"#REF!"}},99994,"Vicente Guerrero","Pueblo","Moyahua de Estrada","Zacatecas",null,99981,32,99981,null,28,33,751,"Rural"]
[{"$f":"IF(C145481=base!$AC$2,ROW()+1,\"\")","v":{"$error":"#REF!"}},{"$f":"IF(C145481=base!$W$2,ROW()+1,\"\")","v":{"$error":"#REF!"}},99998,"Palmarejo","Ranchería","Moyahua de Estrada","Zacatecas",null,99961,32,99961,null,29,33,756,"Rural"]
[{"$f":"IF(C145482=base!$AC$2,ROW()+1,\"\")","v":{"$error":"#REF!"}},{"$f":"IF(C145482=base!$W$2,ROW()+1,\"\")","v":{"$error":"#REF!"}},99998,"San Jose de Palmarejo","Ranchería","Moyahua de Estrada","Zacatecas",null,99961,32,99961,null,29,33,757,"Rural"]
[{"$f":"IF(C145483=base!$AC$2,ROW()+1,\"\")","v":{"$error":"#REF!"}},{"$f":"IF(C145483=base!$W$2,ROW()+1,\"\")","v":{"$error":"#REF!"}},99998,"Jesús Maria","Ranchería","Moyahua de Estrada","Zacatecas",null,99961,32,99961,null,29,33,755,"Rural"]

{"sheet":"Sol. Cred PF ","index":2,"n_rows":127,"n_cols":34,"rows_kept":127,"cut":false,"hidden":false,"merged":[[106,2,106,11],[106,12,106,18],[106,19,106,22],[106,23,106,24],[106,25,106,29],[106,30,106,34],[113,20,113,24],[113,25,113,29],[113,30,113,34],[115,2,115,34],[116,2,116,34],[110,2,110,18],[110,19,110,28],[110,29,110,34],[107,2,107,11],[107,12,107,18],[107,19,107,22],[107,23,107,24],[107,25,107,29],[107,30,107,34],[121,22,121,30],[12,2,12,6],[12,7,12,12],[12,13,12,34],[13,2,13,4],[10,18,10,23],[10,24,10,28],[10,29,10,34],[111,2,111,18],[111,19,111,28],[111,29,111,34],[112,2,112,11],[112,12,112,13],[112,14,112,15],[112,16,112,19],[112,20,112,24],[112,25,112,29],[112,30,112,34],[108,2,108,13],[108,14,108,31],[108,32,108,34],[109,2,109,34],[117,2,117,34],[113,16,113,19],[104,33,104,34],[105,2,105,6],[105,7,105,11],[105,17,105,20],[105,25,105,29],[105,30,105,32],[105,33,105,34],[103,16,103,25],[104,2,104,6],[104,7,104,11],[104,12,104,16],[104,17,104,20],[104,21,104,24],[104,25,104,29],[101,2,101,34],[102,2,102,6],[102,7,102,11],[102,12,102,15],[102,16,102,25],[102,26,102,31],[102,32,102,34],[97,2,97,10],[97,11,97,16],[97,17,97,23],[97,24,97,28],[97,29,97,34],[98,29,98,34],[98,2,98,3],[98,4,98,5],[98,6,98,8],[98,9,98,10],[94,2,94,4],[95,2,95,10],[95,11,95,19],[95,20,95,26],[95,27,95,34],[96,27,96,34],[92,2,92,34],[93,2,93,4],[93,5,93,17],[93,18,93,20],[93,21,93,23],[93,24,93,28],[93,29,93,34],[90,17,90,34],[82,15,82,22],[82,23,82,28],[82,29,82,34],[83,2,83,34],[84,2,84,7],[84,8,84,13],[84,14,84,20],[84,21,84,27],[84,28,84,34],[88,25,88,28],[88,29,88,34],[86,2,86,4],[86,5,86,9],[86,10,86,16],[86,17,86,26],[86,27,86,32],[86,33,86,34],[88,7,88,19],[80,16,80,19],[80,20,80,24],[80,25,80,34],[81,15,81,22],[81,23,81,28],[81,29,81,34],[78,2,78,18],[78,19,78,24],[78,32,78,34],[79,2,79,5],[79,6,79,11],[79,12,79,15],[79,16,79,19],[79,20,79,24],[79,25,79,34],[81,8,81,14],[81,5,81,7],[81,2,81,4],[75,16,75,19],[75,20,75,24],[75,25,75,29],[75,30,75,34],[76,2,76,34],[77,2,77,18],[77,19,77,24],[77,25,77,28],[77,29,77,31],[77,32,77,34],[73,2,73,18],[73,19,73,28],[73,29,73,34],[74,2,74,11],[74,12,74,13],[74,14,74,15],[74,16,74,19],[74,20,74,24],[74,25,74,29],[74,30,74,34],[70,2,70,13],[70,14,70,31],[70,32,70,34],[71,2,71,34],[72,2,72,18],[72,19,72,28],[72,29,72,34],[69,2,69,11],[69,12,69,18],[69,19,69,22],[69,23,69,24],[69,25,69,29],[69,30,69,34],[68,12,68,18],[68,19,68,22],[68,23,68,24],[68,25,68,29],[68,30,68,34],[66,33,66,34],[67,2,67,6],[67,7,67,11],[67,17,67,20],[67,25,67,29],[67,30,67,32],[67,33,67,34],[59,2,59,10],[59,11,59,16],[59,17,59,23],[59,24,59,28],[59,29,59,34],[60,29,60,34],[56,2,56,4],[57,2,57,10],[57,11,57,19],[57,20,57,26],[57,27,57,34],[58,27,58,34],[60,2,60,3],[60,4,60,5],[60,6,60,8],[60,9,60,10],[54,2,54,34],[55,2,55,4],[55,5,55,17],[55,18,55,20],[55,21,55,23],[55,24,55,28],[55,29,55,34],[50,25,50,28],[50,29,50,34],[48,2,48,4],[48,5,48,9],[48,10,48,16],[48,17,48,26],[48,27,48,32],[48,33,48,34],[50,7,50,19],[52,17,52,34],[45,2,45,34],[46,2,46,7],[46,8,46,13],[46,14,46,20],[46,21,46,27],[46,28,46,34],[42,2,42,13],[42,14,42,17],[42,18,42,21],[42,22,42,26],[42,27,42,31],[42,32,42,34],[41,2,41,13],[41,14,41,17],[41,18,41,21],[41,22,41,26],[41,27,41,31],[41,32,41,34],[40,2,40,13],[40,14,40,17],[40,18,40,21],[40,22,40,26],[40,27,40,31],[40,32,40,34],[39,2,39,13],[39,14,39,17],[39,18,39,21],[39,22,39,26],[39,27,39,31],[39,32,39,34],[38,2,38,13],[38,14,38,17],[38,18,38,21],[38,22,38,26],[38,27,38,31],[38,32,38,34],[37,2,37,13],[37,14,37,17],[37,18,37,21],[37,22,37,26],[37,27,37,31],[37,32,37,34],[36,2,36,13],[36,14,36,17],[36,18,36,21],[36,22,36,26],[36,27,36,31],[36,32,36,34],[35,2,35,13],[35,14,35,17],[35,18,35,21],[35,22,35,26],[35,27,35,31],[35,32,35,34],[34,2,34,13],[34,14,34,17],[34,18,34,21],[34,22,34,26],[34,27,34,31],[34,32,34,34],[33,2,33,13],[33,14,33,17],[33,18,33,21],[33,22,33,26],[33,27,33,31],[33,32,33,34],[32,2,32,13],[32,14,32,17],[32,18,32,21],[32,22,32,26],[32,27,32,31],[32,32,32,34],[31,2,31,13],[31,14,31,17],[31,18,31,21],[31,22,31,26],[31,27,31,31],[31,32,31,34],[30,2,30,34],[28,33,28,34],[29,2,29,13],[29,14,29,17],[29,18,29,21],[29,22,29,28],[29,29,29,32],[29,33,29,34],[26,16,26,19],[26,20,26,24],[26,25,26,29],[26,30,26,34],[27,2,27,34],[28,2,28,13],[28,14,28,17],[28,18,28,21],[28,22,28,28],[28,29,28,32],[24,2,24,18],[24,19,24,28],[24,29,24,34],[25,2,25,11],[25,12,25,13],[25,14,25,15],[25,16,25,19],[25,20,25,24],[25,25,25,29],[25,30,25,34],[21,2,21,13],[21,14,21,31],[21,33,21,34],[22,2,22,34],[23,2,23,18],[23,19,23,28],[23,29,23,34],[20,2,20,11],[20,12,20,18],[20,19,20,22],[20,23,20,24],[20,25,20,29],[20,30,20,34],[17,30,17,32],[17,33,17,34],[19,2,19,11],[19,12,19,18],[19,19,19,22],[19,23,19,24],[19,25,19,29],[19,30,19,34],[18,2,18,6],[18,7,18,11],[18,17,18,20],[18,25,18,29],[18,30,18,32],[18,33,18,34],[2,27,2,34],[5,2,5,4],[5,5,5,17],[5,18,5,20],[5,21,5,26],[10,2,10,6],[7,2,7,34],[8,2,8,9],[8,10,8,17],[8,18,8,26],[8,27,8,32],[8,33,8,34],[6,2,6,4],[6,5,6,17],[6,18,6,20],[6,21,6,26],[9,33,9,34],[9,2,9,9],[9,10,9,17],[9,18,9,26],[9,27,9,28],[9,29,9,30],[9,31,9,32],[5,27,5,34],[6,27,6,34],[10,7,10,17],[11,7,11,8],[11,15,11,17],[11,12,11,14],[11,9,11,11],[126,6,126,14],[126,22,126,30],[121,6,121,14],[14,2,14,34],[15,2,15,6],[15,7,15,11],[15,12,15,15],[15,16,15,25],[15,26,15,31],[15,32,15,34],[16,16,16,25],[17,2,17,6],[17,7,17,11],[17,12,17,16],[17,17,17,20],[17,21,17,24],[17,25,17,29],[61,17,61,34],[61,2,61,8],[62,2,62,8],[61,9,61,16],[62,9,62,16],[99,2,99,8],[99,9,99,16],[99,17,99,34],[100,2,100,8],[100,9,100,16],[65,16,65,25],[66,2,66,6],[66,7,66,11],[66,12,66,16],[66,17,66,20],[66,21,66,24],[66,25,66,29],[63,2,63,34],[64,2,64,6],[64,7,64,11],[64,12,64,15],[64,16,64,25],[64,26,64,31],[64,32,64,34],[68,2,68,11]]}
[]
[]
[]
[]
[]
[null,null,"BID",null,null,"DISTRIBUIDORA",null,null,null,null,null,null,null,null,null,null,null,null,"CATÁLOGO",null,null,"VEHÍCULO",null,null,null,null,null,"PRECIO"]
[]
[null,null,"DATOS GENERALES DEL SOLICITANTE"]
[null,null,"NOMBRE  (S)",null,null,null,null,null,null,null,"APELLIDO PATERNO",null,null,null,null,null,null,null,"APELLIDO MATERNO",null,null,null,null,null,null,null,null,"FECHA NACIMIENTO (DD-MM-AAAA)",null,null,null,null,null,"EDAD"]
[null,null,null,null,null,null,null,null,null,null,null,null,null,null,null,null,null,null,null,null,null,null,null,null,null,null,null,null,null,null,null,null,null,{"$f":"IFERROR(INT(((TODAY()-DATE($AF$10,$AD$10,$AB$10))/365))&\" Años\",\"\")","v":""}]
[null,null,"HORARIO DE CONTACTO",null,null,null,null,"TIPO DE VIVIENDA",null,null,null,null,null,null,null,null,null,null,"PARENTESCO",null,null,null,null,null,"IMPORTE RENTA MES",null,null,null,null,"FINANCIERA"]
[null,null,null,null,null,null,null,"PROPIO",null,"FAMILIAR",null,null,"HIPOTECADO",null,null,"RENTADO"]
[null,null,"ESTADO CIVIL",null,null,null,null,"REGIMEN CONYUGAL",null,null,null,null,null,"NOMBRE COMPLETO DE CÓNYUGE O CONCUBIN@ SEGÚN SEA EL CASO   (Nombre (s), Apellido Paterno, Apellido Materno)"]
[]
[null,null,"EMPLEO O ACTIVIDAD ACTUAL"]
[null,null,"OCUPACION",null,null,null,null,"PUESTO O PROFESION",null,null,null,null,"SECTOR",null,null,null,"GIRO O ACTIVIDAD ECONOMICA  ",null,null,null,null,null,null,null,null,null,"ACTIVIDAD INFORMAL",null,null,null,null,null,"ANTIGÜEDAD "]
[null,null,null,null,null,null,null,null,null,"ANALISTA"]
[null,null,"INGRESO BRUTO  MENSUAL ",null,null,null,null,"INGRESO NETO MENSUAL",null,null,null,null,"COMPROBANTE DE INGRESOS",null,null,null,null,"CUENTA CON INGR. AD?",null,null,null,"MONTO MEN OTROS ING.",null,null,null,"COMPROB. INGRESOS ADIC.",null,null,null,null,"TELEFONO OFICINA",null,null,"EXT"]
[]
[null,null,"PERSONA QUE CONFIRMA",null,null,null,null,null,null,null,null,null,"CARGO",null,null,null,null,null,null,"TELEFONO LINEA FIJA ",null,null,null,"EXT.",null,"TIPO DE CONTRATO",null,null,null,null,"TIPO SEGURIDAD SOCIAL"]
[]
[null,null,"SE DEDICA A ALGUNA DE LAS SIGUIENTES ACTIVIDADES?",null,null,null,null,null,null,null,null,null,null,null,"Casino, Lotería, Fabricación de Joyería, Tallado de piedras preciosas, Casas de Cambio, Servicio de Corredores de bienes raíces, Otros Cultivos permanentes, Militares, Agentes Federales, Empleados de Agencia Aduanal, Empleados de Gobierno Federal, Empleados de Gobierno Estatal, Empleados de Gobierno Municipal, Policías, Organizaciones Religiosas, Bares, Cantinas, Centros Nocturnos, Farmacias."]
[null,null,"DOMICILIO DEL EMPLEO"]
[null,null,"NOMBRE DE LA EMPRESA (RAZON SOCIAL / NOMBRE COMERCIAL)",null,null,null,null,null,null,null,null,null,null,null,null,null,null,null,null,"R.F.C.",null,null,null,null,null,null,null,null,null,"C.P."]
[]
[null,null,"CALLE, AVENIDA O VÍA",null,null,null,null,null,null,null,null,null,"NUM. EXT.",null,"NUM. INT.",null,"COLONIA",null,null,null,"CIUDAD",null,null,null,null,"ALCALDIA / MUNICIPIO",null,null,null,null,"ENTIDAD FEDERATIVA"]
[]
[null,null," EMPLEO ANTERIOR (SOLO SI TIENE MENOS DE UN AÑO EN EL EMPLEO ACTUAL) ó 2º EMPLEO"]
[null,null,"NOMBRE DE LA EMPRESA (RAZON SOCIAL / NOMBRE COMERCIAL)",null,null,null,null,null,null,null,null,null,null,null,"ANTIGÜEDAD",null,null,null,"INGRESO BRUTO",null,null,null,"PERSONA QUE CONFIRMA",null,null,null,null,null,null,"TELEFONO LINEA FIJA ",null,null,null,"EXT."]
[]
[null,null,"REFERENCIAS PERSONALES"]
[null,null,"NOMBRE COMPLETO   (PREFERENTE  FAMILIAR)",null,null,null,null,null,null,null,null,null,null,null,"PARENTESCO",null,null,null,"TIEMPO  DE CONOCERLO",null,null,null,"TIPO DE REFERENCIA",null,null,null,null,"TELEFONO CONTACTO",null,null,null,null,"EXTENSION"]
[]
[null,null,"NOMBRE COMPLETO   (PREFERENTE  FAMILIAR)",null,null,null,null,null,null,null,null,null,null,null,"PARENTESCO",null,null,null,"TIEMPO  DE CONOCERLO",null,null,null,"TIPO DE REFERENCIA",null,null,null,null,"TELEFONO CONTACTO",null,null,null,null,"EXTENSION"]
[]
[null,null,"NOMBRE COMPLETO   (PREFERENTE  FAMILIAR)",null,null,null,null,null,null,null,null,null,null,null,"PARENTESCO",null,null,null,"TIEMPO  DE CONOCERLO",null,null,null,"TIPO DE REFERENCIA",null,null,null,null,"TELEFONO CONTACTO",null,null,null,null,"EXTENSION"]
[]
[null,null,"NOMBRE COMPLETO   (PREFERENTE  FAMILIAR)",null,null,null,null,null,null,null,null,null,null,null,"PARENTESCO",null,null,null,"TIEMPO  DE CONOCERLO",null,null,null,"TIPO DE REFERENCIA",null,null,null,null,"TELEFONO CONTACTO",null,null,null,null,"EXTENSION"]
[]
[null,null,"NOMBRE COMPLETO   (PREFERENTE  FAMILIAR)",null,null,null,null,null,null,null,null,null,null,null,"PARENTESCO",null,null,null,"TIEMPO  DE CONOCERLO",null,null,null,"TIPO DE REFERENCIA",null,null,null,null,"TELEFONO CONTACTO",null,null,null,null,"EXTENSION"]
[]
[null,null,"NOMBRE COMPLETO   (PREFERENTE  FAMILIAR)",null,null,null,null,null,null,null,null,null,null,null,"PARENTESCO",null,null,null,"TIEMPO  DE CONOCERLO",null,null,null,"TIPO DE REFERENCIA",null,null,null,null,"TELEFONO CONTACTO",null,null,null,null,"EXTENSION"]
[]
[null,null,"OBSERVACIONES"]
[]
[null,null,"DATOS FIGURA DE RESPALDO  I"]
[null,null,"TIPO DE FIGURA",null,null,null,null,null,"TIPO DE CLIENTE",null,null,null,null,null,"NOMBRE  (S)",null,null,null,null,null,null,"APELLIDO PATERNO",null,null,null,null,null,null,"APELLIDO MATERNO"]
[null,null,null,null,null,null,null,null,null,null,null,null,null,null,null,null,null,null,{"$f":"IFERROR(INT(((TODAY()-DATE($AF$10,$AD$10,$AB$10))/365))&\" Años\",\"\")","v":""}]
[null,null,"GENERO",null,null,"ENTIDAD DE NACIMIENTO",null,null,null,null,"RFC",null,null,null,null,null,null,"CURP",null,null,null,null,null,null,null,null,null,"FECHA NACIMIENTO (DD-MM-AAAA)",null,null,null,null,null,"EDAD"]
[null,null,null,null,null,null,null,null,null,null,{"$f":"IFERROR(RFC(#REF!,#REF!,#REF!,(($AB$10&\"/\"&$AD$10&\"/\"&$AF$10)*1)),\"\")","v":""},null,null,null,null,null,null,null,null,null,null,null,null,null,null,null,null,null,null,null,null,null,null,{"$f":"IFERROR(INT(((TODAY()-DATE($AF$10,$AD$10,$AB$10))/365))&\" Años\",\"\")","v":""}]
[null,null,"NACIONALIDAD",null,null,null,null,"OCUPACIÓN, ACTIVIDAD o GIRO DEL NEGOCIO",null,null,null,null,null,null,null,null,null,null,null,null,"GRADO MAX. ESTUDIOS",null,null,null,null,"PARENTESCO",null,null,null,"TEL. MOVIL"]
[]
[null,null,"TIPO IDENTIFICACION",null,null,null,null,"ESTADO CIVIL",null,null,null,null,"REGIMEN CONYUGAL",null,null,null,null,"NOMBRE COMPLETO DE CÓNYUGE O CONCUBIN@ SEGÚN SEA EL CASO   (Nombre (s), Apellido Paterno, Apellido Materno)"]
[]
[null,null,"DOMICILIO ACTUAL FIGURA DE RESPALDO I"]
[null,null,"CODIGO POSTAL",null,null,"CALLE, AVENIDA O VÍA",null,null,null,null,null,null,null,null,null,null,null,null,"NUM. EXT.",null,null,"NUM. INT.",null,null,"COLONIA",null,null,null,null,"ALCALDIA \\ MUNICIPIO"]
[]
[null,null,"ENTRE LAS CALLES DE",null,null,null,null,null,null,null,null,"Y LA CALLE DE:",null,null,null,null,null,null,null,null,"CIUDAD",null,null,null,null,null,null,"ENTIDAD FEDERATIVA"]
[null,null,null,null,null,null,null,null,null,null,null,null,null,null,null,null,null,null,null,null,null,null,null,null,null,null,null,""]
[null,null,"TIPO DE VIVIENDA",null,null,null,null,null,null,null,null,"RENTA MENSUAL",null,null,null,null,null,"PARENTESCO",null,null,null,null,null,null,"TEL. FIJO",null,null,null,null,"HORARIO DE CONTACTO"]
[null,null,"PROPIO",null,"FAMILIAR",null,"HIPOTECADO",null,null,"RENTA"]
[null,null,"ESTADO CIVIL",null,null,null,null,null,null,"REGIMEN CONYUGAL",null,null,null,null,null,null,null,"NOMBRE COMPLETO DE CÓNYUGE O CONCUBIN@ SEGÚN SEA EL CASO   (Nombre (s), Apellido Paterno, Apellido Materno)"]
[]
[null,null,"EMPLEO O ACTIVIDAD ACTUAL FIGURA DE RESPALDO I"]
[null,null,"OCUPACION",null,null,null,null,"PUESTO O PROFESION",null,null,null,null,"SECTOR",null,null,null,"GIRO O ACTIVIDAD ECONOMICA  ",null,null,null,null,null,null,null,null,null,"ACTIVIDAD INFORMAL",null,null,null,null,null,"ANTIGÜEDAD "]
[]
[null,null,"INGRESO BRUTO  MENSUAL ",null,null,null,null,"INGRESO NETO MENSUAL",null,null,null,null,"COMPROBANTE DE INGRESOS",null,null,null,null,"CUENTA CON INGR. AD?",null,null,null,"MONTO MEN OTROS ING.",null,null,null,"COMPROB. INGRESOS ADIC.",null,null,null,null,"TELEFONO OFICINA",null,null,"EXT"]
[null,null,null,null,null,null,null,null,null,null,null,null,"DECLARACIÓN IMPUESTOS"]
[null,null,"PERSONA QUE CONFIRMA",null,null,null,null,null,null,null,null,null,"CARGO",null,null,null,null,null,null,"TELEFONO LINEA FIJA ",null,null,null,"EXT.",null,"TIPO DE CONTRATO",null,null,null,null,"TIPO SEGURIDAD SOCIAL"]
[]
[null,null,"SE DEDICA A ALGUNA DE LAS SIGUIENTES ACTIVIDADES?",null,null,null,null,null,null,null,null,null,null,null,"Casino, Lotería, Fabricación de Joyería, Tallado de piedras preciosas, Casas de Cambio, Servicio de Corredores de bienes raíces, Otros Cultivos permanentes, Militares, Agentes Federales, Empleados de Agencia Aduanal, Empleados de Gobierno Federal, Empleados de Gobierno Estatal, Empleados de Gobierno Municipal, Policías, Organizaciones Religiosas, Bares, Cantinas, Centros Nocturnos, Farmacias."]
[null,null,"DOMICILIO DEL EMPLEO"]
[null,null,"NOMBRE DE LA EMPRESA (RAZON SOCIAL / NOMBRE COMERCIAL)",null,null,null,null,null,null,null,null,null,null,null,null,null,null,null,null,"R.F.C.",null,null,null,null,null,null,null,null,null,"C.P."]
[]
[null,null,"CALLE , AVENIDA O VÍA",null,null,null,null,null,null,null,null,null,"NUM. EXT.",null,"NUM. INT.",null,"COLONIA",null,null,null,"CIUDAD",null,null,null,null,"ALCALDIA. / MUNICIPIO",null,null,null,null,"ENTIDAD FEDERATIVA"]
[]
[null,null,"DATOS DEL INMUEBLE GARANTIA "]
[null,null,"DESCRIPCION DEL INMUEBLE",null,null,null,null,null,null,null,null,null,null,null,null,null,null,null,null,"TIPO DE INMUEBLE",null,null,null,null,null,"VALOR",null,null,null,"m2",null,null,"LIBRE DE GRAV."]
[]
[null,null,"FECHA DE VERIFICACIÓN",null,null,null,"NUM. ESCRITURA",null,null,null,null,null,"FOLIO REAL / SECCCION",null,null,null,"VOLUMEN",null,null,null,"CODIGO POSTAL",null,null,null,null,"CALLE, AVENIDA O VÍA"]
[]
[null,null,"NUM. EXT.",null,null,"NUM. INT.",null,null,"COLONIA",null,null,null,null,null,null,"ALCALDIA \\ MUNICIPIO",null,null,null,null,null,null,null,"CIUDAD",null,null,null,null,null,"ENTIDAD FEDERATIVA"]
[]
[null,null,"DATOS FIGURA DE RESPALDO  II"]
[null,null,"TIPO DE FIGURA",null,null,null,null,null,"TIPO DE CLIENTE",null,null,null,null,null,"NOMBRE  (S)",null,null,null,null,null,null,"APELLIDO PATERNO",null,null,null,null,null,null,"APELLIDO MATERNO"]
[null,null,null,null,null,null,null,null,null,null,null,null,null,null,null,null,null,null,{"$f":"IFERROR(INT(((TODAY()-DATE($AF$10,$AD$10,$AB$10))/365))&\" Años\",\"\")","v":""}]
[null,null,"GENERO",null,null,"ENTIDAD DE NACIMIENTO",null,null,null,null,"RFC",null,null,null,null,null,null,"CURP",null,null,null,null,null,null,null,null,null,"FECHA NACIMIENTO (DD-MM-AAAA)",null,null,null,null,null,"EDAD"]
[null,null,null,null,null,null,null,null,null,null,{"$f":"IFERROR(RFC(#REF!,#REF!,#REF!,(($AB$10&\"/\"&$AD$10&\"/\"&$AF$10)*1)),\"\")","v":""},null,null,null,null,null,null,null,null,null,null,null,null,null,null,null,null,null,null,null,null,null,null,{"$f":"IFERROR(INT(((TODAY()-DATE($AF$10,$AD$10,$AB$10))/365))&\" Años\",\"\")","v":""}]
[null,null,"NACIONALIDAD",null,null,null,null,"OCUPACIÓN, ACTIVIDAD o GIRO DEL NEGOCIO",null,null,null,null,null,null,null,null,null,null,null,null,"GRADO MAX. ESTUDIOS",null,null,null,null,"PARENTESCO",null,null,null,"TEL. MOVIL"]
[]
[null,null,"TIPO IDENTIFICACION",null,null,null,null,"ESTADO CIVIL",null,null,null,null,"REGIMEN CONYUGAL",null,null,null,null,"NOMBRE COMPLETO DE CÓNYUGE O CONCUBIN@ SEGÚN SEA EL CASO   (Nombre (s), Apellido Paterno, Apellido Materno)"]
[]
[null,null,"DOMICILIO ACTUAL FIGURA DE RESPALDO II"]
[null,null,"CODIGO POSTAL",null,null,"CALLE, AVENIDA O VÍA",null,null,null,null,null,null,null,null,null,null,null,null,"NUM. EXT.",null,null,"NUM. INT.",null,null,"COLONIA",null,null,null,null,"ALCALDIA \\ MUNICIPIO"]
[null,null,null,null,null,null,null,null,null,null,null,null,null,null,null,null,null,null,null,null,null,null,null,null,"ANZURES"]
[null,null,"ENTRE LAS CALLES DE",null,null,null,null,null,null,null,null,"Y LA CALLE DE:",null,null,null,null,null,null,null,null,"CIUDAD",null,null,null,null,null,null,"ENTIDAD FEDERATIVA"]
[null,null,null,null,null,null,null,null,null,null,null,null,null,null,null,null,null,null,null,null,null,null,null,null,null,null,null,""]
[null,null,"TIPO DE VIVIENDA",null,null,null,null,null,null,null,null,"RENTA MENSUAL",null,null,null,null,null,"PARENTESCO",null,null,null,null,null,null,"TEL. FIJO",null,null,null,null,"HORARIO DE CONTACTO"]
[null,null,"PROPIO",null,"FAMILIAR",null,"HIPOTECADO",null,null,"RENTA"]
[null,null,"ESTADO CIVIL",null,null,null,null,null,null,"REGIMEN CONYUGAL",null,null,null,null,null,null,null,"NOMBRE COMPLETO DE CÓNYUGE O CONCUBIN@ SEGÚN SEA EL CASO   (Nombre (s), Apellido Paterno, Apellido Materno)"]
[]
[null,null,"EMPLEO O ACTIVIDAD ACTUAL FIGURA DE RESPALDO II"]
[null,null,"OCUPACION",null,null,null,null,"PUESTO O PROFESION",null,null,null,null,"SECTOR",null,null,null,"GIRO O ACTIVIDAD ECONOMICA  ",null,null,null,null,null,null,null,null,null,"ACTIVIDAD INFORMAL",null,null,null,null,null,"ANTIGÜEDAD "]
[]
[null,null,"INGRESO BRUTO  MENSUAL ",null,null,null,null,"INGRESO NETO MENSUAL",null,null,null,null,"COMPROBANTE DE INGRESOS",null,null,null,null,"CUENTA CON INGR. AD?",null,null,null,"MONTO MEN OTROS ING.",null,null,null,"COMPROB. INGRESOS ADIC.",null,null,null,null,"TELEFONO OFICINA",null,null,"EXT"]
[null,null,null,null,null,null,null,null,null,null,null,null,"DECLARACIÓN IMPUESTOS"]
[null,null,"PERSONA QUE CONFIRMA",null,null,null,null,null,null,null,null,null,"CARGO",null,null,null,null,null,null,"TELEFONO LINEA FIJA ",null,null,null,"EXT.",null,"TIPO DE CONTRATO",null,null,null,null,"TIPO SEGURIDAD SOCIAL"]
[]
[null,null,"SE DEDICA A ALGUNA DE LAS SIGUIENTES ACTIVIDADES?",null,null,null,null,null,null,null,null,null,null,null,"Casino, Lotería, Fabricación de Joyería, Tallado de piedras preciosas, Casas de Cambio, Servicio de Corredores de bienes raíces, Otros Cultivos permanentes, Militares, Agentes Federales, Empleados de Agencia Aduanal, Empleados de Gobierno Federal, Empleados de Gobierno Estatal, Empleados de Gobierno Municipal, Policías, Organizaciones Religiosas, Bares, Cantinas, Centros Nocturnos, Farmacias."]
[null,null,"DOMICILIO DEL EMPLEO"]
[null,null,"NOMBRE DE LA EMPRESA (RAZON SOCIAL / NOMBRE COMERCIAL)",null,null,null,null,null,null,null,null,null,null,null,null,null,null,null,null,"R.F.C.",null,null,null,null,null,null,null,null,null,"C.P."]
[]
[null,null,"CALLE , AVENIDA O VÍA",null,null,null,null,null,null,null,null,null,"NUM. EXT.",null,"NUM. INT.",null,"COLONIA",null,null,null,"CIUDAD",null,null,null,null,"ALCALDIA. / MUNICIPIO",null,null,null,null,"ENTIDAD FEDERATIVA"]
[]
[]
[null,null,"AVISO DE PRIVACIDAD: Conauto S.A. de C.V., Calzada Gral. Mariano Escobedo 498, 6º piso, Colonia Anzures, Delegación Miguel Hidalgo, C.P. 11590, en la Ciudad de México, recaba sus datos personales para verificar su identidad. El Aviso de Privacidad Integral puede consultarlo en http://www.conautoford.com.mx"]
[null,null,"Autorizo expresamente a Conauto S.A. de C.V., para que por conducto de sus funcionarios facultados lleve a cabo Investigaciones, sobre mi comportamiento crediticio o el de la Empresa que represento en Trans Unión de México, S. A. SIC  y/o Dun & Bradstreet, S.A. SIC "]
[null,null,"Declaro que conozco la naturaleza y alcance de la información que se solicitará, del uso que Conauto S.A. de C.V. hará de tal información y de que ésta podrá realizar consultas periódicas sobre mi historial o el de la empresa que represento, consintiendo que esta autorización se encuentre vigente por un período de 3 (tres) años contados a partir de su expedición y en todo caso durante el tiempo que se mantenga la relación jurídica. "]
[]
[]
[]
[null,null,null,null,null,null,"NOMBRE Y FIRMA DEL SOLICITANTE",null,null,null,null,null,null,null,null,null,null,null,null,null,null,null,"NOMBRE Y FIRMA FIGURA DE RESPALDO 1"]
[]
[]
[]
[]
[null,null,null,null,null,null,"NOMBRE Y FIRMA FIGURA DE RESPALDO 2",null,null,null,null,null,null,null,null,null,null,null,null,null,null,null,"NOMBRE Y FIRMA DEL F&I y/o GTE. VENTA"]

{"sheet":"Sol. Cred PM ","index":3,"n_rows":137,"n_cols":34,"rows_kept":137,"cut":false,"hidden":false,"merged":[[70,7,70,11],[70,12,70,15],[70,16,70,25],[70,26,70,31],[68,9,68,16],[68,2,68,8],[77,2,77,34],[78,29,78,34],[72,17,72,20],[72,21,72,24],[71,16,71,25],[72,2,72,6],[72,7,72,11],[70,32,70,34],[70,2,70,6],[69,2,69,34],[2,27,2,34],[5,2,5,4],[5,5,5,17],[5,18,5,20],[5,21,5,26],[7,2,7,34],[5,27,5,34],[6,27,6,34],[26,2,26,34],[8,2,8,17],[8,18,8,23],[8,24,8,26],[8,27,8,34],[11,2,11,12],[11,13,11,23],[11,24,11,34],[27,23,27,34],[21,33,21,34],[20,2,20,34],[10,2,10,34],[13,2,13,34],[27,16,27,22],[33,26,33,31],[67,2,67,8],[67,9,67,16],[67,17,67,34],[30,2,30,34],[31,2,31,15],[31,16,31,21],[31,22,31,27],[31,28,31,34],[41,2,41,15],[41,16,41,21],[41,22,41,27],[41,28,41,34],[37,14,37,23],[37,24,37,34],[37,2,37,13],[38,14,38,22],[35,2,35,4],[35,5,35,19],[35,20,35,23],[35,24,35,27],[35,28,35,34],[48,14,48,22],[33,32,33,34],[33,2,33,4],[33,5,33,10],[33,11,33,14],[33,15,33,25],[36,2,36,4],[36,5,36,19],[51,2,51,34],[49,2,49,34],[43,2,43,4],[43,5,43,10],[43,11,43,14],[43,15,43,25],[43,26,43,31],[43,32,43,34],[39,2,39,34],[45,2,45,4],[45,5,45,19],[45,20,45,23],[45,24,45,27],[45,28,45,34],[46,2,46,4],[46,5,46,19],[47,2,47,13],[47,14,47,23],[47,24,47,34],[54,27,54,32],[54,33,54,34],[52,2,52,7],[52,8,52,13],[52,14,52,20],[52,21,52,27],[52,28,52,34],[56,2,56,6],[56,20,56,24],[58,2,58,6],[58,7,58,11],[58,12,58,16],[54,2,54,4],[54,5,54,9],[54,10,54,16],[54,17,54,26],[62,2,62,4],[63,2,63,10],[63,11,63,19],[63,20,63,26],[63,27,63,34],[56,7,56,19],[56,25,56,28],[56,29,56,34],[58,17,58,34],[60,2,60,34],[76,2,76,13],[76,14,76,31],[76,32,76,34],[61,2,61,4],[61,5,61,17],[61,18,61,20],[61,21,61,23],[61,24,61,28],[61,29,61,34],[65,24,65,28],[65,29,65,34],[74,19,74,22],[74,23,74,24],[72,30,72,32],[74,2,74,11],[74,25,74,29],[74,30,74,34],[72,12,72,16],[98,9,98,16],[98,17,98,34],[79,2,79,18],[79,19,79,28],[79,29,79,34],[75,25,75,29],[75,30,75,34],[75,2,75,11],[75,12,75,18],[75,19,75,22],[75,23,75,24],[78,2,78,18],[78,19,78,28],[93,2,93,4],[97,2,97,3],[103,33,103,34],[89,17,89,34],[89,2,89,6],[89,7,89,11],[89,12,89,16],[83,2,83,7],[83,8,83,13],[83,14,83,20],[83,21,83,27],[83,28,83,34],[85,2,85,4],[85,5,85,9],[85,10,85,16],[85,17,85,26],[85,27,85,32],[85,33,85,34],[87,7,87,19],[87,25,87,28],[87,29,87,34],[87,2,87,6],[87,20,87,24],[98,2,98,8],[80,30,80,34],[97,29,97,34],[104,7,104,11],[104,17,104,20],[104,25,104,29],[103,2,103,6],[105,30,105,34],[92,2,92,4],[92,5,92,17],[92,18,92,20],[92,21,92,23],[92,24,92,28],[92,29,92,34],[103,7,103,11],[103,12,103,16],[103,17,103,20],[103,21,103,24],[103,25,103,29],[94,27,94,34],[96,2,96,10],[96,11,96,16],[94,2,94,10],[94,11,94,19],[95,27,95,34],[81,30,81,34],[80,16,80,19],[106,2,106,11],[106,12,106,18],[106,19,106,22],[106,23,106,24],[106,25,106,29],[106,30,106,34],[66,29,66,34],[66,2,66,3],[66,4,66,5],[66,6,66,8],[66,9,66,10],[101,2,101,6],[101,7,101,11],[101,12,101,15],[101,16,101,25],[101,26,101,31],[101,32,101,34],[80,20,80,24],[80,2,80,11],[80,12,80,13],[80,14,80,15],[80,25,80,29],[104,33,104,34],[102,16,102,25],[103,30,103,32],[64,27,64,34],[65,2,65,10],[65,11,65,16],[65,17,65,23],[104,2,104,6],[105,19,105,22],[105,23,105,24],[104,30,104,32],[105,2,105,11],[105,12,105,18],[72,25,72,29],[72,33,72,34],[73,2,73,6],[73,7,73,11],[73,17,73,20],[73,25,73,29],[73,30,73,32],[73,33,73,34],[74,12,74,18],[81,16,81,19],[81,20,81,24],[105,25,105,29],[110,29,110,34],[111,30,111,34],[117,20,117,24],[117,25,117,34],[115,2,115,18],[115,19,115,24],[115,32,115,34],[112,16,112,19],[112,20,112,24],[112,25,112,29],[112,30,112,34],[110,2,110,18],[110,19,110,28],[111,2,111,11],[111,12,111,13],[111,14,111,15],[111,16,111,19],[111,20,111,24],[111,25,111,29],[107,2,107,13],[107,14,107,31],[107,32,107,34],[108,2,108,34],[136,6,136,14],[136,22,136,30],[126,6,126,14],[126,22,126,30],[129,6,129,14],[129,22,129,30],[117,16,117,19],[116,2,116,5],[116,6,116,11],[116,12,116,15],[116,16,116,19],[116,20,116,24],[116,25,116,34],[119,15,119,22],[119,23,119,28],[119,29,119,34],[118,5,118,7],[118,8,118,14],[118,15,118,22],[118,23,118,28],[118,29,118,34],[131,6,131,14],[131,22,131,30],[109,2,109,18],[109,19,109,28],[109,29,109,34],[114,25,114,28],[114,29,114,31],[114,32,114,34],[121,2,121,34],[122,2,122,34],[123,2,123,34],[118,2,118,4],[114,2,114,18],[114,19,114,24],[113,2,113,34],[82,2,82,34],[91,2,91,34],[100,2,100,34],[14,2,14,10],[14,11,14,19],[14,20,14,28],[14,29,14,34],[21,2,21,8],[21,9,21,15],[21,16,21,22],[21,23,21,27],[21,28,21,32],[27,2,27,8],[27,9,27,15],[96,17,96,23],[97,4,97,5],[97,6,97,8],[97,9,97,10],[94,20,94,26],[99,2,99,8],[99,9,99,16],[96,24,96,28],[96,29,96,34],[81,25,81,29]]}
[]
[]
[]
[]
[]
[null,null,"BID",null,null,"DISTRIBUIDORA",null,null,null,null,null,null,null,null,null,null,null,null,"CATÁLOGO",null,null,"VEHÍCULO",null,null,null,null,null,"PRECIO"]
[]
[null,null,"DATOS GENERALES DEL CLIENTE PERSONA MORAL"]
[null,null,"DENOMINACIÓN o RAZÓN SOCIAL ",null,null,null,null,null,null,null,null,null,null,null,null,null,null,null,"FECHA DE CONSTITUCION (DD-MM-AAAA)",null,null,null,null,null,"ANTIGÜEDAD",null,null,"TIPO DE CLIENTE"]
[null,null,null,null,null,null,null,null,null,null,null,null,null,null,null,null,null,null,null,null,null,null,null,null,"",null,null,null,null,null,null,null,null,""]
[null,null,"ADMINISTRACION (ADMINISTRADOR ÚNICO)"]
[null,null," NOMBRE  (S)",null,null,null,null,null,null,null,null,null,null,"APELLIDO PATERNO",null,null,null,null,null,null,null,null,null,null,"APELLIDO MATERNO"]
[null,null,null,null,null,null,null,null,null,null,null,"",null,null,null,null,null,null,null,null,null,null,null,""]
[null,null,"CONSEJO  DE  ADMINISTRACION"]
[null,null,"NOMBRE (S)",null,null,null,null,null,null,null,null,"APELLIDO PATERNO",null,null,null,null,null,null,null,null,"APELLIDO MATERNO",null,null,null,null,null,null,null,null,"CARGO"]
[]
[]
[]
[]
[]
[null,null,"APODERADOS  CON FACULTADES PARA SUSCRIBIR TITULOS DE CREDITO"]
[null,null,"NOMBRE (S)",null,null,null,null,null,null,"APELLIDO PATERNO",null,null,null,null,null,null,"APELLIDO MATERNO",null,null,null,null,null,null,"CARGO",null,null,null,null,"FACULTADES",null,null,null,null,"% PART. ACC."]
[null,null,null,null,null,null,null,null,null,null,null,null,null,null,null,null,null,null,null,null,null,null,null,null,null,null,""]
[null,null,null,null,null,null,null,null,null,null,null,null,null,null,null,null,null,null,null,null,null,null,null,null,null,null,""]
[null,null,null,null,null,null,null,null,null,null,null,null,null,null,null,null,null,null,null,null,null,null,null,null,null,null,""]
[null,null,null,null,null,null,null,null,null,null,null,null,null,null,null,null,null,null,null,null,null,null,null,null,null,null,""]
[null,null,"REFERENCIAS  BANCARIAS"]
[null,null,"BANCO",null,null,null,null,null,null,"LINEA DE CRÉDITO MAXIMA",null,null,null,null,null,null,"FECHA DEL CRÉDITO",null,null,null,null,null,null,"OBSERVACIONES"]
[]
[]
[null,null,"REFERENCIAS  COMERCIALES"]
[null,null,"NOMBRE DE LA EMPRESA (RAZON SOCIAL / NOMBRE COMERCIAL)   1",null,null,null,null,null,null,null,null,null,null,null,null,null,"SECTOR",null,null,null,null,null,"RFC",null,null,null,null,null,"TELEFONO LINEA FIJA "]
[]
[null,null,"TIEMPO REL. COMER",null,null,"LINEA DE CREDITO",null,null,null,null,null,"PLAZO",null,null,null,"PERSONA  DE CONTACTO   (NOMBRE Y APELLIDOS)",null,null,null,null,null,null,null,null,null,null,"TELEFONO LINEA FIJA ",null,null,null,null,null,"EXTENSIÓN"]
[]
[null,null,"CODIGO POSTAL",null,null,"CALLE, AVENIDA O VÍA",null,null,null,null,null,null,null,null,null,null,null,null,null,null,"NUM. EXT.",null,null,null,"NUM. INT.",null,null,null,"COLONIA"]
[null,null,11590]
[null,null,"CIUDAD",null,null,null,null,null,null,null,null,null,null,null,"ALCALDIA  / MUNICIPIO",null,null,null,null,null,null,null,null,null,"ENTIDAD FEDERATIVA"]
[]
[null,null,"COMENTARIOS"]
[]
[null,null,"NOMBRE DE LA EMPRESA (RAZON SOCIAL / NOMBRE COMERCIAL)   2",null,null,null,null,null,null,null,null,null,null,null,null,null,"SECTOR",null,null,null,null,null,"RFC",null,null,null,null,null,"TELEFONO LINEA FIJA "]
[]
[null,null,"TIEMPO REL. COMER",null,null,"LINEA DE CREDITO",null,null,null,null,null,"PLAZO",null,null,null,"PERSONA  DE CONTACTO   (NOMBRE Y APELLIDOS)",null,null,null,null,null,null,null,null,null,null,"TELEFONO LINEA FIJA ",null,null,null,null,null,"EXTENSIÓN"]
[]
[null,null,"CODIGO POSTAL",null,null,"CALLE, AVENIDA O VÍA",null,null,null,null,null,null,null,null,null,null,null,null,null,null,"NUM. EXT.",null,null,null,"NUM. INT.",null,null,null,"COLONIA"]
[]
[null,null,"CIUDAD",null,null,null,null,null,null,null,null,null,null,null,"ALCALDIA  / MUNICIPIO",null,null,null,null,null,null,null,null,null,"ENTIDAD FEDERATIVA"]
[]
[null,null,"COMENTARIOS"]
[]
[null,null,"DATOS DE FIGURA DE RESPALDO I"]
[null,null,"TIPO DE FIGURA",null,null,null,null,null,"TIPO DE CLIENTE",null,null,null,null,null,"NOMBRE  (S)",null,null,null,null,null,null,"APELLIDO PATERNO",null,null,null,null,null,null,"APELLIDO MATERNO"]
[null,null,null,null,null,null,null,null,null,null,null,null,null,null,null,null,null,null,{"$f":"IFERROR(INT(((TODAY()-DATE($AF$11,$AD$11,$AB$11))/365))&\" Años\",\"\")","v":""}]
[null,null,"GENERO",null,null,"ENTIDAD DE NACIMIENTO",null,null,null,null,"RFC",null,null,null,null,null,null,"CURP",null,null,null,null,null,null,null,null,null,"FECHA NACIMIENTO (DD-MM-AAAA)",null,null,null,null,null,"EDAD"]
[null,null,null,null,null,null,null,null,null,null,{"$f":"IFERROR(RFC(#REF!,#REF!,#REF!,(($AB$11&\"/\"&$AD$11&\"/\"&$AF$11)*1)),\"\")","v":""},null,null,null,null,null,null,null,null,null,null,null,null,null,null,null,null,null,null,null,null,null,null,{"$f":"IFERROR(INT(((TODAY()-DATE($AF$11,$AD$11,$AB$11))/365))&\" Años\",\"\")","v":""}]
[null,null,"NACIONALIDAD",null,null,null,null,"OCUPACIÓN, ACTIVIDAD o GIRO DEL NEGOCIO",null,null,null,null,null,null,null,null,null,null,null,null,"GRADO MAX. ESTUDIOS",null,null,null,null,"PARENTESCO",null,null,null,"TEL. MOVIL"]
[]
[null,null,"TIPO IDENTIFICACION",null,null,null,null,"ESTADO CIVIL",null,null,null,null,"REGIMEN CONYUGAL",null,null,null,null,"NOMBRE COMPLETO DE CÓNYUGE O CONCUBIN@ SEGÚN SEA EL CASO   (Nombre (s), Apellido Paterno, Apellido Materno)"]
[]
[null,null,"DOMICILIO ACTUAL  FIGURA DE RESPALDO I"]
[null,null,"CODIGO POSTAL",null,null,"CALLE, AVENIDA O VÍA",null,null,null,null,null,null,null,null,null,null,null,null,"NUM. EXT.",null,null,"NUM. INT.",null,null,"COLONIA",null,null,null,null,"ALCALDIA \\ MUNICIPIO"]
[]
[null,null,"ENTRE LAS CALLES DE",null,null,null,null,null,null,null,null,"Y LA CALLE DE:",null,null,null,null,null,null,null,null,"CIUDAD",null,null,null,null,null,null,"ENTIDAD FEDERATIVA"]
[null,null,null,null,null,null,null,null,null,null,null,null,null,null,null,null,null,null,null,null,null,null,null,null,null,null,null,""]
[null,null,"TIPO DE VIVIENDA",null,null,null,null,null,null,null,null,"RENTA MENSUAL",null,null,null,null,null,"PARENTESCO",null,null,null,null,null,null,"TEL. FIJO",null,null,null,null,"HORARIO DE CONTACTO"]
[null,null,"PROPIO",null,"FAMILIAR",null,"HIPOTECADO",null,null,"RENTADO"]
[null,null,"ESTADO CIVIL",null,null,null,null,null,null,"REGIMEN CONYUGAL",null,null,null,null,null,null,null,"NOMBRE COMPLETO DE CÓNYUGE O CONCUBIN@ SEGÚN SEA EL CASO   (Nombre (s), Apellido Paterno, Apellido Materno)"]
[]
[null,null,"EMPLEO O ACTIVIDAD ACTUAL DE FIGURA DE RESPALDO I"]
[null,null,"OCUPACION",null,null,null,null,"PUESTO O PROFESION",null,null,null,null,"SECTOR",null,null,null,"GIRO O ACTIVIDAD ECONOMICA  ",null,null,null,null,null,null,null,null,null,"ACTIVIDAD INFORMAL",null,null,null,null,null,"ANTIGÜEDAD "]
[]
[null,null,"INGRESO BRUTO  MENSUAL ",null,null,null,null,"INGRESO NETO MENSUAL",null,null,null,null,"COMPROBANTE DE INGRESOS",null,null,null,null,"CUENTA CON INGR. AD?",null,null,null,"MONTO MEN OTROS ING.",null,null,null,"COMPROB. INGRESOS ADIC.",null,null,null,null,"TELEFONO OFICINA",null,null,"EXT"]
[]
[null,null,"PERSONA QUE CONFIRMA",null,null,null,null,null,null,null,null,null,"CARGO",null,null,null,null,null,null,"TELEFONO LINEA FIJA ",null,null,null,"EXT.",null,"TIPO DE CONTRATO",null,null,null,null,"TIPO SEGURIDAD SOCIAL"]
[]
[null,null,"SE DEDICA A ALGUNA DE LAS SIGUIENTES ACTIVIDADES?",null,null,null,null,null,null,null,null,null,null,null,"Casino, Lotería, Fabricación de Joyería, Tallado de piedras preciosas, Casas de Cambio, Servicio de Corredores de bienes raíces, Otros Cultivos permanentes, Militares, Agentes Federales, Empleados de Agencia Aduanal, Empleados de Gobierno Federal, Empleados de Gobierno Estatal, Empleados de Gobierno Municipal, Policías, Organizaciones Religiosas, Bares, Cantinas, Centros Nocturnos, Farmacias."]
[null,null,"DOMICILIO DEL EMPLEO"]
[null,null,"NOMBRE DE LA EMPRESA (RAZON SOCIAL / NOMBRE COMERCIAL)",null,null,null,null,null,null,null,null,null,null,null,null,null,null,null,null,"R.F.C.",null,null,null,null,null,null,null,null,null,"C.P."]
[]
[null,null,"CALLE , AVENIDA O VÍA",null,null,null,null,null,null,null,null,null,"NUM. EXT.",null,"NUM. INT.",null,"COLONIA",null,null,null,"CIUDAD",null,null,null,null,"ALCALDIA. / MUNICIPIO",null,null,null,null,"ENTIDAD FEDERATIVA"]
[]
[null,null,"DATOS DE FIGURA DE RESPALDO II"]
[null,null,"TIPO DE FIGURA",null,null,null,null,null,"TIPO DE CLIENTE",null,null,null,null,null,"NOMBRE  (S)",null,null,null,null,null,null,"APELLIDO PATERNO",null,null,null,null,null,null,"APELLIDO MATERNO"]
[null,null,null,null,null,null,null,null,null,null,null,null,null,null,null,null,null,null,{"$f":"IFERROR(INT(((TODAY()-DATE($AF$11,$AD$11,$AB$11))/365))&\" Años\",\"\")","v":""}]
[null,null,"GENERO",null,null,"ENTIDAD DE NACIMIENTO",null,null,null,null,"RFC",null,null,null,null,null,null,"CURP",null,null,null,null,null,null,null,null,null,"FECHA NACIMIENTO (DD-MM-AAAA)",null,null,null,null,null,"EDAD"]
[null,null,null,null,null,null,null,null,null,null,{"$f":"IFERROR(RFC(#REF!,#REF!,#REF!,(($AB$11&\"/\"&$AD$11&\"/\"&$AF$11)*1)),\"\")","v":""},null,null,null,null,null,null,null,null,null,null,null,null,null,null,null,null,null,null,null,null,null,null,{"$f":"IFERROR(INT(((TODAY()-DATE($AF$11,$AD$11,$AB$11))/365))&\" Años\",\"\")","v":""}]
[null,null,"NACIONALIDAD",null,null,null,null,"OCUPACIÓN, ACTIVIDAD o GIRO DEL NEGOCIO",null,null,null,null,null,null,null,null,null,null,null,null,"GRADO MAX. ESTUDIOS",null,null,null,null,"PARENTESCO",null,null,null,"TEL. MOVIL"]
[]
[null,null,"TIPO IDENTIFICACION",null,null,null,null,"ESTADO CIVIL",null,null,null,null,"REGIMEN CONYUGAL",null,null,null,null,"NOMBRE COMPLETO DE CÓNYUGE O CONCUBIN@ SEGÚN SEA EL CASO   (Nombre (s), Apellido Paterno, Apellido Materno)"]
[]
[null,null,"DOMICILIO ACTUAL  FIGURA DE RESPALDO II"]
[null,null,"CODIGO POSTAL",null,null,"CALLE, AVENIDA O VÍA",null,null,null,null,null,null,null,null,null,null,null,null,"NUM. EXT.",null,null,"NUM. INT.",null,null,"COLONIA",null,null,null,null,"ALCALDIA \\ MUNICIPIO"]
[]
[null,null,"ENTRE LAS CALLES DE",null,null,null,null,null,null,null,null,"Y LA CALLE DE:",null,null,null,null,null,null,null,null,"CIUDAD",null,null,null,null,null,null,"ENTIDAD FEDERATIVA"]
[null,null,null,null,null,null,null,null,null,null,null,null,null,null,null,null,null,null,null,null,null,null,null,null,null,null,null,""]
[null,null,"TIPO DE VIVIENDA",null,null,null,null,null,null,null,null,"RENTA MENSUAL",null,null,null,null,null,"PARENTESCO",null,null,null,null,null,null,"TEL. FIJO",null,null,null,null,"HORARIO DE CONTACTO"]
[null,null,"PROPIO",null,"FAMILIAR",null,"HIPOTECADO",null,null,"RENTADO"]
[null,null,"ESTADO CIVIL",null,null,null,null,null,null,"REGIMEN CONYUGAL",null,null,null,null,null,null,null,"NOMBRE COMPLETO DE CÓNYUGE O CONCUBIN@ SEGÚN SEA EL CASO   (Nombre (s), Apellido Paterno, Apellido Materno)"]
[]
[null,null,"EMPLEO O ACTIVIDAD ACTUAL DE FIGURA DE RESPALDO II"]
[null,null,"OCUPACION",null,null,null,null,"PUESTO O PROFESION",null,null,null,null,"SECTOR",null,null,null,"GIRO O ACTIVIDAD ECONOMICA  ",null,null,null,null,null,null,null,null,null,"ACTIVIDAD INFORMAL",null,null,null,null,null,"ANTIGÜEDAD "]
[]
[null,null,"INGRESO BRUTO  MENSUAL ",null,null,null,null,"INGRESO NETO MENSUAL",null,null,null,null,"COMPROBANTE DE INGRESOS",null,null,null,null,"CUENTA CON INGR. AD?",null,null,null,"MONTO MEN OTROS ING.",null,null,null,"COMPROB. INGRESOS ADIC.",null,null,null,null,"TELEFONO OFICINA",null,null,"EXT"]
[null,null,null,null,null,null,null,null,null,null,null,null,"DECLARACIÓN IMPUESTOS"]
[null,null,"PERSONA QUE CONFIRMA",null,null,null,null,null,null,null,null,null,"CARGO",null,null,null,null,null,null,"TELEFONO LINEA FIJA ",null,null,null,"EXT.",null,"TIPO DE CONTRATO",null,null,null,null,"TIPO SEGURIDAD SOCIAL"]
[]
[null,null,"SE DEDICA A ALGUNA DE LAS SIGUIENTES ACTIVIDADES?",null,null,null,null,null,null,null,null,null,null,null,"Casino, Lotería, Fabricación de Joyería, Tallado de piedras preciosas, Casas de Cambio, Servicio de Corredores de bienes raíces, Otros Cultivos permanentes, Militares, Agentes Federales, Empleados de Agencia Aduanal, Empleados de Gobierno Federal, Empleados de Gobierno Estatal, Empleados de Gobierno Municipal, Policías, Organizaciones Religiosas, Bares, Cantinas, Centros Nocturnos, Farmacias."]
[null,null,"DOMICILIO DEL EMPLEO"]
[null,null,"NOMBRE DE LA EMPRESA (RAZON SOCIAL / NOMBRE COMERCIAL)",null,null,null,null,null,null,null,null,null,null,null,null,null,null,null,null,"R.F.C.",null,null,null,null,null,null,null,null,null,"C.P."]
[]
[null,null,"CALLE , AVENIDA O VÍA",null,null,null,null,null,null,null,null,null,"NUM. EXT.",null,"NUM. INT.",null,"COLONIA",null,null,null,"CIUDAD",null,null,null,null,"ALCALDIA. / MUNICIPIO",null,null,null,null,"ENTIDAD FEDERATIVA"]
[]
[null,null,"DATOS DEL INMUEBLE GARANTIA "]
[null,null,"DESCRIPCION DEL INMUEBLE",null,null,null,null,null,null,null,null,null,null,null,null,null,null,null,null,"TIPO DE INMUEBLE",null,null,null,null,null,"VALOR",null,null,null,"m2",null,null,"LIBRE DE GRAV."]
[]
[null,null,"FECHA DE VERIFICACIÓN",null,null,null,"NUM. ESCRITURA",null,null,null,null,null,"FOLIO REAL / SECCCION",null,null,null,"VOLUMEN",null,null,null,"CODIGO POSTAL",null,null,null,null,"CALLE, AVENIDA O VÍA"]
[]
[null,null,"NUM. EXT.",null,null,"NUM. INT.",null,null,"COLONIA",null,null,null,null,null,null,"ALCALDIA \\ MUNICIPIO",null,null,null,null,null,null,null,"CIUDAD",null,null,null,null,null,"ENTIDAD FEDERATIVA"]
[]
[]
[null,null,"AVISO DE PRIVACIDAD: Conauto S.A. de C.V., Calzada Gral. Mariano Escobedo 498, 6º piso, Colonia Anzures, Delegación Miguel Hidalgo, C.P. 11590, en la Ciudad de México, recaba sus datos personales para verificar su identidad. El Aviso de Privacidad Integral puede consultarlo en http://www.conautoford.com.mx"]
[null,null,"Autorizo expresamente a Conauto S.A. de C.V., para que por conducto de sus funcionarios facultados lleve a cabo Investigaciones, sobre mi comportamiento crediticio o el de la Empresa que represento en Trans Unión de México, S. A. SIC  y/o Dun & Bradstreet, S.A. SIC "]
[null,null,"Declaro que conozco la naturaleza y alcance de la información que se solicitará, del uso que Conauto S.A. de C.V. hará de tal información y de que ésta podrá realizar consultas periódicas sobre mi historial o el de la empresa que represento, consintiendo que esta autorización se encuentre vigente por un período de 3 (tres) años contados a partir de su expedición y en todo caso durante el tiempo que se mantenga la relación jurídica. "]
[]
[]
[null,null,null,null,null,null,"NOMBRE Y FIRMA DEL SOLICITANTE",null,null,null,null,null,null,null,null,null,null,null,null,null,null,null,"NOMBRE Y FIRMA FIGURA DE RESPALDO 1"]
[]
[]
[null,null,null,null,null,null,"NOMBRE Y FIRMA FIGURA DE RESPALDO 2",null,null,null,null,null,null,null,null,null,null,null,null,null,null,null,"NOMBRE Y FIRMA DEL F&I y/o GTE. VENTA"]
[]
[]
[]
[]
[]
[]
[null,null,null,null,null,null,"NOMBRE Y FIRMA FIGURA DE RESPALDO 2",null,null,null,null,null,null,null,null,null,null,null,null,null,null,null,"NOMBRE Y FIRMA DEL F&I y/o GTE. VENTA"]